{"text_format":"1","workbook":"xlsx","n_sheets":6,"sheets":["about","HPLC simulator","HELP","Calculation","calculation2","1"],"not_rendered":{"charts":5,"images":41,"macros":1,"external_links":2,"defined_names":11,"comments":3,"pivot_tables":0},"unopened":[],"bounds":{"document_bytes":16777216,"sheet_cells":100000,"rows_first":2000,"rows_last":500,"rows_between":2000,"halvings":0,"cell_chars":16384,"cell_head_chars":4096},"cells_cut":0,"cells_raw":0,"read":"whole","date_system":"1900"}

{"sheet":"about","index":0,"n_rows":16,"n_cols":3,"rows_kept":16,"cut":false,"hidden":false,"merged":[[7,1,7,10],[1,1,1,10],[2,1,2,10],[3,1,3,10],[4,1,4,10],[5,1,5,10],[6,1,6,10]]}
["about!A1"]
[null,"PRACTICAL HPLC SIMULATOR V1.0"]
[null,"Software for practical simulation of HPLC separation"]
[null,"Practical HPLC simulator is free to use and distribute"]
[null,"Version 1.0 - October 2020"]
[null,"All right reserved to Davy Guillarme - University of Geneva, Group of Analytical Sciences"]
[null,"For in-depth discussion or information on the calculation used, please contact: "]
[null,"davy.guillarme@unige.ch"]
[]
[null,"This calculator is provided as-is, without any expressed or implied warranty. In no event will the author be held liable for any consequences/damages arising from the use of this calculator."]
[null,"This program is FREEWARE. You can use it for personal, business, educational or any other need of yours, subject to the following restrictions:"]
[null,null,"1. You may re-distribute this program as part of any free software suite/package after informing the author. If you want to re-distribute this program as part of a commercial suite,"]
[null,null,"    you can do so only after getting the written consent of the author."]
[null,null,"2. This notice may not be removed or altered from any distribution."]
[null,null,"3. No form of decompilation / disassembling parts or whole of the calculator may be done."]
[null,null,"4. You may not misrepresent the origin of the software. If you are distributing the package/portions of the package, the files must be clearly indicated as part of HPLC calculator."]

{"sheet":"HPLC simulator","index":1,"n_rows":44,"n_cols":63,"rows_kept":44,"cut":false,"hidden":false,"merged":[[33,42,33,44],[24,24,25,56],[33,54,33,56],[33,48,33,50],[3,11,3,13],[3,14,3,15],[19,14,19,15],[21,11,21,13],[21,14,21,15],[22,11,22,13],[22,14,22,15],[26,30,26,32],[26,36,26,38],[26,42,26,44],[27,30,27,32],[28,30,28,32],[29,30,29,32],[30,30,30,32],[26,54,26,56],[26,51,26,53],[26,48,26,50],[31,39,31,41],[31,54,31,56],[31,48,31,50],[32,39,32,41],[32,54,32,56],[32,48,32,50],[26,39,26,41],[27,42,27,44],[28,42,28,44],[29,42,29,44],[30,42,30,44],[31,42,31,44],[32,42,32,44],[6,8,6,9],[7,4,7,9],[12,8,12,9],[13,4,13,7],[13,8,13,9],[14,4,14,7],[14,8,14,9],[12,4,12,7],[1,1,2,63],[5,54,5,59],[4,26,6,34],[6,16,6,18],[3,22,3,49],[33,45,33,47],[33,33,33,35],[33,27,33,29],[31,27,31,29],[31,33,31,35],[33,24,33,26],[33,39,33,41],[7,60,7,61],[7,58,7,59],[29,45,29,47],[28,24,28,26],[30,24,30,26],[30,27,30,29],[30,33,30,35],[30,45,30,47],[31,24,31,26],[27,33,27,35],[27,45,27,47],[27,39,27,41],[27,54,27,56],[27,51,33,53],[27,48,27,50],[28,39,28,41],[28,54,28,56],[13,90,13,96],[35,60,35,61],[32,45,32,47],[32,33,32,35],[32,27,32,29],[29,27,29,29],[29,39,29,41],[32,24,32,26],[29,24,29,26],[29,48,29,50],[30,39,30,41],[30,54,30,56],[30,48,30,50],[31,45,31,47],[26,45,26,47],[28,27,28,29],[27,27,27,29],[27,24,27,26],[28,33,28,35],[28,45,28,47],[29,33,29,35],[16,60,16,61],[28,48,28,50],[33,30,33,32],[33,4,33,7],[32,4,32,7],[37,6,37,9],[20,7,20,9],[26,19,26,22],[26,27,26,29],[26,33,26,35],[31,21,31,22],[30,19,30,22],[29,11,29,15],[31,30,31,32],[32,30,32,32],[35,11,35,12],[35,7,35,8],[35,9,35,10],[37,12,37,13],[37,14,37,16],[19,7,19,9],[15,8,15,9],[37,47,37,50],[39,47,39,50],[38,47,38,50],[36,5,36,10],[36,14,36,16],[36,12,36,13],[38,12,38,13],[27,36,27,38],[28,36,28,38],[29,36,29,38],[30,36,30,38],[31,36,31,38],[32,36,32,38],[33,36,33,38],[32,21,32,22],[38,5,38,6],[38,7,38,8],[34,9,34,10],[34,11,34,12],[32,19,32,20],[37,19,37,36],[34,7,34,8],[40,47,40,50],[41,47,41,50],[31,19,31,20],[29,54,29,56],[21,7,21,9],[22,7,22,9],[15,4,15,7],[22,4,22,6],[19,4,19,6],[20,4,20,6],[21,4,21,6],[28,8,28,9],[28,10,28,16],[27,19,27,20],[27,21,27,22],[28,19,28,20],[29,8,29,10],[28,21,28,22],[26,24,26,26],[41,34,41,36],[39,24,39,33],[40,24,40,33],[39,34,39,36],[38,19,38,23],[40,7,40,8],[40,9,40,10],[38,24,38,33],[38,34,38,36],[39,19,41,23],[40,34,40,36],[41,24,41,33],[40,5,40,6],[39,5,39,6],[39,7,39,8],[39,9,39,10],[38,14,38,16],[39,15,39,16],[38,9,38,10]]}
[]
[null,"PRACTICAL HPLC SIMULATOR V1.0"]
[]
[null,null,null,null,null,null,null,null,null,null,null,"Viscosity (cP)",null,null,{"$f":"Calculation!C41","v":0.8546025249448872}]
[]
[null,null,null,null,null,null,null,null,null,null,null,null,null,null,null,null,null,null,null,null,null,null,null,null,null,null,null,null,null,null,null,null,null,null,null,null,null,null,null,null,null,null,null,null,null,null,null,null,null,null,null,null,null,null,"Uracil"]
[null,null,null,null,null,null,null,"pH",7,null,null,null,null,null,null,null,"Acetonitrile"]
[null,null,null,null,{"$f":"IF(I7=2.7,\"0.1% formic acid\",IF(I7=4.5,\"20 mM acetate buffer\",IF(I7=7,\"20 mM phosphate buffer\",IF(I7=9,\"20 mM ammonium buffer\",1))))","v":"20 mM phosphate buffer"},null,null,null,null,null,null,null,null,null,null,null,null,null,null,null,null,null,null,null,null,null,null,null,null,null,null,null,null,null,null,null,null,null,null,null,null,null,null,null,null,null,null,null,null,null,null,null,null,null,null,null,null,null,"λmax",null,{"$f":"VLOOKUP(BC6,'1'!W57:X97,2,FALSE)","v":260}]
[]
[]
[]
[]
[null,null,null,null,"UV cell volume",null,null,null,13]
[null,null,null,null,"Wavelength",null,null,null,220]
[null,null,null,null,"Time constant",null,null,null,1000]
[null,null,null,null,"Acquisition rate",null,null,null,2]
[null,null,null,null,null,null,null,null,null,null,null,null,null,null,null,null,null,null,null,null,null,null,null,null,null,null,null,null,null,null,null,null,null,null,null,null,null,null,null,null,null,null,null,null,null,null,null,null,null,null,null,null,null,null,null,null,null,null,null,"pKa",{"$f":"Calculation!DW12","v":8.8000000000000007}]
[]
[]
[null,null,null,null,"L col",null,null,150,null,null,null,"Temperature",null,null,30]
[null,null,null,null,"dc col",null,null,4.5999999999999996]
[null,null,null,null,"dp col",null,null,5,null,null,null,"Porosity",null,null,0.7]
[null,null,null,null,"Chemistry",null,null,"C18",null,null,null,"t0 (min)",null,null,{"$f":"Calculation!C40","v":1.7449976394364501}]
[]
[null,null,null,null,null,null,null,null,null,null,null,null,null,null,null,null,null,null,null,null,null,null,null,null,"OUTPUT DATA"]
[]
[null,null,null,null,null,null,null,null,null,null,null,null,null,null,null,null,null,null,null,"Outlet tubing",null,null,null,null,"Compound",null,null,"tr (min)",null,null,"k",null,null,"W50% (min)",null,null,"N",null,null,"Asymmetry",null,null,"Rs",null,null,"Height (mAU)",null,null,"Peak Area",null,null,"Noise",null,null,"S/N"]
[null,null,null,null,null,null,null,null,null,null,"Mix 3 - Lidocaine formulation",null,null,null,null,null,null,null,null,"Ltube",null,50,null,null,{"$f":"IF(calculation2!H27=1,calculation2!F27,calculation2!G27)","v":"Uracil"},null,null,{"$f":"calculation2!N14","v":1.7509927175173992},null,null,{"$f":"calculation2!V14","v":3.4355794789986405E-3},null,null,{"$f":"calculation2!O14","v":7.8614565806190737E-2},null,null,{"$f":"IF(Y28=\"\",\"\",calculation2!P14)","v":2748.3523111090235},null,null,{"$f":"calculation2!U14","v":1.38},null,null,"-",null,null,{"$f":"calculation2!Q14","v":0},null,null,{"$f":"calculation2!R14","v":0},null,null,{"$f":"Calculation!C69","v":0.16583245720298323},null,null,{"$f":"calculation2!T14","v":0}]
[null,null,null,null,null,null,null,null,"sample",null,"Mix 1 - parabens",null,null,null,null,null,null,null,null,"dtube",null,250,null,null,{"$f":"IF(AND(calculation2!H27=0,calculation2!H28=0),calculation2!G28,IF(AND(calculation2!H27=0,calculation2!H28=1),calculation2!F27,calculation2!F28))","v":"Methylparaben"},null,null,{"$f":"calculation2!N15","v":2.4396937122950266},null,null,{"$f":"calculation2!V15","v":0.39810717055349687},null,null,{"$f":"calculation2!O15","v":8.344345463999947E-2},null,null,{"$f":"IF(Y29=\"\",\"\",calculation2!P15)","v":4735.8269709164524},null,null,{"$f":"calculation2!U15","v":1.07},null,null,{"$f":"calculation2!Y15","v":3.6167818450450824},null,null,{"$f":"calculation2!Q15","v":98.374301506578533},null,null,{"$f":"calculation2!R15","v":720.53751163422248},null,null,null,null,null,{"$f":"calculation2!T15","v":214.39697945489416}]
[null,null,null,null,null,null,null,null,"sample diluent",null,null,20,null,null,null,null,null,null,null,null,null,null,null,null,{"$f":"IF(AND(calculation2!H27=0,calculation2!H28=0,calculation2!H29=0),calculation2!G29,IF(AND(calculation2!H27=0,calculation2!H28=0,calculation2!H29=1),calculation2!F27,IF(AND(calculation2!H27=0,calculation2!H28=1,calculation2!H29=1),calculation2!F28,calculation2!F29)))","v":"Ethylparaben"},null,null,{"$f":"calculation2!N16","v":3.6234268961559661},null,null,{"$f":"calculation2!V16","v":1.0764652136298349},null,null,{"$f":"calculation2!O16","v":9.8492282242063564E-2},null,null,{"$f":"IF(Y30=\"\",\"\",calculation2!P16)","v":7497.9815986668973},null,null,{"$f":"calculation2!U16","v":1.08},null,null,{"$f":"calculation2!Y16","v":5.5372985767825229},null,null,{"$f":"calculation2!Q16","v":92.257921412767004},null,null,{"$f":"calculation2!R16","v":797.80701087926286},null,null,null,null,null,{"$f":"calculation2!T16","v":201.06693901518094}]
[null,null,null,null,null,null,null,null,null,null,null,null,null,null,null,null,null,null,null,"Inlet tubing",null,null,null,null,{"$f":"IF(AND(calculation2!H27=0,calculation2!H28=0,calculation2!H29=0,calculation2!H30=0),calculation2!G30,IF(AND(calculation2!H27=0,calculation2!H28=0,calculation2!H29=0,calculation2!H30=1),calculation2!F27,IF(AND(calculation2!H27=0,calculation2!H28=0,calculation2!H29=1,calculation2!H30=1),calculation2!F28,IF(AND(calculation2!H27=0,calculation2!H28=1,calculation2!H29=1,calculation2!H30=1),calculation2!F29,calculation2!F30))))","v":"Propylparaben"},null,null,{"$f":"calculation2!N17","v":6.2303322127855258},null,null,{"$f":"calculation2!V17","v":2.5703957827688648},null,null,{"$f":"calculation2!O17","v":0.13977540321639104},null,null,{"$f":"IF(Y31=\"\",\"\",calculation2!P17)","v":11007.043086997415},null,null,{"$f":"calculation2!U17","v":1.05},null,null,{"$f":"calculation2!Y17","v":9.3115556916353519},null,null,{"$f":"calculation2!Q17","v":69.426632969597335},null,null,{"$f":"calculation2!R17","v":848.61990181525437},null,null,null,null,null,{"$f":"calculation2!T17","v":151.30842277350098}]
[null,null,null,null,null,null,null,null,null,null,null,null,null,null,null,null,null,null,null,"Ltube",null,50,null,null,{"$f":"IF(AND(calculation2!H27=0,calculation2!H28=0,calculation2!H29=0,calculation2!H30=0,calculation2!H31=0),calculation2!G31,IF(AND(calculation2!H27=0,calculation2!H28=0,calculation2!H29=0,calculation2!H30=0,calculation2!H31=1),calculation2!F27,IF(AND(calculation2!H27=0,calculation2!H28=0,calculation2!H29=0,calculation2!H30=1,calculation2!H31=1),calculation2!F28,IF(AND(calculation2!H27=0,calculation2!H28=0,calculation2!H29=1,calculation2!H30=1,calculation2!H31=1),calculation2!F29,IF(AND(calculation2!H27=0,calculation2!H28=1,calculation2!H29=1,calculation2!H30=1,calculation2!H31=1),calculation2!F30,calculation2!F31)))))","v":"Butylparaben"},null,null,{"$f":"calculation2!N18","v":11.60313451421483},null,null,{"$f":"calculation2!V18","v":5.6493697481230294},null,null,{"$f":"calculation2!O18","v":0.23715700717498878},null,null,{"$f":"IF(Y32=\"\",\"\",calculation2!P18)","v":13261.373184393511},null,null,{"$f":"calculation2!U18","v":1.03},null,null,{"$f":"calculation2!Y18","v":12.131081268910327},null,null,{"$f":"calculation2!Q18","v":41.144025699881425},null,null,{"$f":"calculation2!R18","v":851.80037432885706},null,null,null,null,null,{"$f":"calculation2!T18","v":89.669300798839458}]
[null,null,null,"Vinj",20,null,null,null,null,null,null,null,null,null,null,null,null,null,null,"dtube",null,250,null,null,{"$f":"IF(AND(calculation2!H27=0,calculation2!H28=0,calculation2!H29=0,calculation2!H30=0,calculation2!H31=0,calculation2!H32=0),calculation2!G32,IF(AND(calculation2!H27=0,calculation2!H28=0,calculation2!H29=0,calculation2!H30=0,calculation2!H31=0,calculation2!H32=1),calculation2!F27,IF(AND(calculation2!H27=0,calculation2!H28=0,calculation2!H29=0,calculation2!H30=0,calculation2!H31=1,calculation2!H32=1),calculation2!F28,IF(AND(calculation2!H27=0,calculation2!H28=0,calculation2!H29=0,calculation2!H30=1,calculation2!H31=1,calculation2!H32=1),calculation2!F29,IF(AND(calculation2!H27=0,calculation2!H28=0,calculation2!H29=1,calculation2!H30=1,calculation2!H31=1,calculation2!H32=1),calculation2!F30,IF(AND(calculation2!H27=0,calculation2!H28=1,calculation2!H29=1,calculation2!H30=1,calculation2!H31=1,calculation2!H32=1),calculation2!F31,calculation2!F32))))))","v":""},null,null,{"$f":"calculation2!N19","v":""},null,null,{"$f":"calculation2!V19","v":""},null,null,{"$f":"calculation2!O19","v":""},null,null,{"$f":"IF(Y33=\"\",\"\",calculation2!P19)","v":""},null,null,{"$f":"calculation2!U19","v":""},null,null,{"$f":"calculation2!Y19","v":""},null,null,{"$f":"calculation2!Q19","v":""},null,null,{"$f":"calculation2!R19","v":""},null,null,null,null,null,{"$f":"calculation2!T19","v":""}]
[null,null,null,"[C]",0.1,null,null,null,null,null,null,null,null,null,null,null,null,null,null,null,null,null,null,null,{"$f":"IF(AND(calculation2!H27=0,calculation2!H28=0,calculation2!H29=0,calculation2!H30=0,calculation2!H31=0,calculation2!H32=0,calculation2!H33=0),calculation2!G33,IF(AND(calculation2!H27=0,calculation2!H28=0,calculation2!H29=0,calculation2!H30=0,calculation2!H31=0,calculation2!H32=0,calculation2!H33=1),calculation2!F27,IF(AND(calculation2!H27=0,calculation2!H28=0,calculation2!H29=0,calculation2!H30=0,calculation2!H31=0,calculation2!H32=1,calculation2!H33=1),calculation2!F28,IF(AND(calculation2!H27=0,calculation2!H28=0,calculation2!H29=0,calculation2!H30=0,calculation2!H31=1,calculation2!H32=1,calculation2!H33=1),calculation2!F29,IF(AND(calculation2!H27=0,calculation2!H28=0,calculation2!H29=0,calculation2!H30=1,calculation2!H31=1,calculation2!H32=1,calculation2!H33=1),calculation2!F30,IF(AND(calculation2!H27=0,calculation2!H28=0,calculation2!H29=1,calculation2!H30=1,calculation2!H31=1,calculation2!H32=1,calculation2!H33=1),calculation2!F31,IF(AND(calculation2!H27=0,calculation2!H28=1,calculation2!H29=1,calculation2!H30=1,calculation2!H31=1,calculation2!H32=1,calculation2!H33=1),calculation2!F32,calculation2!F33)))))))","v":""},null,null,{"$f":"calculation2!N20","v":""},null,null,{"$f":"calculation2!V20","v":""},null,null,{"$f":"calculation2!O20","v":""},null,null,{"$f":"IF(Y34=\"\",\"\",calculation2!P20)","v":""},null,null,{"$f":"calculation2!U20","v":""},null,null,{"$f":"calculation2!Y20","v":""},null,null,{"$f":"calculation2!Q20","v":""},null,null,{"$f":"calculation2!R20","v":""},null,null,null,null,null,{"$f":"calculation2!T20","v":""}]
[]
[null,null,null,null,null,"Gradient",null,null,null,null,null,null,null,null,1,null,null,null,null,null,null,null,null,null,null,null,null,null,null,null,null,null,null,null,null,null,null,null,null,null,null,null,null,null,null,null,null,null,null,null,null,null,null,null,null,null,null,null,null,null,"%N loss",null,{"$f":"AI41","v":0.46809251807378227}]
[null,null,null,null,null,"Isocratic",null,null,null,null,null,null,"Flow rate",null,1]
[null,null,null,null,null,null,40,null,null,null,null,null,"u (mm/s)",null,{"$f":"Calculation!C44","v":1.432666694499013},null,null,null,null,"PERFORMANCE",null,null,null,null,null,null,null,null,null,null,null,null,null,null,null,null,null,null,null,null,null,null,null,null,null,null,null,"Reason?"]
[null,null,null,null,null,"Time",null,"%A",null,"%B",null,null,"Pressure",null,{"$f":"(Calculation!C42*Calculation!C13/10*0.01*Calculation!C44*0.001*Calculation!C41*0.001/(Calculation!C15*0.000001)^2/100000)+(0.0000001*128*(Calculation!C41*Calculation!C18*Calculation!C3*1000/60)/(Calculation!C19/1000)^4/3.14)+(0.0000001*128*(Calculation!C41*Calculation!C20*Calculation!C3*1000/60)/(Calculation!C21/1000)^4/3.14)","v":56.582617336425145},null,null,null,null,"Gradient",null,null,null,null,"Peak capacity",null,null,null,null,null,null,null,null,null,{"$f":"1+((SQRT(AI40)/4)*(1/(1+((7*((Calculation!C30-Calculation!C29)/100)*(PI()*H21*H21/4*H20*0.7/(O37*1000)))/Calculation!C28)))*LN(((((7*((Calculation!C30-Calculation!C29)/100)*(PI()*H21*H21/4*H20*0.7/(O37*1000)))/Calculation!C28)+1)/((7*((Calculation!C30-Calculation!C29)/100)*(PI()*H21*H21/4*H20*0.7/(O37*1000)))/Calculation!C28))*EXP(7*((Calculation!C30-Calculation!C29)/100))-(1/((7*((Calculation!C30-Calculation!C29)/100)*(PI()*H21*H21/4*H20*0.7/(O37*1000)))/Calculation!C28))))","v":94.196648053255544},null,null,null,null,null,null,null,null,null,null,null,null,{"$f":"calculation2!K42","v":""}]
[null,null,null,null,null,0,null,{"$f":"100-J40","v":95},null,5,null,null,null,null,"Vd",1500,null,null,null,"Isocratic",null,null,null,null,"Average column efficiency for all peaks",null,null,null,null,null,null,null,null,null,{"$f":"Calculation!C60","v":7850.1154304166603},null,null,null,null,null,null,null,null,null,null,null,null,{"$f":"calculation2!K43","v":"retention outside 1<k<10"}]
[null,null,null,null,null,30,null,{"$f":"100-J41","v":50},null,50,null,null,null,null,null,null,null,null,null,null,null,null,null,null,"% efficiency loss (due to system)",null,null,null,null,null,null,null,null,null,{"$f":"1-Calculation!C59/Calculation!C49","v":0.46809251807378227},null,null,null,null,null,null,null,null,null,null,null,null,{"$f":"calculation2!K44","v":"Resolution below 1.5"}]
[null,null,null,null,null,null,null,null,null,null,null,null,null,null,null,null,null,null,null,null,null,null,null,null,"% efficiency loss (due to non optimal flow rate)",null,null,null,null,null,null,null,null,null,{"$f":"1-Calculation!C49/Calculation!H1034","v":8.6806910836407347E-2},null,null,null,null,null,null,null,null,null,null,null,null,{"$f":"calculation2!K45","v":"Loss in efficiency > 30%"}]
[null,"Developed by Davy GUILLARME [davy.guillarme@unige.ch], with contribution of Balazs BOBALY and Jean-Luc VEUTHEY "]
[null,"Group of analytical sciences, School of Pharmaceutical Sciences, University of Geneva, Rue Michel Servet 1, 1211 Geneva 4, Switzerland"]

{"sheet":"HELP","index":2,"n_rows":141,"n_cols":7,"rows_kept":141,"cut":false,"hidden":false,"merged":[[1,1,3,15],[25,1,25,15],[44,1,44,15],[54,1,54,15],[65,1,65,15],[4,1,4,15],[124,1,124,15],[136,1,136,15],[72,1,72,15],[80,1,80,15],[91,1,91,15],[105,1,105,15],[115,1,115,15]]}
[]
[null,"Help about practical HPLC simulator"]
[]
[]
[null,"General methodology - experimental data used in the calculator"]
[]
[null,null,"Raw retention data were obtained for 37 analytes belonging to 7 different mixtures of compounds."]
[null,null,"These analytes were analyzed on three different stationary phases ( BEH C18, BEH C4, and BEH Phenyl)"]
[null,null,"These analytes were analyzed using methanol and acetonitrile as organic modifier"]
[null,null,"These analytes were analyzed using four different pH conditions: pH 2.7 (0.1% Formic acid), 4.5 (20 mM acetate), 7.0 (20 mM phosphate) and 9.0 (20mM ammonia)"]
[null,null,"These analytes were analyzed at two different mobile phase temperatures (30 and 60°C) "]
[null,null,"These analytes were analyzed using two different grdient times to have retention model parameters (log kw and S)"]
[null,null,"On the total, a huge number of experiments were performed with the 37 model analytes: 37*3*2*4*2*2= 3552 analyses !"]
[]
[null,null,"From these experiments, the retention vs. temperature models were assessed (van't Hoff plots) to simulate any other temperature"]
[null,null,"From these experiments, the retention vs. %organic modifier models (LSS, log kw and S) were assessed to simulate any isocratic or gradient conditions"]
[null,null,"From these experiments, peak asymmetry was also monitored and will be used by the calculator to simulate peak tailing/fronting"]
[]
[null,null,"In addition, the 3552 experiments were performed using UV-DAD detector to determine the peak height at any wavelength between 200 and 350 nm."]
[]
[null,null,"A blank injection was also performed in each of the above mentioned conditions to determine the background noise and signal drift under any conditions"]
[]
[null,null,"The user should enter information in all the yellow cells"]
[null,null,"The excel software will calculate all the values reported in blue cells"]
[]
[null,"Pumping system"]
[]
[null,null,null,null,null,"The user should indicate the mobile phase composition (organic modifier nature and pH conditions)"]
[null,null,null,null,null,"Mobile phase viscosity was calculated using equations reported in doi: 10.1016/j.chroma.2004.08.052"]
[]
[]
[null,null,null,null,null,"The user should select either isocratic or gradient conditions (if the user is selecting isocratic, the gradient part will be hidden)"]
[null,null,null,null,null,"If the user is selecting isocratic, the user should indicate the %organic modifier in the mobile phase"]
[null,null,null,null,null,"If the user is selecting gradient, the gradient time, initial %B and final %B have to be indicated"]
[null,null,null,null,null,"The user should also select the mobile phase flow rate"]
[null,null,null,null,null,"Finally, the user should also indicate the dwell volume (or gradient delay volume), also known as Vd"]
[null,null,null,null,null,"The calculator will estimate the linear mobile pahse velocity (u) based on the working flow rate"]
[null,null,null,null,null,"The calculator will estimate the system presure using the Darcy's law, including also the pressure generated by tubing"]
[]
[]
[]
[]
[]
[]
[null,"Injector"]
[]
[null,null,null,null,null,"The user should select the mixture to be analyzed (user has the choice between seven different mixtures)"]
[null,null,null,null,null,"The user should also indicate the sample diluent (it has a relatively strong impact on peak width, in particular when injecting large volume)"]
[null,null,null,null,null,"The user should indicate the injection volume"]
[null,null,null,null,null,"The user should indicate the sample concentration expressed in mg/mL (1mg/mL=1000ppm)"]
[null,null,null,null,null,"The user should also indicate the tubing dimensions for the tube located between the injection valve and column inlet"]
[null,null,null,null,null,"The user should also indicate the tubing dimensions for the tube located between column outlet and UV detection"]
[null,null,null,null,null,"Tubing dimension has an impact on system pressure and peak width (in particular when the column has a small volume)."]
[]
[null,"Column oven"]
[]
[null,null,null,null,null,"The user should indicate the column dimensions (length, diameter, particle size and porosity)"]
[null,null,null,null,null,"If porosity is unknown, it should be set to a value of 0.7"]
[null,null,null,null,null,"The user can also indicate the stationary phase chemistry (C18, C4 and phenyl)"]
[null,null,null,null,null,"The user should indicate the temperature (this corresponds to the column temperature as well as the mobile pahse temperature)"]
[null,null,null,null,null,"Finally, the calculator will estimate the column dead time, based on column dead volume (equation below) and flow rate"]
[]
[]
[]
[]
[null,"UV detection"]
[]
[null,null,null,null,null,"The user should indicate the UV cell volume which has a potential impact on peak width"]
[null,null,null,null,null,"The user should also indicate the wavelength at which the chromatogram will be simulated"]
[null,null,null,null,null,"The user should provide the UV time constant (electronic smoothing of the UV signal) which impacts background noise and peak width"]
[null,null,null,null,null,"The user should finally provide the data acquisition rate (in Hz) which corresponds to the number of UV absorbance measurement per sec"]
[]
[null,"Simulated chromatogram"]
[]
[null,null,null,null,null,"The software shows the chromatogram (calculation of peaks made using a modified Gaussian function to account for peak asymmetry)"]
[null,null,null,null,null,"The chromatogram reports the UV absorbance on the Y-axis, expressed in milli absorbance units (mAU)"]
[null,null,null,null,null,"The chromatogram reports the time on the X-axis"]
[null,null,null,null,null,"The second Y-axis defines the mobile pahse conditions used for the separation (isocratic or gradient)"]
[]
[]
[null,"Compound properties"]
[]
[null,null,null,null,null,"The user can enter the name of an analyte within the mixture of compounds to obtain some specific properties"]
[null,null,null,null,null,"The software will then provide the experimental UV spectra of the compound"]
[null,null,null,null,null,"The user will have also access to the maximum absorbance wavelength (λmax)"]
[]
[null,null,null,null,null,"The software will also provide the ionization profile representing the %ionized form vs. pH"]
[null,null,null,null,null,"The user will have also access to the pKa of the selected compound"]
[]
[]
[]
[null,"Output data"]
[]
[]
[null,null,null,null,null,null,"Various data will be calculated by the software:"]
[null,null,null,null,null,null,"Retention time of the different compounds (tr) will be provided"]
[null,null,null,null,null,null,"Retention factor (k) will be calculated using the equation mentioned on the left"]
[null,null,null,null,null,null,"Peak width at half height (W50%) will be provided by the calculator and calculated based on the experimental conditions"]
[null,null,null,null,null,null,"Plate count has been calculated using a generic Van Deemter curve (A=1, B=4, C=0.05) and the van deemter equation"]
[null,null,null,null,null,null,"Resolution was calculated based on peak widths and retention times between two consecutive peaks (equation on the left)"]
[null,null,null,null,null,null,"Peak height and peak area were obtained thanks to the raw data experimentally obtained"]
[null,null,null,null,null,null,"Background noise was also obtained from experimental measurements and account for time constant and data acquisition rate"]
[null,null,null,null,null,null,"S/N ratio was calculated based on peak height and background noise"]
[]
[]
[null,"Performance"]
[]
[null,null,null,null,null,null,"Depending on the selected mode of elution (isocatic or gradient), this section will not contain the same information"]
[null,null,null,null,null,null,"In isocratic mode, the average column efficiency  (plate count) for all peaks is calculated"]
[null,null,null,null,null,null,"In isocratic mode, the N loss due to system (extra-column band broadening contribution) is calculated (see equation on the left)"]
[null,null,null,null,null,null,"In isocratic mode, the N loss due to non optimal flow rate is calculated by drawing van Deemter curve and checking "]
[null,null,null,null,null,null,"the position of the selected flow rate on the curve - calculated with (Nmax-Nobserved)/Nmax"]
[null,null,null,null,null,null,"In gradient mode, the peak capacity will be provided to evaluate the separation quality (number of peaks possibly separated"]
[null,null,null,null,null,null,"during the course of the gradient, with a resolution of 1."]
[]
[null,"Separation quality"]
[]
[null,null,null,null,null,"The separation quality will be graphically evaluated using the representation on the left (worst, bad, average, good, best) - see table for scores"]
[null,null,null,null,null,"To assess separation quality, various criteria are used and a score (between 0 and 100) is provided for the separation:"]
[null,null,null,null,null,null,"Reduction of the score by 50% if at least one peak is not eluted"]
[null,null,null,null,null,null,"Retention times between 1 and 10 contributes to 20% of the score"]
[null,null,null,null,null,null,"Resolution beyond 1.5 contributes to 20% of the score"]
[null,null,null,null,null,null,"Loss in efficiency > 30% of the maximal reachable value contributes to 10% of the score"]
[]
[null,"Extra-column band broadening"]
[]
[null,null,null,null,null,"The different contributions to band broadening were calculated using the equation below"]
[null,null,null,null,null,"Diffusion coefficients were estimated using the Wilke-Chang equation (equation below)"]
[null,null,null,null,null,"This histogram highlights the percentage of contribution from the different sources of band broadening"]
[null,null,null,null,null,"The blue cell indicates the %N loss in the system due to extra-column band broadening (same informtion as in the performance table)"]
[]
[]
[]
[]
[]
[]
[null,"Macro for HPLC or UHPLC system"]
[]
[null,null,null,null,null,"Two macros were created in this Excel spreadsheet. These buttons can be useful to reset the values to original values"]
[null,null,null,null,null,"When user clicks on \"HPLC system\", the values of the system are changed to mimic the ones of a generic HPLC system"]
[null,null,null,null,null,"When user clicks on \"UHPLC system\", the values of the system are changed to mimic the ones of a generic UHPLC system"]

{"sheet":"Calculation","index":3,"n_rows":3077,"n_cols":128,"rows_kept":1125,"cut":true,"hidden":false,"merged":[[7,119,11,119],[35,1,35,3],[36,60,40,60],[41,60,47,60],[7,60,11,60],[12,60,17,60],[18,60,21,60],[22,60,27,60],[4,30,4,31],[4,109,4,117],[4,78,4,84],[22,109,27,109],[28,109,35,109],[36,109,40,109],[41,109,47,109],[28,60,35,60],[7,69,11,69],[41,69,47,69],[22,6,27,6],[28,6,35,6],[36,6,40,6],[41,6,47,6],[4,12,4,13],[4,14,4,15],[4,35,4,36],[0,0,0,25],[6,125,6,127],[7,125,7,126],[1,1,1,3],[7,115,11,115],[12,115,17,115],[18,115,21,115],[22,115,27,115],[2,8,2,31],[5,88,5,103],[4,20,4,21],[4,22,4,23],[4,24,4,25],[4,26,4,27],[4,119,4,127],[7,109,11,109],[7,6,11,6],[12,6,17,6],[18,6,21,6],[4,16,4,17],[4,18,4,19],[4,10,4,11],[3,20,3,31],[74,2,74,7],[65,1,65,3],[4,86,4,107],[4,71,4,76],[7,105,11,105],[41,105,47,105],[4,49,4,50],[4,43,4,44],[4,37,4,38],[41,86,47,86],[7,86,11,86],[12,86,17,86],[18,86,21,86],[22,86,27,86],[28,86,35,86],[4,45,4,46],[4,39,4,40],[4,62,4,67],[12,105,17,105],[18,105,21,105],[22,105,27,105],[28,105,35,105],[36,105,40,105],[74,49,74,56],[36,115,40,115],[41,115,47,115],[12,119,17,119],[18,119,21,119],[22,119,27,119],[28,119,35,119],[28,69,35,69],[36,69,40,69],[41,119,47,119],[36,86,40,86],[12,69,17,69],[18,69,21,69],[36,119,40,119],[22,69,27,69],[12,109,17,109],[18,109,21,109],[28,115,35,115],[75,38,75,47],[4,8,4,9],[4,41,4,42],[2,35,2,58],[3,35,3,46],[3,47,3,58],[4,51,4,52],[4,53,4,54],[4,55,4,56],[4,57,4,58],[4,47,4,48],[3,8,3,19],[74,38,74,47],[75,58,75,59],[74,10,74,27],[74,29,74,36],[4,28,4,29],[22,33,27,33],[28,33,35,33],[36,33,40,33],[41,33,47,33],[7,33,11,33],[12,33,17,33],[18,33,21,33]],"bounds":{"rows_first":500,"rows_last":125,"rows_between":500,"halvings":2}}
["CALCULATIONS"]
[null,"INPUT"]
[null,"Flow rate",{"$f":"calculation2!E61","v":1},"mL/min",null,null,30,null,"Raw retention data at the selected pH",null,null,null,null,null,null,null,null,null,null,null,null,null,null,null,null,null,null,null,null,null,null,null,null,null,null,"Retention data - modeling of temperature"]
[null,"pH",{"$f":"calculation2!E62","v":7},null,null,null,60,null,"Methanol/eau",null,null,null,null,null,null,null,null,null,null,null,"ACN/eau",null,null,null,null,null,null,null,null,null,null,null,null,null,null,"Methanol/eau",null,null,null,null,null,null,null,null,null,null,null,"ACN/eau"]
[null,"Organic solvent",{"$f":"calculation2!E63","v":"Acetonitrile"},null,null,null,null,null,"C18",null,"C18",null,"Phenyl",null,"Phenyl",null,"C4",null,"C4",null,"C18",null,"C18",null,"Phenyl",null,"Phenyl",null,"C4",null,"C4",null,null,null,null,"C18",null,"C18",null,"Phenyl",null,"Phenyl",null,"C4",null,"C4",null,"C18",null,"C18",null,"Phenyl",null,"Phenyl",null,"C4",null,"C4",null,null,null,null,"log kw values at working temperature",null,null,null,null,null,null,null,null,"S values at working temperature",null,null,null,null,null,null,"Final S and log kw values at working temperature",null,null,null,null,null,null,null,"UV detection",null,null,null,null,null,null,null,null,null,null,null,null,null,null,null,null,null,null,null,null,null,null,"Asymmetry values at selected pH",null,null,null,null,null,null,null,null,null,"Effect of pH"]
[null,"Dwell volume",{"$f":"calculation2!E64","v":1500},"µl",null,null,null,null,"30°C","60°C","30°C","60°C","30°C","60°C","30°C","60°C","30°C","60°C","30°C","60°C","30°C","60°C","30°C","60°C","30°C","60°C","30°C","60°C","30°C","60°C","30°C","60°C",null,null,null,"slope","intercept","slope","intercept","slope","intercept","slope","intercept","slope","intercept","slope","intercept","slope","intercept","slope","intercept","slope","intercept","slope","intercept","slope","intercept","slope","intercept",null,null,null,"log kw","log kw","log kw","log kw","log kw","log kw",null,null,null,"S","S","S","S","S","S",null,null,null,null,null,null,null,null,null,null,null,"Peak height (AU)"]
[null,"Dwell time",{"$f":"C6/('HPLC simulator'!O37*1000)","v":1.5},"min",null,null,null,null,"log kw","log kw","S","S","log kw","log kw","S","S","log kw","log kw","S","S","log kw","log kw","S","S","log kw","log kw","S","S","log kw","log kw","S","S",null,null,null,"log kw","log kw","S","S","log kw","log kw","S","S","log kw","log kw","S","S","log kw","log kw","S","S","log kw","log kw","S","S","log kw","log kw","S","S",null,null,null,"MethanolC18","MethanolPhenyl","MethanolC4","AcetonitrileC18","AcetonitrilePhenyl","AcetonitrileC4",null,null,null,"MethanolC18","MethanolPhenyl","MethanolC4","AcetonitrileC18","AcetonitrilePhenyl","AcetonitrileC4",null,null,"log kw","log kw","log kw","log kw","log kw","log kw",null,null,"Wavelength",200,210,220,230,240,250,260,270,280,290,300,310,320,330,340,350,null,null,null,{"$f":"C10","v":220},null,null,null,"C18","C4","Phenyl",null,null,null,{"$f":"C16","v":"C18"},null,null,null,"pKa acid","pKa basic","acide/basique",null,"data graph ionized form vs. pH"]
[null,"Isocratic/gradient",{"$f":"calculation2!E65","v":"Isocratic"},null,null,null,"Mix 1","Uracil",{"$f":"IF($C$4=2.7,'1'!D11,IF($C$4=4.5,'1'!AB11,IF($C$4=7,'1'!AZ11,IF($C$4=9,'1'!BX11,\"FAUX\"))))","v":2.93E-2},{"$f":"IF($C$4=2.7,'1'!E11,IF($C$4=4.5,'1'!AC11,IF($C$4=7,'1'!BA11,IF($C$4=9,'1'!BY11,\"FAUX\"))))","v":-2.4E-2},{"$f":"IF($C$4=2.7,'1'!F11,IF($C$4=4.5,'1'!AD11,IF($C$4=7,'1'!BB11,IF($C$4=9,'1'!BZ11,\"FAUX\"))))","v":5.96},{"$f":"IF($C$4=2.7,'1'!G11,IF($C$4=4.5,'1'!AE11,IF($C$4=7,'1'!BC11,IF($C$4=9,'1'!CA11,\"FAUX\"))))","v":7.73},{"$f":"IF($C$4=2.7,'1'!H11,IF($C$4=4.5,'1'!AF11,IF($C$4=7,'1'!BD11,IF($C$4=9,'1'!CB11,\"FAUX\"))))","v":3.73E-2},{"$f":"IF($C$4=2.7,'1'!I11,IF($C$4=4.5,'1'!AG11,IF($C$4=7,'1'!BE11,IF($C$4=9,'1'!CC11,\"FAUX\"))))","v":-0.11},{"$f":"IF($C$4=2.7,'1'!J11,IF($C$4=4.5,'1'!AH11,IF($C$4=7,'1'!BF11,IF($C$4=9,'1'!CD11,\"FAUX\"))))","v":4.9800000000000004},{"$f":"IF($C$4=2.7,'1'!K11,IF($C$4=4.5,'1'!AI11,IF($C$4=7,'1'!BG11,IF($C$4=9,'1'!CE11,\"FAUX\"))))","v":3.8},{"$f":"IF($C$4=2.7,'1'!L11,IF($C$4=4.5,'1'!AJ11,IF($C$4=7,'1'!BH11,IF($C$4=9,'1'!CF11,\"FAUX\"))))","v":7.8100000000000003E-2},{"$f":"IF($C$4=2.7,'1'!M11,IF($C$4=4.5,'1'!AK11,IF($C$4=7,'1'!BI11,IF($C$4=9,'1'!CG11,\"FAUX\"))))","v":6.3299999999999995E-2},{"$f":"IF($C$4=2.7,'1'!N11,IF($C$4=4.5,'1'!AL11,IF($C$4=7,'1'!BJ11,IF($C$4=9,'1'!CH11,\"FAUX\"))))","v":5.54},{"$f":"IF($C$4=2.7,'1'!O11,IF($C$4=4.5,'1'!AM11,IF($C$4=7,'1'!BK11,IF($C$4=9,'1'!CI11,\"FAUX\"))))","v":6.64},{"$f":"IF($C$4=2.7,'1'!P11,IF($C$4=4.5,'1'!AN11,IF($C$4=7,'1'!BL11,IF($C$4=9,'1'!CJ11,\"FAUX\"))))","v":-0.36},{"$f":"IF($C$4=2.7,'1'!Q11,IF($C$4=4.5,'1'!AO11,IF($C$4=7,'1'!BM11,IF($C$4=9,'1'!CK11,\"FAUX\"))))","v":0.28799999999999998},{"$f":"IF($C$4=2.7,'1'!R11,IF($C$4=4.5,'1'!AP11,IF($C$4=7,'1'!BN11,IF($C$4=9,'1'!CL11,\"FAUX\"))))","v":5.26},{"$f":"IF($C$4=2.7,'1'!S11,IF($C$4=4.5,'1'!AQ11,IF($C$4=7,'1'!BO11,IF($C$4=9,'1'!CM11,\"FAUX\"))))","v":5.26},{"$f":"IF($C$4=2.7,'1'!T11,IF($C$4=4.5,'1'!AR11,IF($C$4=7,'1'!BP11,IF($C$4=9,'1'!CN11,\"FAUX\"))))","v":6.5299999999999997E-2},{"$f":"IF($C$4=2.7,'1'!U11,IF($C$4=4.5,'1'!AS11,IF($C$4=7,'1'!BQ11,IF($C$4=9,'1'!CO11,\"FAUX\"))))","v":-7.7899999999999997E-2},{"$f":"IF($C$4=2.7,'1'!V11,IF($C$4=4.5,'1'!AT11,IF($C$4=7,'1'!BR11,IF($C$4=9,'1'!CP11,\"FAUX\"))))","v":8.7100000000000009},{"$f":"IF($C$4=2.7,'1'!W11,IF($C$4=4.5,'1'!AU11,IF($C$4=7,'1'!BS11,IF($C$4=9,'1'!CQ11,\"FAUX\"))))","v":7.53},{"$f":"IF($C$4=2.7,'1'!X11,IF($C$4=4.5,'1'!AV11,IF($C$4=7,'1'!BT11,IF($C$4=9,'1'!CR11,\"FAUX\"))))","v":0.39700000000000002},{"$f":"IF($C$4=2.7,'1'!Y11,IF($C$4=4.5,'1'!AW11,IF($C$4=7,'1'!BU11,IF($C$4=9,'1'!CS11,\"FAUX\"))))","v":0.26600000000000001},{"$f":"IF($C$4=2.7,'1'!Z11,IF($C$4=4.5,'1'!AX11,IF($C$4=7,'1'!BV11,IF($C$4=9,'1'!CT11,\"FAUX\"))))","v":15},{"$f":"IF($C$4=2.7,'1'!AA11,IF($C$4=4.5,'1'!AY11,IF($C$4=7,'1'!BW11,IF($C$4=9,'1'!CU11,\"FAUX\"))))","v":13.5},null,"Mix 1",{"$f":"$H8","v":"Uracil"},{"$f":"SLOPE(I8:J8,$G$3:$G$4)","v":-1.7766666666666666E-3},{"$f":"INTERCEPT(I8:J8,$G$3:$G$4)","v":8.2599999999999993E-2},{"$f":"SLOPE(K8:L8,$G$3:$G$4)","v":5.9000000000000011E-2},{"$f":"INTERCEPT(K8:L8,$G$3:$G$4)","v":4.1899999999999995},{"$f":"SLOPE(M8:N8,$G$3:$G$4)","v":-4.9099999999999994E-3},{"$f":"INTERCEPT(M8:N8,$G$3:$G$4)","v":0.18459999999999999},{"$f":"SLOPE(O8:P8,$G$3:$G$4)","v":-3.9333333333333352E-2},{"$f":"INTERCEPT(O8:P8,$G$3:$G$4)","v":6.1600000000000019},{"$f":"SLOPE(Q8:R8,$G$3:$G$4)","v":-4.9333333333333358E-4},{"$f":"INTERCEPT(Q8:R8,$G$3:$G$4)","v":9.290000000000001E-2},{"$f":"SLOPE(S8:T8,$G$3:$G$4)","v":3.6666666666666653E-2},{"$f":"INTERCEPT(S8:T8,$G$3:$G$4)","v":4.4400000000000004},{"$f":"SLOPE(U8:V8,$G$3:$G$4)","v":2.1599999999999998E-2},{"$f":"INTERCEPT(U8:V8,$G$3:$G$4)","v":-1.0079999999999998},{"$f":"SLOPE(W8:X8,$G$3:$G$4)","v":0},{"$f":"INTERCEPT(W8:X8,$G$3:$G$4)","v":5.26},{"$f":"SLOPE(Y8:Z8,$G$3:$G$4)","v":-4.7733333333333326E-3},{"$f":"INTERCEPT(Y8:Z8,$G$3:$G$4)","v":0.20849999999999996},{"$f":"SLOPE(AA8:AB8,$G$3:$G$4)","v":-3.9333333333333352E-2},{"$f":"INTERCEPT(AA8:AB8,$G$3:$G$4)","v":9.8900000000000023},{"$f":"SLOPE(AC8:AD8,$G$3:$G$4)","v":-4.3666666666666671E-3},{"$f":"INTERCEPT(AC8:AD8,$G$3:$G$4)","v":0.52800000000000002},{"$f":"SLOPE(AE8:AF8,$G$3:$G$4)","v":-0.05},{"$f":"INTERCEPT(AE8:AF8,$G$3:$G$4)","v":16.5},null,"Mix 1",{"$f":"H8","v":"Uracil"},{"$f":"AJ8*$C$17+AK8","v":2.9299999999999993E-2},{"$f":"AN8*$C$17+AO8","v":3.73E-2},{"$f":"AR8*$C$17+AS8","v":7.8100000000000003E-2},{"$f":"AV8*$C$17+AW8","v":-0.35999999999999988},{"$f":"AZ8*$C$17+BA8","v":6.5299999999999997E-2},{"$f":"BD8*$C$17+BE8","v":0.39700000000000002},null,"Mix 1",{"$f":"H8","v":"Uracil"},{"$f":"AL8*$C$17+AM8","v":5.96},{"$f":"AP8*$C$17+AQ8","v":4.9800000000000013},{"$f":"AT8*$C$17+AU8","v":5.54},{"$f":"AX8*$C$17+AY8","v":5.26},{"$f":"BB8*$C$17+BC8","v":8.7100000000000009},{"$f":"BF8*$C$17+BG8","v":15},null,null,"MethanolC18","MethanolPhenyl","MethanolC4","AcetonitrileC18","AcetonitrilePhenyl","AcetonitrileC4",null,"Mix 1",{"$f":"$H8","v":"Uracil"},{"$f":"'1'!D57","v":8.8720350379015794E-2},{"$f":"'1'!E57","v":4.8196819220748699E-2},{"$f":"'1'!F57","v":0},{"$f":"'1'!G57","v":7.6579447051938797E-3},{"$f":"'1'!H57","v":7.9637421775601805E-2},{"$f":"'1'!I57","v":0.15513697682111299},{"$f":"'1'!J57","v":0.18952752315180499},{"$f":"'1'!K57","v":0.12502273839546099},{"$f":"'1'!L57","v":3.3322504423330797E-2},{"$f":"'1'!M57","v":1.3510676656862601E-3},{"$f":"'1'!N57","v":-2.41269328855411E-5},{"$f":"'1'!O57","v":-4.7095990269047998E-5},{"$f":"'1'!P57","v":-4.6066759473940303E-5},{"$f":"'1'!Q57","v":-8.0763321464476294E-5},{"$f":"'1'!R57","v":-6.29455548321201E-6},{"$f":"'1'!S57","v":-1.2747849531985899E-5},null,"Mix 1",{"$f":"$H8","v":"Uracil"},{"$f":"HLOOKUP($DD$7,$CJ$7:$CZ$48,2,FALSE)","v":0},null,"Mix 1",{"$f":"$H8","v":"Uracil"},{"$f":"IF($C$4=2.7,'1'!D125,IF($C$4=4.5,'1'!G125,IF($C$4=7,'1'!J125,IF($C$4=9,'1'!M125,FALSE))))","v":1.38},{"$f":"IF($C$4=2.7,'1'!E125,IF($C$4=4.5,'1'!H125,IF($C$4=7,'1'!K125,IF($C$4=9,'1'!N125,FALSE))))","v":1.26},{"$f":"IF($C$4=2.7,'1'!F125,IF($C$4=4.5,'1'!I125,IF($C$4=7,'1'!L125,IF($C$4=9,'1'!O125,FALSE))))","v":1.35},null,"Mix 1",{"$f":"$H8","v":"Uracil"},{"$f":"HLOOKUP($DN$7,$DG$7:$DJ$48,2,FALSE)","v":1.38},null,"Mix 1",{"$f":"$H8","v":"Uracil"},8.8000000000000007,null,{"$f":"IF(DR8=\"\",1,2)","v":2},null,{"$f":"calculation2!E86","v":"Uracil"}]
[null,"UV cell volume",{"$f":"calculation2!E66","v":13},"µl",null,null,null,"Methylparaben",{"$f":"IF($C$4=2.7,'1'!D12,IF($C$4=4.5,'1'!AB12,IF($C$4=7,'1'!AZ12,IF($C$4=9,'1'!BX12,\"FAUX\"))))","v":2.06},{"$f":"IF($C$4=2.7,'1'!E12,IF($C$4=4.5,'1'!AC12,IF($C$4=7,'1'!BA12,IF($C$4=9,'1'!BY12,\"FAUX\"))))","v":1.92},{"$f":"IF($C$4=2.7,'1'!F12,IF($C$4=4.5,'1'!AD12,IF($C$4=7,'1'!BB12,IF($C$4=9,'1'!BZ12,\"FAUX\"))))","v":4.25},{"$f":"IF($C$4=2.7,'1'!G12,IF($C$4=4.5,'1'!AE12,IF($C$4=7,'1'!BC12,IF($C$4=9,'1'!CA12,\"FAUX\"))))","v":4.84},{"$f":"IF($C$4=2.7,'1'!H12,IF($C$4=4.5,'1'!AF12,IF($C$4=7,'1'!BD12,IF($C$4=9,'1'!CB12,\"FAUX\"))))","v":1.91},{"$f":"IF($C$4=2.7,'1'!I12,IF($C$4=4.5,'1'!AG12,IF($C$4=7,'1'!BE12,IF($C$4=9,'1'!CC12,\"FAUX\"))))","v":1.67},{"$f":"IF($C$4=2.7,'1'!J12,IF($C$4=4.5,'1'!AH12,IF($C$4=7,'1'!BF12,IF($C$4=9,'1'!CD12,\"FAUX\"))))","v":3.91},{"$f":"IF($C$4=2.7,'1'!K12,IF($C$4=4.5,'1'!AI12,IF($C$4=7,'1'!BG12,IF($C$4=9,'1'!CE12,\"FAUX\"))))","v":4.16},{"$f":"IF($C$4=2.7,'1'!L12,IF($C$4=4.5,'1'!AJ12,IF($C$4=7,'1'!BH12,IF($C$4=9,'1'!CF12,\"FAUX\"))))","v":2.02},{"$f":"IF($C$4=2.7,'1'!M12,IF($C$4=4.5,'1'!AK12,IF($C$4=7,'1'!BI12,IF($C$4=9,'1'!CG12,\"FAUX\"))))","v":1.81},{"$f":"IF($C$4=2.7,'1'!N12,IF($C$4=4.5,'1'!AL12,IF($C$4=7,'1'!BJ12,IF($C$4=9,'1'!CH12,\"FAUX\"))))","v":4.2300000000000004},{"$f":"IF($C$4=2.7,'1'!O12,IF($C$4=4.5,'1'!AM12,IF($C$4=7,'1'!BK12,IF($C$4=9,'1'!CI12,\"FAUX\"))))","v":4.4800000000000004},{"$f":"IF($C$4=2.7,'1'!P12,IF($C$4=4.5,'1'!AN12,IF($C$4=7,'1'!BL12,IF($C$4=9,'1'!CJ12,\"FAUX\"))))","v":1.76},{"$f":"IF($C$4=2.7,'1'!Q12,IF($C$4=4.5,'1'!AO12,IF($C$4=7,'1'!BM12,IF($C$4=9,'1'!CK12,\"FAUX\"))))","v":1.9},{"$f":"IF($C$4=2.7,'1'!R12,IF($C$4=4.5,'1'!AP12,IF($C$4=7,'1'!BN12,IF($C$4=9,'1'!CL12,\"FAUX\"))))","v":5.4},{"$f":"IF($C$4=2.7,'1'!S12,IF($C$4=4.5,'1'!AQ12,IF($C$4=7,'1'!BO12,IF($C$4=9,'1'!CM12,\"FAUX\"))))","v":7.5},{"$f":"IF($C$4=2.7,'1'!T12,IF($C$4=4.5,'1'!AR12,IF($C$4=7,'1'!BP12,IF($C$4=9,'1'!CN12,\"FAUX\"))))","v":1.66},{"$f":"IF($C$4=2.7,'1'!U12,IF($C$4=4.5,'1'!AS12,IF($C$4=7,'1'!BQ12,IF($C$4=9,'1'!CO12,\"FAUX\"))))","v":1.6},{"$f":"IF($C$4=2.7,'1'!V12,IF($C$4=4.5,'1'!AT12,IF($C$4=7,'1'!BR12,IF($C$4=9,'1'!CP12,\"FAUX\"))))","v":5.59},{"$f":"IF($C$4=2.7,'1'!W12,IF($C$4=4.5,'1'!AU12,IF($C$4=7,'1'!BS12,IF($C$4=9,'1'!CQ12,\"FAUX\"))))","v":6.48},{"$f":"IF($C$4=2.7,'1'!X12,IF($C$4=4.5,'1'!AV12,IF($C$4=7,'1'!BT12,IF($C$4=9,'1'!CR12,\"FAUX\"))))","v":1.7},{"$f":"IF($C$4=2.7,'1'!Y12,IF($C$4=4.5,'1'!AW12,IF($C$4=7,'1'!BU12,IF($C$4=9,'1'!CS12,\"FAUX\"))))","v":1.71},{"$f":"IF($C$4=2.7,'1'!Z12,IF($C$4=4.5,'1'!AX12,IF($C$4=7,'1'!BV12,IF($C$4=9,'1'!CT12,\"FAUX\"))))","v":5.24},{"$f":"IF($C$4=2.7,'1'!AA12,IF($C$4=4.5,'1'!AY12,IF($C$4=7,'1'!BW12,IF($C$4=9,'1'!CU12,\"FAUX\"))))","v":6.36},null,null,{"$f":"$H9","v":"Methylparaben"},{"$f":"SLOPE(I9:J9,$G$3:$G$4)","v":-4.6666666666666705E-3},{"$f":"INTERCEPT(I9:J9,$G$3:$G$4)","v":2.2000000000000002},{"$f":"SLOPE(K9:L9,$G$3:$G$4)","v":1.9666666666666662E-2},{"$f":"INTERCEPT(K9:L9,$G$3:$G$4)","v":3.66},{"$f":"SLOPE(M9:N9,$G$3:$G$4)","v":-7.9999999999999984E-3},{"$f":"INTERCEPT(M9:N9,$G$3:$G$4)","v":2.15},{"$f":"SLOPE(O9:P9,$G$3:$G$4)","v":8.3333333333333332E-3},{"$f":"INTERCEPT(O9:P9,$G$3:$G$4)","v":3.66},{"$f":"SLOPE(Q9:R9,$G$3:$G$4)","v":-6.9999999999999984E-3},{"$f":"INTERCEPT(Q9:R9,$G$3:$G$4)","v":2.23},{"$f":"SLOPE(S9:T9,$G$3:$G$4)","v":8.3333333333333332E-3},{"$f":"INTERCEPT(S9:T9,$G$3:$G$4)","v":3.9800000000000004},{"$f":"SLOPE(U9:V9,$G$3:$G$4)","v":4.6666666666666636E-3},{"$f":"INTERCEPT(U9:V9,$G$3:$G$4)","v":1.62},{"$f":"SLOPE(W9:X9,$G$3:$G$4)","v":6.9999999999999979E-2},{"$f":"INTERCEPT(W9:X9,$G$3:$G$4)","v":3.3000000000000012},{"$f":"SLOPE(Y9:Z9,$G$3:$G$4)","v":-1.9999999999999944E-3},{"$f":"INTERCEPT(Y9:Z9,$G$3:$G$4)","v":1.7199999999999998},{"$f":"SLOPE(AA9:AB9,$G$3:$G$4)","v":2.9666666666666685E-2},{"$f":"INTERCEPT(AA9:AB9,$G$3:$G$4)","v":4.6999999999999993},{"$f":"SLOPE(AC9:AD9,$G$3:$G$4)","v":3.3333333333333365E-4},{"$f":"INTERCEPT(AC9:AD9,$G$3:$G$4)","v":1.69},{"$f":"SLOPE(AE9:AF9,$G$3:$G$4)","v":3.7333333333333343E-2},{"$f":"INTERCEPT(AE9:AF9,$G$3:$G$4)","v":4.12},null,null,"Methylparaben",2.06,1.91,2.02,1.76,1.66,1.7,null,null,"Methylparaben",4.25,3.91,4.2300000000000004,5.4,5.59,5.24,null,{"$f":"$Q$56","v":"Uracil"},{"$f":"VLOOKUP($Q$56,$BJ$8:$BP$48,2,FALSE)","v":2.9299999999999993E-2},{"$f":"VLOOKUP($Q$56,$BJ$8:$BP$48,3,FALSE)","v":3.73E-2},{"$f":"VLOOKUP($Q$56,$BJ$8:$BP$48,4,FALSE)","v":7.8100000000000003E-2},{"$f":"VLOOKUP($Q$56,$BJ$8:$BP$48,5,FALSE)","v":-0.35999999999999988},{"$f":"VLOOKUP($Q$56,$BJ$8:$BP$48,6,FALSE)","v":6.5299999999999997E-2},{"$f":"VLOOKUP($Q$56,$BJ$8:$BP$48,7,FALSE)","v":0.39700000000000002},null,null,{"$f":"$H9","v":"Methylparaben"},{"$f":"'1'!D58","v":0.32609776507771798},{"$f":"'1'!E58","v":0.30096215171035601},{"$f":"'1'!F58","v":0.162500542262737},{"$f":"'1'!G58","v":0.12940623110898999},{"$f":"'1'!H58","v":0.18358011281407799},{"$f":"'1'!I58","v":0.29024274182016302},{"$f":"'1'!J58","v":0.30029246677389598},{"$f":"'1'!K58","v":0.18929719611979301},{"$f":"'1'!L58","v":7.2176089753596698E-2},{"$f":"'1'!M58","v":5.9216544360093997E-3},{"$f":"'1'!N58","v":-3.98411107903488E-4},{"$f":"'1'!O58","v":-3.98411107903488E-4},{"$f":"'1'!P58","v":-3.98411107903488E-4},{"$f":"'1'!Q58","v":-3.98411107903488E-4},{"$f":"'1'!R58","v":-3.98411107903488E-4},{"$f":"'1'!S58","v":-3.98411107903488E-4},null,null,{"$f":"$H9","v":"Methylparaben"},{"$f":"HLOOKUP($DD$7,$CJ$7:$CZ$48,3,FALSE)","v":0.162500542262737},null,null,{"$f":"$H9","v":"Methylparaben"},{"$f":"IF($C$4=2.7,'1'!D126,IF($C$4=4.5,'1'!G126,IF($C$4=7,'1'!J126,IF($C$4=9,'1'!M126,FALSE))))","v":1.07},{"$f":"IF($C$4=2.7,'1'!E126,IF($C$4=4.5,'1'!H126,IF($C$4=7,'1'!K126,IF($C$4=9,'1'!N126,FALSE))))","v":1.04},{"$f":"IF($C$4=2.7,'1'!F126,IF($C$4=4.5,'1'!I126,IF($C$4=7,'1'!L126,IF($C$4=9,'1'!O126,FALSE))))","v":1.03},null,null,{"$f":"$H9","v":"Methylparaben"},{"$f":"HLOOKUP($DN$7,$DG$7:$DJ$48,3,FALSE)","v":1.07},null,null,{"$f":"$H9","v":"Methylparaben"},8.5,null,{"$f":"IF(DR9=\"\",1,2)","v":2},null,"Acide/basique",{"$f":"VLOOKUP(DV8,DQ8:DT48,4,FALSE)","v":2}]
[null,"Wavelength",{"$f":"calculation2!E67","v":220},"nm",null,null,null,"Ethylparaben",{"$f":"IF($C$4=2.7,'1'!D13,IF($C$4=4.5,'1'!AB13,IF($C$4=7,'1'!AZ13,IF($C$4=9,'1'!BX13,\"FAUX\"))))","v":2.67},{"$f":"IF($C$4=2.7,'1'!E13,IF($C$4=4.5,'1'!AC13,IF($C$4=7,'1'!BA13,IF($C$4=9,'1'!BY13,\"FAUX\"))))","v":2.4500000000000002},{"$f":"IF($C$4=2.7,'1'!F13,IF($C$4=4.5,'1'!AD13,IF($C$4=7,'1'!BB13,IF($C$4=9,'1'!BZ13,\"FAUX\"))))","v":4.7699999999999996},{"$f":"IF($C$4=2.7,'1'!G13,IF($C$4=4.5,'1'!AE13,IF($C$4=7,'1'!BC13,IF($C$4=9,'1'!CA13,\"FAUX\"))))","v":4.96},{"$f":"IF($C$4=2.7,'1'!H13,IF($C$4=4.5,'1'!AF13,IF($C$4=7,'1'!BD13,IF($C$4=9,'1'!CB13,\"FAUX\"))))","v":2.42},{"$f":"IF($C$4=2.7,'1'!I13,IF($C$4=4.5,'1'!AG13,IF($C$4=7,'1'!BE13,IF($C$4=9,'1'!CC13,\"FAUX\"))))","v":2.15},{"$f":"IF($C$4=2.7,'1'!J13,IF($C$4=4.5,'1'!AH13,IF($C$4=7,'1'!BF13,IF($C$4=9,'1'!CD13,\"FAUX\"))))","v":4.3600000000000003},{"$f":"IF($C$4=2.7,'1'!K13,IF($C$4=4.5,'1'!AI13,IF($C$4=7,'1'!BG13,IF($C$4=9,'1'!CE13,\"FAUX\"))))","v":4.47},{"$f":"IF($C$4=2.7,'1'!L13,IF($C$4=4.5,'1'!AJ13,IF($C$4=7,'1'!BH13,IF($C$4=9,'1'!CF13,\"FAUX\"))))","v":2.56},{"$f":"IF($C$4=2.7,'1'!M13,IF($C$4=4.5,'1'!AK13,IF($C$4=7,'1'!BI13,IF($C$4=9,'1'!CG13,\"FAUX\"))))","v":2.33},{"$f":"IF($C$4=2.7,'1'!N13,IF($C$4=4.5,'1'!AL13,IF($C$4=7,'1'!BJ13,IF($C$4=9,'1'!CH13,\"FAUX\"))))","v":4.6900000000000004},{"$f":"IF($C$4=2.7,'1'!O13,IF($C$4=4.5,'1'!AM13,IF($C$4=7,'1'!BK13,IF($C$4=9,'1'!CI13,\"FAUX\"))))","v":4.79},{"$f":"IF($C$4=2.7,'1'!P13,IF($C$4=4.5,'1'!AN13,IF($C$4=7,'1'!BL13,IF($C$4=9,'1'!CJ13,\"FAUX\"))))","v":2.1},{"$f":"IF($C$4=2.7,'1'!Q13,IF($C$4=4.5,'1'!AO13,IF($C$4=7,'1'!BM13,IF($C$4=9,'1'!CK13,\"FAUX\"))))","v":2.2799999999999998},{"$f":"IF($C$4=2.7,'1'!R13,IF($C$4=4.5,'1'!AP13,IF($C$4=7,'1'!BN13,IF($C$4=9,'1'!CL13,\"FAUX\"))))","v":5.17},{"$f":"IF($C$4=2.7,'1'!S13,IF($C$4=4.5,'1'!AQ13,IF($C$4=7,'1'!BO13,IF($C$4=9,'1'!CM13,\"FAUX\"))))","v":6.77},{"$f":"IF($C$4=2.7,'1'!T13,IF($C$4=4.5,'1'!AR13,IF($C$4=7,'1'!BP13,IF($C$4=9,'1'!CN13,\"FAUX\"))))","v":2},{"$f":"IF($C$4=2.7,'1'!U13,IF($C$4=4.5,'1'!AS13,IF($C$4=7,'1'!BQ13,IF($C$4=9,'1'!CO13,\"FAUX\"))))","v":1.96},{"$f":"IF($C$4=2.7,'1'!V13,IF($C$4=4.5,'1'!AT13,IF($C$4=7,'1'!BR13,IF($C$4=9,'1'!CP13,\"FAUX\"))))","v":5.48},{"$f":"IF($C$4=2.7,'1'!W13,IF($C$4=4.5,'1'!AU13,IF($C$4=7,'1'!BS13,IF($C$4=9,'1'!CQ13,\"FAUX\"))))","v":6.21},{"$f":"IF($C$4=2.7,'1'!X13,IF($C$4=4.5,'1'!AV13,IF($C$4=7,'1'!BT13,IF($C$4=9,'1'!CR13,\"FAUX\"))))","v":2.0499999999999998},{"$f":"IF($C$4=2.7,'1'!Y13,IF($C$4=4.5,'1'!AW13,IF($C$4=7,'1'!BU13,IF($C$4=9,'1'!CS13,\"FAUX\"))))","v":2.0299999999999998},{"$f":"IF($C$4=2.7,'1'!Z13,IF($C$4=4.5,'1'!AX13,IF($C$4=7,'1'!BV13,IF($C$4=9,'1'!CT13,\"FAUX\"))))","v":5.15},{"$f":"IF($C$4=2.7,'1'!AA13,IF($C$4=4.5,'1'!AY13,IF($C$4=7,'1'!BW13,IF($C$4=9,'1'!CU13,\"FAUX\"))))","v":5.8},null,null,"Ethylparaben",-7.3333333333333254E-3,2.8899999999999997,6.3333333333333462E-3,4.58,-9.0000000000000011E-3,2.6900000000000004,3.6666666666666475E-3,4.2500000000000009,-7.6666666666666662E-3,2.79,3.3333333333333214E-3,4.5900000000000007,5.9999999999999906E-3,1.9200000000000004,5.3333333333333316E-2,3.5700000000000007,-1.3333333333333346E-3,2.04,2.4333333333333314E-2,4.7500000000000018,-6.6666666666666729E-4,2.0700000000000003,2.166666666666665E-2,4.5,null,null,"Ethylparaben",2.67,2.4200000000000004,2.56,2.1,2,2.0500000000000003,null,null,"Ethylparaben",4.7700000000000005,4.3600000000000003,4.6900000000000004,5.17,5.4800000000000013,5.1499999999999995,null,{"$f":"$R$56","v":"Methylparaben"},{"$f":"VLOOKUP($R$56,$BJ$8:$BP$48,2,FALSE)","v":2.06},{"$f":"VLOOKUP($R$56,$BJ$8:$BP$48,3,FALSE)","v":1.91},{"$f":"VLOOKUP($R$56,$BJ$8:$BP$48,4,FALSE)","v":2.02},{"$f":"VLOOKUP($R$56,$BJ$8:$BP$48,5,FALSE)","v":1.76},{"$f":"VLOOKUP($R$56,$BJ$8:$BP$48,6,FALSE)","v":1.66},{"$f":"VLOOKUP($R$56,$BJ$8:$BP$48,7,FALSE)","v":1.7},null,null,"Ethylparaben",{"$f":"'1'!D59","v":0.30150040806983902},{"$f":"'1'!E59","v":0.28924268401257303},{"$f":"'1'!F59","v":0.17877301778069399},{"$f":"'1'!G59","v":0.14737540188810799},{"$f":"'1'!H59","v":0.18831770779700399},{"$f":"'1'!I59","v":0.284558938884449},{"$f":"'1'!J59","v":0.29248415324215998},{"$f":"'1'!K59","v":0.183489098913415},{"$f":"'1'!L59","v":6.9046273361206903E-2},{"$f":"'1'!M59","v":5.2409345986250402E-3},{"$f":"'1'!N59","v":0},{"$f":"'1'!O59","v":0},{"$f":"'1'!P59","v":0},{"$f":"'1'!Q59","v":0},{"$f":"'1'!R59","v":0},{"$f":"'1'!S59","v":0},null,null,"Ethylparaben",{"$f":"HLOOKUP($DD$7,$CJ$7:$CZ$48,4,FALSE)","v":0.17877301778069399},null,null,"Ethylparaben",{"$f":"IF($C$4=2.7,'1'!D127,IF($C$4=4.5,'1'!G127,IF($C$4=7,'1'!J127,IF($C$4=9,'1'!M127,FALSE))))","v":1.08},{"$f":"IF($C$4=2.7,'1'!E127,IF($C$4=4.5,'1'!H127,IF($C$4=7,'1'!K127,IF($C$4=9,'1'!N127,FALSE))))","v":1.04},{"$f":"IF($C$4=2.7,'1'!F127,IF($C$4=4.5,'1'!I127,IF($C$4=7,'1'!L127,IF($C$4=9,'1'!O127,FALSE))))","v":1.05},null,null,"Ethylparaben",{"$f":"HLOOKUP($DN$7,$DG$7:$DJ$48,4,FALSE)","v":1.08},null,null,"Ethylparaben",8.5,null,2,null,"pKa acide",{"$f":"VLOOKUP(DV8,DQ8:DT48,2,FALSE)","v":8.8000000000000007}]
[null,"Time constant",{"$f":"calculation2!E68","v":1000},"ms",null,null,null,"Propylparaben",{"$f":"IF($C$4=2.7,'1'!D14,IF($C$4=4.5,'1'!AB14,IF($C$4=7,'1'!AZ14,IF($C$4=9,'1'!BX14,\"FAUX\"))))","v":3.16},{"$f":"IF($C$4=2.7,'1'!E14,IF($C$4=4.5,'1'!AC14,IF($C$4=7,'1'!BA14,IF($C$4=9,'1'!BY14,\"FAUX\"))))","v":3.26},{"$f":"IF($C$4=2.7,'1'!F14,IF($C$4=4.5,'1'!AD14,IF($C$4=7,'1'!BB14,IF($C$4=9,'1'!BZ14,\"FAUX\"))))","v":4.95},{"$f":"IF($C$4=2.7,'1'!G14,IF($C$4=4.5,'1'!AE14,IF($C$4=7,'1'!BC14,IF($C$4=9,'1'!CA14,\"FAUX\"))))","v":5.82},{"$f":"IF($C$4=2.7,'1'!H14,IF($C$4=4.5,'1'!AF14,IF($C$4=7,'1'!BD14,IF($C$4=9,'1'!CB14,\"FAUX\"))))","v":2.94},{"$f":"IF($C$4=2.7,'1'!I14,IF($C$4=4.5,'1'!AG14,IF($C$4=7,'1'!BE14,IF($C$4=9,'1'!CC14,\"FAUX\"))))","v":2.66},{"$f":"IF($C$4=2.7,'1'!J14,IF($C$4=4.5,'1'!AH14,IF($C$4=7,'1'!BF14,IF($C$4=9,'1'!CD14,\"FAUX\"))))","v":4.8},{"$f":"IF($C$4=2.7,'1'!K14,IF($C$4=4.5,'1'!AI14,IF($C$4=7,'1'!BG14,IF($C$4=9,'1'!CE14,\"FAUX\"))))","v":4.84},{"$f":"IF($C$4=2.7,'1'!L14,IF($C$4=4.5,'1'!AJ14,IF($C$4=7,'1'!BH14,IF($C$4=9,'1'!CF14,\"FAUX\"))))","v":3.1},{"$f":"IF($C$4=2.7,'1'!M14,IF($C$4=4.5,'1'!AK14,IF($C$4=7,'1'!BI14,IF($C$4=9,'1'!CG14,\"FAUX\"))))","v":2.86},{"$f":"IF($C$4=2.7,'1'!N14,IF($C$4=4.5,'1'!AL14,IF($C$4=7,'1'!BJ14,IF($C$4=9,'1'!CH14,\"FAUX\"))))","v":5.0999999999999996},{"$f":"IF($C$4=2.7,'1'!O14,IF($C$4=4.5,'1'!AM14,IF($C$4=7,'1'!BK14,IF($C$4=9,'1'!CI14,\"FAUX\"))))","v":5.16},{"$f":"IF($C$4=2.7,'1'!P14,IF($C$4=4.5,'1'!AN14,IF($C$4=7,'1'!BL14,IF($C$4=9,'1'!CJ14,\"FAUX\"))))","v":2.4900000000000002},{"$f":"IF($C$4=2.7,'1'!Q14,IF($C$4=4.5,'1'!AO14,IF($C$4=7,'1'!BM14,IF($C$4=9,'1'!CK14,\"FAUX\"))))","v":2.64},{"$f":"IF($C$4=2.7,'1'!R14,IF($C$4=4.5,'1'!AP14,IF($C$4=7,'1'!BN14,IF($C$4=9,'1'!CL14,\"FAUX\"))))","v":5.2},{"$f":"IF($C$4=2.7,'1'!S14,IF($C$4=4.5,'1'!AQ14,IF($C$4=7,'1'!BO14,IF($C$4=9,'1'!CM14,\"FAUX\"))))","v":6.33},{"$f":"IF($C$4=2.7,'1'!T14,IF($C$4=4.5,'1'!AR14,IF($C$4=7,'1'!BP14,IF($C$4=9,'1'!CN14,\"FAUX\"))))","v":2.33},{"$f":"IF($C$4=2.7,'1'!U14,IF($C$4=4.5,'1'!AS14,IF($C$4=7,'1'!BQ14,IF($C$4=9,'1'!CO14,\"FAUX\"))))","v":2.31},{"$f":"IF($C$4=2.7,'1'!V14,IF($C$4=4.5,'1'!AT14,IF($C$4=7,'1'!BR14,IF($C$4=9,'1'!CP14,\"FAUX\"))))","v":5.43},{"$f":"IF($C$4=2.7,'1'!W14,IF($C$4=4.5,'1'!AU14,IF($C$4=7,'1'!BS14,IF($C$4=9,'1'!CQ14,\"FAUX\"))))","v":6.02},{"$f":"IF($C$4=2.7,'1'!X14,IF($C$4=4.5,'1'!AV14,IF($C$4=7,'1'!BT14,IF($C$4=9,'1'!CR14,\"FAUX\"))))","v":2.4300000000000002},{"$f":"IF($C$4=2.7,'1'!Y14,IF($C$4=4.5,'1'!AW14,IF($C$4=7,'1'!BU14,IF($C$4=9,'1'!CS14,\"FAUX\"))))","v":2.37},{"$f":"IF($C$4=2.7,'1'!Z14,IF($C$4=4.5,'1'!AX14,IF($C$4=7,'1'!BV14,IF($C$4=9,'1'!CT14,\"FAUX\"))))","v":5.27},{"$f":"IF($C$4=2.7,'1'!AA14,IF($C$4=4.5,'1'!AY14,IF($C$4=7,'1'!BW14,IF($C$4=9,'1'!CU14,\"FAUX\"))))","v":5.62},null,null,"Propylparaben",3.3333333333333214E-3,3.0600000000000005,2.9000000000000001E-2,4.08,-9.3333333333333272E-3,3.2199999999999998,1.3333333333333346E-3,4.76,-8.0000000000000071E-3,3.3400000000000003,2.0000000000000165E-3,5.0399999999999991,4.9999999999999966E-3,2.3400000000000007,3.7666666666666654E-2,4.0700000000000012,-6.6666666666666729E-4,2.3500000000000005,1.9666666666666662E-2,4.84,-2.0000000000000018E-3,2.4900000000000002,1.1666666666666685E-2,4.92,null,null,"Propylparaben",3.16,2.94,3.1,2.4900000000000007,2.3300000000000005,2.4300000000000002,null,null,"Propylparaben",4.95,4.8,5.0999999999999996,5.2000000000000011,5.43,5.2700000000000005,null,{"$f":"$S$56","v":"Ethylparaben"},{"$f":"VLOOKUP($S$56,$BJ$8:$BP$48,2,FALSE)","v":2.67},{"$f":"VLOOKUP($S$56,$BJ$8:$BP$48,3,FALSE)","v":2.4200000000000004},{"$f":"VLOOKUP($S$56,$BJ$8:$BP$48,4,FALSE)","v":2.56},{"$f":"VLOOKUP($S$56,$BJ$8:$BP$48,5,FALSE)","v":2.1},{"$f":"VLOOKUP($S$56,$BJ$8:$BP$48,6,FALSE)","v":2},{"$f":"VLOOKUP($S$56,$BJ$8:$BP$48,7,FALSE)","v":2.0500000000000003},null,null,"Propylparaben",{"$f":"'1'!D60","v":0.25254499793489699},{"$f":"'1'!E60","v":0.264780803237323},{"$f":"'1'!F60","v":0.18921711508623701},{"$f":"'1'!G60","v":0.160471564190724},{"$f":"'1'!H60","v":0.183431277725359},{"$f":"'1'!I60","v":0.26273087906591602},{"$f":"'1'!J60","v":0.267150782395152},{"$f":"'1'!K60","v":0.16601727943806299},{"$f":"'1'!L60","v":6.1276155288128499E-2},{"$f":"'1'!M60","v":4.1875478154825303E-3},{"$f":"'1'!N60","v":0},{"$f":"'1'!O60","v":0},{"$f":"'1'!P60","v":0},{"$f":"'1'!Q60","v":0},{"$f":"'1'!R60","v":0},{"$f":"'1'!S60","v":0},null,null,"Propylparaben",{"$f":"HLOOKUP($DD$7,$CJ$7:$CZ$48,5,FALSE)","v":0.18921711508623701},null,null,"Propylparaben",{"$f":"IF($C$4=2.7,'1'!D128,IF($C$4=4.5,'1'!G128,IF($C$4=7,'1'!J128,IF($C$4=9,'1'!M128,FALSE))))","v":1.05},{"$f":"IF($C$4=2.7,'1'!E128,IF($C$4=4.5,'1'!H128,IF($C$4=7,'1'!K128,IF($C$4=9,'1'!N128,FALSE))))","v":1.02},{"$f":"IF($C$4=2.7,'1'!F128,IF($C$4=4.5,'1'!I128,IF($C$4=7,'1'!L128,IF($C$4=9,'1'!O128,FALSE))))","v":1.02},null,null,"Propylparaben",{"$f":"HLOOKUP($DN$7,$DG$7:$DJ$48,5,FALSE)","v":1.05},null,null,"Propylparaben",8.5,null,2,null,"pka basique",{"$f":"VLOOKUP(DV8,DQ8:DT48,3,FALSE)","v":0}]
[null,"Acquisition rate",{"$f":"calculation2!E69","v":2},"Hz",null,null,null,"Butylparaben",{"$f":"IF($C$4=2.7,'1'!D15,IF($C$4=4.5,'1'!AB15,IF($C$4=7,'1'!AZ15,IF($C$4=9,'1'!BX15,\"FAUX\"))))","v":3.73},{"$f":"IF($C$4=2.7,'1'!E15,IF($C$4=4.5,'1'!AC15,IF($C$4=7,'1'!BA15,IF($C$4=9,'1'!BY15,\"FAUX\"))))","v":3.58},{"$f":"IF($C$4=2.7,'1'!F15,IF($C$4=4.5,'1'!AD15,IF($C$4=7,'1'!BB15,IF($C$4=9,'1'!BZ15,\"FAUX\"))))","v":5.36},{"$f":"IF($C$4=2.7,'1'!G15,IF($C$4=4.5,'1'!AE15,IF($C$4=7,'1'!BC15,IF($C$4=9,'1'!CA15,\"FAUX\"))))","v":5.63},{"$f":"IF($C$4=2.7,'1'!H15,IF($C$4=4.5,'1'!AF15,IF($C$4=7,'1'!BD15,IF($C$4=9,'1'!CB15,\"FAUX\"))))","v":3.45},{"$f":"IF($C$4=2.7,'1'!I15,IF($C$4=4.5,'1'!AG15,IF($C$4=7,'1'!BE15,IF($C$4=9,'1'!CC15,\"FAUX\"))))","v":3.17},{"$f":"IF($C$4=2.7,'1'!J15,IF($C$4=4.5,'1'!AH15,IF($C$4=7,'1'!BF15,IF($C$4=9,'1'!CD15,\"FAUX\"))))","v":5.19},{"$f":"IF($C$4=2.7,'1'!K15,IF($C$4=4.5,'1'!AI15,IF($C$4=7,'1'!BG15,IF($C$4=9,'1'!CE15,\"FAUX\"))))","v":5.26},{"$f":"IF($C$4=2.7,'1'!L15,IF($C$4=4.5,'1'!AJ15,IF($C$4=7,'1'!BH15,IF($C$4=9,'1'!CF15,\"FAUX\"))))","v":3.59},{"$f":"IF($C$4=2.7,'1'!M15,IF($C$4=4.5,'1'!AK15,IF($C$4=7,'1'!BI15,IF($C$4=9,'1'!CG15,\"FAUX\"))))","v":3.33},{"$f":"IF($C$4=2.7,'1'!N15,IF($C$4=4.5,'1'!AL15,IF($C$4=7,'1'!BJ15,IF($C$4=9,'1'!CH15,\"FAUX\"))))","v":5.45},{"$f":"IF($C$4=2.7,'1'!O15,IF($C$4=4.5,'1'!AM15,IF($C$4=7,'1'!BK15,IF($C$4=9,'1'!CI15,\"FAUX\"))))","v":5.44},{"$f":"IF($C$4=2.7,'1'!P15,IF($C$4=4.5,'1'!AN15,IF($C$4=7,'1'!BL15,IF($C$4=9,'1'!CJ15,\"FAUX\"))))","v":2.72},{"$f":"IF($C$4=2.7,'1'!Q15,IF($C$4=4.5,'1'!AO15,IF($C$4=7,'1'!BM15,IF($C$4=9,'1'!CK15,\"FAUX\"))))","v":3.02},{"$f":"IF($C$4=2.7,'1'!R15,IF($C$4=4.5,'1'!AP15,IF($C$4=7,'1'!BN15,IF($C$4=9,'1'!CL15,\"FAUX\"))))","v":4.92},{"$f":"IF($C$4=2.7,'1'!S15,IF($C$4=4.5,'1'!AQ15,IF($C$4=7,'1'!BO15,IF($C$4=9,'1'!CM15,\"FAUX\"))))","v":6.24},{"$f":"IF($C$4=2.7,'1'!T15,IF($C$4=4.5,'1'!AR15,IF($C$4=7,'1'!BP15,IF($C$4=9,'1'!CN15,\"FAUX\"))))","v":2.72},{"$f":"IF($C$4=2.7,'1'!U15,IF($C$4=4.5,'1'!AS15,IF($C$4=7,'1'!BQ15,IF($C$4=9,'1'!CO15,\"FAUX\"))))","v":2.67},{"$f":"IF($C$4=2.7,'1'!V15,IF($C$4=4.5,'1'!AT15,IF($C$4=7,'1'!BR15,IF($C$4=9,'1'!CP15,\"FAUX\"))))","v":5.68},{"$f":"IF($C$4=2.7,'1'!W15,IF($C$4=4.5,'1'!AU15,IF($C$4=7,'1'!BS15,IF($C$4=9,'1'!CQ15,\"FAUX\"))))","v":6.1},{"$f":"IF($C$4=2.7,'1'!X15,IF($C$4=4.5,'1'!AV15,IF($C$4=7,'1'!BT15,IF($C$4=9,'1'!CR15,\"FAUX\"))))","v":2.73},{"$f":"IF($C$4=2.7,'1'!Y15,IF($C$4=4.5,'1'!AW15,IF($C$4=7,'1'!BU15,IF($C$4=9,'1'!CS15,\"FAUX\"))))","v":2.76},{"$f":"IF($C$4=2.7,'1'!Z15,IF($C$4=4.5,'1'!AX15,IF($C$4=7,'1'!BV15,IF($C$4=9,'1'!CT15,\"FAUX\"))))","v":5.23},{"$f":"IF($C$4=2.7,'1'!AA15,IF($C$4=4.5,'1'!AY15,IF($C$4=7,'1'!BW15,IF($C$4=9,'1'!CU15,\"FAUX\"))))","v":5.79},null,null,"Butylparaben",-4.9999999999999966E-3,3.88,8.9999999999999854E-3,5.0900000000000007,-9.333333333333341E-3,3.7300000000000004,2.3333333333333131E-3,5.120000000000001,-8.6666666666666593E-3,3.8499999999999996,-3.3333333333332622E-4,5.46,9.9999999999999933E-3,2.4200000000000004,4.4000000000000011E-2,3.5999999999999996,-1.6666666666666754E-3,2.7700000000000005,1.3999999999999997E-2,5.26,9.9999999999999352E-4,2.7,1.8666666666666654E-2,4.67,null,null,"Butylparaben",3.73,3.45,3.59,2.72,2.72,2.73,null,null,"Butylparaben",5.36,5.19,5.45,4.92,5.68,5.2299999999999995,null,{"$f":"$T$56","v":"Propylparaben"},{"$f":"VLOOKUP($T$56,$BJ$8:$BP$48,2,FALSE)","v":3.16},{"$f":"VLOOKUP($T$56,$BJ$8:$BP$48,3,FALSE)","v":2.94},{"$f":"VLOOKUP($T$56,$BJ$8:$BP$48,4,FALSE)","v":3.1},{"$f":"VLOOKUP($T$56,$BJ$8:$BP$48,5,FALSE)","v":2.4900000000000007},{"$f":"VLOOKUP($T$56,$BJ$8:$BP$48,6,FALSE)","v":2.3300000000000005},{"$f":"VLOOKUP($T$56,$BJ$8:$BP$48,7,FALSE)","v":2.4300000000000002},null,null,"Butylparaben",{"$f":"'1'!D61","v":0.157209193687463},{"$f":"'1'!E61","v":0.21149212737221601},{"$f":"'1'!F61","v":0.189121478342587},{"$f":"'1'!G61","v":0.16391823202880601},{"$f":"'1'!H61","v":0.15950709135078101},{"$f":"'1'!I61","v":0.207182971300826},{"$f":"'1'!J61","v":0.205845076279596},{"$f":"'1'!K61","v":0.1264241644895},{"$f":"'1'!L61","v":4.55894923587001E-2},{"$f":"'1'!M61","v":2.6276199596316501E-3},{"$f":"'1'!N61","v":0},{"$f":"'1'!O61","v":0},{"$f":"'1'!P61","v":0},{"$f":"'1'!Q61","v":0},{"$f":"'1'!R61","v":0},{"$f":"'1'!S61","v":0},null,null,"Butylparaben",{"$f":"HLOOKUP($DD$7,$CJ$7:$CZ$48,6,FALSE)","v":0.189121478342587},null,null,"Butylparaben",{"$f":"IF($C$4=2.7,'1'!D129,IF($C$4=4.5,'1'!G129,IF($C$4=7,'1'!J129,IF($C$4=9,'1'!M129,FALSE))))","v":1.03},{"$f":"IF($C$4=2.7,'1'!E129,IF($C$4=4.5,'1'!H129,IF($C$4=7,'1'!K129,IF($C$4=9,'1'!N129,FALSE))))","v":1.06},{"$f":"IF($C$4=2.7,'1'!F129,IF($C$4=4.5,'1'!I129,IF($C$4=7,'1'!L129,IF($C$4=9,'1'!O129,FALSE))))","v":1.1100000000000001},null,null,"Butylparaben",{"$f":"HLOOKUP($DN$7,$DG$7:$DJ$48,6,FALSE)","v":1.03},null,null,"Butylparaben",8.5,null,2,null,"pka",{"$f":"MAX(DW10:DW11)","v":8.8000000000000007}]
[null,"Lcol",{"$f":"calculation2!E70","v":150},"mm",null,null,"Mix 2","Aspirin",{"$f":"IF($C$4=2.7,'1'!D16,IF($C$4=4.5,'1'!AB16,IF($C$4=7,'1'!AZ16,IF($C$4=9,'1'!BX16,\"FAUX\"))))","v":0.92500000000000004},{"$f":"IF($C$4=2.7,'1'!E16,IF($C$4=4.5,'1'!AC16,IF($C$4=7,'1'!BA16,IF($C$4=9,'1'!BY16,\"FAUX\"))))","v":0.90700000000000003},{"$f":"IF($C$4=2.7,'1'!F16,IF($C$4=4.5,'1'!AD16,IF($C$4=7,'1'!BB16,IF($C$4=9,'1'!BZ16,\"FAUX\"))))","v":5.4},{"$f":"IF($C$4=2.7,'1'!G16,IF($C$4=4.5,'1'!AE16,IF($C$4=7,'1'!BC16,IF($C$4=9,'1'!CA16,\"FAUX\"))))","v":7.27},{"$f":"IF($C$4=2.7,'1'!H16,IF($C$4=4.5,'1'!AF16,IF($C$4=7,'1'!BD16,IF($C$4=9,'1'!CB16,\"FAUX\"))))","v":0.66100000000000003},{"$f":"IF($C$4=2.7,'1'!I16,IF($C$4=4.5,'1'!AG16,IF($C$4=7,'1'!BE16,IF($C$4=9,'1'!CC16,\"FAUX\"))))","v":0.51500000000000001},{"$f":"IF($C$4=2.7,'1'!J16,IF($C$4=4.5,'1'!AH16,IF($C$4=7,'1'!BF16,IF($C$4=9,'1'!CD16,\"FAUX\"))))","v":3.91},{"$f":"IF($C$4=2.7,'1'!K16,IF($C$4=4.5,'1'!AI16,IF($C$4=7,'1'!BG16,IF($C$4=9,'1'!CE16,\"FAUX\"))))","v":3.56},{"$f":"IF($C$4=2.7,'1'!L16,IF($C$4=4.5,'1'!AJ16,IF($C$4=7,'1'!BH16,IF($C$4=9,'1'!CF16,\"FAUX\"))))","v":0.89200000000000002},{"$f":"IF($C$4=2.7,'1'!M16,IF($C$4=4.5,'1'!AK16,IF($C$4=7,'1'!BI16,IF($C$4=9,'1'!CG16,\"FAUX\"))))","v":0.91700000000000004},{"$f":"IF($C$4=2.7,'1'!N16,IF($C$4=4.5,'1'!AL16,IF($C$4=7,'1'!BJ16,IF($C$4=9,'1'!CH16,\"FAUX\"))))","v":4.59},{"$f":"IF($C$4=2.7,'1'!O16,IF($C$4=4.5,'1'!AM16,IF($C$4=7,'1'!BK16,IF($C$4=9,'1'!CI16,\"FAUX\"))))","v":6.88},{"$f":"IF($C$4=2.7,'1'!P16,IF($C$4=4.5,'1'!AN16,IF($C$4=7,'1'!BL16,IF($C$4=9,'1'!CJ16,\"FAUX\"))))","v":0.94299999999999995},{"$f":"IF($C$4=2.7,'1'!Q16,IF($C$4=4.5,'1'!AO16,IF($C$4=7,'1'!BM16,IF($C$4=9,'1'!CK16,\"FAUX\"))))","v":1.46},{"$f":"IF($C$4=2.7,'1'!R16,IF($C$4=4.5,'1'!AP16,IF($C$4=7,'1'!BN16,IF($C$4=9,'1'!CL16,\"FAUX\"))))","v":11.8},{"$f":"IF($C$4=2.7,'1'!S16,IF($C$4=4.5,'1'!AQ16,IF($C$4=7,'1'!BO16,IF($C$4=9,'1'!CM16,\"FAUX\"))))","v":23.6},{"$f":"IF($C$4=2.7,'1'!T16,IF($C$4=4.5,'1'!AR16,IF($C$4=7,'1'!BP16,IF($C$4=9,'1'!CN16,\"FAUX\"))))","v":0.505},{"$f":"IF($C$4=2.7,'1'!U16,IF($C$4=4.5,'1'!AS16,IF($C$4=7,'1'!BQ16,IF($C$4=9,'1'!CO16,\"FAUX\"))))","v":0.14599999999999999},{"$f":"IF($C$4=2.7,'1'!V16,IF($C$4=4.5,'1'!AT16,IF($C$4=7,'1'!BR16,IF($C$4=9,'1'!CP16,\"FAUX\"))))","v":5.43},{"$f":"IF($C$4=2.7,'1'!W16,IF($C$4=4.5,'1'!AU16,IF($C$4=7,'1'!BS16,IF($C$4=9,'1'!CQ16,\"FAUX\"))))","v":0.223},{"$f":"IF($C$4=2.7,'1'!X16,IF($C$4=4.5,'1'!AV16,IF($C$4=7,'1'!BT16,IF($C$4=9,'1'!CR16,\"FAUX\"))))","v":0.89900000000000002},{"$f":"IF($C$4=2.7,'1'!Y16,IF($C$4=4.5,'1'!AW16,IF($C$4=7,'1'!BU16,IF($C$4=9,'1'!CS16,\"FAUX\"))))","v":1.0900000000000001},{"$f":"IF($C$4=2.7,'1'!Z16,IF($C$4=4.5,'1'!AX16,IF($C$4=7,'1'!BV16,IF($C$4=9,'1'!CT16,\"FAUX\"))))","v":9.99},{"$f":"IF($C$4=2.7,'1'!AA16,IF($C$4=4.5,'1'!AY16,IF($C$4=7,'1'!BW16,IF($C$4=9,'1'!CU16,\"FAUX\"))))","v":15},null,"Mix 2","Aspirin",-6.0000000000000049E-4,0.94300000000000006,6.233333333333331E-2,3.5300000000000011,-4.8666666666666676E-3,0.80700000000000016,-1.1666666666666671E-2,4.2600000000000007,8.3333333333333404E-4,0.86699999999999999,7.6333333333333336E-2,2.2999999999999994,1.7233333333333337E-2,0.42599999999999982,0.39333333333333331,3.5527136788005009E-15,-1.1966666666666665E-2,0.86399999999999999,-0.17356666666666667,10.637,6.3666666666666689E-3,0.70799999999999996,0.16700000000000001,4.9800000000000004,null,"Mix 2","Aspirin",0.92500000000000004,0.66100000000000014,0.89200000000000002,0.94299999999999995,0.505,0.89900000000000002,null,"Mix 2","Aspirin",5.4,3.9100000000000006,4.59,11.800000000000002,5.4300000000000006,9.990000000000002,null,{"$f":"$U$56","v":"Butylparaben"},{"$f":"VLOOKUP($U$56,$BJ$8:$BP$48,2,FALSE)","v":3.73},{"$f":"VLOOKUP($U$56,$BJ$8:$BP$48,3,FALSE)","v":3.45},{"$f":"VLOOKUP($U$56,$BJ$8:$BP$48,4,FALSE)","v":3.59},{"$f":"VLOOKUP($U$56,$BJ$8:$BP$48,5,FALSE)","v":2.72},{"$f":"VLOOKUP($U$56,$BJ$8:$BP$48,6,FALSE)","v":2.72},{"$f":"VLOOKUP($U$56,$BJ$8:$BP$48,7,FALSE)","v":2.73},null,"Mix 2","Aspirin",{"$f":"'1'!D62","v":0.385439000803735},{"$f":"'1'!E62","v":0.16334239866532199},{"$f":"'1'!F62","v":0.22285090167237301},{"$f":"'1'!G62","v":0.21602568608461101},{"$f":"'1'!H62","v":9.75489430191189E-2},{"$f":"'1'!I62","v":2.27749474871753E-2},{"$f":"'1'!J62","v":1.28006673543347E-2},{"$f":"'1'!K62","v":1.86562243938037E-2},{"$f":"'1'!L62","v":1.9572249384503599E-2},{"$f":"'1'!M62","v":7.58109587782505E-3},{"$f":"'1'!N62","v":0},{"$f":"'1'!O62","v":0},{"$f":"'1'!P62","v":0},{"$f":"'1'!Q62","v":0},{"$f":"'1'!R62","v":0},{"$f":"'1'!S62","v":0},null,"Mix 2","Aspirin",{"$f":"HLOOKUP($DD$7,$CJ$7:$CZ$48,7,FALSE)","v":0.22285090167237301},null,"Mix 2","Aspirin",{"$f":"IF($C$4=2.7,'1'!D130,IF($C$4=4.5,'1'!G130,IF($C$4=7,'1'!J130,IF($C$4=9,'1'!M130,FALSE))))","v":1.2},{"$f":"IF($C$4=2.7,'1'!E130,IF($C$4=4.5,'1'!H130,IF($C$4=7,'1'!K130,IF($C$4=9,'1'!N130,FALSE))))","v":1.1599999999999999},{"$f":"IF($C$4=2.7,'1'!F130,IF($C$4=4.5,'1'!I130,IF($C$4=7,'1'!L130,IF($C$4=9,'1'!O130,FALSE))))","v":1.17},null,"Mix 2","Aspirin",{"$f":"HLOOKUP($DN$7,$DG$7:$DJ$48,7,FALSE)","v":1.2},null,"Mix 2","Aspirin",3.41,null,2]
[null,"dc col",{"$f":"calculation2!E71","v":4.5999999999999996},"mm",null,null,null,"Salicylic acid",{"$f":"IF($C$4=2.7,'1'!D17,IF($C$4=4.5,'1'!AB17,IF($C$4=7,'1'!AZ17,IF($C$4=9,'1'!BX17,\"FAUX\"))))","v":0.95499999999999996},{"$f":"IF($C$4=2.7,'1'!E17,IF($C$4=4.5,'1'!AC17,IF($C$4=7,'1'!BA17,IF($C$4=9,'1'!BY17,\"FAUX\"))))","v":0.79800000000000004},{"$f":"IF($C$4=2.7,'1'!F17,IF($C$4=4.5,'1'!AD17,IF($C$4=7,'1'!BB17,IF($C$4=9,'1'!BZ17,\"FAUX\"))))","v":3.78},{"$f":"IF($C$4=2.7,'1'!G17,IF($C$4=4.5,'1'!AE17,IF($C$4=7,'1'!BC17,IF($C$4=9,'1'!CA17,\"FAUX\"))))","v":4.54},{"$f":"IF($C$4=2.7,'1'!H17,IF($C$4=4.5,'1'!AF17,IF($C$4=7,'1'!BD17,IF($C$4=9,'1'!CB17,\"FAUX\"))))","v":0.82599999999999996},{"$f":"IF($C$4=2.7,'1'!I17,IF($C$4=4.5,'1'!AG17,IF($C$4=7,'1'!BE17,IF($C$4=9,'1'!CC17,\"FAUX\"))))","v":0.65500000000000003},{"$f":"IF($C$4=2.7,'1'!J17,IF($C$4=4.5,'1'!AH17,IF($C$4=7,'1'!BF17,IF($C$4=9,'1'!CD17,\"FAUX\"))))","v":3.16},{"$f":"IF($C$4=2.7,'1'!K17,IF($C$4=4.5,'1'!AI17,IF($C$4=7,'1'!BG17,IF($C$4=9,'1'!CE17,\"FAUX\"))))","v":3.7},{"$f":"IF($C$4=2.7,'1'!L17,IF($C$4=4.5,'1'!AJ17,IF($C$4=7,'1'!BH17,IF($C$4=9,'1'!CF17,\"FAUX\"))))","v":0.95699999999999996},{"$f":"IF($C$4=2.7,'1'!M17,IF($C$4=4.5,'1'!AK17,IF($C$4=7,'1'!BI17,IF($C$4=9,'1'!CG17,\"FAUX\"))))","v":0.83899999999999997},{"$f":"IF($C$4=2.7,'1'!N17,IF($C$4=4.5,'1'!AL17,IF($C$4=7,'1'!BJ17,IF($C$4=9,'1'!CH17,\"FAUX\"))))","v":3.37},{"$f":"IF($C$4=2.7,'1'!O17,IF($C$4=4.5,'1'!AM17,IF($C$4=7,'1'!BK17,IF($C$4=9,'1'!CI17,\"FAUX\"))))","v":4.33},{"$f":"IF($C$4=2.7,'1'!P17,IF($C$4=4.5,'1'!AN17,IF($C$4=7,'1'!BL17,IF($C$4=9,'1'!CJ17,\"FAUX\"))))","v":1.1100000000000001},{"$f":"IF($C$4=2.7,'1'!Q17,IF($C$4=4.5,'1'!AO17,IF($C$4=7,'1'!BM17,IF($C$4=9,'1'!CK17,\"FAUX\"))))","v":0.90700000000000003},{"$f":"IF($C$4=2.7,'1'!R17,IF($C$4=4.5,'1'!AP17,IF($C$4=7,'1'!BN17,IF($C$4=9,'1'!CL17,\"FAUX\"))))","v":9.26},{"$f":"IF($C$4=2.7,'1'!S17,IF($C$4=4.5,'1'!AQ17,IF($C$4=7,'1'!BO17,IF($C$4=9,'1'!CM17,\"FAUX\"))))","v":9.36},{"$f":"IF($C$4=2.7,'1'!T17,IF($C$4=4.5,'1'!AR17,IF($C$4=7,'1'!BP17,IF($C$4=9,'1'!CN17,\"FAUX\"))))","v":0.97499999999999998},{"$f":"IF($C$4=2.7,'1'!U17,IF($C$4=4.5,'1'!AS17,IF($C$4=7,'1'!BQ17,IF($C$4=9,'1'!CO17,\"FAUX\"))))","v":0.80100000000000005},{"$f":"IF($C$4=2.7,'1'!V17,IF($C$4=4.5,'1'!AT17,IF($C$4=7,'1'!BR17,IF($C$4=9,'1'!CP17,\"FAUX\"))))","v":8.17},{"$f":"IF($C$4=2.7,'1'!W17,IF($C$4=4.5,'1'!AU17,IF($C$4=7,'1'!BS17,IF($C$4=9,'1'!CQ17,\"FAUX\"))))","v":8.67},{"$f":"IF($C$4=2.7,'1'!X17,IF($C$4=4.5,'1'!AV17,IF($C$4=7,'1'!BT17,IF($C$4=9,'1'!CR17,\"FAUX\"))))","v":1.07},{"$f":"IF($C$4=2.7,'1'!Y17,IF($C$4=4.5,'1'!AW17,IF($C$4=7,'1'!BU17,IF($C$4=9,'1'!CS17,\"FAUX\"))))","v":1},{"$f":"IF($C$4=2.7,'1'!Z17,IF($C$4=4.5,'1'!AX17,IF($C$4=7,'1'!BV17,IF($C$4=9,'1'!CT17,\"FAUX\"))))","v":7.61},{"$f":"IF($C$4=2.7,'1'!AA17,IF($C$4=4.5,'1'!AY17,IF($C$4=7,'1'!BW17,IF($C$4=9,'1'!CU17,\"FAUX\"))))","v":9.36},null,null,"Salicylic acid",-5.2333333333333303E-3,1.1119999999999999,2.533333333333334E-2,3.0199999999999996,-5.6999999999999967E-3,0.99699999999999978,1.8000000000000002E-2,2.62,-3.933333333333333E-3,1.075,3.1999999999999994E-2,2.41,-6.7666666666666682E-3,1.3130000000000002,3.3333333333333214E-3,9.16,-5.7999999999999979E-3,1.149,1.6666666666666666E-2,7.67,-2.3333333333333353E-3,1.1400000000000001,5.83333333333333E-2,5.8600000000000012,null,null,"Salicylic acid",0.95499999999999996,0.82599999999999985,0.95699999999999996,1.1100000000000001,0.97500000000000009,1.07,null,null,"Salicylic acid",3.78,3.16,3.37,9.26,8.17,7.61,null,null,{"$f":"VLOOKUP($V$56,$BJ$8:$BP$48,2,FALSE)","v":0},{"$f":"VLOOKUP($V$56,$BJ$8:$BP$48,3,FALSE)","v":0},{"$f":"VLOOKUP($V$56,$BJ$8:$BP$48,4,FALSE)","v":0},{"$f":"VLOOKUP($V$56,$BJ$8:$BP$48,5,FALSE)","v":0},{"$f":"VLOOKUP($V$56,$BJ$8:$BP$48,6,FALSE)","v":0},{"$f":"VLOOKUP($V$56,$BJ$8:$BP$48,7,FALSE)","v":0},null,null,"Salicylic acid",{"$f":"'1'!D63","v":0.42699999999999999},{"$f":"'1'!E63","v":0.18},{"$f":"'1'!F63","v":0.246},{"$f":"'1'!G63","v":0.23899999999999999},{"$f":"'1'!H63","v":0.107},{"$f":"'1'!I63","v":2.5000000000000001E-2},{"$f":"'1'!J63","v":1.2999999999999999E-2},{"$f":"'1'!K63","v":0.02},{"$f":"'1'!L63","v":0.03},{"$f":"'1'!M63","v":0},{"$f":"'1'!N63","v":0},{"$f":"'1'!O63","v":0},{"$f":"'1'!P63","v":0},{"$f":"'1'!Q63","v":0},{"$f":"'1'!R63","v":0},{"$f":"'1'!S63","v":0},null,null,"Salicylic acid",{"$f":"HLOOKUP($DD$7,$CJ$7:$CZ$48,8,FALSE)","v":0.246},null,null,"Salicylic acid",{"$f":"IF($C$4=2.7,'1'!D131,IF($C$4=4.5,'1'!G131,IF($C$4=7,'1'!J131,IF($C$4=9,'1'!M131,FALSE))))","v":1.42},{"$f":"IF($C$4=2.7,'1'!E131,IF($C$4=4.5,'1'!H131,IF($C$4=7,'1'!K131,IF($C$4=9,'1'!N131,FALSE))))","v":1.46},{"$f":"IF($C$4=2.7,'1'!F131,IF($C$4=4.5,'1'!I131,IF($C$4=7,'1'!L131,IF($C$4=9,'1'!O131,FALSE))))","v":1.51},null,null,"Salicylic acid",{"$f":"HLOOKUP($DN$7,$DG$7:$DJ$48,8,FALSE)","v":1.42},null,null,"Salicylic acid",2.79,null,2,null,"pH","% Neutre","% ionisée"]
[null,"dp col",{"$f":"calculation2!E72","v":5},"µm",null,null,null,"mefenamic acid",{"$f":"IF($C$4=2.7,'1'!D18,IF($C$4=4.5,'1'!AB18,IF($C$4=7,'1'!AZ18,IF($C$4=9,'1'!BX18,\"FAUX\"))))","v":3.97},{"$f":"IF($C$4=2.7,'1'!E18,IF($C$4=4.5,'1'!AC18,IF($C$4=7,'1'!BA18,IF($C$4=9,'1'!BY18,\"FAUX\"))))","v":3.73},{"$f":"IF($C$4=2.7,'1'!F18,IF($C$4=4.5,'1'!AD18,IF($C$4=7,'1'!BB18,IF($C$4=9,'1'!BZ18,\"FAUX\"))))","v":5.83},{"$f":"IF($C$4=2.7,'1'!G18,IF($C$4=4.5,'1'!AE18,IF($C$4=7,'1'!BC18,IF($C$4=9,'1'!CA18,\"FAUX\"))))","v":6.04},{"$f":"IF($C$4=2.7,'1'!H18,IF($C$4=4.5,'1'!AF18,IF($C$4=7,'1'!BD18,IF($C$4=9,'1'!CB18,\"FAUX\"))))","v":3.67},{"$f":"IF($C$4=2.7,'1'!I18,IF($C$4=4.5,'1'!AG18,IF($C$4=7,'1'!BE18,IF($C$4=9,'1'!CC18,\"FAUX\"))))","v":3.32},{"$f":"IF($C$4=2.7,'1'!J18,IF($C$4=4.5,'1'!AH18,IF($C$4=7,'1'!BF18,IF($C$4=9,'1'!CD18,\"FAUX\"))))","v":5.54},{"$f":"IF($C$4=2.7,'1'!K18,IF($C$4=4.5,'1'!AI18,IF($C$4=7,'1'!BG18,IF($C$4=9,'1'!CE18,\"FAUX\"))))","v":5.53},{"$f":"IF($C$4=2.7,'1'!L18,IF($C$4=4.5,'1'!AJ18,IF($C$4=7,'1'!BH18,IF($C$4=9,'1'!CF18,\"FAUX\"))))","v":3.84},{"$f":"IF($C$4=2.7,'1'!M18,IF($C$4=4.5,'1'!AK18,IF($C$4=7,'1'!BI18,IF($C$4=9,'1'!CG18,\"FAUX\"))))","v":3.45},{"$f":"IF($C$4=2.7,'1'!N18,IF($C$4=4.5,'1'!AL18,IF($C$4=7,'1'!BJ18,IF($C$4=9,'1'!CH18,\"FAUX\"))))","v":5.83},{"$f":"IF($C$4=2.7,'1'!O18,IF($C$4=4.5,'1'!AM18,IF($C$4=7,'1'!BK18,IF($C$4=9,'1'!CI18,\"FAUX\"))))","v":5.63},{"$f":"IF($C$4=2.7,'1'!P18,IF($C$4=4.5,'1'!AN18,IF($C$4=7,'1'!BL18,IF($C$4=9,'1'!CJ18,\"FAUX\"))))","v":3.75},{"$f":"IF($C$4=2.7,'1'!Q18,IF($C$4=4.5,'1'!AO18,IF($C$4=7,'1'!BM18,IF($C$4=9,'1'!CK18,\"FAUX\"))))","v":3.55},{"$f":"IF($C$4=2.7,'1'!R18,IF($C$4=4.5,'1'!AP18,IF($C$4=7,'1'!BN18,IF($C$4=9,'1'!CL18,\"FAUX\"))))","v":10},{"$f":"IF($C$4=2.7,'1'!S18,IF($C$4=4.5,'1'!AQ18,IF($C$4=7,'1'!BO18,IF($C$4=9,'1'!CM18,\"FAUX\"))))","v":10},{"$f":"IF($C$4=2.7,'1'!T18,IF($C$4=4.5,'1'!AR18,IF($C$4=7,'1'!BP18,IF($C$4=9,'1'!CN18,\"FAUX\"))))","v":3.4},{"$f":"IF($C$4=2.7,'1'!U18,IF($C$4=4.5,'1'!AS18,IF($C$4=7,'1'!BQ18,IF($C$4=9,'1'!CO18,\"FAUX\"))))","v":3.21},{"$f":"IF($C$4=2.7,'1'!V18,IF($C$4=4.5,'1'!AT18,IF($C$4=7,'1'!BR18,IF($C$4=9,'1'!CP18,\"FAUX\"))))","v":9.44},{"$f":"IF($C$4=2.7,'1'!W18,IF($C$4=4.5,'1'!AU18,IF($C$4=7,'1'!BS18,IF($C$4=9,'1'!CQ18,\"FAUX\"))))","v":9.44},{"$f":"IF($C$4=2.7,'1'!X18,IF($C$4=4.5,'1'!AV18,IF($C$4=7,'1'!BT18,IF($C$4=9,'1'!CR18,\"FAUX\"))))","v":3.5},{"$f":"IF($C$4=2.7,'1'!Y18,IF($C$4=4.5,'1'!AW18,IF($C$4=7,'1'!BU18,IF($C$4=9,'1'!CS18,\"FAUX\"))))","v":3.27},{"$f":"IF($C$4=2.7,'1'!Z18,IF($C$4=4.5,'1'!AX18,IF($C$4=7,'1'!BV18,IF($C$4=9,'1'!CT18,\"FAUX\"))))","v":9.19},{"$f":"IF($C$4=2.7,'1'!AA18,IF($C$4=4.5,'1'!AY18,IF($C$4=7,'1'!BW18,IF($C$4=9,'1'!CU18,\"FAUX\"))))","v":8.93},null,null,"mefenamic acid",-8.0000000000000071E-3,4.2100000000000009,6.9999999999999984E-3,5.620000000000001,-1.1666666666666671E-2,4.0200000000000005,-3.3333333333332622E-4,5.55,-1.2999999999999989E-2,4.2299999999999995,-6.6666666666666723E-3,6.0300000000000011,-6.6666666666666723E-3,3.95,0,10,-6.3333333333333314E-3,3.59,0,9.44,-7.6666666666666662E-3,3.7299999999999995,-8.6666666666666593E-3,9.4499999999999993,null,null,"mefenamic acid",3.9700000000000006,3.6700000000000004,3.84,3.75,3.4,3.4999999999999996,null,null,"mefenamic acid",5.830000000000001,5.54,5.830000000000001,10,9.44,9.19,null,{"$f":"$W$56","v":""},{"$f":"VLOOKUP($W$56,$BJ$8:$BP$48,2,FALSE)","v":0},{"$f":"VLOOKUP($W$56,$BJ$8:$BP$48,3,FALSE)","v":0},{"$f":"VLOOKUP($W$56,$BJ$8:$BP$48,4,FALSE)","v":0},{"$f":"VLOOKUP($W$56,$BJ$8:$BP$48,5,FALSE)","v":0},{"$f":"VLOOKUP($W$56,$BJ$8:$BP$48,6,FALSE)","v":0},{"$f":"VLOOKUP($W$56,$BJ$8:$BP$48,7,FALSE)","v":0},null,null,"mefenamic acid",{"$f":"'1'!D64","v":5.7014044900821001E-2},{"$f":"'1'!E64","v":0.24251288632597201},{"$f":"'1'!F64","v":0.41051672892291702},{"$f":"'1'!G64","v":0.268512493529386},{"$f":"'1'!H64","v":0.13690447363602101},{"$f":"'1'!I64","v":5.84895553259785E-2},{"$f":"'1'!J64","v":4.9974696118951001E-2},{"$f":"'1'!K64","v":6.0562829086760299E-2},{"$f":"'1'!L64","v":6.73157579246038E-2},{"$f":"'1'!M64","v":5.5147713075206502E-2},{"$f":"'1'!N64","v":2.7918526805713901E-2},{"$f":"'1'!O64","v":1.5428400415314E-2},{"$f":"'1'!P64","v":2.0752403045089601E-2},{"$f":"'1'!Q64","v":3.3530622291782997E-2},{"$f":"'1'!R64","v":4.6739291159667497E-2},{"$f":"'1'!S64","v":5.4755796939693499E-2},null,null,"mefenamic acid",{"$f":"HLOOKUP($DD$7,$CJ$7:$CZ$48,9,FALSE)","v":0.41051672892291702},null,null,"mefenamic acid",{"$f":"IF($C$4=2.7,'1'!D132,IF($C$4=4.5,'1'!G132,IF($C$4=7,'1'!J132,IF($C$4=9,'1'!M132,FALSE))))","v":1.02},{"$f":"IF($C$4=2.7,'1'!E132,IF($C$4=4.5,'1'!H132,IF($C$4=7,'1'!K132,IF($C$4=9,'1'!N132,FALSE))))","v":1},{"$f":"IF($C$4=2.7,'1'!F132,IF($C$4=4.5,'1'!I132,IF($C$4=7,'1'!L132,IF($C$4=9,'1'!O132,FALSE))))","v":1.08},null,null,"mefenamic acid",{"$f":"HLOOKUP($DN$7,$DG$7:$DJ$48,9,FALSE)","v":1.02},null,null,"mefenamic acid",3.89,null,2,null,0,{"$f":"IF($DW$9=2,100/(1+10^(DV15-$DW$12)),100/(1+10^($DW$12-DV15)))","v":99.999999841510686},{"$f":"100-DW15","v":1.584893141171051E-7}]
[null,"Chemistry",{"$f":"calculation2!E73","v":"C18"},null,null,null,null,"Paracetamol",{"$f":"IF($C$4=2.7,'1'!D19,IF($C$4=4.5,'1'!AB19,IF($C$4=7,'1'!AZ19,IF($C$4=9,'1'!BX19,\"FAUX\"))))","v":1.06},{"$f":"IF($C$4=2.7,'1'!E19,IF($C$4=4.5,'1'!AC19,IF($C$4=7,'1'!BA19,IF($C$4=9,'1'!BY19,\"FAUX\"))))","v":0.95299999999999996},{"$f":"IF($C$4=2.7,'1'!F19,IF($C$4=4.5,'1'!AD19,IF($C$4=7,'1'!BB19,IF($C$4=9,'1'!BZ19,\"FAUX\"))))","v":5.81},{"$f":"IF($C$4=2.7,'1'!G19,IF($C$4=4.5,'1'!AE19,IF($C$4=7,'1'!BC19,IF($C$4=9,'1'!CA19,\"FAUX\"))))","v":7.7},{"$f":"IF($C$4=2.7,'1'!H19,IF($C$4=4.5,'1'!AF19,IF($C$4=7,'1'!BD19,IF($C$4=9,'1'!CB19,\"FAUX\"))))","v":0.86299999999999999},{"$f":"IF($C$4=2.7,'1'!I19,IF($C$4=4.5,'1'!AG19,IF($C$4=7,'1'!BE19,IF($C$4=9,'1'!CC19,\"FAUX\"))))","v":0.66700000000000004},{"$f":"IF($C$4=2.7,'1'!J19,IF($C$4=4.5,'1'!AH19,IF($C$4=7,'1'!BF19,IF($C$4=9,'1'!CD19,\"FAUX\"))))","v":4.38},{"$f":"IF($C$4=2.7,'1'!K19,IF($C$4=4.5,'1'!AI19,IF($C$4=7,'1'!BG19,IF($C$4=9,'1'!CE19,\"FAUX\"))))","v":4.1500000000000004},{"$f":"IF($C$4=2.7,'1'!L19,IF($C$4=4.5,'1'!AJ19,IF($C$4=7,'1'!BH19,IF($C$4=9,'1'!CF19,\"FAUX\"))))","v":1.01},{"$f":"IF($C$4=2.7,'1'!M19,IF($C$4=4.5,'1'!AK19,IF($C$4=7,'1'!BI19,IF($C$4=9,'1'!CG19,\"FAUX\"))))","v":0.84599999999999997},{"$f":"IF($C$4=2.7,'1'!N19,IF($C$4=4.5,'1'!AL19,IF($C$4=7,'1'!BJ19,IF($C$4=9,'1'!CH19,\"FAUX\"))))","v":5.51},{"$f":"IF($C$4=2.7,'1'!O19,IF($C$4=4.5,'1'!AM19,IF($C$4=7,'1'!BK19,IF($C$4=9,'1'!CI19,\"FAUX\"))))","v":5.81},{"$f":"IF($C$4=2.7,'1'!P19,IF($C$4=4.5,'1'!AN19,IF($C$4=7,'1'!BL19,IF($C$4=9,'1'!CJ19,\"FAUX\"))))","v":1.1599999999999999},{"$f":"IF($C$4=2.7,'1'!Q19,IF($C$4=4.5,'1'!AO19,IF($C$4=7,'1'!BM19,IF($C$4=9,'1'!CK19,\"FAUX\"))))","v":1.01},{"$f":"IF($C$4=2.7,'1'!R19,IF($C$4=4.5,'1'!AP19,IF($C$4=7,'1'!BN19,IF($C$4=9,'1'!CL19,\"FAUX\"))))","v":12.5},{"$f":"IF($C$4=2.7,'1'!S19,IF($C$4=4.5,'1'!AQ19,IF($C$4=7,'1'!BO19,IF($C$4=9,'1'!CM19,\"FAUX\"))))","v":13.3},{"$f":"IF($C$4=2.7,'1'!T19,IF($C$4=4.5,'1'!AR19,IF($C$4=7,'1'!BP19,IF($C$4=9,'1'!CN19,\"FAUX\"))))","v":0.875},{"$f":"IF($C$4=2.7,'1'!U19,IF($C$4=4.5,'1'!AS19,IF($C$4=7,'1'!BQ19,IF($C$4=9,'1'!CO19,\"FAUX\"))))","v":0.64800000000000002},{"$f":"IF($C$4=2.7,'1'!V19,IF($C$4=4.5,'1'!AT19,IF($C$4=7,'1'!BR19,IF($C$4=9,'1'!CP19,\"FAUX\"))))","v":8.64},{"$f":"IF($C$4=2.7,'1'!W19,IF($C$4=4.5,'1'!AU19,IF($C$4=7,'1'!BS19,IF($C$4=9,'1'!CQ19,\"FAUX\"))))","v":7.29},{"$f":"IF($C$4=2.7,'1'!X19,IF($C$4=4.5,'1'!AV19,IF($C$4=7,'1'!BT19,IF($C$4=9,'1'!CR19,\"FAUX\"))))","v":0.94599999999999995},{"$f":"IF($C$4=2.7,'1'!Y19,IF($C$4=4.5,'1'!AW19,IF($C$4=7,'1'!BU19,IF($C$4=9,'1'!CS19,\"FAUX\"))))","v":0.998},{"$f":"IF($C$4=2.7,'1'!Z19,IF($C$4=4.5,'1'!AX19,IF($C$4=7,'1'!BV19,IF($C$4=9,'1'!CT19,\"FAUX\"))))","v":8.7899999999999991},{"$f":"IF($C$4=2.7,'1'!AA19,IF($C$4=4.5,'1'!AY19,IF($C$4=7,'1'!BW19,IF($C$4=9,'1'!CU19,\"FAUX\"))))","v":12.1},null,null,"Paracetamol",-3.5666666666666694E-3,1.167,6.3000000000000014E-2,3.919999999999999,-6.533333333333332E-3,1.0589999999999999,-7.6666666666666515E-3,4.6099999999999994,-5.4666666666666683E-3,1.1739999999999999,9.9999999999999933E-3,5.2100000000000009,-4.9999999999999966E-3,1.3099999999999998,2.6666666666666689E-2,11.7,-7.5666666666666651E-3,1.1019999999999999,-4.5000000000000019E-2,9.99,1.7333333333333348E-3,0.89399999999999991,0.11033333333333335,5.4799999999999995,null,null,"Paracetamol",1.06,0.86299999999999999,1.0099999999999998,1.1599999999999999,0.87499999999999989,0.94599999999999995,null,null,"Paracetamol",5.81,4.38,5.5100000000000007,12.5,8.64,8.7899999999999991,null,{"$f":"$X$56","v":""},{"$f":"VLOOKUP($X$56,$BJ$8:$BP$48,2,FALSE)","v":0},{"$f":"VLOOKUP($X$56,$BJ$8:$BP$48,3,FALSE)","v":0},{"$f":"VLOOKUP($X$56,$BJ$8:$BP$48,4,FALSE)","v":0},{"$f":"VLOOKUP($X$56,$BJ$8:$BP$48,5,FALSE)","v":0},{"$f":"VLOOKUP($X$56,$BJ$8:$BP$48,6,FALSE)","v":0},{"$f":"VLOOKUP($X$56,$BJ$8:$BP$48,7,FALSE)","v":0},null,null,"Paracetamol",{"$f":"'1'!D65","v":0.63907077367469001},{"$f":"'1'!E65","v":0.241133504618116},{"$f":"'1'!F65","v":0.20030040547209599},{"$f":"'1'!G65","v":0.26275357875044097},{"$f":"'1'!H65","v":0.32457620743140703},{"$f":"'1'!I65","v":0.316825782073278},{"$f":"'1'!J65","v":0.17997848111713299},{"$f":"'1'!K65","v":8.5671946415177294E-2},{"$f":"'1'!L65","v":5.6923164457213203E-2},{"$f":"'1'!M65","v":3.6728352845453401E-2},{"$f":"'1'!N65","v":8.1707484622774301E-3},{"$f":"'1'!O65","v":2.51317589302668E-5},{"$f":"'1'!P65","v":-3.6755478869237001E-4},{"$f":"'1'!Q65","v":-3.67225027618609E-4},{"$f":"'1'!R65","v":-3.7278654811968598E-4},{"$f":"'1'!S65","v":-4.2307989973991802E-4},null,null,"Paracetamol",{"$f":"HLOOKUP($DD$7,$CJ$7:$CZ$48,10,FALSE)","v":0.20030040547209599},null,null,"Paracetamol",{"$f":"IF($C$4=2.7,'1'!D133,IF($C$4=4.5,'1'!G133,IF($C$4=7,'1'!J133,IF($C$4=9,'1'!M133,FALSE))))","v":1.07},{"$f":"IF($C$4=2.7,'1'!E133,IF($C$4=4.5,'1'!H133,IF($C$4=7,'1'!K133,IF($C$4=9,'1'!N133,FALSE))))","v":1.0900000000000001},{"$f":"IF($C$4=2.7,'1'!F133,IF($C$4=4.5,'1'!I133,IF($C$4=7,'1'!L133,IF($C$4=9,'1'!O133,FALSE))))","v":1.01},null,null,"Paracetamol",{"$f":"HLOOKUP($DN$7,$DG$7:$DJ$48,10,FALSE)","v":1.07},null,null,"Paracetamol",9.4600000000000009,null,2,null,{"$f":"DV15+0.5","v":0.5},{"$f":"IF($DW$9=2,100/(1+10^(DV16-$DW$12)),100/(1+10^($DW$12-DV16)))","v":99.999999498812784},{"$f":"100-DW16","v":5.0118721617309347E-7}]
[null,"Temperature",{"$f":"calculation2!E74","v":30},"°C",null,null,null,"Ibuprofen",{"$f":"IF($C$4=2.7,'1'!D20,IF($C$4=4.5,'1'!AB20,IF($C$4=7,'1'!AZ20,IF($C$4=9,'1'!BX20,\"FAUX\"))))","v":3.56},{"$f":"IF($C$4=2.7,'1'!E20,IF($C$4=4.5,'1'!AC20,IF($C$4=7,'1'!BA20,IF($C$4=9,'1'!BY20,\"FAUX\"))))","v":3.37},{"$f":"IF($C$4=2.7,'1'!F20,IF($C$4=4.5,'1'!AD20,IF($C$4=7,'1'!BB20,IF($C$4=9,'1'!BZ20,\"FAUX\"))))","v":5.27},{"$f":"IF($C$4=2.7,'1'!G20,IF($C$4=4.5,'1'!AE20,IF($C$4=7,'1'!BC20,IF($C$4=9,'1'!CA20,\"FAUX\"))))","v":5.44},{"$f":"IF($C$4=2.7,'1'!H20,IF($C$4=4.5,'1'!AF20,IF($C$4=7,'1'!BD20,IF($C$4=9,'1'!CB20,\"FAUX\"))))","v":3.17},{"$f":"IF($C$4=2.7,'1'!I20,IF($C$4=4.5,'1'!AG20,IF($C$4=7,'1'!BE20,IF($C$4=9,'1'!CC20,\"FAUX\"))))","v":2.91},{"$f":"IF($C$4=2.7,'1'!J20,IF($C$4=4.5,'1'!AH20,IF($C$4=7,'1'!BF20,IF($C$4=9,'1'!CD20,\"FAUX\"))))","v":5.0999999999999996},{"$f":"IF($C$4=2.7,'1'!K20,IF($C$4=4.5,'1'!AI20,IF($C$4=7,'1'!BG20,IF($C$4=9,'1'!CE20,\"FAUX\"))))","v":5.17},{"$f":"IF($C$4=2.7,'1'!L20,IF($C$4=4.5,'1'!AJ20,IF($C$4=7,'1'!BH20,IF($C$4=9,'1'!CF20,\"FAUX\"))))","v":3.33},{"$f":"IF($C$4=2.7,'1'!M20,IF($C$4=4.5,'1'!AK20,IF($C$4=7,'1'!BI20,IF($C$4=9,'1'!CG20,\"FAUX\"))))","v":3.12},{"$f":"IF($C$4=2.7,'1'!N20,IF($C$4=4.5,'1'!AL20,IF($C$4=7,'1'!BJ20,IF($C$4=9,'1'!CH20,\"FAUX\"))))","v":5.03},{"$f":"IF($C$4=2.7,'1'!O20,IF($C$4=4.5,'1'!AM20,IF($C$4=7,'1'!BK20,IF($C$4=9,'1'!CI20,\"FAUX\"))))","v":5.0999999999999996},{"$f":"IF($C$4=2.7,'1'!P20,IF($C$4=4.5,'1'!AN20,IF($C$4=7,'1'!BL20,IF($C$4=9,'1'!CJ20,\"FAUX\"))))","v":3.34},{"$f":"IF($C$4=2.7,'1'!Q20,IF($C$4=4.5,'1'!AO20,IF($C$4=7,'1'!BM20,IF($C$4=9,'1'!CK20,\"FAUX\"))))","v":3.14},{"$f":"IF($C$4=2.7,'1'!R20,IF($C$4=4.5,'1'!AP20,IF($C$4=7,'1'!BN20,IF($C$4=9,'1'!CL20,\"FAUX\"))))","v":10.3},{"$f":"IF($C$4=2.7,'1'!S20,IF($C$4=4.5,'1'!AQ20,IF($C$4=7,'1'!BO20,IF($C$4=9,'1'!CM20,\"FAUX\"))))","v":10},{"$f":"IF($C$4=2.7,'1'!T20,IF($C$4=4.5,'1'!AR20,IF($C$4=7,'1'!BP20,IF($C$4=9,'1'!CN20,\"FAUX\"))))","v":3.36},{"$f":"IF($C$4=2.7,'1'!U20,IF($C$4=4.5,'1'!AS20,IF($C$4=7,'1'!BQ20,IF($C$4=9,'1'!CO20,\"FAUX\"))))","v":2.81},{"$f":"IF($C$4=2.7,'1'!V20,IF($C$4=4.5,'1'!AT20,IF($C$4=7,'1'!BR20,IF($C$4=9,'1'!CP20,\"FAUX\"))))","v":11.4},{"$f":"IF($C$4=2.7,'1'!W20,IF($C$4=4.5,'1'!AU20,IF($C$4=7,'1'!BS20,IF($C$4=9,'1'!CQ20,\"FAUX\"))))","v":9.67},{"$f":"IF($C$4=2.7,'1'!X20,IF($C$4=4.5,'1'!AV20,IF($C$4=7,'1'!BT20,IF($C$4=9,'1'!CR20,\"FAUX\"))))","v":3.08},{"$f":"IF($C$4=2.7,'1'!Y20,IF($C$4=4.5,'1'!AW20,IF($C$4=7,'1'!BU20,IF($C$4=9,'1'!CS20,\"FAUX\"))))","v":2.8},{"$f":"IF($C$4=2.7,'1'!Z20,IF($C$4=4.5,'1'!AX20,IF($C$4=7,'1'!BV20,IF($C$4=9,'1'!CT20,\"FAUX\"))))","v":9.17},{"$f":"IF($C$4=2.7,'1'!AA20,IF($C$4=4.5,'1'!AY20,IF($C$4=7,'1'!BW20,IF($C$4=9,'1'!CU20,\"FAUX\"))))","v":8.44},null,null,"Ibuprofen",-6.3333333333333314E-3,3.75,5.666666666666694E-3,5.0999999999999996,-8.6666666666666593E-3,3.4299999999999997,2.3333333333333426E-3,5.0299999999999994,-6.9999999999999984E-3,3.54,2.3333333333333131E-3,4.9600000000000009,-6.6666666666666576E-3,3.54,-1.0000000000000024E-2,10.600000000000001,-1.8333333333333326E-2,3.9099999999999997,-5.7666666666666679E-2,13.13,-9.333333333333341E-3,3.3600000000000003,-2.4333333333333349E-2,9.9,null,null,"Ibuprofen",3.56,3.17,3.33,3.3400000000000003,3.36,3.08,null,null,"Ibuprofen",5.2700000000000005,5.0999999999999996,5.03,10.3,11.4,9.17,null,null,null,null,null,null,null,null,null,null,"Ibuprofen",{"$f":"'1'!D66","v":3.51714456797593E-2},{"$f":"'1'!E66","v":0.14151798693043999},{"$f":"'1'!F66","v":0.27168857871605601},{"$f":"'1'!G66","v":0.18911870156039701},{"$f":"'1'!H66","v":6.7535547088271794E-2},{"$f":"'1'!I66","v":1.41712036629456E-2},{"$f":"'1'!J66","v":3.0750145449088598E-3},{"$f":"'1'!K66","v":1.66783029508327E-3},{"$f":"'1'!L66","v":3.31000010191929E-5},{"$f":"'1'!M66","v":3.31000010191929E-5},{"$f":"'1'!N66","v":3.31000010191929E-5},{"$f":"'1'!O66","v":3.31000010191929E-5},{"$f":"'1'!P66","v":3.31000010191929E-5},{"$f":"'1'!Q66","v":3.31000010191929E-5},{"$f":"'1'!R66","v":3.31000010191929E-5},{"$f":"'1'!S66","v":3.31000010191929E-5},null,null,"Ibuprofen",{"$f":"HLOOKUP($DD$7,$CJ$7:$CZ$48,11,FALSE)","v":0.27168857871605601},null,null,"Ibuprofen",{"$f":"IF($C$4=2.7,'1'!D134,IF($C$4=4.5,'1'!G134,IF($C$4=7,'1'!J134,IF($C$4=9,'1'!M134,FALSE))))","v":1.02},{"$f":"IF($C$4=2.7,'1'!E134,IF($C$4=4.5,'1'!H134,IF($C$4=7,'1'!K134,IF($C$4=9,'1'!N134,FALSE))))","v":1.02},{"$f":"IF($C$4=2.7,'1'!F134,IF($C$4=4.5,'1'!I134,IF($C$4=7,'1'!L134,IF($C$4=9,'1'!O134,FALSE))))","v":1.1200000000000001},null,null,"Ibuprofen",{"$f":"HLOOKUP($DN$7,$DG$7:$DJ$48,11,FALSE)","v":1.02},null,null,"Ibuprofen",4.8499999999999996,null,2,null,{"$f":"DV16+0.5","v":1},99.99999841510683,1.5848931695927604E-6]
[null,"Ltube inlet",{"$f":"calculation2!E75","v":50},"cm",null,null,null,"Ketoprofen",{"$f":"IF($C$4=2.7,'1'!D21,IF($C$4=4.5,'1'!AB21,IF($C$4=7,'1'!AZ21,IF($C$4=9,'1'!BX21,\"FAUX\"))))","v":3.1},{"$f":"IF($C$4=2.7,'1'!E21,IF($C$4=4.5,'1'!AC21,IF($C$4=7,'1'!BA21,IF($C$4=9,'1'!BY21,\"FAUX\"))))","v":2.99},{"$f":"IF($C$4=2.7,'1'!F21,IF($C$4=4.5,'1'!AD21,IF($C$4=7,'1'!BB21,IF($C$4=9,'1'!BZ21,\"FAUX\"))))","v":5.71},{"$f":"IF($C$4=2.7,'1'!G21,IF($C$4=4.5,'1'!AE21,IF($C$4=7,'1'!BC21,IF($C$4=9,'1'!CA21,\"FAUX\"))))","v":6.24},{"$f":"IF($C$4=2.7,'1'!H21,IF($C$4=4.5,'1'!AF21,IF($C$4=7,'1'!BD21,IF($C$4=9,'1'!CB21,\"FAUX\"))))","v":2.85},{"$f":"IF($C$4=2.7,'1'!I21,IF($C$4=4.5,'1'!AG21,IF($C$4=7,'1'!BE21,IF($C$4=9,'1'!CC21,\"FAUX\"))))","v":2.62},{"$f":"IF($C$4=2.7,'1'!J21,IF($C$4=4.5,'1'!AH21,IF($C$4=7,'1'!BF21,IF($C$4=9,'1'!CD21,\"FAUX\"))))","v":5.25},{"$f":"IF($C$4=2.7,'1'!K21,IF($C$4=4.5,'1'!AI21,IF($C$4=7,'1'!BG21,IF($C$4=9,'1'!CE21,\"FAUX\"))))","v":5.48},{"$f":"IF($C$4=2.7,'1'!L21,IF($C$4=4.5,'1'!AJ21,IF($C$4=7,'1'!BH21,IF($C$4=9,'1'!CF21,\"FAUX\"))))","v":2.92},{"$f":"IF($C$4=2.7,'1'!M21,IF($C$4=4.5,'1'!AK21,IF($C$4=7,'1'!BI21,IF($C$4=9,'1'!CG21,\"FAUX\"))))","v":2.71},{"$f":"IF($C$4=2.7,'1'!N21,IF($C$4=4.5,'1'!AL21,IF($C$4=7,'1'!BJ21,IF($C$4=9,'1'!CH21,\"FAUX\"))))","v":5.42},{"$f":"IF($C$4=2.7,'1'!O21,IF($C$4=4.5,'1'!AM21,IF($C$4=7,'1'!BK21,IF($C$4=9,'1'!CI21,\"FAUX\"))))","v":5.59},{"$f":"IF($C$4=2.7,'1'!P21,IF($C$4=4.5,'1'!AN21,IF($C$4=7,'1'!BL21,IF($C$4=9,'1'!CJ21,\"FAUX\"))))","v":3.3},{"$f":"IF($C$4=2.7,'1'!Q21,IF($C$4=4.5,'1'!AO21,IF($C$4=7,'1'!BM21,IF($C$4=9,'1'!CK21,\"FAUX\"))))","v":1.6},{"$f":"IF($C$4=2.7,'1'!R21,IF($C$4=4.5,'1'!AP21,IF($C$4=7,'1'!BN21,IF($C$4=9,'1'!CL21,\"FAUX\"))))","v":13.2},{"$f":"IF($C$4=2.7,'1'!S21,IF($C$4=4.5,'1'!AQ21,IF($C$4=7,'1'!BO21,IF($C$4=9,'1'!CM21,\"FAUX\"))))","v":5.62},{"$f":"IF($C$4=2.7,'1'!T21,IF($C$4=4.5,'1'!AR21,IF($C$4=7,'1'!BP21,IF($C$4=9,'1'!CN21,\"FAUX\"))))","v":2.91},{"$f":"IF($C$4=2.7,'1'!U21,IF($C$4=4.5,'1'!AS21,IF($C$4=7,'1'!BQ21,IF($C$4=9,'1'!CO21,\"FAUX\"))))","v":2.63},{"$f":"IF($C$4=2.7,'1'!V21,IF($C$4=4.5,'1'!AT21,IF($C$4=7,'1'!BR21,IF($C$4=9,'1'!CP21,\"FAUX\"))))","v":11.7},{"$f":"IF($C$4=2.7,'1'!W21,IF($C$4=4.5,'1'!AU21,IF($C$4=7,'1'!BS21,IF($C$4=9,'1'!CQ21,\"FAUX\"))))","v":11.3},{"$f":"IF($C$4=2.7,'1'!X21,IF($C$4=4.5,'1'!AV21,IF($C$4=7,'1'!BT21,IF($C$4=9,'1'!CR21,\"FAUX\"))))","v":2.88},{"$f":"IF($C$4=2.7,'1'!Y21,IF($C$4=4.5,'1'!AW21,IF($C$4=7,'1'!BU21,IF($C$4=9,'1'!CS21,\"FAUX\"))))","v":2.58},{"$f":"IF($C$4=2.7,'1'!Z21,IF($C$4=4.5,'1'!AX21,IF($C$4=7,'1'!BV21,IF($C$4=9,'1'!CT21,\"FAUX\"))))","v":11},{"$f":"IF($C$4=2.7,'1'!AA21,IF($C$4=4.5,'1'!AY21,IF($C$4=7,'1'!BW21,IF($C$4=9,'1'!CU21,\"FAUX\"))))","v":10.199999999999999},null,null,"Ketoprofen",-3.6666666666666627E-3,3.21,1.7666666666666674E-2,5.18,-7.6666666666666662E-3,3.08,7.666666666666681E-3,5.0199999999999996,-6.9999999999999984E-3,3.13,5.6666666666666645E-3,5.25,-5.6666666666666657E-2,5,-0.25266666666666665,20.78,-9.333333333333341E-3,3.1900000000000004,-1.3333333333333286E-2,12.099999999999998,-9.9999999999999933E-3,3.1799999999999997,-2.6666666666666689E-2,11.8,null,null,"Ketoprofen",3.1,2.85,2.92,3.3000000000000003,2.91,2.88,null,null,"Ketoprofen",5.71,5.25,5.42,13.200000000000003,11.7,11,null,null,null,null,null,null,null,null,null,null,"Ketoprofen",{"$f":"'1'!D67","v":0.24411311904072699},{"$f":"'1'!E67","v":0.30490231708795801},{"$f":"'1'!F67","v":0.268271452989915},{"$f":"'1'!G67","v":0.194507428726133},{"$f":"'1'!H67","v":0.16699378669206499},{"$f":"'1'!I67","v":0.21113489790839499},{"$f":"'1'!J67","v":0.20984944495924601},{"$f":"'1'!K67","v":0.13152731467238199},{"$f":"'1'!L67","v":7.0440423421751205E-2},{"$f":"'1'!M67","v":3.8790426134496701E-2},{"$f":"'1'!N67","v":1.30540405206166E-2},{"$f":"'1'!O67","v":3.2803562131894699E-3},{"$f":"'1'!P67","v":1.4884389680586199E-3},{"$f":"'1'!Q67","v":1.37033132442908E-3},{"$f":"'1'!R67","v":9.9130710389401609E-4},{"$f":"'1'!S67","v":9.5207748376963995E-5},null,null,"Ketoprofen",{"$f":"HLOOKUP($DD$7,$CJ$7:$CZ$48,12,FALSE)","v":0.268271452989915},null,null,"Ketoprofen",{"$f":"IF($C$4=2.7,'1'!D135,IF($C$4=4.5,'1'!G135,IF($C$4=7,'1'!J135,IF($C$4=9,'1'!M135,FALSE))))","v":1.08},{"$f":"IF($C$4=2.7,'1'!E135,IF($C$4=4.5,'1'!H135,IF($C$4=7,'1'!K135,IF($C$4=9,'1'!N135,FALSE))))","v":1.1100000000000001},{"$f":"IF($C$4=2.7,'1'!F135,IF($C$4=4.5,'1'!I135,IF($C$4=7,'1'!L135,IF($C$4=9,'1'!O135,FALSE))))","v":1.0900000000000001},null,null,"Ketoprofen",{"$f":"HLOOKUP($DN$7,$DG$7:$DJ$48,12,FALSE)","v":1.08},null,null,"Ketoprofen",3.88,null,2,null,1.5,99.999994988127909,5.0118720906766612E-6]
[null,"dtube inlet",{"$f":"calculation2!E76","v":250},"µm",null,null,"Mix 3","Lidocaine",{"$f":"IF($C$4=2.7,'1'!D22,IF($C$4=4.5,'1'!AB22,IF($C$4=7,'1'!AZ22,IF($C$4=9,'1'!BX22,\"FAUX\"))))","v":3.4},{"$f":"IF($C$4=2.7,'1'!E22,IF($C$4=4.5,'1'!AC22,IF($C$4=7,'1'!BA22,IF($C$4=9,'1'!BY22,\"FAUX\"))))","v":3.45},{"$f":"IF($C$4=2.7,'1'!F22,IF($C$4=4.5,'1'!AD22,IF($C$4=7,'1'!BB22,IF($C$4=9,'1'!BZ22,\"FAUX\"))))","v":4.68},{"$f":"IF($C$4=2.7,'1'!G22,IF($C$4=4.5,'1'!AE22,IF($C$4=7,'1'!BC22,IF($C$4=9,'1'!CA22,\"FAUX\"))))","v":4.96},{"$f":"IF($C$4=2.7,'1'!H22,IF($C$4=4.5,'1'!AF22,IF($C$4=7,'1'!BD22,IF($C$4=9,'1'!CB22,\"FAUX\"))))","v":3.05},{"$f":"IF($C$4=2.7,'1'!I22,IF($C$4=4.5,'1'!AG22,IF($C$4=7,'1'!BE22,IF($C$4=9,'1'!CC22,\"FAUX\"))))","v":3.02},{"$f":"IF($C$4=2.7,'1'!J22,IF($C$4=4.5,'1'!AH22,IF($C$4=7,'1'!BF22,IF($C$4=9,'1'!CD22,\"FAUX\"))))","v":4.2},{"$f":"IF($C$4=2.7,'1'!K22,IF($C$4=4.5,'1'!AI22,IF($C$4=7,'1'!BG22,IF($C$4=9,'1'!CE22,\"FAUX\"))))","v":4.3600000000000003},{"$f":"IF($C$4=2.7,'1'!L22,IF($C$4=4.5,'1'!AJ22,IF($C$4=7,'1'!BH22,IF($C$4=9,'1'!CF22,\"FAUX\"))))","v":3.11},{"$f":"IF($C$4=2.7,'1'!M22,IF($C$4=4.5,'1'!AK22,IF($C$4=7,'1'!BI22,IF($C$4=9,'1'!CG22,\"FAUX\"))))","v":3.23},{"$f":"IF($C$4=2.7,'1'!N22,IF($C$4=4.5,'1'!AL22,IF($C$4=7,'1'!BJ22,IF($C$4=9,'1'!CH22,\"FAUX\"))))","v":4.42},{"$f":"IF($C$4=2.7,'1'!O22,IF($C$4=4.5,'1'!AM22,IF($C$4=7,'1'!BK22,IF($C$4=9,'1'!CI22,\"FAUX\"))))","v":4.8099999999999996},{"$f":"IF($C$4=2.7,'1'!P22,IF($C$4=4.5,'1'!AN22,IF($C$4=7,'1'!BL22,IF($C$4=9,'1'!CJ22,\"FAUX\"))))","v":2.4500000000000002},{"$f":"IF($C$4=2.7,'1'!Q22,IF($C$4=4.5,'1'!AO22,IF($C$4=7,'1'!BM22,IF($C$4=9,'1'!CK22,\"FAUX\"))))","v":2.63},{"$f":"IF($C$4=2.7,'1'!R22,IF($C$4=4.5,'1'!AP22,IF($C$4=7,'1'!BN22,IF($C$4=9,'1'!CL22,\"FAUX\"))))","v":4.4800000000000004},{"$f":"IF($C$4=2.7,'1'!S22,IF($C$4=4.5,'1'!AQ22,IF($C$4=7,'1'!BO22,IF($C$4=9,'1'!CM22,\"FAUX\"))))","v":4.84},{"$f":"IF($C$4=2.7,'1'!T22,IF($C$4=4.5,'1'!AR22,IF($C$4=7,'1'!BP22,IF($C$4=9,'1'!CN22,\"FAUX\"))))","v":2.1},{"$f":"IF($C$4=2.7,'1'!U22,IF($C$4=4.5,'1'!AS22,IF($C$4=7,'1'!BQ22,IF($C$4=9,'1'!CO22,\"FAUX\"))))","v":2.3199999999999998},{"$f":"IF($C$4=2.7,'1'!V22,IF($C$4=4.5,'1'!AT22,IF($C$4=7,'1'!BR22,IF($C$4=9,'1'!CP22,\"FAUX\"))))","v":4.2699999999999996},{"$f":"IF($C$4=2.7,'1'!W22,IF($C$4=4.5,'1'!AU22,IF($C$4=7,'1'!BS22,IF($C$4=9,'1'!CQ22,\"FAUX\"))))","v":4.71},{"$f":"IF($C$4=2.7,'1'!X22,IF($C$4=4.5,'1'!AV22,IF($C$4=7,'1'!BT22,IF($C$4=9,'1'!CR22,\"FAUX\"))))","v":2.2599999999999998},{"$f":"IF($C$4=2.7,'1'!Y22,IF($C$4=4.5,'1'!AW22,IF($C$4=7,'1'!BU22,IF($C$4=9,'1'!CS22,\"FAUX\"))))","v":2.48},{"$f":"IF($C$4=2.7,'1'!Z22,IF($C$4=4.5,'1'!AX22,IF($C$4=7,'1'!BV22,IF($C$4=9,'1'!CT22,\"FAUX\"))))","v":4.21},{"$f":"IF($C$4=2.7,'1'!AA22,IF($C$4=4.5,'1'!AY22,IF($C$4=7,'1'!BW22,IF($C$4=9,'1'!CU22,\"FAUX\"))))","v":4.6100000000000003},null,"Mix 3","Lidocaine",1.6666666666666754E-3,3.3499999999999996,9.333333333333341E-3,4.4000000000000004,-9.9999999999999352E-4,3.08,5.3333333333333384E-3,4.04,4.0000000000000036E-3,2.9899999999999998,1.2999999999999989E-2,4.0300000000000011,5.9999999999999906E-3,2.2700000000000005,1.1999999999999981E-2,4.120000000000001,7.3333333333333254E-3,1.8800000000000003,1.466666666666668E-2,3.8299999999999996,7.3333333333333401E-3,2.04,1.3333333333333345E-2,3.8099999999999996,null,"Mix 3","Lidocaine",3.4,3.0500000000000003,3.11,2.4500000000000002,2.1,2.2600000000000002,null,"Mix 3","Lidocaine",4.6800000000000006,4.2,4.4200000000000008,4.4800000000000004,4.2699999999999996,4.21,null,null,"S","S","S","S","S","S",null,"Mix 3","Lidocaine",{"$f":"'1'!D68","v":0.29243531862588301},{"$f":"'1'!E68","v":0.219606718261003},{"$f":"'1'!F68","v":0.14667288958498101},{"$f":"'1'!G68","v":8.1319881412938902E-2},{"$f":"'1'!H68","v":3.0278199500812598E-2},{"$f":"'1'!I68","v":7.7771390314863601E-3},{"$f":"'1'!J68","v":4.6107130987039996E-3},{"$f":"'1'!K68","v":3.46494207076215E-3},{"$f":"'1'!L68","v":-3.98411107903488E-4},{"$f":"'1'!M68","v":-3.98411107903488E-4},{"$f":"'1'!N68","v":-3.98411107903488E-4},{"$f":"'1'!O68","v":-3.98411107903488E-4},{"$f":"'1'!P68","v":-3.98411107903488E-4},{"$f":"'1'!Q68","v":-3.98411107903488E-4},{"$f":"'1'!R68","v":-3.98411107903488E-4},{"$f":"'1'!S68","v":-3.98411107903488E-4},null,"Mix 3","Lidocaine",{"$f":"HLOOKUP($DD$7,$CJ$7:$CZ$48,13,FALSE)","v":0.14667288958498101},null,"Mix 3","Lidocaine",{"$f":"IF($C$4=2.7,'1'!D136,IF($C$4=4.5,'1'!G136,IF($C$4=7,'1'!J136,IF($C$4=9,'1'!M136,FALSE))))","v":1.05},{"$f":"IF($C$4=2.7,'1'!E136,IF($C$4=4.5,'1'!H136,IF($C$4=7,'1'!K136,IF($C$4=9,'1'!N136,FALSE))))","v":1.01},{"$f":"IF($C$4=2.7,'1'!F136,IF($C$4=4.5,'1'!I136,IF($C$4=7,'1'!L136,IF($C$4=9,'1'!O136,FALSE))))","v":0.98},null,"Mix 3","Lidocaine",{"$f":"HLOOKUP($DN$7,$DG$7:$DJ$48,13,FALSE)","v":1.05},null,"Mix 3","Lidocaine",null,7.75,1,null,2,99.999984151070592,1.5848929407979995E-5]
[null,"Ltube outlet",{"$f":"calculation2!E77","v":50},"cm",null,null,null,"2,6-dimethylaniline",{"$f":"IF($C$4=2.7,'1'!D23,IF($C$4=4.5,'1'!AB23,IF($C$4=7,'1'!AZ23,IF($C$4=9,'1'!BX23,\"FAUX\"))))","v":2.04},{"$f":"IF($C$4=2.7,'1'!E23,IF($C$4=4.5,'1'!AC23,IF($C$4=7,'1'!BA23,IF($C$4=9,'1'!BY23,\"FAUX\"))))","v":1.9},{"$f":"IF($C$4=2.7,'1'!F23,IF($C$4=4.5,'1'!AD23,IF($C$4=7,'1'!BB23,IF($C$4=9,'1'!BZ23,\"FAUX\"))))","v":3.48},{"$f":"IF($C$4=2.7,'1'!G23,IF($C$4=4.5,'1'!AE23,IF($C$4=7,'1'!BC23,IF($C$4=9,'1'!CA23,\"FAUX\"))))","v":3.58},{"$f":"IF($C$4=2.7,'1'!H23,IF($C$4=4.5,'1'!AF23,IF($C$4=7,'1'!BD23,IF($C$4=9,'1'!CB23,\"FAUX\"))))","v":2.16},{"$f":"IF($C$4=2.7,'1'!I23,IF($C$4=4.5,'1'!AG23,IF($C$4=7,'1'!BE23,IF($C$4=9,'1'!CC23,\"FAUX\"))))","v":1.74},{"$f":"IF($C$4=2.7,'1'!J23,IF($C$4=4.5,'1'!AH23,IF($C$4=7,'1'!BF23,IF($C$4=9,'1'!CD23,\"FAUX\"))))","v":4.2300000000000004},{"$f":"IF($C$4=2.7,'1'!K23,IF($C$4=4.5,'1'!AI23,IF($C$4=7,'1'!BG23,IF($C$4=9,'1'!CE23,\"FAUX\"))))","v":3.34},{"$f":"IF($C$4=2.7,'1'!L23,IF($C$4=4.5,'1'!AJ23,IF($C$4=7,'1'!BH23,IF($C$4=9,'1'!CF23,\"FAUX\"))))","v":1.95},{"$f":"IF($C$4=2.7,'1'!M23,IF($C$4=4.5,'1'!AK23,IF($C$4=7,'1'!BI23,IF($C$4=9,'1'!CG23,\"FAUX\"))))","v":1.81},{"$f":"IF($C$4=2.7,'1'!N23,IF($C$4=4.5,'1'!AL23,IF($C$4=7,'1'!BJ23,IF($C$4=9,'1'!CH23,\"FAUX\"))))","v":3.44},{"$f":"IF($C$4=2.7,'1'!O23,IF($C$4=4.5,'1'!AM23,IF($C$4=7,'1'!BK23,IF($C$4=9,'1'!CI23,\"FAUX\"))))","v":3.52},{"$f":"IF($C$4=2.7,'1'!P23,IF($C$4=4.5,'1'!AN23,IF($C$4=7,'1'!BL23,IF($C$4=9,'1'!CJ23,\"FAUX\"))))","v":2.12},{"$f":"IF($C$4=2.7,'1'!Q23,IF($C$4=4.5,'1'!AO23,IF($C$4=7,'1'!BM23,IF($C$4=9,'1'!CK23,\"FAUX\"))))","v":1.8},{"$f":"IF($C$4=2.7,'1'!R23,IF($C$4=4.5,'1'!AP23,IF($C$4=7,'1'!BN23,IF($C$4=9,'1'!CL23,\"FAUX\"))))","v":4.9400000000000004},{"$f":"IF($C$4=2.7,'1'!S23,IF($C$4=4.5,'1'!AQ23,IF($C$4=7,'1'!BO23,IF($C$4=9,'1'!CM23,\"FAUX\"))))","v":4.28},{"$f":"IF($C$4=2.7,'1'!T23,IF($C$4=4.5,'1'!AR23,IF($C$4=7,'1'!BP23,IF($C$4=9,'1'!CN23,\"FAUX\"))))","v":1.78},{"$f":"IF($C$4=2.7,'1'!U23,IF($C$4=4.5,'1'!AS23,IF($C$4=7,'1'!BQ23,IF($C$4=9,'1'!CO23,\"FAUX\"))))","v":1.62},{"$f":"IF($C$4=2.7,'1'!V23,IF($C$4=4.5,'1'!AT23,IF($C$4=7,'1'!BR23,IF($C$4=9,'1'!CP23,\"FAUX\"))))","v":4.3899999999999997},{"$f":"IF($C$4=2.7,'1'!W23,IF($C$4=4.5,'1'!AU23,IF($C$4=7,'1'!BS23,IF($C$4=9,'1'!CQ23,\"FAUX\"))))","v":4.16},{"$f":"IF($C$4=2.7,'1'!X23,IF($C$4=4.5,'1'!AV23,IF($C$4=7,'1'!BT23,IF($C$4=9,'1'!CR23,\"FAUX\"))))","v":1.84},{"$f":"IF($C$4=2.7,'1'!Y23,IF($C$4=4.5,'1'!AW23,IF($C$4=7,'1'!BU23,IF($C$4=9,'1'!CS23,\"FAUX\"))))","v":1.72},{"$f":"IF($C$4=2.7,'1'!Z23,IF($C$4=4.5,'1'!AX23,IF($C$4=7,'1'!BV23,IF($C$4=9,'1'!CT23,\"FAUX\"))))","v":4.13},{"$f":"IF($C$4=2.7,'1'!AA23,IF($C$4=4.5,'1'!AY23,IF($C$4=7,'1'!BW23,IF($C$4=9,'1'!CU23,\"FAUX\"))))","v":4.1500000000000004},null,null,"2,6-dimethylaniline",-4.6666666666666705E-3,2.1800000000000002,3.3333333333333361E-3,3.38,-1.4000000000000005E-2,2.5800000000000005,-2.9666666666666685E-2,5.120000000000001,-4.6666666666666636E-3,2.09,2.6666666666666692E-3,3.36,-1.0666666666666668E-2,2.44,-2.2000000000000006E-2,5.6000000000000005,-5.3333333333333306E-3,1.94,-7.6666666666666515E-3,4.6199999999999992,-4.0000000000000036E-3,1.9600000000000002,6.6666666666668204E-4,4.1099999999999994,null,null,"2,6-dimethylaniline",2.04,2.16,1.95,2.12,1.78,1.84,null,null,"2,6-dimethylaniline",3.48,4.2300000000000004,3.44,4.9400000000000004,4.3899999999999997,4.13,null,null,"MethanolC18","MethanolPhenyl","MethanolC4","AcetonitrileC18","AcetonitrilePhenyl","AcetonitrileC4",null,null,"2,6-dimethylaniline",{"$f":"'1'!D69","v":0.35394599998849002},{"$f":"'1'!E69","v":0.28526925562203997},{"$f":"'1'!F69","v":0.113046438512085},{"$f":"'1'!G69","v":6.4104892530854204E-2},{"$f":"'1'!H69","v":3.12343435540678E-2},{"$f":"'1'!I69","v":1.1615682606571601E-2},{"$f":"'1'!J69","v":1.20348910026931E-2},{"$f":"'1'!K69","v":1.1020106842045701E-2},{"$f":"'1'!L69","v":5.8038659645107899E-3},{"$f":"'1'!M69","v":3.09453388015317E-3},{"$f":"'1'!N69","v":-2.5412827297517399E-4},{"$f":"'1'!O69","v":-2.5412827297517399E-4},{"$f":"'1'!P69","v":-2.5412827297517399E-4},{"$f":"'1'!Q69","v":-2.5412827297517399E-4},{"$f":"'1'!R69","v":-2.5412827297517399E-4},{"$f":"'1'!S69","v":-2.5412827297517399E-4},null,null,"2,6-dimethylaniline",{"$f":"HLOOKUP($DD$7,$CJ$7:$CZ$48,14,FALSE)","v":0.113046438512085},null,null,"2,6-dimethylaniline",{"$f":"IF($C$4=2.7,'1'!D137,IF($C$4=4.5,'1'!G137,IF($C$4=7,'1'!J137,IF($C$4=9,'1'!M137,FALSE))))","v":1},{"$f":"IF($C$4=2.7,'1'!E137,IF($C$4=4.5,'1'!H137,IF($C$4=7,'1'!K137,IF($C$4=9,'1'!N137,FALSE))))","v":1.01},{"$f":"IF($C$4=2.7,'1'!F137,IF($C$4=4.5,'1'!I137,IF($C$4=7,'1'!L137,IF($C$4=9,'1'!O137,FALSE))))","v":0.96},null,null,"2,6-dimethylaniline",{"$f":"HLOOKUP($DN$7,$DG$7:$DJ$48,14,FALSE)","v":1},null,null,"2,6-dimethylaniline",null,4.3099999999999996,1,null,2.5,99.999949881301745,5.0118698254664196E-5]
[null,"dtube outlet",{"$f":"calculation2!E78","v":250},"µm",null,null,null,"Methylparaben",{"$f":"IF($C$4=2.7,'1'!D24,IF($C$4=4.5,'1'!AB24,IF($C$4=7,'1'!AZ24,IF($C$4=9,'1'!BX24,\"FAUX\"))))","v":2.06},{"$f":"IF($C$4=2.7,'1'!E24,IF($C$4=4.5,'1'!AC24,IF($C$4=7,'1'!BA24,IF($C$4=9,'1'!BY24,\"FAUX\"))))","v":1.92},{"$f":"IF($C$4=2.7,'1'!F24,IF($C$4=4.5,'1'!AD24,IF($C$4=7,'1'!BB24,IF($C$4=9,'1'!BZ24,\"FAUX\"))))","v":4.25},{"$f":"IF($C$4=2.7,'1'!G24,IF($C$4=4.5,'1'!AE24,IF($C$4=7,'1'!BC24,IF($C$4=9,'1'!CA24,\"FAUX\"))))","v":4.84},{"$f":"IF($C$4=2.7,'1'!H24,IF($C$4=4.5,'1'!AF24,IF($C$4=7,'1'!BD24,IF($C$4=9,'1'!CB24,\"FAUX\"))))","v":1.91},{"$f":"IF($C$4=2.7,'1'!I24,IF($C$4=4.5,'1'!AG24,IF($C$4=7,'1'!BE24,IF($C$4=9,'1'!CC24,\"FAUX\"))))","v":1.67},{"$f":"IF($C$4=2.7,'1'!J24,IF($C$4=4.5,'1'!AH24,IF($C$4=7,'1'!BF24,IF($C$4=9,'1'!CD24,\"FAUX\"))))","v":3.91},{"$f":"IF($C$4=2.7,'1'!K24,IF($C$4=4.5,'1'!AI24,IF($C$4=7,'1'!BG24,IF($C$4=9,'1'!CE24,\"FAUX\"))))","v":4.16},{"$f":"IF($C$4=2.7,'1'!L24,IF($C$4=4.5,'1'!AJ24,IF($C$4=7,'1'!BH24,IF($C$4=9,'1'!CF24,\"FAUX\"))))","v":2.02},{"$f":"IF($C$4=2.7,'1'!M24,IF($C$4=4.5,'1'!AK24,IF($C$4=7,'1'!BI24,IF($C$4=9,'1'!CG24,\"FAUX\"))))","v":1.81},{"$f":"IF($C$4=2.7,'1'!N24,IF($C$4=4.5,'1'!AL24,IF($C$4=7,'1'!BJ24,IF($C$4=9,'1'!CH24,\"FAUX\"))))","v":4.2300000000000004},{"$f":"IF($C$4=2.7,'1'!O24,IF($C$4=4.5,'1'!AM24,IF($C$4=7,'1'!BK24,IF($C$4=9,'1'!CI24,\"FAUX\"))))","v":4.4800000000000004},{"$f":"IF($C$4=2.7,'1'!P24,IF($C$4=4.5,'1'!AN24,IF($C$4=7,'1'!BL24,IF($C$4=9,'1'!CJ24,\"FAUX\"))))","v":1.76},{"$f":"IF($C$4=2.7,'1'!Q24,IF($C$4=4.5,'1'!AO24,IF($C$4=7,'1'!BM24,IF($C$4=9,'1'!CK24,\"FAUX\"))))","v":1.9},{"$f":"IF($C$4=2.7,'1'!R24,IF($C$4=4.5,'1'!AP24,IF($C$4=7,'1'!BN24,IF($C$4=9,'1'!CL24,\"FAUX\"))))","v":5.4},{"$f":"IF($C$4=2.7,'1'!S24,IF($C$4=4.5,'1'!AQ24,IF($C$4=7,'1'!BO24,IF($C$4=9,'1'!CM24,\"FAUX\"))))","v":7.5},{"$f":"IF($C$4=2.7,'1'!T24,IF($C$4=4.5,'1'!AR24,IF($C$4=7,'1'!BP24,IF($C$4=9,'1'!CN24,\"FAUX\"))))","v":1.66},{"$f":"IF($C$4=2.7,'1'!U24,IF($C$4=4.5,'1'!AS24,IF($C$4=7,'1'!BQ24,IF($C$4=9,'1'!CO24,\"FAUX\"))))","v":1.6},{"$f":"IF($C$4=2.7,'1'!V24,IF($C$4=4.5,'1'!AT24,IF($C$4=7,'1'!BR24,IF($C$4=9,'1'!CP24,\"FAUX\"))))","v":5.59},{"$f":"IF($C$4=2.7,'1'!W24,IF($C$4=4.5,'1'!AU24,IF($C$4=7,'1'!BS24,IF($C$4=9,'1'!CQ24,\"FAUX\"))))","v":6.48},{"$f":"IF($C$4=2.7,'1'!X24,IF($C$4=4.5,'1'!AV24,IF($C$4=7,'1'!BT24,IF($C$4=9,'1'!CR24,\"FAUX\"))))","v":1.7},{"$f":"IF($C$4=2.7,'1'!Y24,IF($C$4=4.5,'1'!AW24,IF($C$4=7,'1'!BU24,IF($C$4=9,'1'!CS24,\"FAUX\"))))","v":1.71},{"$f":"IF($C$4=2.7,'1'!Z24,IF($C$4=4.5,'1'!AX24,IF($C$4=7,'1'!BV24,IF($C$4=9,'1'!CT24,\"FAUX\"))))","v":5.24},{"$f":"IF($C$4=2.7,'1'!AA24,IF($C$4=4.5,'1'!AY24,IF($C$4=7,'1'!BW24,IF($C$4=9,'1'!CU24,\"FAUX\"))))","v":6.36},null,null,"Methylparaben",-4.6666666666666705E-3,2.2000000000000002,1.9666666666666662E-2,3.66,-7.9999999999999984E-3,2.15,8.3333333333333332E-3,3.66,-6.9999999999999984E-3,2.23,8.3333333333333332E-3,3.9800000000000004,4.6666666666666636E-3,1.62,6.9999999999999979E-2,3.3000000000000012,-1.9999999999999944E-3,1.7199999999999998,2.9666666666666685E-2,4.6999999999999993,3.3333333333333365E-4,1.69,3.7333333333333343E-2,4.12,null,null,"Methylparaben",2.06,1.91,2.02,1.76,1.66,1.7,null,null,"Methylparaben",4.25,3.91,4.2300000000000004,5.4,5.59,5.24,null,{"$f":"$Q$56","v":"Uracil"},{"$f":"VLOOKUP($Q$56,$BS$8:$BY$48,2,FALSE)","v":5.96},{"$f":"VLOOKUP($Q$56,$BS$8:$BY$48,3,FALSE)","v":4.9800000000000013},{"$f":"VLOOKUP($Q$56,$BS$8:$BY$48,4,FALSE)","v":5.54},{"$f":"VLOOKUP($Q$56,$BS$8:$BY$48,5,FALSE)","v":5.26},{"$f":"VLOOKUP($Q$56,$BS$8:$BY$48,6,FALSE)","v":8.7100000000000009},{"$f":"VLOOKUP($Q$56,$BS$8:$BY$48,7,FALSE)","v":15},null,null,"Methylparaben",{"$f":"'1'!D70","v":0.32609776507771798},{"$f":"'1'!E70","v":0.30096215171035601},{"$f":"'1'!F70","v":0.162500542262737},{"$f":"'1'!G70","v":0.12940623110898999},{"$f":"'1'!H70","v":0.18358011281407799},{"$f":"'1'!I70","v":0.29024274182016302},{"$f":"'1'!J70","v":0.30029246677389598},{"$f":"'1'!K70","v":0.18929719611979301},{"$f":"'1'!L70","v":7.2176089753596698E-2},{"$f":"'1'!M70","v":5.9216544360093997E-3},{"$f":"'1'!N70","v":-3.98411107903488E-4},{"$f":"'1'!O70","v":-3.98411107903488E-4},{"$f":"'1'!P70","v":-3.98411107903488E-4},{"$f":"'1'!Q70","v":-3.98411107903488E-4},{"$f":"'1'!R70","v":-3.98411107903488E-4},{"$f":"'1'!S70","v":-3.98411107903488E-4},null,null,"Methylparaben",{"$f":"HLOOKUP($DD$7,$CJ$7:$CZ$48,15,FALSE)","v":0.162500542262737},null,null,"Methylparaben",{"$f":"IF($C$4=2.7,'1'!D138,IF($C$4=4.5,'1'!G138,IF($C$4=7,'1'!J138,IF($C$4=9,'1'!M138,FALSE))))","v":1.07},{"$f":"IF($C$4=2.7,'1'!E138,IF($C$4=4.5,'1'!H138,IF($C$4=7,'1'!K138,IF($C$4=9,'1'!N138,FALSE))))","v":1.04},{"$f":"IF($C$4=2.7,'1'!F138,IF($C$4=4.5,'1'!I138,IF($C$4=7,'1'!L138,IF($C$4=9,'1'!O138,FALSE))))","v":1.03},null,null,"Methylparaben",{"$f":"HLOOKUP($DN$7,$DG$7:$DJ$48,15,FALSE)","v":1.07},null,null,"Methylparaben",8.5,null,2,null,3,99.999841510931944,1.584890680561557E-4]
[null,"Vinj",{"$f":"calculation2!E79","v":20},"µL",null,null,null,"Propylparaben",{"$f":"IF($C$4=2.7,'1'!D25,IF($C$4=4.5,'1'!AB25,IF($C$4=7,'1'!AZ25,IF($C$4=9,'1'!BX25,\"FAUX\"))))","v":3.16},{"$f":"IF($C$4=2.7,'1'!E25,IF($C$4=4.5,'1'!AC25,IF($C$4=7,'1'!BA25,IF($C$4=9,'1'!BY25,\"FAUX\"))))","v":3.26},{"$f":"IF($C$4=2.7,'1'!F25,IF($C$4=4.5,'1'!AD25,IF($C$4=7,'1'!BB25,IF($C$4=9,'1'!BZ25,\"FAUX\"))))","v":4.95},{"$f":"IF($C$4=2.7,'1'!G25,IF($C$4=4.5,'1'!AE25,IF($C$4=7,'1'!BC25,IF($C$4=9,'1'!CA25,\"FAUX\"))))","v":5.82},{"$f":"IF($C$4=2.7,'1'!H25,IF($C$4=4.5,'1'!AF25,IF($C$4=7,'1'!BD25,IF($C$4=9,'1'!CB25,\"FAUX\"))))","v":2.94},{"$f":"IF($C$4=2.7,'1'!I25,IF($C$4=4.5,'1'!AG25,IF($C$4=7,'1'!BE25,IF($C$4=9,'1'!CC25,\"FAUX\"))))","v":2.66},{"$f":"IF($C$4=2.7,'1'!J25,IF($C$4=4.5,'1'!AH25,IF($C$4=7,'1'!BF25,IF($C$4=9,'1'!CD25,\"FAUX\"))))","v":4.8},{"$f":"IF($C$4=2.7,'1'!K25,IF($C$4=4.5,'1'!AI25,IF($C$4=7,'1'!BG25,IF($C$4=9,'1'!CE25,\"FAUX\"))))","v":4.84},{"$f":"IF($C$4=2.7,'1'!L25,IF($C$4=4.5,'1'!AJ25,IF($C$4=7,'1'!BH25,IF($C$4=9,'1'!CF25,\"FAUX\"))))","v":3.1},{"$f":"IF($C$4=2.7,'1'!M25,IF($C$4=4.5,'1'!AK25,IF($C$4=7,'1'!BI25,IF($C$4=9,'1'!CG25,\"FAUX\"))))","v":2.86},{"$f":"IF($C$4=2.7,'1'!N25,IF($C$4=4.5,'1'!AL25,IF($C$4=7,'1'!BJ25,IF($C$4=9,'1'!CH25,\"FAUX\"))))","v":5.0999999999999996},{"$f":"IF($C$4=2.7,'1'!O25,IF($C$4=4.5,'1'!AM25,IF($C$4=7,'1'!BK25,IF($C$4=9,'1'!CI25,\"FAUX\"))))","v":5.16},{"$f":"IF($C$4=2.7,'1'!P25,IF($C$4=4.5,'1'!AN25,IF($C$4=7,'1'!BL25,IF($C$4=9,'1'!CJ25,\"FAUX\"))))","v":2.4900000000000002},{"$f":"IF($C$4=2.7,'1'!Q25,IF($C$4=4.5,'1'!AO25,IF($C$4=7,'1'!BM25,IF($C$4=9,'1'!CK25,\"FAUX\"))))","v":2.64},{"$f":"IF($C$4=2.7,'1'!R25,IF($C$4=4.5,'1'!AP25,IF($C$4=7,'1'!BN25,IF($C$4=9,'1'!CL25,\"FAUX\"))))","v":5.2},{"$f":"IF($C$4=2.7,'1'!S25,IF($C$4=4.5,'1'!AQ25,IF($C$4=7,'1'!BO25,IF($C$4=9,'1'!CM25,\"FAUX\"))))","v":6.33},{"$f":"IF($C$4=2.7,'1'!T25,IF($C$4=4.5,'1'!AR25,IF($C$4=7,'1'!BP25,IF($C$4=9,'1'!CN25,\"FAUX\"))))","v":2.33},{"$f":"IF($C$4=2.7,'1'!U25,IF($C$4=4.5,'1'!AS25,IF($C$4=7,'1'!BQ25,IF($C$4=9,'1'!CO25,\"FAUX\"))))","v":2.31},{"$f":"IF($C$4=2.7,'1'!V25,IF($C$4=4.5,'1'!AT25,IF($C$4=7,'1'!BR25,IF($C$4=9,'1'!CP25,\"FAUX\"))))","v":5.43},{"$f":"IF($C$4=2.7,'1'!W25,IF($C$4=4.5,'1'!AU25,IF($C$4=7,'1'!BS25,IF($C$4=9,'1'!CQ25,\"FAUX\"))))","v":6.02},{"$f":"IF($C$4=2.7,'1'!X25,IF($C$4=4.5,'1'!AV25,IF($C$4=7,'1'!BT25,IF($C$4=9,'1'!CR25,\"FAUX\"))))","v":2.4300000000000002},{"$f":"IF($C$4=2.7,'1'!Y25,IF($C$4=4.5,'1'!AW25,IF($C$4=7,'1'!BU25,IF($C$4=9,'1'!CS25,\"FAUX\"))))","v":2.37},{"$f":"IF($C$4=2.7,'1'!Z25,IF($C$4=4.5,'1'!AX25,IF($C$4=7,'1'!BV25,IF($C$4=9,'1'!CT25,\"FAUX\"))))","v":5.27},{"$f":"IF($C$4=2.7,'1'!AA25,IF($C$4=4.5,'1'!AY25,IF($C$4=7,'1'!BW25,IF($C$4=9,'1'!CU25,\"FAUX\"))))","v":5.62},null,null,"Propylparaben",3.3333333333333214E-3,3.0600000000000005,2.9000000000000001E-2,4.08,-9.3333333333333272E-3,3.2199999999999998,1.3333333333333346E-3,4.76,-8.0000000000000071E-3,3.3400000000000003,2.0000000000000165E-3,5.0399999999999991,4.9999999999999966E-3,2.3400000000000007,3.7666666666666654E-2,4.0700000000000012,-6.6666666666666729E-4,2.3500000000000005,1.9666666666666662E-2,4.84,-2.0000000000000018E-3,2.4900000000000002,1.1666666666666685E-2,4.92,null,null,"Propylparaben",3.16,2.94,3.1,2.4900000000000007,2.3300000000000005,2.4300000000000002,null,null,"Propylparaben",4.95,4.8,5.0999999999999996,5.2000000000000011,5.43,5.2700000000000005,null,{"$f":"$R$56","v":"Methylparaben"},{"$f":"VLOOKUP($R$56,$BS$8:$BY$48,2,FALSE)","v":4.25},{"$f":"VLOOKUP($R$56,$BS$8:$BY$48,3,FALSE)","v":3.91},{"$f":"VLOOKUP($R$56,$BS$8:$BY$48,4,FALSE)","v":4.2300000000000004},{"$f":"VLOOKUP($R$56,$BS$8:$BY$48,5,FALSE)","v":5.4},{"$f":"VLOOKUP($R$56,$BS$8:$BY$48,6,FALSE)","v":5.59},{"$f":"VLOOKUP($R$56,$BS$8:$BY$48,7,FALSE)","v":5.24},null,null,"Propylparaben",{"$f":"'1'!D71","v":0.25254499793489699},{"$f":"'1'!E71","v":0.264780803237323},{"$f":"'1'!F71","v":0.18921711508623701},{"$f":"'1'!G71","v":0.160471564190724},{"$f":"'1'!H71","v":0.183431277725359},{"$f":"'1'!I71","v":0.26273087906591602},{"$f":"'1'!J71","v":0.267150782395152},{"$f":"'1'!K71","v":0.16601727943806299},{"$f":"'1'!L71","v":6.1276155288128499E-2},{"$f":"'1'!M71","v":4.1875478154825303E-3},{"$f":"'1'!N71","v":0},{"$f":"'1'!O71","v":0},{"$f":"'1'!P71","v":0},{"$f":"'1'!Q71","v":0},{"$f":"'1'!R71","v":0},{"$f":"'1'!S71","v":0},null,null,"Propylparaben",{"$f":"HLOOKUP($DD$7,$CJ$7:$CZ$48,16,FALSE)","v":0.18921711508623701},null,null,"Propylparaben",{"$f":"IF($C$4=2.7,'1'!D139,IF($C$4=4.5,'1'!G139,IF($C$4=7,'1'!J139,IF($C$4=9,'1'!M139,FALSE))))","v":1.05},{"$f":"IF($C$4=2.7,'1'!E139,IF($C$4=4.5,'1'!H139,IF($C$4=7,'1'!K139,IF($C$4=9,'1'!N139,FALSE))))","v":1.02},{"$f":"IF($C$4=2.7,'1'!F139,IF($C$4=4.5,'1'!I139,IF($C$4=7,'1'!L139,IF($C$4=9,'1'!O139,FALSE))))","v":1.02},null,null,"Propylparaben",{"$f":"HLOOKUP($DN$7,$DG$7:$DJ$48,16,FALSE)","v":1.05},null,null,"Propylparaben",8.5,null,2,null,3.5,99.999498815278244,5.0118472175597617E-4]
[null,"% injection solvent",{"$f":"'HPLC simulator'!L30","v":20},"%",null,null,"Mix 4","THC",{"$f":"IF($C$4=2.7,'1'!D26,IF($C$4=4.5,'1'!AB26,IF($C$4=7,'1'!AZ26,IF($C$4=9,'1'!BX26,\"FAUX\"))))","v":6.29},{"$f":"IF($C$4=2.7,'1'!E26,IF($C$4=4.5,'1'!AC26,IF($C$4=7,'1'!BA26,IF($C$4=9,'1'!BY26,\"FAUX\"))))","v":6.16},{"$f":"IF($C$4=2.7,'1'!F26,IF($C$4=4.5,'1'!AD26,IF($C$4=7,'1'!BB26,IF($C$4=9,'1'!BZ26,\"FAUX\"))))","v":6.78},{"$f":"IF($C$4=2.7,'1'!G26,IF($C$4=4.5,'1'!AE26,IF($C$4=7,'1'!BC26,IF($C$4=9,'1'!CA26,\"FAUX\"))))","v":6.92},{"$f":"IF($C$4=2.7,'1'!H26,IF($C$4=4.5,'1'!AF26,IF($C$4=7,'1'!BD26,IF($C$4=9,'1'!CB26,\"FAUX\"))))","v":6},{"$f":"IF($C$4=2.7,'1'!I26,IF($C$4=4.5,'1'!AG26,IF($C$4=7,'1'!BE26,IF($C$4=9,'1'!CC26,\"FAUX\"))))","v":5.44},{"$f":"IF($C$4=2.7,'1'!J26,IF($C$4=4.5,'1'!AH26,IF($C$4=7,'1'!BF26,IF($C$4=9,'1'!CD26,\"FAUX\"))))","v":6.92},{"$f":"IF($C$4=2.7,'1'!K26,IF($C$4=4.5,'1'!AI26,IF($C$4=7,'1'!BG26,IF($C$4=9,'1'!CE26,\"FAUX\"))))","v":6.51},{"$f":"IF($C$4=2.7,'1'!L26,IF($C$4=4.5,'1'!AJ26,IF($C$4=7,'1'!BH26,IF($C$4=9,'1'!CF26,\"FAUX\"))))","v":6.08},{"$f":"IF($C$4=2.7,'1'!M26,IF($C$4=4.5,'1'!AK26,IF($C$4=7,'1'!BI26,IF($C$4=9,'1'!CG26,\"FAUX\"))))","v":5.76},{"$f":"IF($C$4=2.7,'1'!N26,IF($C$4=4.5,'1'!AL26,IF($C$4=7,'1'!BJ26,IF($C$4=9,'1'!CH26,\"FAUX\"))))","v":7.06},{"$f":"IF($C$4=2.7,'1'!O26,IF($C$4=4.5,'1'!AM26,IF($C$4=7,'1'!BK26,IF($C$4=9,'1'!CI26,\"FAUX\"))))","v":6.92},{"$f":"IF($C$4=2.7,'1'!P26,IF($C$4=4.5,'1'!AN26,IF($C$4=7,'1'!BL26,IF($C$4=9,'1'!CJ26,\"FAUX\"))))","v":3.94},{"$f":"IF($C$4=2.7,'1'!Q26,IF($C$4=4.5,'1'!AO26,IF($C$4=7,'1'!BM26,IF($C$4=9,'1'!CK26,\"FAUX\"))))","v":3.91},{"$f":"IF($C$4=2.7,'1'!R26,IF($C$4=4.5,'1'!AP26,IF($C$4=7,'1'!BN26,IF($C$4=9,'1'!CL26,\"FAUX\"))))","v":4.2699999999999996},{"$f":"IF($C$4=2.7,'1'!S26,IF($C$4=4.5,'1'!AQ26,IF($C$4=7,'1'!BO26,IF($C$4=9,'1'!CM26,\"FAUX\"))))","v":4.5},{"$f":"IF($C$4=2.7,'1'!T26,IF($C$4=4.5,'1'!AR26,IF($C$4=7,'1'!BP26,IF($C$4=9,'1'!CN26,\"FAUX\"))))","v":3.9},{"$f":"IF($C$4=2.7,'1'!U26,IF($C$4=4.5,'1'!AS26,IF($C$4=7,'1'!BQ26,IF($C$4=9,'1'!CO26,\"FAUX\"))))","v":3.79},{"$f":"IF($C$4=2.7,'1'!V26,IF($C$4=4.5,'1'!AT26,IF($C$4=7,'1'!BR26,IF($C$4=9,'1'!CP26,\"FAUX\"))))","v":5.1100000000000003},{"$f":"IF($C$4=2.7,'1'!W26,IF($C$4=4.5,'1'!AU26,IF($C$4=7,'1'!BS26,IF($C$4=9,'1'!CQ26,\"FAUX\"))))","v":5.19},{"$f":"IF($C$4=2.7,'1'!X26,IF($C$4=4.5,'1'!AV26,IF($C$4=7,'1'!BT26,IF($C$4=9,'1'!CR26,\"FAUX\"))))","v":3.86},{"$f":"IF($C$4=2.7,'1'!Y26,IF($C$4=4.5,'1'!AW26,IF($C$4=7,'1'!BU26,IF($C$4=9,'1'!CS26,\"FAUX\"))))","v":3.8},{"$f":"IF($C$4=2.7,'1'!Z26,IF($C$4=4.5,'1'!AX26,IF($C$4=7,'1'!BV26,IF($C$4=9,'1'!CT26,\"FAUX\"))))","v":4.62},{"$f":"IF($C$4=2.7,'1'!AA26,IF($C$4=4.5,'1'!AY26,IF($C$4=7,'1'!BW26,IF($C$4=9,'1'!CU26,\"FAUX\"))))","v":4.75},null,"Mix 4","THC",-4.3333333333333297E-3,6.42,4.6666666666666558E-3,6.6400000000000006,-1.8666666666666654E-2,6.5600000000000005,-1.3666666666666671E-2,7.33,-1.0666666666666677E-2,6.4,-4.6666666666666558E-3,7.1999999999999993,-9.9999999999999352E-4,3.9699999999999998,7.666666666666681E-3,4.0399999999999991,-3.6666666666666627E-3,4.01,2.6666666666666692E-3,5.03,-2.0000000000000018E-3,3.92,4.3333333333333297E-3,4.49,null,"Mix 4","THC",6.29,6.0000000000000009,6.08,3.94,3.9,3.86,null,"Mix 4","THC",6.78,6.92,7.06,4.2699999999999996,5.1100000000000003,4.62,null,{"$f":"$S$56","v":"Ethylparaben"},{"$f":"VLOOKUP($S$56,$BS$8:$BY$48,2,FALSE)","v":4.7700000000000005},{"$f":"VLOOKUP($S$56,$BS$8:$BY$48,3,FALSE)","v":4.3600000000000003},{"$f":"VLOOKUP($S$56,$BS$8:$BY$48,4,FALSE)","v":4.6900000000000004},{"$f":"VLOOKUP($S$56,$BS$8:$BY$48,5,FALSE)","v":5.17},{"$f":"VLOOKUP($S$56,$BS$8:$BY$48,6,FALSE)","v":5.4800000000000013},{"$f":"VLOOKUP($S$56,$BS$8:$BY$48,7,FALSE)","v":5.1499999999999995},null,"Mix 4","THC",{"$f":"'1'!D72","v":0},{"$f":"'1'!E72","v":0.174516404375404},{"$f":"'1'!F72","v":0.26565602345823702},{"$f":"'1'!G72","v":0.23640395832356101},{"$f":"'1'!H72","v":0.10934171854751},{"$f":"'1'!I72","v":2.2053330156544999E-2},{"$f":"'1'!J72","v":2.2460058269711701E-3},{"$f":"'1'!K72","v":2.99063899176357E-3},{"$f":"'1'!L72","v":3.3323691719054798E-3},{"$f":"'1'!M72","v":-4.0062701467791098E-4},{"$f":"'1'!N72","v":-4.0062701467791098E-4},{"$f":"'1'!O72","v":-4.0062701467791098E-4},{"$f":"'1'!P72","v":-4.0062701467791098E-4},{"$f":"'1'!Q72","v":-4.0062701467791098E-4},{"$f":"'1'!R72","v":-4.0062701467791098E-4},{"$f":"'1'!S72","v":-4.0062701467791098E-4},null,"Mix 4","THC",{"$f":"HLOOKUP($DD$7,$CJ$7:$CZ$48,17,FALSE)","v":0.26565602345823702},null,"Mix 4","THC",{"$f":"IF($C$4=2.7,'1'!D140,IF($C$4=4.5,'1'!G140,IF($C$4=7,'1'!J140,IF($C$4=9,'1'!M140,FALSE))))","v":1.07},{"$f":"IF($C$4=2.7,'1'!E140,IF($C$4=4.5,'1'!H140,IF($C$4=7,'1'!K140,IF($C$4=9,'1'!N140,FALSE))))","v":1.1000000000000001},{"$f":"IF($C$4=2.7,'1'!F140,IF($C$4=4.5,'1'!I140,IF($C$4=7,'1'!L140,IF($C$4=9,'1'!O140,FALSE))))","v":1.03},null,"Mix 4","THC",{"$f":"HLOOKUP($DN$7,$DG$7:$DJ$48,17,FALSE)","v":1.07},null,"Mix 4","THC",9.34,null,2,null,4,99.998415131926009,1.5848680739907195E-3]
[null,"Melange",{"$f":"calculation2!E80","v":"Mix 1 - parabens"},null,null,null,null,"CBD",{"$f":"IF($C$4=2.7,'1'!D27,IF($C$4=4.5,'1'!AB27,IF($C$4=7,'1'!AZ27,IF($C$4=9,'1'!BX27,\"FAUX\"))))","v":6.28},{"$f":"IF($C$4=2.7,'1'!E27,IF($C$4=4.5,'1'!AC27,IF($C$4=7,'1'!BA27,IF($C$4=9,'1'!BY27,\"FAUX\"))))","v":5.93},{"$f":"IF($C$4=2.7,'1'!F27,IF($C$4=4.5,'1'!AD27,IF($C$4=7,'1'!BB27,IF($C$4=9,'1'!BZ27,\"FAUX\"))))","v":7.37},{"$f":"IF($C$4=2.7,'1'!G27,IF($C$4=4.5,'1'!AE27,IF($C$4=7,'1'!BC27,IF($C$4=9,'1'!CA27,\"FAUX\"))))","v":7.22},{"$f":"IF($C$4=2.7,'1'!H27,IF($C$4=4.5,'1'!AF27,IF($C$4=7,'1'!BD27,IF($C$4=9,'1'!CB27,\"FAUX\"))))","v":5.74},{"$f":"IF($C$4=2.7,'1'!I27,IF($C$4=4.5,'1'!AG27,IF($C$4=7,'1'!BE27,IF($C$4=9,'1'!CC27,\"FAUX\"))))","v":5.22},{"$f":"IF($C$4=2.7,'1'!J27,IF($C$4=4.5,'1'!AH27,IF($C$4=7,'1'!BF27,IF($C$4=9,'1'!CD27,\"FAUX\"))))","v":7.06},{"$f":"IF($C$4=2.7,'1'!K27,IF($C$4=4.5,'1'!AI27,IF($C$4=7,'1'!BG27,IF($C$4=9,'1'!CE27,\"FAUX\"))))","v":6.64},{"$f":"IF($C$4=2.7,'1'!L27,IF($C$4=4.5,'1'!AJ27,IF($C$4=7,'1'!BH27,IF($C$4=9,'1'!CF27,\"FAUX\"))))","v":5.74},{"$f":"IF($C$4=2.7,'1'!M27,IF($C$4=4.5,'1'!AK27,IF($C$4=7,'1'!BI27,IF($C$4=9,'1'!CG27,\"FAUX\"))))","v":5.54},{"$f":"IF($C$4=2.7,'1'!N27,IF($C$4=4.5,'1'!AL27,IF($C$4=7,'1'!BJ27,IF($C$4=9,'1'!CH27,\"FAUX\"))))","v":7.06},{"$f":"IF($C$4=2.7,'1'!O27,IF($C$4=4.5,'1'!AM27,IF($C$4=7,'1'!BK27,IF($C$4=9,'1'!CI27,\"FAUX\"))))","v":7.06},{"$f":"IF($C$4=2.7,'1'!P27,IF($C$4=4.5,'1'!AN27,IF($C$4=7,'1'!BL27,IF($C$4=9,'1'!CJ27,\"FAUX\"))))","v":3.98},{"$f":"IF($C$4=2.7,'1'!Q27,IF($C$4=4.5,'1'!AO27,IF($C$4=7,'1'!BM27,IF($C$4=9,'1'!CK27,\"FAUX\"))))","v":3.98},{"$f":"IF($C$4=2.7,'1'!R27,IF($C$4=4.5,'1'!AP27,IF($C$4=7,'1'!BN27,IF($C$4=9,'1'!CL27,\"FAUX\"))))","v":4.96},{"$f":"IF($C$4=2.7,'1'!S27,IF($C$4=4.5,'1'!AQ27,IF($C$4=7,'1'!BO27,IF($C$4=9,'1'!CM27,\"FAUX\"))))","v":5.19},{"$f":"IF($C$4=2.7,'1'!T27,IF($C$4=4.5,'1'!AR27,IF($C$4=7,'1'!BP27,IF($C$4=9,'1'!CN27,\"FAUX\"))))","v":3.98},{"$f":"IF($C$4=2.7,'1'!U27,IF($C$4=4.5,'1'!AS27,IF($C$4=7,'1'!BQ27,IF($C$4=9,'1'!CO27,\"FAUX\"))))","v":3.91},{"$f":"IF($C$4=2.7,'1'!V27,IF($C$4=4.5,'1'!AT27,IF($C$4=7,'1'!BR27,IF($C$4=9,'1'!CP27,\"FAUX\"))))","v":5.73},{"$f":"IF($C$4=2.7,'1'!W27,IF($C$4=4.5,'1'!AU27,IF($C$4=7,'1'!BS27,IF($C$4=9,'1'!CQ27,\"FAUX\"))))","v":5.83},{"$f":"IF($C$4=2.7,'1'!X27,IF($C$4=4.5,'1'!AV27,IF($C$4=7,'1'!BT27,IF($C$4=9,'1'!CR27,\"FAUX\"))))","v":3.92},{"$f":"IF($C$4=2.7,'1'!Y27,IF($C$4=4.5,'1'!AW27,IF($C$4=7,'1'!BU27,IF($C$4=9,'1'!CS27,\"FAUX\"))))","v":3.9},{"$f":"IF($C$4=2.7,'1'!Z27,IF($C$4=4.5,'1'!AX27,IF($C$4=7,'1'!BV27,IF($C$4=9,'1'!CT27,\"FAUX\"))))","v":5.19},{"$f":"IF($C$4=2.7,'1'!AA27,IF($C$4=4.5,'1'!AY27,IF($C$4=7,'1'!BW27,IF($C$4=9,'1'!CU27,\"FAUX\"))))","v":5.36},null,null,"CBD",-1.1666666666666685E-2,6.6300000000000008,-5.0000000000000122E-3,7.5200000000000005,-1.733333333333335E-2,6.2600000000000016,-1.3999999999999997E-2,7.4799999999999995,-6.6666666666666723E-3,5.9400000000000013,0,7.06,0,3.98,7.666666666666681E-3,4.7299999999999995,-2.3333333333333279E-3,4.05,3.3333333333333214E-3,5.6300000000000008,-6.6666666666666729E-4,3.9400000000000004,5.6666666666666645E-3,5.0200000000000005,null,null,"CBD",6.28,5.7400000000000011,5.7400000000000011,3.98,3.98,3.9200000000000004,null,null,"CBD",7.37,7.06,7.06,4.96,5.73,5.19,null,{"$f":"$T$56","v":"Propylparaben"},{"$f":"VLOOKUP($T$56,$BS$8:$BY$48,2,FALSE)","v":4.95},{"$f":"VLOOKUP($T$56,$BS$8:$BY$48,3,FALSE)","v":4.8},{"$f":"VLOOKUP($T$56,$BS$8:$BY$48,4,FALSE)","v":5.0999999999999996},{"$f":"VLOOKUP($T$56,$BS$8:$BY$48,5,FALSE)","v":5.2000000000000011},{"$f":"VLOOKUP($T$56,$BS$8:$BY$48,6,FALSE)","v":5.43},{"$f":"VLOOKUP($T$56,$BS$8:$BY$48,7,FALSE)","v":5.2700000000000005},null,null,"CBD",{"$f":"'1'!D73","v":0},{"$f":"'1'!E73","v":0.210843845180164},{"$f":"'1'!F73","v":0.27751820842667102},{"$f":"'1'!G73","v":0.234196851515968},{"$f":"'1'!H73","v":9.9494846201649903E-2},{"$f":"'1'!I73","v":1.89632017753729E-2},{"$f":"'1'!J73","v":2.3607259925508099E-3},{"$f":"'1'!K73","v":3.4779967313286501E-3},{"$f":"'1'!L73","v":3.3229093560350198E-3},{"$f":"'1'!M73","v":0},{"$f":"'1'!N73","v":0},{"$f":"'1'!O73","v":0},{"$f":"'1'!P73","v":0},{"$f":"'1'!Q73","v":0},{"$f":"'1'!R73","v":0},{"$f":"'1'!S73","v":0},null,null,"CBD",{"$f":"HLOOKUP($DD$7,$CJ$7:$CZ$48,18,FALSE)","v":0.27751820842667102},null,null,"CBD",{"$f":"IF($C$4=2.7,'1'!D141,IF($C$4=4.5,'1'!G141,IF($C$4=7,'1'!J141,IF($C$4=9,'1'!M141,FALSE))))","v":1.06},{"$f":"IF($C$4=2.7,'1'!E141,IF($C$4=4.5,'1'!H141,IF($C$4=7,'1'!K141,IF($C$4=9,'1'!N141,FALSE))))","v":1.1299999999999999},{"$f":"IF($C$4=2.7,'1'!F141,IF($C$4=4.5,'1'!I141,IF($C$4=7,'1'!L141,IF($C$4=9,'1'!O141,FALSE))))","v":1.04},null,null,"CBD",{"$f":"HLOOKUP($DN$7,$DG$7:$DJ$48,18,FALSE)","v":1.06},null,null,"CBD",9.1300000000000008,null,2,null,4.5,99.994988378839778,5.0116211602215799E-3]
[null,"Numéro du mix",{"$f":"calculation2!R78","v":1},null,null,null,null,"CBN",{"$f":"IF($C$4=2.7,'1'!D28,IF($C$4=4.5,'1'!AB28,IF($C$4=7,'1'!AZ28,IF($C$4=9,'1'!BX28,\"FAUX\"))))","v":6.39},{"$f":"IF($C$4=2.7,'1'!E28,IF($C$4=4.5,'1'!AC28,IF($C$4=7,'1'!BA28,IF($C$4=9,'1'!BY28,\"FAUX\"))))","v":6.14},{"$f":"IF($C$4=2.7,'1'!F28,IF($C$4=4.5,'1'!AD28,IF($C$4=7,'1'!BB28,IF($C$4=9,'1'!BZ28,\"FAUX\"))))","v":7.06},{"$f":"IF($C$4=2.7,'1'!G28,IF($C$4=4.5,'1'!AE28,IF($C$4=7,'1'!BC28,IF($C$4=9,'1'!CA28,\"FAUX\"))))","v":7.06},{"$f":"IF($C$4=2.7,'1'!H28,IF($C$4=4.5,'1'!AF28,IF($C$4=7,'1'!BD28,IF($C$4=9,'1'!CB28,\"FAUX\"))))","v":5.88},{"$f":"IF($C$4=2.7,'1'!I28,IF($C$4=4.5,'1'!AG28,IF($C$4=7,'1'!BE28,IF($C$4=9,'1'!CC28,\"FAUX\"))))","v":5.34},{"$f":"IF($C$4=2.7,'1'!J28,IF($C$4=4.5,'1'!AH28,IF($C$4=7,'1'!BF28,IF($C$4=9,'1'!CD28,\"FAUX\"))))","v":6.92},{"$f":"IF($C$4=2.7,'1'!K28,IF($C$4=4.5,'1'!AI28,IF($C$4=7,'1'!BG28,IF($C$4=9,'1'!CE28,\"FAUX\"))))","v":6.51},{"$f":"IF($C$4=2.7,'1'!L28,IF($C$4=4.5,'1'!AJ28,IF($C$4=7,'1'!BH28,IF($C$4=9,'1'!CF28,\"FAUX\"))))","v":6.06},{"$f":"IF($C$4=2.7,'1'!M28,IF($C$4=4.5,'1'!AK28,IF($C$4=7,'1'!BI28,IF($C$4=9,'1'!CG28,\"FAUX\"))))","v":5.43},{"$f":"IF($C$4=2.7,'1'!N28,IF($C$4=4.5,'1'!AL28,IF($C$4=7,'1'!BJ28,IF($C$4=9,'1'!CH28,\"FAUX\"))))","v":7.22},{"$f":"IF($C$4=2.7,'1'!O28,IF($C$4=4.5,'1'!AM28,IF($C$4=7,'1'!BK28,IF($C$4=9,'1'!CI28,\"FAUX\"))))","v":6.64},{"$f":"IF($C$4=2.7,'1'!P28,IF($C$4=4.5,'1'!AN28,IF($C$4=7,'1'!BL28,IF($C$4=9,'1'!CJ28,\"FAUX\"))))","v":3.92},{"$f":"IF($C$4=2.7,'1'!Q28,IF($C$4=4.5,'1'!AO28,IF($C$4=7,'1'!BM28,IF($C$4=9,'1'!CK28,\"FAUX\"))))","v":3.99},{"$f":"IF($C$4=2.7,'1'!R28,IF($C$4=4.5,'1'!AP28,IF($C$4=7,'1'!BN28,IF($C$4=9,'1'!CL28,\"FAUX\"))))","v":4.4400000000000004},{"$f":"IF($C$4=2.7,'1'!S28,IF($C$4=4.5,'1'!AQ28,IF($C$4=7,'1'!BO28,IF($C$4=9,'1'!CM28,\"FAUX\"))))","v":4.82},{"$f":"IF($C$4=2.7,'1'!T28,IF($C$4=4.5,'1'!AR28,IF($C$4=7,'1'!BP28,IF($C$4=9,'1'!CN28,\"FAUX\"))))","v":3.88},{"$f":"IF($C$4=2.7,'1'!U28,IF($C$4=4.5,'1'!AS28,IF($C$4=7,'1'!BQ28,IF($C$4=9,'1'!CO28,\"FAUX\"))))","v":3.87},{"$f":"IF($C$4=2.7,'1'!V28,IF($C$4=4.5,'1'!AT28,IF($C$4=7,'1'!BR28,IF($C$4=9,'1'!CP28,\"FAUX\"))))","v":5.19},{"$f":"IF($C$4=2.7,'1'!W28,IF($C$4=4.5,'1'!AU28,IF($C$4=7,'1'!BS28,IF($C$4=9,'1'!CQ28,\"FAUX\"))))","v":5.45},{"$f":"IF($C$4=2.7,'1'!X28,IF($C$4=4.5,'1'!AV28,IF($C$4=7,'1'!BT28,IF($C$4=9,'1'!CR28,\"FAUX\"))))","v":3.88},{"$f":"IF($C$4=2.7,'1'!Y28,IF($C$4=4.5,'1'!AW28,IF($C$4=7,'1'!BU28,IF($C$4=9,'1'!CS28,\"FAUX\"))))","v":3.82},{"$f":"IF($C$4=2.7,'1'!Z28,IF($C$4=4.5,'1'!AX28,IF($C$4=7,'1'!BV28,IF($C$4=9,'1'!CT28,\"FAUX\"))))","v":4.82},{"$f":"IF($C$4=2.7,'1'!AA28,IF($C$4=4.5,'1'!AY28,IF($C$4=7,'1'!BW28,IF($C$4=9,'1'!CU28,\"FAUX\"))))","v":4.96},null,null,"CBN",-8.3333333333333332E-3,6.64,0,7.06,-1.8000000000000002E-2,6.42,-1.3666666666666671E-2,7.33,-2.0999999999999998E-2,6.6899999999999995,-1.9333333333333334E-2,7.8,2.3333333333333426E-3,3.8499999999999996,1.2666666666666663E-2,4.0600000000000005,-3.3333333333332622E-4,3.8899999999999997,8.6666666666666593E-3,4.9300000000000006,-2.0000000000000018E-3,3.9399999999999995,4.6666666666666558E-3,4.6800000000000015,null,null,"CBN",6.39,5.88,6.06,3.92,3.88,3.8799999999999994,null,null,"CBN",7.06,6.92,7.22,4.4400000000000004,5.19,4.8200000000000012,null,{"$f":"$U$56","v":"Butylparaben"},{"$f":"VLOOKUP($U$56,$BS$8:$BY$48,2,FALSE)","v":5.36},{"$f":"VLOOKUP($U$56,$BS$8:$BY$48,3,FALSE)","v":5.19},{"$f":"VLOOKUP($U$56,$BS$8:$BY$48,4,FALSE)","v":5.45},{"$f":"VLOOKUP($U$56,$BS$8:$BY$48,5,FALSE)","v":4.92},{"$f":"VLOOKUP($U$56,$BS$8:$BY$48,6,FALSE)","v":5.68},{"$f":"VLOOKUP($U$56,$BS$8:$BY$48,7,FALSE)","v":5.2299999999999995},null,null,"CBN",{"$f":"'1'!D74","v":0},{"$f":"'1'!E74","v":0.20722369919434899},{"$f":"'1'!F74","v":0.41861121002812501},{"$f":"'1'!G74","v":0.34644904092978501},{"$f":"'1'!H74","v":0.16905785965273901},{"$f":"'1'!I74","v":3.8600194092758999E-2},{"$f":"'1'!J74","v":4.8415737067851197E-2},{"$f":"'1'!K74","v":8.8661096969732803E-2},{"$f":"'1'!L74","v":0.11687475289785999},{"$f":"'1'!M74","v":0.114013065382991},{"$f":"'1'!N74","v":7.7995441404511506E-2},{"$f":"'1'!O74","v":2.90029113736875E-2},{"$f":"'1'!P74","v":5.0412696556973403E-3},{"$f":"'1'!Q74","v":0},{"$f":"'1'!R74","v":0},{"$f":"'1'!S74","v":0},null,null,"CBN",{"$f":"HLOOKUP($DD$7,$CJ$7:$CZ$48,19,FALSE)","v":0.41861121002812501},null,null,"CBN",{"$f":"IF($C$4=2.7,'1'!D142,IF($C$4=4.5,'1'!G142,IF($C$4=7,'1'!J142,IF($C$4=9,'1'!M142,FALSE))))","v":1.1299999999999999},{"$f":"IF($C$4=2.7,'1'!E142,IF($C$4=4.5,'1'!H142,IF($C$4=7,'1'!K142,IF($C$4=9,'1'!N142,FALSE))))","v":1.1100000000000001},{"$f":"IF($C$4=2.7,'1'!F142,IF($C$4=4.5,'1'!I142,IF($C$4=7,'1'!L142,IF($C$4=9,'1'!O142,FALSE))))","v":1.0900000000000001},null,null,"CBN",{"$f":"HLOOKUP($DN$7,$DG$7:$DJ$48,19,FALSE)","v":1.1299999999999999},null,null,"CBN",9.32,null,2,null,5,99.984153579563781,1.5846420436218978E-2]
[null,"%solvant",{"$f":"calculation2!E81","v":40},"%",null,null,null,"THC-A",{"$f":"IF($C$4=2.7,'1'!D29,IF($C$4=4.5,'1'!AB29,IF($C$4=7,'1'!AZ29,IF($C$4=9,'1'!BX29,\"FAUX\"))))","v":7.32},{"$f":"IF($C$4=2.7,'1'!E29,IF($C$4=4.5,'1'!AC29,IF($C$4=7,'1'!BA29,IF($C$4=9,'1'!BY29,\"FAUX\"))))","v":6.49},{"$f":"IF($C$4=2.7,'1'!F29,IF($C$4=4.5,'1'!AD29,IF($C$4=7,'1'!BB29,IF($C$4=9,'1'!BZ29,\"FAUX\"))))","v":8.9499999999999993},{"$f":"IF($C$4=2.7,'1'!G29,IF($C$4=4.5,'1'!AE29,IF($C$4=7,'1'!BC29,IF($C$4=9,'1'!CA29,\"FAUX\"))))","v":8.2899999999999991},{"$f":"IF($C$4=2.7,'1'!H29,IF($C$4=4.5,'1'!AF29,IF($C$4=7,'1'!BD29,IF($C$4=9,'1'!CB29,\"FAUX\"))))","v":6.13},{"$f":"IF($C$4=2.7,'1'!I29,IF($C$4=4.5,'1'!AG29,IF($C$4=7,'1'!BE29,IF($C$4=9,'1'!CC29,\"FAUX\"))))","v":5.54},{"$f":"IF($C$4=2.7,'1'!J29,IF($C$4=4.5,'1'!AH29,IF($C$4=7,'1'!BF29,IF($C$4=9,'1'!CD29,\"FAUX\"))))","v":7.9},{"$f":"IF($C$4=2.7,'1'!K29,IF($C$4=4.5,'1'!AI29,IF($C$4=7,'1'!BG29,IF($C$4=9,'1'!CE29,\"FAUX\"))))","v":7.54},{"$f":"IF($C$4=2.7,'1'!L29,IF($C$4=4.5,'1'!AJ29,IF($C$4=7,'1'!BH29,IF($C$4=9,'1'!CF29,\"FAUX\"))))","v":6.23},{"$f":"IF($C$4=2.7,'1'!M29,IF($C$4=4.5,'1'!AK29,IF($C$4=7,'1'!BI29,IF($C$4=9,'1'!CG29,\"FAUX\"))))","v":5.59},{"$f":"IF($C$4=2.7,'1'!N29,IF($C$4=4.5,'1'!AL29,IF($C$4=7,'1'!BJ29,IF($C$4=9,'1'!CH29,\"FAUX\"))))","v":7.9},{"$f":"IF($C$4=2.7,'1'!O29,IF($C$4=4.5,'1'!AM29,IF($C$4=7,'1'!BK29,IF($C$4=9,'1'!CI29,\"FAUX\"))))","v":7.37},{"$f":"IF($C$4=2.7,'1'!P29,IF($C$4=4.5,'1'!AN29,IF($C$4=7,'1'!BL29,IF($C$4=9,'1'!CJ29,\"FAUX\"))))","v":4.18},{"$f":"IF($C$4=2.7,'1'!Q29,IF($C$4=4.5,'1'!AO29,IF($C$4=7,'1'!BM29,IF($C$4=9,'1'!CK29,\"FAUX\"))))","v":4.26},{"$f":"IF($C$4=2.7,'1'!R29,IF($C$4=4.5,'1'!AP29,IF($C$4=7,'1'!BN29,IF($C$4=9,'1'!CL29,\"FAUX\"))))","v":6.91},{"$f":"IF($C$4=2.7,'1'!S29,IF($C$4=4.5,'1'!AQ29,IF($C$4=7,'1'!BO29,IF($C$4=9,'1'!CM29,\"FAUX\"))))","v":7.37},{"$f":"IF($C$4=2.7,'1'!T29,IF($C$4=4.5,'1'!AR29,IF($C$4=7,'1'!BP29,IF($C$4=9,'1'!CN29,\"FAUX\"))))","v":7.23},{"$f":"IF($C$4=2.7,'1'!U29,IF($C$4=4.5,'1'!AS29,IF($C$4=7,'1'!BQ29,IF($C$4=9,'1'!CO29,\"FAUX\"))))","v":4.2300000000000004},{"$f":"IF($C$4=2.7,'1'!V29,IF($C$4=4.5,'1'!AT29,IF($C$4=7,'1'!BR29,IF($C$4=9,'1'!CP29,\"FAUX\"))))","v":14.3},{"$f":"IF($C$4=2.7,'1'!W29,IF($C$4=4.5,'1'!AU29,IF($C$4=7,'1'!BS29,IF($C$4=9,'1'!CQ29,\"FAUX\"))))","v":8.2899999999999991},{"$f":"IF($C$4=2.7,'1'!X29,IF($C$4=4.5,'1'!AV29,IF($C$4=7,'1'!BT29,IF($C$4=9,'1'!CR29,\"FAUX\"))))","v":4.04},{"$f":"IF($C$4=2.7,'1'!Y29,IF($C$4=4.5,'1'!AW29,IF($C$4=7,'1'!BU29,IF($C$4=9,'1'!CS29,\"FAUX\"))))","v":3.84},{"$f":"IF($C$4=2.7,'1'!Z29,IF($C$4=4.5,'1'!AX29,IF($C$4=7,'1'!BV29,IF($C$4=9,'1'!CT29,\"FAUX\"))))","v":6.91},{"$f":"IF($C$4=2.7,'1'!AA29,IF($C$4=4.5,'1'!AY29,IF($C$4=7,'1'!BW29,IF($C$4=9,'1'!CU29,\"FAUX\"))))","v":6.64},null,null,"THC-A",-2.7666666666666669E-2,8.15,-2.2000000000000006E-2,9.61,-1.9666666666666662E-2,6.72,-1.2000000000000011E-2,8.2600000000000016,-2.1333333333333353E-2,6.870000000000001,-1.7666666666666674E-2,8.43,2.6666666666666692E-3,4.0999999999999996,1.5333333333333332E-2,6.4500000000000011,-0.1,10.23,-0.20033333333333339,20.310000000000002,-6.6666666666666723E-3,4.24,-9.0000000000000149E-3,7.1800000000000015,null,null,"THC-A",7.32,6.13,6.23,4.18,7.23,4.04,null,null,"THC-A",8.9499999999999993,7.9000000000000012,7.8999999999999995,6.910000000000001,14.3,6.910000000000001,null,{"$f":"$V$56","v":""},{"$f":"VLOOKUP($V$56,$BS$8:$BY$48,2,FALSE)","v":0},{"$f":"VLOOKUP($V$56,$BS$8:$BY$48,3,FALSE)","v":0},{"$f":"VLOOKUP($V$56,$BS$8:$BY$48,4,FALSE)","v":0},{"$f":"VLOOKUP($V$56,$BS$8:$BY$48,5,FALSE)","v":0},{"$f":"VLOOKUP($V$56,$BS$8:$BY$48,6,FALSE)","v":0},{"$f":"VLOOKUP($V$56,$BS$8:$BY$48,7,FALSE)","v":0},null,null,"THC-A",{"$f":"'1'!D75","v":0},{"$f":"'1'!E75","v":0.115183760510304},{"$f":"'1'!F75","v":0.35087404827859597},{"$f":"'1'!G75","v":0.32559277294195499},{"$f":"'1'!H75","v":0.13574245946765101},{"$f":"'1'!I75","v":4.5275369459798799E-2},{"$f":"'1'!J75","v":5.7749226880726999E-2},{"$f":"'1'!K75","v":7.8809091994090599E-2},{"$f":"'1'!L75","v":5.31404376851543E-2},{"$f":"'1'!M75","v":2.44595187079867E-2},{"$f":"'1'!N75","v":2.9033185165465401E-2},{"$f":"'1'!O75","v":2.8720297829634998E-2},{"$f":"'1'!P75","v":1.6458639968626398E-2},{"$f":"'1'!Q75","v":3.9625922133254997E-3},{"$f":"'1'!R75","v":0},{"$f":"'1'!S75","v":0},null,null,"THC-A",{"$f":"HLOOKUP($DD$7,$CJ$7:$CZ$48,20,FALSE)","v":0.35087404827859597},null,null,"THC-A",{"$f":"IF($C$4=2.7,'1'!D143,IF($C$4=4.5,'1'!G143,IF($C$4=7,'1'!J143,IF($C$4=9,'1'!M143,FALSE))))","v":1.1100000000000001},{"$f":"IF($C$4=2.7,'1'!E143,IF($C$4=4.5,'1'!H143,IF($C$4=7,'1'!K143,IF($C$4=9,'1'!N143,FALSE))))","v":1.07},{"$f":"IF($C$4=2.7,'1'!F143,IF($C$4=4.5,'1'!I143,IF($C$4=7,'1'!L143,IF($C$4=9,'1'!O143,FALSE))))","v":1.1000000000000001},null,null,"THC-A",{"$f":"HLOOKUP($DN$7,$DG$7:$DJ$48,20,FALSE)","v":1.1100000000000001},null,null,"THC-A",2.89,null,2,null,5.5,99.949906382918627,5.0093617081373054E-2]
[null,"Initial time",0,"min",null,null,null,"CBD-A",{"$f":"IF($C$4=2.7,'1'!D30,IF($C$4=4.5,'1'!AB30,IF($C$4=7,'1'!AZ30,IF($C$4=9,'1'!BX30,\"FAUX\"))))","v":6.11},{"$f":"IF($C$4=2.7,'1'!E30,IF($C$4=4.5,'1'!AC30,IF($C$4=7,'1'!BA30,IF($C$4=9,'1'!BY30,\"FAUX\"))))","v":5.67},{"$f":"IF($C$4=2.7,'1'!F30,IF($C$4=4.5,'1'!AD30,IF($C$4=7,'1'!BB30,IF($C$4=9,'1'!BZ30,\"FAUX\"))))","v":8.2899999999999991},{"$f":"IF($C$4=2.7,'1'!G30,IF($C$4=4.5,'1'!AE30,IF($C$4=7,'1'!BC30,IF($C$4=9,'1'!CA30,\"FAUX\"))))","v":8.09},{"$f":"IF($C$4=2.7,'1'!H30,IF($C$4=4.5,'1'!AF30,IF($C$4=7,'1'!BD30,IF($C$4=9,'1'!CB30,\"FAUX\"))))","v":5.43},{"$f":"IF($C$4=2.7,'1'!I30,IF($C$4=4.5,'1'!AG30,IF($C$4=7,'1'!BE30,IF($C$4=9,'1'!CC30,\"FAUX\"))))","v":5.21},{"$f":"IF($C$4=2.7,'1'!J30,IF($C$4=4.5,'1'!AH30,IF($C$4=7,'1'!BF30,IF($C$4=9,'1'!CD30,\"FAUX\"))))","v":7.71},{"$f":"IF($C$4=2.7,'1'!K30,IF($C$4=4.5,'1'!AI30,IF($C$4=7,'1'!BG30,IF($C$4=9,'1'!CE30,\"FAUX\"))))","v":7.9},{"$f":"IF($C$4=2.7,'1'!L30,IF($C$4=4.5,'1'!AJ30,IF($C$4=7,'1'!BH30,IF($C$4=9,'1'!CF30,\"FAUX\"))))","v":5.33},{"$f":"IF($C$4=2.7,'1'!M30,IF($C$4=4.5,'1'!AK30,IF($C$4=7,'1'!BI30,IF($C$4=9,'1'!CG30,\"FAUX\"))))","v":5.17},{"$f":"IF($C$4=2.7,'1'!N30,IF($C$4=4.5,'1'!AL30,IF($C$4=7,'1'!BJ30,IF($C$4=9,'1'!CH30,\"FAUX\"))))","v":7.37},{"$f":"IF($C$4=2.7,'1'!O30,IF($C$4=4.5,'1'!AM30,IF($C$4=7,'1'!BK30,IF($C$4=9,'1'!CI30,\"FAUX\"))))","v":7.54},{"$f":"IF($C$4=2.7,'1'!P30,IF($C$4=4.5,'1'!AN30,IF($C$4=7,'1'!BL30,IF($C$4=9,'1'!CJ30,\"FAUX\"))))","v":4.3600000000000003},{"$f":"IF($C$4=2.7,'1'!Q30,IF($C$4=4.5,'1'!AO30,IF($C$4=7,'1'!BM30,IF($C$4=9,'1'!CK30,\"FAUX\"))))","v":4.4400000000000004},{"$f":"IF($C$4=2.7,'1'!R30,IF($C$4=4.5,'1'!AP30,IF($C$4=7,'1'!BN30,IF($C$4=9,'1'!CL30,\"FAUX\"))))","v":8.5},{"$f":"IF($C$4=2.7,'1'!S30,IF($C$4=4.5,'1'!AQ30,IF($C$4=7,'1'!BO30,IF($C$4=9,'1'!CM30,\"FAUX\"))))","v":8.9499999999999993},{"$f":"IF($C$4=2.7,'1'!T30,IF($C$4=4.5,'1'!AR30,IF($C$4=7,'1'!BP30,IF($C$4=9,'1'!CN30,\"FAUX\"))))","v":4.21},{"$f":"IF($C$4=2.7,'1'!U30,IF($C$4=4.5,'1'!AS30,IF($C$4=7,'1'!BQ30,IF($C$4=9,'1'!CO30,\"FAUX\"))))","v":4.0999999999999996},{"$f":"IF($C$4=2.7,'1'!V30,IF($C$4=4.5,'1'!AT30,IF($C$4=7,'1'!BR30,IF($C$4=9,'1'!CP30,\"FAUX\"))))","v":8.9499999999999993},{"$f":"IF($C$4=2.7,'1'!W30,IF($C$4=4.5,'1'!AU30,IF($C$4=7,'1'!BS30,IF($C$4=9,'1'!CQ30,\"FAUX\"))))","v":8.9499999999999993},{"$f":"IF($C$4=2.7,'1'!X30,IF($C$4=4.5,'1'!AV30,IF($C$4=7,'1'!BT30,IF($C$4=9,'1'!CR30,\"FAUX\"))))","v":4.16},{"$f":"IF($C$4=2.7,'1'!Y30,IF($C$4=4.5,'1'!AW30,IF($C$4=7,'1'!BU30,IF($C$4=9,'1'!CS30,\"FAUX\"))))","v":3.85},{"$f":"IF($C$4=2.7,'1'!Z30,IF($C$4=4.5,'1'!AX30,IF($C$4=7,'1'!BV30,IF($C$4=9,'1'!CT30,\"FAUX\"))))","v":8.09},{"$f":"IF($C$4=2.7,'1'!AA30,IF($C$4=4.5,'1'!AY30,IF($C$4=7,'1'!BW30,IF($C$4=9,'1'!CU30,\"FAUX\"))))","v":7.54},null,null,"CBD-A",-1.466666666666668E-2,6.5500000000000007,-6.6666666666666428E-3,8.4899999999999984,-7.3333333333333254E-3,5.65,6.3333333333333462E-3,7.52,-5.3333333333333384E-3,5.49,5.6666666666666645E-3,7.2,2.6666666666666692E-3,4.28,1.4999999999999977E-2,8.0500000000000007,-3.6666666666666774E-3,4.32,0,8.9499999999999993,-1.0333333333333333E-2,4.47,-1.8333333333333326E-2,8.6399999999999988,null,null,"CBD-A",6.11,5.4300000000000006,5.33,4.3600000000000003,4.21,4.16,null,null,"CBD-A",8.2899999999999991,7.71,7.37,8.5,8.9499999999999993,8.09,null,{"$f":"$W$56","v":""},{"$f":"VLOOKUP($W$56,$BS$8:$BY$48,2,FALSE)","v":0},{"$f":"VLOOKUP($W$56,$BS$8:$BY$48,3,FALSE)","v":0},{"$f":"VLOOKUP($W$56,$BS$8:$BY$48,4,FALSE)","v":0},{"$f":"VLOOKUP($W$56,$BS$8:$BY$48,5,FALSE)","v":0},{"$f":"VLOOKUP($W$56,$BS$8:$BY$48,6,FALSE)","v":0},{"$f":"VLOOKUP($W$56,$BS$8:$BY$48,7,FALSE)","v":0},null,null,"CBD-A",{"$f":"'1'!D76","v":0},{"$f":"'1'!E76","v":0.14304071853836201},{"$f":"'1'!F76","v":0.36255196151990399},{"$f":"'1'!G76","v":0.32668667582934102},{"$f":"'1'!H76","v":0.121118594282624},{"$f":"'1'!I76","v":4.8258847659245999E-2},{"$f":"'1'!J76","v":6.6644624356476403E-2},{"$f":"'1'!K76","v":7.8842313130249503E-2},{"$f":"'1'!L76","v":4.39155518921268E-2},{"$f":"'1'!M76","v":2.1633057147199701E-2},{"$f":"'1'!N76","v":2.8034760794644099E-2},{"$f":"'1'!O76","v":2.88122531784216E-2},{"$f":"'1'!P76","v":1.85297738996325E-2},{"$f":"'1'!Q76","v":5.9485943670751096E-3},{"$f":"'1'!R76","v":2.2002535399731499E-4},{"$f":"'1'!S76","v":0},null,null,"CBD-A",{"$f":"HLOOKUP($DD$7,$CJ$7:$CZ$48,21,FALSE)","v":0.36255196151990399},null,null,"CBD-A",{"$f":"IF($C$4=2.7,'1'!D144,IF($C$4=4.5,'1'!G144,IF($C$4=7,'1'!J144,IF($C$4=9,'1'!M144,FALSE))))","v":1.07},{"$f":"IF($C$4=2.7,'1'!E144,IF($C$4=4.5,'1'!H144,IF($C$4=7,'1'!K144,IF($C$4=9,'1'!N144,FALSE))))","v":1.04},{"$f":"IF($C$4=2.7,'1'!F144,IF($C$4=4.5,'1'!I144,IF($C$4=7,'1'!L144,IF($C$4=9,'1'!O144,FALSE))))","v":1.03},null,null,"CBD-A",{"$f":"HLOOKUP($DN$7,$DG$7:$DJ$48,21,FALSE)","v":1.07},null,null,"CBD-A",2.91,null,2,null,6,99.841761471919824,0.15823852808017591]
[null,"gradient time",{"$f":"calculation2!E82","v":30},"min",null,null,null,"CBG-A",{"$f":"IF($C$4=2.7,'1'!D31,IF($C$4=4.5,'1'!AB31,IF($C$4=7,'1'!AZ31,IF($C$4=9,'1'!BX31,\"FAUX\"))))","v":6.25},{"$f":"IF($C$4=2.7,'1'!E31,IF($C$4=4.5,'1'!AC31,IF($C$4=7,'1'!BA31,IF($C$4=9,'1'!BY31,\"FAUX\"))))","v":6.03},{"$f":"IF($C$4=2.7,'1'!F31,IF($C$4=4.5,'1'!AD31,IF($C$4=7,'1'!BB31,IF($C$4=9,'1'!BZ31,\"FAUX\"))))","v":8.2899999999999991},{"$f":"IF($C$4=2.7,'1'!G31,IF($C$4=4.5,'1'!AE31,IF($C$4=7,'1'!BC31,IF($C$4=9,'1'!CA31,\"FAUX\"))))","v":8.5},{"$f":"IF($C$4=2.7,'1'!H31,IF($C$4=4.5,'1'!AF31,IF($C$4=7,'1'!BD31,IF($C$4=9,'1'!CB31,\"FAUX\"))))","v":5.29},{"$f":"IF($C$4=2.7,'1'!I31,IF($C$4=4.5,'1'!AG31,IF($C$4=7,'1'!BE31,IF($C$4=9,'1'!CC31,\"FAUX\"))))","v":5.5},{"$f":"IF($C$4=2.7,'1'!J31,IF($C$4=4.5,'1'!AH31,IF($C$4=7,'1'!BF31,IF($C$4=9,'1'!CD31,\"FAUX\"))))","v":7.37},{"$f":"IF($C$4=2.7,'1'!K31,IF($C$4=4.5,'1'!AI31,IF($C$4=7,'1'!BG31,IF($C$4=9,'1'!CE31,\"FAUX\"))))","v":8.2899999999999991},{"$f":"IF($C$4=2.7,'1'!L31,IF($C$4=4.5,'1'!AJ31,IF($C$4=7,'1'!BH31,IF($C$4=9,'1'!CF31,\"FAUX\"))))","v":5.89},{"$f":"IF($C$4=2.7,'1'!M31,IF($C$4=4.5,'1'!AK31,IF($C$4=7,'1'!BI31,IF($C$4=9,'1'!CG31,\"FAUX\"))))","v":5.46},{"$f":"IF($C$4=2.7,'1'!N31,IF($C$4=4.5,'1'!AL31,IF($C$4=7,'1'!BJ31,IF($C$4=9,'1'!CH31,\"FAUX\"))))","v":8.09},{"$f":"IF($C$4=2.7,'1'!O31,IF($C$4=4.5,'1'!AM31,IF($C$4=7,'1'!BK31,IF($C$4=9,'1'!CI31,\"FAUX\"))))","v":7.9},{"$f":"IF($C$4=2.7,'1'!P31,IF($C$4=4.5,'1'!AN31,IF($C$4=7,'1'!BL31,IF($C$4=9,'1'!CJ31,\"FAUX\"))))","v":4.5},{"$f":"IF($C$4=2.7,'1'!Q31,IF($C$4=4.5,'1'!AO31,IF($C$4=7,'1'!BM31,IF($C$4=9,'1'!CK31,\"FAUX\"))))","v":4.46},{"$f":"IF($C$4=2.7,'1'!R31,IF($C$4=4.5,'1'!AP31,IF($C$4=7,'1'!BN31,IF($C$4=9,'1'!CL31,\"FAUX\"))))","v":8.5},{"$f":"IF($C$4=2.7,'1'!S31,IF($C$4=4.5,'1'!AQ31,IF($C$4=7,'1'!BO31,IF($C$4=9,'1'!CM31,\"FAUX\"))))","v":8.7200000000000006},{"$f":"IF($C$4=2.7,'1'!T31,IF($C$4=4.5,'1'!AR31,IF($C$4=7,'1'!BP31,IF($C$4=9,'1'!CN31,\"FAUX\"))))","v":4.34},{"$f":"IF($C$4=2.7,'1'!U31,IF($C$4=4.5,'1'!AS31,IF($C$4=7,'1'!BQ31,IF($C$4=9,'1'!CO31,\"FAUX\"))))","v":4.1100000000000003},{"$f":"IF($C$4=2.7,'1'!V31,IF($C$4=4.5,'1'!AT31,IF($C$4=7,'1'!BR31,IF($C$4=9,'1'!CP31,\"FAUX\"))))","v":8.9499999999999993},{"$f":"IF($C$4=2.7,'1'!W31,IF($C$4=4.5,'1'!AU31,IF($C$4=7,'1'!BS31,IF($C$4=9,'1'!CQ31,\"FAUX\"))))","v":8.7200000000000006},{"$f":"IF($C$4=2.7,'1'!X31,IF($C$4=4.5,'1'!AV31,IF($C$4=7,'1'!BT31,IF($C$4=9,'1'!CR31,\"FAUX\"))))","v":4.26},{"$f":"IF($C$4=2.7,'1'!Y31,IF($C$4=4.5,'1'!AW31,IF($C$4=7,'1'!BU31,IF($C$4=9,'1'!CS31,\"FAUX\"))))","v":4},{"$f":"IF($C$4=2.7,'1'!Z31,IF($C$4=4.5,'1'!AX31,IF($C$4=7,'1'!BV31,IF($C$4=9,'1'!CT31,\"FAUX\"))))","v":8.09},{"$f":"IF($C$4=2.7,'1'!AA31,IF($C$4=4.5,'1'!AY31,IF($C$4=7,'1'!BW31,IF($C$4=9,'1'!CU31,\"FAUX\"))))","v":7.71},null,null,"CBG-A",-7.3333333333333254E-3,6.4700000000000006,7.0000000000000288E-3,8.0799999999999983,6.9999999999999984E-3,5.08,3.0666666666666637E-2,6.4500000000000011,-1.4333333333333325E-2,6.3199999999999994,-6.3333333333333167E-3,8.2799999999999994,-1.3333333333333346E-3,4.5400000000000009,7.3333333333333549E-3,8.2799999999999976,-7.6666666666666515E-3,4.5699999999999985,-7.666666666666622E-3,9.18,-8.6666666666666593E-3,4.5199999999999996,-1.2666666666666663E-2,8.4700000000000006,null,null,"CBG-A",6.2500000000000009,5.29,5.89,4.5000000000000009,4.339999999999999,4.26,null,null,"CBG-A",8.2899999999999991,7.37,8.09,8.4999999999999982,8.9500000000000011,8.09,null,{"$f":"$X$56","v":""},{"$f":"VLOOKUP($X$56,$BS$8:$BY$48,2,FALSE)","v":0},{"$f":"VLOOKUP($X$56,$BS$8:$BY$48,3,FALSE)","v":0},{"$f":"VLOOKUP($X$56,$BS$8:$BY$48,4,FALSE)","v":0},{"$f":"VLOOKUP($X$56,$BS$8:$BY$48,5,FALSE)","v":0},{"$f":"VLOOKUP($X$56,$BS$8:$BY$48,6,FALSE)","v":0},{"$f":"VLOOKUP($X$56,$BS$8:$BY$48,7,FALSE)","v":0},null,null,"CBG-A",{"$f":"'1'!D77","v":0},{"$f":"'1'!E77","v":0.14315816638238699},{"$f":"'1'!F77","v":0.35168150429183598},{"$f":"'1'!G77","v":0.31411245080781802},{"$f":"'1'!H77","v":0.1176747471514},{"$f":"'1'!I77","v":4.7974833139792103E-2},{"$f":"'1'!J77","v":6.4052416430853104E-2},{"$f":"'1'!K77","v":7.1696703798686104E-2},{"$f":"'1'!L77","v":3.6235231615891303E-2},{"$f":"'1'!M77","v":1.86384965266795E-2},{"$f":"'1'!N77","v":2.38551596079291E-2},{"$f":"'1'!O77","v":2.28420716116262E-2},{"$f":"'1'!P77","v":1.3104249541454199E-2},{"$f":"'1'!Q77","v":3.4218321088016002E-3},{"$f":"'1'!R77","v":-3.3519788429644501E-4},{"$f":"'1'!S77","v":0},null,null,"CBG-A",{"$f":"HLOOKUP($DD$7,$CJ$7:$CZ$48,22,FALSE)","v":0.35168150429183598},null,null,"CBG-A",{"$f":"IF($C$4=2.7,'1'!D145,IF($C$4=4.5,'1'!G145,IF($C$4=7,'1'!J145,IF($C$4=9,'1'!M145,FALSE))))","v":1.03},{"$f":"IF($C$4=2.7,'1'!E145,IF($C$4=4.5,'1'!H145,IF($C$4=7,'1'!K145,IF($C$4=9,'1'!N145,FALSE))))","v":1.08},{"$f":"IF($C$4=2.7,'1'!F145,IF($C$4=4.5,'1'!I145,IF($C$4=7,'1'!L145,IF($C$4=9,'1'!O145,FALSE))))","v":1.06},null,null,"CBG-A",{"$f":"HLOOKUP($DN$7,$DG$7:$DJ$48,22,FALSE)","v":1.03},null,null,"CBG-A",2.91,null,2,null,6.5,99.501312126331214,0.49868787366878564]
[null,"%Bini",{"$f":"calculation2!E83","v":5},"%",null,null,"Mix 5","Salbutamol",{"$f":"IF($C$4=2.7,'1'!D32,IF($C$4=4.5,'1'!AB32,IF($C$4=7,'1'!AZ32,IF($C$4=9,'1'!BX32,\"FAUX\"))))","v":1.46},{"$f":"IF($C$4=2.7,'1'!E32,IF($C$4=4.5,'1'!AC32,IF($C$4=7,'1'!BA32,IF($C$4=9,'1'!BY32,\"FAUX\"))))","v":1.3},{"$f":"IF($C$4=2.7,'1'!F32,IF($C$4=4.5,'1'!AD32,IF($C$4=7,'1'!BB32,IF($C$4=9,'1'!BZ32,\"FAUX\"))))","v":8.66},{"$f":"IF($C$4=2.7,'1'!G32,IF($C$4=4.5,'1'!AE32,IF($C$4=7,'1'!BC32,IF($C$4=9,'1'!CA32,\"FAUX\"))))","v":8.59},{"$f":"IF($C$4=2.7,'1'!H32,IF($C$4=4.5,'1'!AF32,IF($C$4=7,'1'!BD32,IF($C$4=9,'1'!CB32,\"FAUX\"))))","v":1.1599999999999999},{"$f":"IF($C$4=2.7,'1'!I32,IF($C$4=4.5,'1'!AG32,IF($C$4=7,'1'!BE32,IF($C$4=9,'1'!CC32,\"FAUX\"))))","v":0.94599999999999995},{"$f":"IF($C$4=2.7,'1'!J32,IF($C$4=4.5,'1'!AH32,IF($C$4=7,'1'!BF32,IF($C$4=9,'1'!CD32,\"FAUX\"))))","v":6.66},{"$f":"IF($C$4=2.7,'1'!K32,IF($C$4=4.5,'1'!AI32,IF($C$4=7,'1'!BG32,IF($C$4=9,'1'!CE32,\"FAUX\"))))","v":5.9},{"$f":"IF($C$4=2.7,'1'!L32,IF($C$4=4.5,'1'!AJ32,IF($C$4=7,'1'!BH32,IF($C$4=9,'1'!CF32,\"FAUX\"))))","v":1.36},{"$f":"IF($C$4=2.7,'1'!M32,IF($C$4=4.5,'1'!AK32,IF($C$4=7,'1'!BI32,IF($C$4=9,'1'!CG32,\"FAUX\"))))","v":1.19},{"$f":"IF($C$4=2.7,'1'!N32,IF($C$4=4.5,'1'!AL32,IF($C$4=7,'1'!BJ32,IF($C$4=9,'1'!CH32,\"FAUX\"))))","v":8.33},{"$f":"IF($C$4=2.7,'1'!O32,IF($C$4=4.5,'1'!AM32,IF($C$4=7,'1'!BK32,IF($C$4=9,'1'!CI32,\"FAUX\"))))","v":7.84},{"$f":"IF($C$4=2.7,'1'!P32,IF($C$4=4.5,'1'!AN32,IF($C$4=7,'1'!BL32,IF($C$4=9,'1'!CJ32,\"FAUX\"))))","v":1.8},{"$f":"IF($C$4=2.7,'1'!Q32,IF($C$4=4.5,'1'!AO32,IF($C$4=7,'1'!BM32,IF($C$4=9,'1'!CK32,\"FAUX\"))))","v":1.35},{"$f":"IF($C$4=2.7,'1'!R32,IF($C$4=4.5,'1'!AP32,IF($C$4=7,'1'!BN32,IF($C$4=9,'1'!CL32,\"FAUX\"))))","v":23.1},{"$f":"IF($C$4=2.7,'1'!S32,IF($C$4=4.5,'1'!AQ32,IF($C$4=7,'1'!BO32,IF($C$4=9,'1'!CM32,\"FAUX\"))))","v":17.7},{"$f":"IF($C$4=2.7,'1'!T32,IF($C$4=4.5,'1'!AR32,IF($C$4=7,'1'!BP32,IF($C$4=9,'1'!CN32,\"FAUX\"))))","v":1.07},{"$f":"IF($C$4=2.7,'1'!U32,IF($C$4=4.5,'1'!AS32,IF($C$4=7,'1'!BQ32,IF($C$4=9,'1'!CO32,\"FAUX\"))))","v":1.1399999999999999},{"$f":"IF($C$4=2.7,'1'!V32,IF($C$4=4.5,'1'!AT32,IF($C$4=7,'1'!BR32,IF($C$4=9,'1'!CP32,\"FAUX\"))))","v":12.1},{"$f":"IF($C$4=2.7,'1'!W32,IF($C$4=4.5,'1'!AU32,IF($C$4=7,'1'!BS32,IF($C$4=9,'1'!CQ32,\"FAUX\"))))","v":15.1},{"$f":"IF($C$4=2.7,'1'!X32,IF($C$4=4.5,'1'!AV32,IF($C$4=7,'1'!BT32,IF($C$4=9,'1'!CR32,\"FAUX\"))))","v":1.5},{"$f":"IF($C$4=2.7,'1'!Y32,IF($C$4=4.5,'1'!AW32,IF($C$4=7,'1'!BU32,IF($C$4=9,'1'!CS32,\"FAUX\"))))","v":1.1000000000000001},{"$f":"IF($C$4=2.7,'1'!Z32,IF($C$4=4.5,'1'!AX32,IF($C$4=7,'1'!BV32,IF($C$4=9,'1'!CT32,\"FAUX\"))))","v":18.399999999999999},{"$f":"IF($C$4=2.7,'1'!AA32,IF($C$4=4.5,'1'!AY32,IF($C$4=7,'1'!BW32,IF($C$4=9,'1'!CU32,\"FAUX\"))))","v":13.4},null,"Mix 5","Salbutamol",-5.3333333333333306E-3,1.6199999999999997,-2.3333333333333426E-3,8.73,-7.1333333333333327E-3,1.3739999999999999,-2.5333333333333326E-2,7.42,-5.6666666666666723E-3,1.5300000000000002,-1.6333333333333342E-2,8.8200000000000021,-1.4999999999999999E-2,2.25,-0.18000000000000008,28.5,2.3333333333333279E-3,1.0000000000000002,0.1,9.1,-1.3333333333333329E-2,1.9,-0.1666666666666666,23.399999999999995,null,"Mix 5","Salbutamol",1.4599999999999997,1.1599999999999999,1.36,1.8,1.07,1.5,null,"Mix 5","Salbutamol",8.66,6.66,8.3300000000000018,23.099999999999998,12.1,18.399999999999999,null,null,null,null,null,null,null,null,null,"Mix 5","Salbutamol",{"$f":"'1'!D78","v":0.61029209613269197},{"$f":"'1'!E78","v":0.19023226648458899},{"$f":"'1'!F78","v":0.204803909663341},{"$f":"'1'!G78","v":0.150852193313431},{"$f":"'1'!H78","v":1.80050680890253E-2},{"$f":"'1'!I78","v":4.74268501514305E-3},{"$f":"'1'!J78","v":1.4268579583617399E-2},{"$f":"'1'!K78","v":3.0057562284259199E-2},{"$f":"'1'!L78","v":3.41425089727782E-2},{"$f":"'1'!M78","v":8.1067307545713198E-3},{"$f":"'1'!N78","v":-4.46088162857302E-4},{"$f":"'1'!O78","v":-4.8964409567384105E-4},{"$f":"'1'!P78","v":-3.8060324448900199E-4},{"$f":"'1'!Q78","v":-3.5030644091129097E-4},{"$f":"'1'!R78","v":-3.0256452276042199E-4},{"$f":"'1'!S78","v":-2.8870861664493801E-4},null,"Mix 5","Salbutamol",{"$f":"HLOOKUP($DD$7,$CJ$7:$CZ$48,23,FALSE)","v":0.204803909663341},null,"Mix 5","Salbutamol",{"$f":"IF($C$4=2.7,'1'!D146,IF($C$4=4.5,'1'!G146,IF($C$4=7,'1'!J146,IF($C$4=9,'1'!M146,FALSE))))","v":1.1399999999999999},{"$f":"IF($C$4=2.7,'1'!E146,IF($C$4=4.5,'1'!H146,IF($C$4=7,'1'!K146,IF($C$4=9,'1'!N146,FALSE))))","v":1.1200000000000001},{"$f":"IF($C$4=2.7,'1'!F146,IF($C$4=4.5,'1'!I146,IF($C$4=7,'1'!L146,IF($C$4=9,'1'!O146,FALSE))))","v":1.21},null,"Mix 5","Salbutamol",{"$f":"HLOOKUP($DN$7,$DG$7:$DJ$48,23,FALSE)","v":1.1399999999999999},null,"Mix 5","Salbutamol",null,9.4,1,null,7,98.439833775817036,1.5601662241829644]
[null,"%Bfin",{"$f":"calculation2!E84","v":50},"%",null,null,null,"Impurity B",{"$f":"IF($C$4=2.7,'1'!D33,IF($C$4=4.5,'1'!AB33,IF($C$4=7,'1'!AZ33,IF($C$4=9,'1'!BX33,\"FAUX\"))))","v":1.53},{"$f":"IF($C$4=2.7,'1'!E33,IF($C$4=4.5,'1'!AC33,IF($C$4=7,'1'!BA33,IF($C$4=9,'1'!BY33,\"FAUX\"))))","v":1.32},{"$f":"IF($C$4=2.7,'1'!F33,IF($C$4=4.5,'1'!AD33,IF($C$4=7,'1'!BB33,IF($C$4=9,'1'!BZ33,\"FAUX\"))))","v":8.1199999999999992},{"$f":"IF($C$4=2.7,'1'!G33,IF($C$4=4.5,'1'!AE33,IF($C$4=7,'1'!BC33,IF($C$4=9,'1'!CA33,\"FAUX\"))))","v":7.53},{"$f":"IF($C$4=2.7,'1'!H33,IF($C$4=4.5,'1'!AF33,IF($C$4=7,'1'!BD33,IF($C$4=9,'1'!CB33,\"FAUX\"))))","v":1.18},{"$f":"IF($C$4=2.7,'1'!I33,IF($C$4=4.5,'1'!AG33,IF($C$4=7,'1'!BE33,IF($C$4=9,'1'!CC33,\"FAUX\"))))","v":0.98399999999999999},{"$f":"IF($C$4=2.7,'1'!J33,IF($C$4=4.5,'1'!AH33,IF($C$4=7,'1'!BF33,IF($C$4=9,'1'!CD33,\"FAUX\"))))","v":5.51},{"$f":"IF($C$4=2.7,'1'!K33,IF($C$4=4.5,'1'!AI33,IF($C$4=7,'1'!BG33,IF($C$4=9,'1'!CE33,\"FAUX\"))))","v":4.93},{"$f":"IF($C$4=2.7,'1'!L33,IF($C$4=4.5,'1'!AJ33,IF($C$4=7,'1'!BH33,IF($C$4=9,'1'!CF33,\"FAUX\"))))","v":1.36},{"$f":"IF($C$4=2.7,'1'!M33,IF($C$4=4.5,'1'!AK33,IF($C$4=7,'1'!BI33,IF($C$4=9,'1'!CG33,\"FAUX\"))))","v":1.21},{"$f":"IF($C$4=2.7,'1'!N33,IF($C$4=4.5,'1'!AL33,IF($C$4=7,'1'!BJ33,IF($C$4=9,'1'!CH33,\"FAUX\"))))","v":7.24},{"$f":"IF($C$4=2.7,'1'!O33,IF($C$4=4.5,'1'!AM33,IF($C$4=7,'1'!BK33,IF($C$4=9,'1'!CI33,\"FAUX\"))))","v":6.89},{"$f":"IF($C$4=2.7,'1'!P33,IF($C$4=4.5,'1'!AN33,IF($C$4=7,'1'!BL33,IF($C$4=9,'1'!CJ33,\"FAUX\"))))","v":1.61},{"$f":"IF($C$4=2.7,'1'!Q33,IF($C$4=4.5,'1'!AO33,IF($C$4=7,'1'!BM33,IF($C$4=9,'1'!CK33,\"FAUX\"))))","v":1.4},{"$f":"IF($C$4=2.7,'1'!R33,IF($C$4=4.5,'1'!AP33,IF($C$4=7,'1'!BN33,IF($C$4=9,'1'!CL33,\"FAUX\"))))","v":16.600000000000001},{"$f":"IF($C$4=2.7,'1'!S33,IF($C$4=4.5,'1'!AQ33,IF($C$4=7,'1'!BO33,IF($C$4=9,'1'!CM33,\"FAUX\"))))","v":15.2},{"$f":"IF($C$4=2.7,'1'!T33,IF($C$4=4.5,'1'!AR33,IF($C$4=7,'1'!BP33,IF($C$4=9,'1'!CN33,\"FAUX\"))))","v":1.24},{"$f":"IF($C$4=2.7,'1'!U33,IF($C$4=4.5,'1'!AS33,IF($C$4=7,'1'!BQ33,IF($C$4=9,'1'!CO33,\"FAUX\"))))","v":1.1100000000000001},{"$f":"IF($C$4=2.7,'1'!V33,IF($C$4=4.5,'1'!AT33,IF($C$4=7,'1'!BR33,IF($C$4=9,'1'!CP33,\"FAUX\"))))","v":11.8},{"$f":"IF($C$4=2.7,'1'!W33,IF($C$4=4.5,'1'!AU33,IF($C$4=7,'1'!BS33,IF($C$4=9,'1'!CQ33,\"FAUX\"))))","v":11.6},{"$f":"IF($C$4=2.7,'1'!X33,IF($C$4=4.5,'1'!AV33,IF($C$4=7,'1'!BT33,IF($C$4=9,'1'!CR33,\"FAUX\"))))","v":1.43},{"$f":"IF($C$4=2.7,'1'!Y33,IF($C$4=4.5,'1'!AW33,IF($C$4=7,'1'!BU33,IF($C$4=9,'1'!CS33,\"FAUX\"))))","v":1.23},{"$f":"IF($C$4=2.7,'1'!Z33,IF($C$4=4.5,'1'!AX33,IF($C$4=7,'1'!BV33,IF($C$4=9,'1'!CT33,\"FAUX\"))))","v":14.2},{"$f":"IF($C$4=2.7,'1'!AA33,IF($C$4=4.5,'1'!AY33,IF($C$4=7,'1'!BW33,IF($C$4=9,'1'!CU33,\"FAUX\"))))","v":12.7},null,null,"Impurity B",-6.9999999999999984E-3,1.74,-1.9666666666666631E-2,8.7099999999999973,-6.533333333333332E-3,1.3759999999999999,-1.9333333333333334E-2,6.09,-5.0000000000000036E-3,1.5100000000000002,-1.1666666666666685E-2,7.59,-7.0000000000000071E-3,1.8200000000000003,-4.6666666666666738E-2,18.000000000000004,-4.3333333333333297E-3,1.3699999999999999,-6.6666666666667018E-3,12,-6.6666666666666645E-3,1.63,-0.05,15.7,null,null,"Impurity B",1.53,1.18,1.36,1.61,1.24,1.43,null,null,"Impurity B",8.1199999999999974,5.51,7.2399999999999993,16.600000000000001,11.799999999999999,14.2,null,null,null,null,null,null,null,null,null,null,"Impurity B",{"$f":"'1'!D79","v":0.15063135577231801},{"$f":"'1'!E79","v":0.13148522771023999},{"$f":"'1'!F79","v":0.17034607327051501},{"$f":"'1'!G79","v":9.3487907376759299E-2},{"$f":"'1'!H79","v":1.0536548512453701E-2},{"$f":"'1'!I79","v":3.6863169550559799E-3},{"$f":"'1'!J79","v":9.3528137319273293E-3},{"$f":"'1'!K79","v":1.7054826980126E-2},{"$f":"'1'!L79","v":1.4458849954807699E-2},{"$f":"'1'!M79","v":3.8103963219008198E-4},{"$f":"'1'!N79","v":3.31000010191929E-5},{"$f":"'1'!O79","v":3.31000010191929E-5},{"$f":"'1'!P79","v":-4.3260175662333599E-4},{"$f":"'1'!Q79","v":-3.7346724846538899E-4},{"$f":"'1'!R79","v":-3.6410614365455201E-4},{"$f":"'1'!S79","v":-3.75785875543156E-4},null,null,"Impurity B",{"$f":"HLOOKUP($DD$7,$CJ$7:$CZ$48,24,FALSE)","v":0.17034607327051501},null,null,"Impurity B",{"$f":"IF($C$4=2.7,'1'!D147,IF($C$4=4.5,'1'!G147,IF($C$4=7,'1'!J147,IF($C$4=9,'1'!M147,FALSE))))","v":1.05},{"$f":"IF($C$4=2.7,'1'!E147,IF($C$4=4.5,'1'!H147,IF($C$4=7,'1'!K147,IF($C$4=9,'1'!N147,FALSE))))","v":0.91},{"$f":"IF($C$4=2.7,'1'!F147,IF($C$4=4.5,'1'!I147,IF($C$4=7,'1'!L147,IF($C$4=9,'1'!O147,FALSE))))","v":1.19},null,null,"Impurity B",{"$f":"HLOOKUP($DN$7,$DG$7:$DJ$48,24,FALSE)","v":1.05},null,null,"Impurity B",null,8.9700000000000006,1,null,7.5,95.22732789657961,4.7726721034203905]
[null,"concentration",{"$f":"calculation2!E85","v":0.1},"mg/mL",null,null,null,"Impurity D",{"$f":"IF($C$4=2.7,'1'!D34,IF($C$4=4.5,'1'!AB34,IF($C$4=7,'1'!AZ34,IF($C$4=9,'1'!BX34,\"FAUX\"))))","v":1.82},{"$f":"IF($C$4=2.7,'1'!E34,IF($C$4=4.5,'1'!AC34,IF($C$4=7,'1'!BA34,IF($C$4=9,'1'!BY34,\"FAUX\"))))","v":1.65},{"$f":"IF($C$4=2.7,'1'!F34,IF($C$4=4.5,'1'!AD34,IF($C$4=7,'1'!BB34,IF($C$4=9,'1'!BZ34,\"FAUX\"))))","v":6.35},{"$f":"IF($C$4=2.7,'1'!G34,IF($C$4=4.5,'1'!AE34,IF($C$4=7,'1'!BC34,IF($C$4=9,'1'!CA34,\"FAUX\"))))","v":6.02},{"$f":"IF($C$4=2.7,'1'!H34,IF($C$4=4.5,'1'!AF34,IF($C$4=7,'1'!BD34,IF($C$4=9,'1'!CB34,\"FAUX\"))))","v":1.62},{"$f":"IF($C$4=2.7,'1'!I34,IF($C$4=4.5,'1'!AG34,IF($C$4=7,'1'!BE34,IF($C$4=9,'1'!CC34,\"FAUX\"))))","v":1.39},{"$f":"IF($C$4=2.7,'1'!J34,IF($C$4=4.5,'1'!AH34,IF($C$4=7,'1'!BF34,IF($C$4=9,'1'!CD34,\"FAUX\"))))","v":5.24},{"$f":"IF($C$4=2.7,'1'!K34,IF($C$4=4.5,'1'!AI34,IF($C$4=7,'1'!BG34,IF($C$4=9,'1'!CE34,\"FAUX\"))))","v":4.91},{"$f":"IF($C$4=2.7,'1'!L34,IF($C$4=4.5,'1'!AJ34,IF($C$4=7,'1'!BH34,IF($C$4=9,'1'!CF34,\"FAUX\"))))","v":1.71},{"$f":"IF($C$4=2.7,'1'!M34,IF($C$4=4.5,'1'!AK34,IF($C$4=7,'1'!BI34,IF($C$4=9,'1'!CG34,\"FAUX\"))))","v":1.54},{"$f":"IF($C$4=2.7,'1'!N34,IF($C$4=4.5,'1'!AL34,IF($C$4=7,'1'!BJ34,IF($C$4=9,'1'!CH34,\"FAUX\"))))","v":6.36},{"$f":"IF($C$4=2.7,'1'!O34,IF($C$4=4.5,'1'!AM34,IF($C$4=7,'1'!BK34,IF($C$4=9,'1'!CI34,\"FAUX\"))))","v":5.98},{"$f":"IF($C$4=2.7,'1'!P34,IF($C$4=4.5,'1'!AN34,IF($C$4=7,'1'!BL34,IF($C$4=9,'1'!CJ34,\"FAUX\"))))","v":1.92},{"$f":"IF($C$4=2.7,'1'!Q34,IF($C$4=4.5,'1'!AO34,IF($C$4=7,'1'!BM34,IF($C$4=9,'1'!CK34,\"FAUX\"))))","v":1.7},{"$f":"IF($C$4=2.7,'1'!R34,IF($C$4=4.5,'1'!AP34,IF($C$4=7,'1'!BN34,IF($C$4=9,'1'!CL34,\"FAUX\"))))","v":12.5},{"$f":"IF($C$4=2.7,'1'!S34,IF($C$4=4.5,'1'!AQ34,IF($C$4=7,'1'!BO34,IF($C$4=9,'1'!CM34,\"FAUX\"))))","v":11.6},{"$f":"IF($C$4=2.7,'1'!T34,IF($C$4=4.5,'1'!AR34,IF($C$4=7,'1'!BP34,IF($C$4=9,'1'!CN34,\"FAUX\"))))","v":1.62},{"$f":"IF($C$4=2.7,'1'!U34,IF($C$4=4.5,'1'!AS34,IF($C$4=7,'1'!BQ34,IF($C$4=9,'1'!CO34,\"FAUX\"))))","v":1.43},{"$f":"IF($C$4=2.7,'1'!V34,IF($C$4=4.5,'1'!AT34,IF($C$4=7,'1'!BR34,IF($C$4=9,'1'!CP34,\"FAUX\"))))","v":10.3},{"$f":"IF($C$4=2.7,'1'!W34,IF($C$4=4.5,'1'!AU34,IF($C$4=7,'1'!BS34,IF($C$4=9,'1'!CQ34,\"FAUX\"))))","v":10},{"$f":"IF($C$4=2.7,'1'!X34,IF($C$4=4.5,'1'!AV34,IF($C$4=7,'1'!BT34,IF($C$4=9,'1'!CR34,\"FAUX\"))))","v":1.66},{"$f":"IF($C$4=2.7,'1'!Y34,IF($C$4=4.5,'1'!AW34,IF($C$4=7,'1'!BU34,IF($C$4=9,'1'!CS34,\"FAUX\"))))","v":1.55},{"$f":"IF($C$4=2.7,'1'!Z34,IF($C$4=4.5,'1'!AX34,IF($C$4=7,'1'!BV34,IF($C$4=9,'1'!CT34,\"FAUX\"))))","v":10.7},{"$f":"IF($C$4=2.7,'1'!AA34,IF($C$4=4.5,'1'!AY34,IF($C$4=7,'1'!BW34,IF($C$4=9,'1'!CU34,\"FAUX\"))))","v":10.8},null,null,"Impurity D",-5.6666666666666723E-3,1.9900000000000002,-1.1000000000000003E-2,6.68,-7.6666666666666732E-3,1.85,-1.1000000000000003E-2,5.57,-5.6666666666666645E-3,1.88,-1.2666666666666663E-2,6.74,-7.3333333333333332E-3,2.14,-3.0000000000000013E-2,13.400000000000002,-6.3333333333333384E-3,1.81,-1.0000000000000024E-2,10.600000000000001,-3.6666666666666627E-3,1.7699999999999998,3.3333333333333808E-3,10.599999999999998,null,null,"Impurity D",1.82,1.6199999999999999,1.71,1.9200000000000002,1.6199999999999999,1.66,null,null,"Impurity D",6.35,5.24,6.36,12.500000000000002,10.3,10.7,null,null,null,null,null,null,null,null,null,null,"Impurity D",{"$f":"'1'!D80","v":0.23434926436471001},{"$f":"'1'!E80","v":0.429357696906015},{"$f":"'1'!F80","v":0.48154774293427299},{"$f":"'1'!G80","v":0.123116639258417},{"$f":"'1'!H80","v":9.0662982541456993E-2},{"$f":"'1'!I80","v":0.16616327254976401},{"$f":"'1'!J80","v":0.163156403941007},{"$f":"'1'!K80","v":2.9714990374770999E-2},{"$f":"'1'!L80","v":5.4294389070846001E-3},{"$f":"'1'!M80","v":1.0227341969203101E-2},{"$f":"'1'!N80","v":2.5275972686943801E-2},{"$f":"'1'!O80","v":4.1668223116392199E-2},{"$f":"'1'!P80","v":5.5565541578269297E-2},{"$f":"'1'!Q80","v":5.9147642849548897E-2},{"$f":"'1'!R80","v":4.9293158598478201E-2},{"$f":"'1'!S80","v":2.6648214681056499E-2},null,null,"Impurity D",{"$f":"HLOOKUP($DD$7,$CJ$7:$CZ$48,25,FALSE)","v":0.48154774293427299},null,null,"Impurity D",{"$f":"IF($C$4=2.7,'1'!D148,IF($C$4=4.5,'1'!G148,IF($C$4=7,'1'!J148,IF($C$4=9,'1'!M148,FALSE))))","v":1.0900000000000001},{"$f":"IF($C$4=2.7,'1'!E148,IF($C$4=4.5,'1'!H148,IF($C$4=7,'1'!K148,IF($C$4=9,'1'!N148,FALSE))))","v":1.17},{"$f":"IF($C$4=2.7,'1'!F148,IF($C$4=4.5,'1'!I148,IF($C$4=7,'1'!L148,IF($C$4=9,'1'!O148,FALSE))))","v":1.24},null,null,"Impurity D",{"$f":"HLOOKUP($DN$7,$DG$7:$DJ$48,25,FALSE)","v":1.0900000000000001},null,null,"Impurity D",null,9.6199999999999992,1,null,8,86.31931113967903,13.68068886032097]
[null,"Concatener 1",{"$f":"CONCATENATE(C5,C16)","v":"AcetonitrileC18"},null,null,null,null,"Impurity G",{"$f":"IF($C$4=2.7,'1'!D35,IF($C$4=4.5,'1'!AB35,IF($C$4=7,'1'!AZ35,IF($C$4=9,'1'!BX35,\"FAUX\"))))","v":2.77},{"$f":"IF($C$4=2.7,'1'!E35,IF($C$4=4.5,'1'!AC35,IF($C$4=7,'1'!BA35,IF($C$4=9,'1'!BY35,\"FAUX\"))))","v":2.98},{"$f":"IF($C$4=2.7,'1'!F35,IF($C$4=4.5,'1'!AD35,IF($C$4=7,'1'!BB35,IF($C$4=9,'1'!BZ35,\"FAUX\"))))","v":3.88},{"$f":"IF($C$4=2.7,'1'!G35,IF($C$4=4.5,'1'!AE35,IF($C$4=7,'1'!BC35,IF($C$4=9,'1'!CA35,\"FAUX\"))))","v":4.3600000000000003},{"$f":"IF($C$4=2.7,'1'!H35,IF($C$4=4.5,'1'!AF35,IF($C$4=7,'1'!BD35,IF($C$4=9,'1'!CB35,\"FAUX\"))))","v":2.38},{"$f":"IF($C$4=2.7,'1'!I35,IF($C$4=4.5,'1'!AG35,IF($C$4=7,'1'!BE35,IF($C$4=9,'1'!CC35,\"FAUX\"))))","v":2.4900000000000002},{"$f":"IF($C$4=2.7,'1'!J35,IF($C$4=4.5,'1'!AH35,IF($C$4=7,'1'!BF35,IF($C$4=9,'1'!CD35,\"FAUX\"))))","v":3.39},{"$f":"IF($C$4=2.7,'1'!K35,IF($C$4=4.5,'1'!AI35,IF($C$4=7,'1'!BG35,IF($C$4=9,'1'!CE35,\"FAUX\"))))","v":3.72},{"$f":"IF($C$4=2.7,'1'!L35,IF($C$4=4.5,'1'!AJ35,IF($C$4=7,'1'!BH35,IF($C$4=9,'1'!CF35,\"FAUX\"))))","v":2.39},{"$f":"IF($C$4=2.7,'1'!M35,IF($C$4=4.5,'1'!AK35,IF($C$4=7,'1'!BI35,IF($C$4=9,'1'!CG35,\"FAUX\"))))","v":2.57},{"$f":"IF($C$4=2.7,'1'!N35,IF($C$4=4.5,'1'!AL35,IF($C$4=7,'1'!BJ35,IF($C$4=9,'1'!CH35,\"FAUX\"))))","v":3.66},{"$f":"IF($C$4=2.7,'1'!O35,IF($C$4=4.5,'1'!AM35,IF($C$4=7,'1'!BK35,IF($C$4=9,'1'!CI35,\"FAUX\"))))","v":4},{"$f":"IF($C$4=2.7,'1'!P35,IF($C$4=4.5,'1'!AN35,IF($C$4=7,'1'!BL35,IF($C$4=9,'1'!CJ35,\"FAUX\"))))","v":2.2599999999999998},{"$f":"IF($C$4=2.7,'1'!Q35,IF($C$4=4.5,'1'!AO35,IF($C$4=7,'1'!BM35,IF($C$4=9,'1'!CK35,\"FAUX\"))))","v":2.38},{"$f":"IF($C$4=2.7,'1'!R35,IF($C$4=4.5,'1'!AP35,IF($C$4=7,'1'!BN35,IF($C$4=9,'1'!CL35,\"FAUX\"))))","v":5.23},{"$f":"IF($C$4=2.7,'1'!S35,IF($C$4=4.5,'1'!AQ35,IF($C$4=7,'1'!BO35,IF($C$4=9,'1'!CM35,\"FAUX\"))))","v":5.0199999999999996},{"$f":"IF($C$4=2.7,'1'!T35,IF($C$4=4.5,'1'!AR35,IF($C$4=7,'1'!BP35,IF($C$4=9,'1'!CN35,\"FAUX\"))))","v":1.99},{"$f":"IF($C$4=2.7,'1'!U35,IF($C$4=4.5,'1'!AS35,IF($C$4=7,'1'!BQ35,IF($C$4=9,'1'!CO35,\"FAUX\"))))","v":2.08},{"$f":"IF($C$4=2.7,'1'!V35,IF($C$4=4.5,'1'!AT35,IF($C$4=7,'1'!BR35,IF($C$4=9,'1'!CP35,\"FAUX\"))))","v":5.29},{"$f":"IF($C$4=2.7,'1'!W35,IF($C$4=4.5,'1'!AU35,IF($C$4=7,'1'!BS35,IF($C$4=9,'1'!CQ35,\"FAUX\"))))","v":4.92},{"$f":"IF($C$4=2.7,'1'!X35,IF($C$4=4.5,'1'!AV35,IF($C$4=7,'1'!BT35,IF($C$4=9,'1'!CR35,\"FAUX\"))))","v":2.0699999999999998},{"$f":"IF($C$4=2.7,'1'!Y35,IF($C$4=4.5,'1'!AW35,IF($C$4=7,'1'!BU35,IF($C$4=9,'1'!CS35,\"FAUX\"))))","v":2.16},{"$f":"IF($C$4=2.7,'1'!Z35,IF($C$4=4.5,'1'!AX35,IF($C$4=7,'1'!BV35,IF($C$4=9,'1'!CT35,\"FAUX\"))))","v":5.16},{"$f":"IF($C$4=2.7,'1'!AA35,IF($C$4=4.5,'1'!AY35,IF($C$4=7,'1'!BW35,IF($C$4=9,'1'!CU35,\"FAUX\"))))","v":4.8099999999999996},null,null,"Impurity G",6.9999999999999984E-3,2.56,1.6000000000000014E-2,3.3999999999999995,3.6666666666666774E-3,2.2699999999999996,1.1000000000000003E-2,3.06,5.9999999999999906E-3,2.2100000000000004,1.1333333333333329E-2,3.3200000000000003,4.0000000000000036E-3,2.1399999999999997,-7.0000000000000288E-3,5.4400000000000013,3.0000000000000027E-3,1.9,-1.2333333333333337E-2,5.66,3.00000000000001E-3,1.9799999999999998,-1.1666666666666685E-2,5.51,null,null,"Impurity G",2.77,2.38,2.39,2.2599999999999998,1.99,2.0700000000000003,null,null,"Impurity G",3.88,3.39,3.66,5.23,5.29,5.1599999999999993,null,null,null,null,null,null,null,null,null,null,"Impurity G",{"$f":"'1'!D81","v":0.218119631134505},{"$f":"'1'!E81","v":0.18486560368783},{"$f":"'1'!F81","v":0.15691613963572701},{"$f":"'1'!G81","v":0.14504157865859299},{"$f":"'1'!H81","v":5.4502225947534302E-2},{"$f":"'1'!I81","v":2.0807698995648299E-2},{"$f":"'1'!J81","v":4.46162458899119E-2},{"$f":"'1'!K81","v":8.0705596475334193E-2},{"$f":"'1'!L81","v":0.1163611995126},{"$f":"'1'!M81","v":0.14437681280020701},{"$f":"'1'!N81","v":0.13823890362994501},{"$f":"'1'!O81","v":8.9699108325817595E-2},{"$f":"'1'!P81","v":3.6570068020187398E-2},{"$f":"'1'!Q81","v":8.0254849580317592E-3},{"$f":"'1'!R81","v":5.0323561691416102E-4},{"$f":"'1'!S81","v":-3.98411107903488E-4},null,null,"Impurity G",{"$f":"HLOOKUP($DD$7,$CJ$7:$CZ$48,26,FALSE)","v":0.15691613963572701},null,null,"Impurity G",{"$f":"IF($C$4=2.7,'1'!D149,IF($C$4=4.5,'1'!G149,IF($C$4=7,'1'!J149,IF($C$4=9,'1'!M149,FALSE))))","v":1.06},{"$f":"IF($C$4=2.7,'1'!E149,IF($C$4=4.5,'1'!H149,IF($C$4=7,'1'!K149,IF($C$4=9,'1'!N149,FALSE))))","v":1.04},{"$f":"IF($C$4=2.7,'1'!F149,IF($C$4=4.5,'1'!I149,IF($C$4=7,'1'!L149,IF($C$4=9,'1'!O149,FALSE))))","v":0.98},null,null,"Impurity G",{"$f":"HLOOKUP($DN$7,$DG$7:$DJ$48,26,FALSE)","v":1.06},null,null,"Impurity G",null,7.5,1,null,8.5,66.613942458312238,33.386057541687762]
[null,"Concatener 2",{"$f":"CONCATENATE(calculation2!E63,calculation2!E62)","v":"Acetonitrile7"},null,null,null,null,"Impurity F",{"$f":"IF($C$4=2.7,'1'!D36,IF($C$4=4.5,'1'!AB36,IF($C$4=7,'1'!AZ36,IF($C$4=9,'1'!BX36,\"FAUX\"))))","v":2.8},{"$f":"IF($C$4=2.7,'1'!E36,IF($C$4=4.5,'1'!AC36,IF($C$4=7,'1'!BA36,IF($C$4=9,'1'!BY36,\"FAUX\"))))","v":2.6},{"$f":"IF($C$4=2.7,'1'!F36,IF($C$4=4.5,'1'!AD36,IF($C$4=7,'1'!BB36,IF($C$4=9,'1'!BZ36,\"FAUX\"))))","v":7.02},{"$f":"IF($C$4=2.7,'1'!G36,IF($C$4=4.5,'1'!AE36,IF($C$4=7,'1'!BC36,IF($C$4=9,'1'!CA36,\"FAUX\"))))","v":6.44},{"$f":"IF($C$4=2.7,'1'!H36,IF($C$4=4.5,'1'!AF36,IF($C$4=7,'1'!BD36,IF($C$4=9,'1'!CB36,\"FAUX\"))))","v":2.67},{"$f":"IF($C$4=2.7,'1'!I36,IF($C$4=4.5,'1'!AG36,IF($C$4=7,'1'!BE36,IF($C$4=9,'1'!CC36,\"FAUX\"))))","v":2.2400000000000002},{"$f":"IF($C$4=2.7,'1'!J36,IF($C$4=4.5,'1'!AH36,IF($C$4=7,'1'!BF36,IF($C$4=9,'1'!CD36,\"FAUX\"))))","v":7},{"$f":"IF($C$4=2.7,'1'!K36,IF($C$4=4.5,'1'!AI36,IF($C$4=7,'1'!BG36,IF($C$4=9,'1'!CE36,\"FAUX\"))))","v":5.68},{"$f":"IF($C$4=2.7,'1'!L36,IF($C$4=4.5,'1'!AJ36,IF($C$4=7,'1'!BH36,IF($C$4=9,'1'!CF36,\"FAUX\"))))","v":2.72},{"$f":"IF($C$4=2.7,'1'!M36,IF($C$4=4.5,'1'!AK36,IF($C$4=7,'1'!BI36,IF($C$4=9,'1'!CG36,\"FAUX\"))))","v":2.44},{"$f":"IF($C$4=2.7,'1'!N36,IF($C$4=4.5,'1'!AL36,IF($C$4=7,'1'!BJ36,IF($C$4=9,'1'!CH36,\"FAUX\"))))","v":8.43},{"$f":"IF($C$4=2.7,'1'!O36,IF($C$4=4.5,'1'!AM36,IF($C$4=7,'1'!BK36,IF($C$4=9,'1'!CI36,\"FAUX\"))))","v":7.26},{"$f":"IF($C$4=2.7,'1'!P36,IF($C$4=4.5,'1'!AN36,IF($C$4=7,'1'!BL36,IF($C$4=9,'1'!CJ36,\"FAUX\"))))","v":2.74},{"$f":"IF($C$4=2.7,'1'!Q36,IF($C$4=4.5,'1'!AO36,IF($C$4=7,'1'!BM36,IF($C$4=9,'1'!CK36,\"FAUX\"))))","v":2.5299999999999998},{"$f":"IF($C$4=2.7,'1'!R36,IF($C$4=4.5,'1'!AP36,IF($C$4=7,'1'!BN36,IF($C$4=9,'1'!CL36,\"FAUX\"))))","v":13.6},{"$f":"IF($C$4=2.7,'1'!S36,IF($C$4=4.5,'1'!AQ36,IF($C$4=7,'1'!BO36,IF($C$4=9,'1'!CM36,\"FAUX\"))))","v":12.1},{"$f":"IF($C$4=2.7,'1'!T36,IF($C$4=4.5,'1'!AR36,IF($C$4=7,'1'!BP36,IF($C$4=9,'1'!CN36,\"FAUX\"))))","v":2.65},{"$f":"IF($C$4=2.7,'1'!U36,IF($C$4=4.5,'1'!AS36,IF($C$4=7,'1'!BQ36,IF($C$4=9,'1'!CO36,\"FAUX\"))))","v":2.31},{"$f":"IF($C$4=2.7,'1'!V36,IF($C$4=4.5,'1'!AT36,IF($C$4=7,'1'!BR36,IF($C$4=9,'1'!CP36,\"FAUX\"))))","v":16.2},{"$f":"IF($C$4=2.7,'1'!W36,IF($C$4=4.5,'1'!AU36,IF($C$4=7,'1'!BS36,IF($C$4=9,'1'!CQ36,\"FAUX\"))))","v":14},{"$f":"IF($C$4=2.7,'1'!X36,IF($C$4=4.5,'1'!AV36,IF($C$4=7,'1'!BT36,IF($C$4=9,'1'!CR36,\"FAUX\"))))","v":3.26},{"$f":"IF($C$4=2.7,'1'!Y36,IF($C$4=4.5,'1'!AW36,IF($C$4=7,'1'!BU36,IF($C$4=9,'1'!CS36,\"FAUX\"))))","v":2.65},{"$f":"IF($C$4=2.7,'1'!Z36,IF($C$4=4.5,'1'!AX36,IF($C$4=7,'1'!BV36,IF($C$4=9,'1'!CT36,\"FAUX\"))))","v":21.7},{"$f":"IF($C$4=2.7,'1'!AA36,IF($C$4=4.5,'1'!AY36,IF($C$4=7,'1'!BW36,IF($C$4=9,'1'!CU36,\"FAUX\"))))","v":17.100000000000001},null,null,{"$f":"$H33","v":"Impurity F"},{"$f":"SLOPE(I33:J33,$G$3:$G$4)","v":-6.6666666666666576E-3},{"$f":"INTERCEPT(I33:J33,$G$3:$G$4)","v":3},{"$f":"SLOPE(K33:L33,$G$3:$G$4)","v":-1.9333333333333307E-2},{"$f":"INTERCEPT(K33:L33,$G$3:$G$4)","v":7.6},{"$f":"SLOPE(M33:N33,$G$3:$G$4)","v":-1.4333333333333325E-2},{"$f":"INTERCEPT(M33:N33,$G$3:$G$4)","v":3.0999999999999996},{"$f":"SLOPE(O33:P33,$G$3:$G$4)","v":-4.4000000000000011E-2},{"$f":"INTERCEPT(O33:P33,$G$3:$G$4)","v":8.32},{"$f":"SLOPE(Q33:R33,$G$3:$G$4)","v":-9.333333333333341E-3},{"$f":"INTERCEPT(Q33:R33,$G$3:$G$4)","v":3.0000000000000004},{"$f":"SLOPE(S33:T33,$G$3:$G$4)","v":-3.8999999999999993E-2},{"$f":"INTERCEPT(S33:T33,$G$3:$G$4)","v":9.6},{"$f":"SLOPE(U33:V33,$G$3:$G$4)","v":-7.000000000000014E-3},{"$f":"INTERCEPT(U33:V33,$G$3:$G$4)","v":2.95},{"$f":"SLOPE(W33:X33,$G$3:$G$4)","v":-0.05},{"$f":"INTERCEPT(W33:X33,$G$3:$G$4)","v":15.1},{"$f":"SLOPE(Y33:Z33,$G$3:$G$4)","v":-1.1333333333333329E-2},{"$f":"INTERCEPT(Y33:Z33,$G$3:$G$4)","v":2.9899999999999998},{"$f":"SLOPE(AA33:AB33,$G$3:$G$4)","v":-7.3333333333333306E-2},{"$f":"INTERCEPT(AA33:AB33,$G$3:$G$4)","v":18.399999999999999},{"$f":"SLOPE(AC33:AD33,$G$3:$G$4)","v":-2.0333333333333332E-2},{"$f":"INTERCEPT(AC33:AD33,$G$3:$G$4)","v":3.87},{"$f":"SLOPE(AE33:AF33,$G$3:$G$4)","v":-0.15333333333333327},{"$f":"INTERCEPT(AE33:AF33,$G$3:$G$4)","v":26.299999999999997},null,null,"Impurity F",2.8000000000000003,2.67,2.72,2.7399999999999998,2.65,3.2600000000000002,null,null,"Impurity F",7.0200000000000005,7,8.43,13.6,16.2,21.7,null,null,null,null,null,null,null,null,null,null,"Impurity F",{"$f":"'1'!D82","v":0.53070123873799502},{"$f":"'1'!E82","v":0.187852638398323},{"$f":"'1'!F82","v":0.184379013011123},{"$f":"'1'!G82","v":0.12709514427600799},{"$f":"'1'!H82","v":1.9415734461386901E-2},{"$f":"'1'!I82","v":4.1409764669675603E-3},{"$f":"'1'!J82","v":1.06442696312207E-2},{"$f":"'1'!K82","v":2.4063229221489499E-2},{"$f":"'1'!L82","v":3.1261057715818601E-2},{"$f":"'1'!M82","v":1.1378939609150601E-2},{"$f":"'1'!N82","v":-3.98411107903488E-4},{"$f":"'1'!O82","v":-3.98411107903488E-4},{"$f":"'1'!P82","v":-3.98411107903488E-4},{"$f":"'1'!Q82","v":-3.98411107903488E-4},{"$f":"'1'!R82","v":-3.98411107903488E-4},{"$f":"'1'!S82","v":-3.98411107903488E-4},null,null,"Impurity F",{"$f":"HLOOKUP($DD$7,$CJ$7:$CZ$48,27,FALSE)","v":0.184379013011123},null,null,"Impurity F",{"$f":"IF($C$4=2.7,'1'!D150,IF($C$4=4.5,'1'!G150,IF($C$4=7,'1'!J150,IF($C$4=9,'1'!M150,FALSE))))","v":1.85},{"$f":"IF($C$4=2.7,'1'!E150,IF($C$4=4.5,'1'!H150,IF($C$4=7,'1'!K150,IF($C$4=9,'1'!N150,FALSE))))","v":1.0900000000000001},{"$f":"IF($C$4=2.7,'1'!F150,IF($C$4=4.5,'1'!I150,IF($C$4=7,'1'!L150,IF($C$4=9,'1'!O150,FALSE))))","v":1.89},null,null,"Impurity F",{"$f":"HLOOKUP($DN$7,$DG$7:$DJ$48,27,FALSE)","v":1.85},null,null,"Impurity F",null,9.66,1,null,9,38.686317984685729,61.313682015314271]
[null,"% solvant moyen iso/grad",{"$f":"IF(C8=\"isocratic\",C26,C29)","v":40},"%",null,null,null,{"$f":"\"\"","v":""},0,0,0,0,0,0,0,0,0,0,0,0,0,0,0,0,0,0,0,0,0,0,0,0,null,null,null,0,0,0,0,0,0,0,0,0,0,0,0,0,0,0,0,0,0,0,0,0,0,0,0,null,null,null,0,0,0,0,0,0,null,null,null,0,0,0,0,0,0,null,null,null,null,null,null,null,null,null,null,"",{"$f":"'1'!D83","v":0},{"$f":"'1'!E83","v":0},{"$f":"'1'!F83","v":0},{"$f":"'1'!G83","v":0},{"$f":"'1'!H83","v":0},{"$f":"'1'!I83","v":0},{"$f":"'1'!J83","v":0},{"$f":"'1'!K83","v":0},{"$f":"'1'!L83","v":0},{"$f":"'1'!M83","v":0},{"$f":"'1'!N83","v":0},{"$f":"'1'!O83","v":0},{"$f":"'1'!P83","v":0},{"$f":"'1'!Q83","v":0},{"$f":"'1'!R83","v":0},{"$f":"'1'!S83","v":0},null,null,"",{"$f":"HLOOKUP($DD$7,$CJ$7:$CZ$48,28,FALSE)","v":0},null,null,"",{"$f":"IF($C$4=2.7,'1'!D151,IF($C$4=4.5,'1'!G151,IF($C$4=7,'1'!J151,IF($C$4=9,'1'!M151,FALSE))))","v":0},{"$f":"IF($C$4=2.7,'1'!E151,IF($C$4=4.5,'1'!H151,IF($C$4=7,'1'!K151,IF($C$4=9,'1'!N151,FALSE))))","v":0},{"$f":"IF($C$4=2.7,'1'!F151,IF($C$4=4.5,'1'!I151,IF($C$4=7,'1'!L151,IF($C$4=9,'1'!O151,FALSE))))","v":0},null,null,"",{"$f":"HLOOKUP($DN$7,$DG$7:$DJ$48,28,FALSE)","v":0},null,null,"",null,10.16,1,null,9.5,16.633753081656213,83.366246918343791]
[null,null,null,null,null,null,null,{"$f":"\"\"","v":""},{"$f":"IF($C$4=2.7,'1'!D38,IF($C$4=4.5,'1'!AB38,IF($C$4=7,'1'!AZ38,IF($C$4=9,'1'!BX38,\"FAUX\"))))","v":0},{"$f":"IF($C$4=2.7,'1'!E38,IF($C$4=4.5,'1'!AC38,IF($C$4=7,'1'!BA38,IF($C$4=9,'1'!BY38,\"FAUX\"))))","v":0},{"$f":"IF($C$4=2.7,'1'!F38,IF($C$4=4.5,'1'!AD38,IF($C$4=7,'1'!BB38,IF($C$4=9,'1'!BZ38,\"FAUX\"))))","v":0},{"$f":"IF($C$4=2.7,'1'!G38,IF($C$4=4.5,'1'!AE38,IF($C$4=7,'1'!BC38,IF($C$4=9,'1'!CA38,\"FAUX\"))))","v":0},{"$f":"IF($C$4=2.7,'1'!H38,IF($C$4=4.5,'1'!AF38,IF($C$4=7,'1'!BD38,IF($C$4=9,'1'!CB38,\"FAUX\"))))","v":0},{"$f":"IF($C$4=2.7,'1'!I38,IF($C$4=4.5,'1'!AG38,IF($C$4=7,'1'!BE38,IF($C$4=9,'1'!CC38,\"FAUX\"))))","v":0},{"$f":"IF($C$4=2.7,'1'!J38,IF($C$4=4.5,'1'!AH38,IF($C$4=7,'1'!BF38,IF($C$4=9,'1'!CD38,\"FAUX\"))))","v":0},{"$f":"IF($C$4=2.7,'1'!K38,IF($C$4=4.5,'1'!AI38,IF($C$4=7,'1'!BG38,IF($C$4=9,'1'!CE38,\"FAUX\"))))","v":0},{"$f":"IF($C$4=2.7,'1'!L38,IF($C$4=4.5,'1'!AJ38,IF($C$4=7,'1'!BH38,IF($C$4=9,'1'!CF38,\"FAUX\"))))","v":0},{"$f":"IF($C$4=2.7,'1'!M38,IF($C$4=4.5,'1'!AK38,IF($C$4=7,'1'!BI38,IF($C$4=9,'1'!CG38,\"FAUX\"))))","v":0},{"$f":"IF($C$4=2.7,'1'!N38,IF($C$4=4.5,'1'!AL38,IF($C$4=7,'1'!BJ38,IF($C$4=9,'1'!CH38,\"FAUX\"))))","v":0},{"$f":"IF($C$4=2.7,'1'!O38,IF($C$4=4.5,'1'!AM38,IF($C$4=7,'1'!BK38,IF($C$4=9,'1'!CI38,\"FAUX\"))))","v":0},{"$f":"IF($C$4=2.7,'1'!P38,IF($C$4=4.5,'1'!AN38,IF($C$4=7,'1'!BL38,IF($C$4=9,'1'!CJ38,\"FAUX\"))))","v":0},{"$f":"IF($C$4=2.7,'1'!Q38,IF($C$4=4.5,'1'!AO38,IF($C$4=7,'1'!BM38,IF($C$4=9,'1'!CK38,\"FAUX\"))))","v":0},{"$f":"IF($C$4=2.7,'1'!R38,IF($C$4=4.5,'1'!AP38,IF($C$4=7,'1'!BN38,IF($C$4=9,'1'!CL38,\"FAUX\"))))","v":0},{"$f":"IF($C$4=2.7,'1'!S38,IF($C$4=4.5,'1'!AQ38,IF($C$4=7,'1'!BO38,IF($C$4=9,'1'!CM38,\"FAUX\"))))","v":0},{"$f":"IF($C$4=2.7,'1'!T38,IF($C$4=4.5,'1'!AR38,IF($C$4=7,'1'!BP38,IF($C$4=9,'1'!CN38,\"FAUX\"))))","v":0},{"$f":"IF($C$4=2.7,'1'!U38,IF($C$4=4.5,'1'!AS38,IF($C$4=7,'1'!BQ38,IF($C$4=9,'1'!CO38,\"FAUX\"))))","v":0},{"$f":"IF($C$4=2.7,'1'!V38,IF($C$4=4.5,'1'!AT38,IF($C$4=7,'1'!BR38,IF($C$4=9,'1'!CP38,\"FAUX\"))))","v":0},{"$f":"IF($C$4=2.7,'1'!W38,IF($C$4=4.5,'1'!AU38,IF($C$4=7,'1'!BS38,IF($C$4=9,'1'!CQ38,\"FAUX\"))))","v":0},{"$f":"IF($C$4=2.7,'1'!X38,IF($C$4=4.5,'1'!AV38,IF($C$4=7,'1'!BT38,IF($C$4=9,'1'!CR38,\"FAUX\"))))","v":0},{"$f":"IF($C$4=2.7,'1'!Y38,IF($C$4=4.5,'1'!AW38,IF($C$4=7,'1'!BU38,IF($C$4=9,'1'!CS38,\"FAUX\"))))","v":0},{"$f":"IF($C$4=2.7,'1'!Z38,IF($C$4=4.5,'1'!AX38,IF($C$4=7,'1'!BV38,IF($C$4=9,'1'!CT38,\"FAUX\"))))","v":0},{"$f":"IF($C$4=2.7,'1'!AA38,IF($C$4=4.5,'1'!AY38,IF($C$4=7,'1'!BW38,IF($C$4=9,'1'!CU38,\"FAUX\"))))","v":0},null,null,{"$f":"\"\"","v":""},0,0,0,0,0,0,0,0,0,0,0,0,0,0,0,0,0,0,0,0,0,0,0,0,null,null,{"$f":"\"\"","v":""},{"$f":"AJ35*$C$17+AK35","v":0},{"$f":"AN35*$C$17+AO35","v":0},{"$f":"AR35*$C$17+AS35","v":0},{"$f":"AV35*$C$17+AW35","v":0},{"$f":"AZ35*$C$17+BA35","v":0},{"$f":"BD35*$C$17+BE35","v":0},null,null,{"$f":"\"\"","v":""},{"$f":"AL35*$C$17+AM35","v":0},{"$f":"AP35*$C$17+AQ35","v":0},{"$f":"AT35*$C$17+AU35","v":0},{"$f":"AX35*$C$17+AY35","v":0},{"$f":"BB35*$C$17+BC35","v":0},{"$f":"BF35*$C$17+BG35","v":0},null,null,null,null,null,null,null,null,null,null,{"$f":"\"\"","v":""},{"$f":"'1'!D84","v":0},{"$f":"'1'!E84","v":0},{"$f":"'1'!F84","v":0},{"$f":"'1'!G84","v":0},{"$f":"'1'!H84","v":0},{"$f":"'1'!I84","v":0},{"$f":"'1'!J84","v":0},{"$f":"'1'!K84","v":0},{"$f":"'1'!L84","v":0},{"$f":"'1'!M84","v":0},{"$f":"'1'!N84","v":0},{"$f":"'1'!O84","v":0},{"$f":"'1'!P84","v":0},{"$f":"'1'!Q84","v":0},{"$f":"'1'!R84","v":0},{"$f":"'1'!S84","v":0},null,null,{"$f":"\"\"","v":""},{"$f":"HLOOKUP($DD$7,$CJ$7:$CZ$48,29,FALSE)","v":0},null,null,{"$f":"\"\"","v":""},{"$f":"IF($C$4=2.7,'1'!D152,IF($C$4=4.5,'1'!G152,IF($C$4=7,'1'!J152,IF($C$4=9,'1'!M152,FALSE))))","v":0},{"$f":"IF($C$4=2.7,'1'!E152,IF($C$4=4.5,'1'!H152,IF($C$4=7,'1'!K152,IF($C$4=9,'1'!N152,FALSE))))","v":0},{"$f":"IF($C$4=2.7,'1'!F152,IF($C$4=4.5,'1'!I152,IF($C$4=7,'1'!L152,IF($C$4=9,'1'!O152,FALSE))))","v":0},null,null,{"$f":"\"\"","v":""},{"$f":"HLOOKUP($DN$7,$DG$7:$DJ$48,29,FALSE)","v":0},null,null,{"$f":"\"\"","v":""},null,null,1,null,10,5.9350943102767664,94.064905689723233]
[null,"OUTPUT",null,null,null,null,null,{"$f":"\"\"","v":""},{"$f":"IF($C$4=2.7,'1'!D39,IF($C$4=4.5,'1'!AB39,IF($C$4=7,'1'!AZ39,IF($C$4=9,'1'!BX39,\"FAUX\"))))","v":0},{"$f":"IF($C$4=2.7,'1'!E39,IF($C$4=4.5,'1'!AC39,IF($C$4=7,'1'!BA39,IF($C$4=9,'1'!BY39,\"FAUX\"))))","v":0},{"$f":"IF($C$4=2.7,'1'!F39,IF($C$4=4.5,'1'!AD39,IF($C$4=7,'1'!BB39,IF($C$4=9,'1'!BZ39,\"FAUX\"))))","v":0},{"$f":"IF($C$4=2.7,'1'!G39,IF($C$4=4.5,'1'!AE39,IF($C$4=7,'1'!BC39,IF($C$4=9,'1'!CA39,\"FAUX\"))))","v":0},{"$f":"IF($C$4=2.7,'1'!H39,IF($C$4=4.5,'1'!AF39,IF($C$4=7,'1'!BD39,IF($C$4=9,'1'!CB39,\"FAUX\"))))","v":0},{"$f":"IF($C$4=2.7,'1'!I39,IF($C$4=4.5,'1'!AG39,IF($C$4=7,'1'!BE39,IF($C$4=9,'1'!CC39,\"FAUX\"))))","v":0},{"$f":"IF($C$4=2.7,'1'!J39,IF($C$4=4.5,'1'!AH39,IF($C$4=7,'1'!BF39,IF($C$4=9,'1'!CD39,\"FAUX\"))))","v":0},{"$f":"IF($C$4=2.7,'1'!K39,IF($C$4=4.5,'1'!AI39,IF($C$4=7,'1'!BG39,IF($C$4=9,'1'!CE39,\"FAUX\"))))","v":0},{"$f":"IF($C$4=2.7,'1'!L39,IF($C$4=4.5,'1'!AJ39,IF($C$4=7,'1'!BH39,IF($C$4=9,'1'!CF39,\"FAUX\"))))","v":0},{"$f":"IF($C$4=2.7,'1'!M39,IF($C$4=4.5,'1'!AK39,IF($C$4=7,'1'!BI39,IF($C$4=9,'1'!CG39,\"FAUX\"))))","v":0},{"$f":"IF($C$4=2.7,'1'!N39,IF($C$4=4.5,'1'!AL39,IF($C$4=7,'1'!BJ39,IF($C$4=9,'1'!CH39,\"FAUX\"))))","v":0},{"$f":"IF($C$4=2.7,'1'!O39,IF($C$4=4.5,'1'!AM39,IF($C$4=7,'1'!BK39,IF($C$4=9,'1'!CI39,\"FAUX\"))))","v":0},{"$f":"IF($C$4=2.7,'1'!P39,IF($C$4=4.5,'1'!AN39,IF($C$4=7,'1'!BL39,IF($C$4=9,'1'!CJ39,\"FAUX\"))))","v":0},{"$f":"IF($C$4=2.7,'1'!Q39,IF($C$4=4.5,'1'!AO39,IF($C$4=7,'1'!BM39,IF($C$4=9,'1'!CK39,\"FAUX\"))))","v":0},{"$f":"IF($C$4=2.7,'1'!R39,IF($C$4=4.5,'1'!AP39,IF($C$4=7,'1'!BN39,IF($C$4=9,'1'!CL39,\"FAUX\"))))","v":0},{"$f":"IF($C$4=2.7,'1'!S39,IF($C$4=4.5,'1'!AQ39,IF($C$4=7,'1'!BO39,IF($C$4=9,'1'!CM39,\"FAUX\"))))","v":0},{"$f":"IF($C$4=2.7,'1'!T39,IF($C$4=4.5,'1'!AR39,IF($C$4=7,'1'!BP39,IF($C$4=9,'1'!CN39,\"FAUX\"))))","v":0},{"$f":"IF($C$4=2.7,'1'!U39,IF($C$4=4.5,'1'!AS39,IF($C$4=7,'1'!BQ39,IF($C$4=9,'1'!CO39,\"FAUX\"))))","v":0},{"$f":"IF($C$4=2.7,'1'!V39,IF($C$4=4.5,'1'!AT39,IF($C$4=7,'1'!BR39,IF($C$4=9,'1'!CP39,\"FAUX\"))))","v":0},{"$f":"IF($C$4=2.7,'1'!W39,IF($C$4=4.5,'1'!AU39,IF($C$4=7,'1'!BS39,IF($C$4=9,'1'!CQ39,\"FAUX\"))))","v":0},{"$f":"IF($C$4=2.7,'1'!X39,IF($C$4=4.5,'1'!AV39,IF($C$4=7,'1'!BT39,IF($C$4=9,'1'!CR39,\"FAUX\"))))","v":0},{"$f":"IF($C$4=2.7,'1'!Y39,IF($C$4=4.5,'1'!AW39,IF($C$4=7,'1'!BU39,IF($C$4=9,'1'!CS39,\"FAUX\"))))","v":0},{"$f":"IF($C$4=2.7,'1'!Z39,IF($C$4=4.5,'1'!AX39,IF($C$4=7,'1'!BV39,IF($C$4=9,'1'!CT39,\"FAUX\"))))","v":0},{"$f":"IF($C$4=2.7,'1'!AA39,IF($C$4=4.5,'1'!AY39,IF($C$4=7,'1'!BW39,IF($C$4=9,'1'!CU39,\"FAUX\"))))","v":0},null,null,{"$f":"\"\"","v":""},0,0,0,0,0,0,0,0,0,0,0,0,0,0,0,0,0,0,0,0,0,0,0,0,null,null,{"$f":"\"\"","v":""},0,0,0,0,0,0,null,null,{"$f":"\"\"","v":""},0,0,0,0,0,0,null,null,null,null,null,null,null,null,null,null,{"$f":"\"\"","v":""},{"$f":"'1'!D85","v":0},{"$f":"'1'!E85","v":0},{"$f":"'1'!F85","v":0},{"$f":"'1'!G85","v":0},{"$f":"'1'!H85","v":0},{"$f":"'1'!I85","v":0},{"$f":"'1'!J85","v":0},{"$f":"'1'!K85","v":0},{"$f":"'1'!L85","v":0},{"$f":"'1'!M85","v":0},{"$f":"'1'!N85","v":0},{"$f":"'1'!O85","v":0},{"$f":"'1'!P85","v":0},{"$f":"'1'!Q85","v":0},{"$f":"'1'!R85","v":0},{"$f":"'1'!S85","v":0},null,null,{"$f":"\"\"","v":""},{"$f":"HLOOKUP($DD$7,$CJ$7:$CZ$48,30,FALSE)","v":0},null,null,{"$f":"\"\"","v":""},{"$f":"IF($C$4=2.7,'1'!D153,IF($C$4=4.5,'1'!G153,IF($C$4=7,'1'!J153,IF($C$4=9,'1'!M153,FALSE))))","v":0},{"$f":"IF($C$4=2.7,'1'!E153,IF($C$4=4.5,'1'!H153,IF($C$4=7,'1'!K153,IF($C$4=9,'1'!N153,FALSE))))","v":0},{"$f":"IF($C$4=2.7,'1'!F153,IF($C$4=4.5,'1'!I153,IF($C$4=7,'1'!L153,IF($C$4=9,'1'!O153,FALSE))))","v":0},null,null,{"$f":"\"\"","v":""},{"$f":"HLOOKUP($DN$7,$DG$7:$DJ$48,30,FALSE)","v":0},null,null,{"$f":"\"\"","v":""},null,null,1,null,10.5,1.9562303872579541,98.043769612742039]
[null,"Porosity",{"$f":"'HPLC simulator'!O22","v":0.7},null,null,null,"Mix 6","Retinyl acetate",{"$f":"IF($C$4=2.7,'1'!D40,IF($C$4=4.5,'1'!AB40,IF($C$4=7,'1'!AZ40,IF($C$4=9,'1'!BX40,\"FAUX\"))))","v":5.89},{"$f":"IF($C$4=2.7,'1'!E40,IF($C$4=4.5,'1'!AC40,IF($C$4=7,'1'!BA40,IF($C$4=9,'1'!BY40,\"FAUX\"))))","v":6},{"$f":"IF($C$4=2.7,'1'!F40,IF($C$4=4.5,'1'!AD40,IF($C$4=7,'1'!BB40,IF($C$4=9,'1'!BZ40,\"FAUX\"))))","v":5.72},{"$f":"IF($C$4=2.7,'1'!G40,IF($C$4=4.5,'1'!AE40,IF($C$4=7,'1'!BC40,IF($C$4=9,'1'!CA40,\"FAUX\"))))","v":6.05},{"$f":"IF($C$4=2.7,'1'!H40,IF($C$4=4.5,'1'!AF40,IF($C$4=7,'1'!BD40,IF($C$4=9,'1'!CB40,\"FAUX\"))))","v":6.15},{"$f":"IF($C$4=2.7,'1'!I40,IF($C$4=4.5,'1'!AG40,IF($C$4=7,'1'!BE40,IF($C$4=9,'1'!CC40,\"FAUX\"))))","v":5.73},{"$f":"IF($C$4=2.7,'1'!J40,IF($C$4=4.5,'1'!AH40,IF($C$4=7,'1'!BF40,IF($C$4=9,'1'!CD40,\"FAUX\"))))","v":6.55},{"$f":"IF($C$4=2.7,'1'!K40,IF($C$4=4.5,'1'!AI40,IF($C$4=7,'1'!BG40,IF($C$4=9,'1'!CE40,\"FAUX\"))))","v":6.29},{"$f":"IF($C$4=2.7,'1'!L40,IF($C$4=4.5,'1'!AJ40,IF($C$4=7,'1'!BH40,IF($C$4=9,'1'!CF40,\"FAUX\"))))","v":6.23},{"$f":"IF($C$4=2.7,'1'!M40,IF($C$4=4.5,'1'!AK40,IF($C$4=7,'1'!BI40,IF($C$4=9,'1'!CG40,\"FAUX\"))))","v":5.94},{"$f":"IF($C$4=2.7,'1'!N40,IF($C$4=4.5,'1'!AL40,IF($C$4=7,'1'!BJ40,IF($C$4=9,'1'!CH40,\"FAUX\"))))","v":6.69},{"$f":"IF($C$4=2.7,'1'!O40,IF($C$4=4.5,'1'!AM40,IF($C$4=7,'1'!BK40,IF($C$4=9,'1'!CI40,\"FAUX\"))))","v":6.55},{"$f":"IF($C$4=2.7,'1'!P40,IF($C$4=4.5,'1'!AN40,IF($C$4=7,'1'!BL40,IF($C$4=9,'1'!CJ40,\"FAUX\"))))","v":4.18},{"$f":"IF($C$4=2.7,'1'!Q40,IF($C$4=4.5,'1'!AO40,IF($C$4=7,'1'!BM40,IF($C$4=9,'1'!CK40,\"FAUX\"))))","v":4.22},{"$f":"IF($C$4=2.7,'1'!R40,IF($C$4=4.5,'1'!AP40,IF($C$4=7,'1'!BN40,IF($C$4=9,'1'!CL40,\"FAUX\"))))","v":3.89},{"$f":"IF($C$4=2.7,'1'!S40,IF($C$4=4.5,'1'!AQ40,IF($C$4=7,'1'!BO40,IF($C$4=9,'1'!CM40,\"FAUX\"))))","v":4.2},{"$f":"IF($C$4=2.7,'1'!T40,IF($C$4=4.5,'1'!AR40,IF($C$4=7,'1'!BP40,IF($C$4=9,'1'!CN40,\"FAUX\"))))","v":3.81},{"$f":"IF($C$4=2.7,'1'!U40,IF($C$4=4.5,'1'!AS40,IF($C$4=7,'1'!BQ40,IF($C$4=9,'1'!CO40,\"FAUX\"))))","v":3.84},{"$f":"IF($C$4=2.7,'1'!V40,IF($C$4=4.5,'1'!AT40,IF($C$4=7,'1'!BR40,IF($C$4=9,'1'!CP40,\"FAUX\"))))","v":4.38},{"$f":"IF($C$4=2.7,'1'!W40,IF($C$4=4.5,'1'!AU40,IF($C$4=7,'1'!BS40,IF($C$4=9,'1'!CQ40,\"FAUX\"))))","v":4.63},{"$f":"IF($C$4=2.7,'1'!X40,IF($C$4=4.5,'1'!AV40,IF($C$4=7,'1'!BT40,IF($C$4=9,'1'!CR40,\"FAUX\"))))","v":3.92},{"$f":"IF($C$4=2.7,'1'!Y40,IF($C$4=4.5,'1'!AW40,IF($C$4=7,'1'!BU40,IF($C$4=9,'1'!CS40,\"FAUX\"))))","v":3.97},{"$f":"IF($C$4=2.7,'1'!Z40,IF($C$4=4.5,'1'!AX40,IF($C$4=7,'1'!BV40,IF($C$4=9,'1'!CT40,\"FAUX\"))))","v":4.09},{"$f":"IF($C$4=2.7,'1'!AA40,IF($C$4=4.5,'1'!AY40,IF($C$4=7,'1'!BW40,IF($C$4=9,'1'!CU40,\"FAUX\"))))","v":4.38},null,"Mix 6",{"$f":"$H37","v":"Retinyl acetate"},{"$f":"SLOPE(I37:J37,$G$3:$G$4)","v":3.6666666666666774E-3},{"$f":"INTERCEPT(I37:J37,$G$3:$G$4)","v":5.7799999999999994},{"$f":"SLOPE(K37:L37,$G$3:$G$4)","v":1.1000000000000003E-2},{"$f":"INTERCEPT(K37:L37,$G$3:$G$4)","v":5.39},{"$f":"SLOPE(M37:N37,$G$3:$G$4)","v":-1.3999999999999997E-2},{"$f":"INTERCEPT(M37:N37,$G$3:$G$4)","v":6.57},{"$f":"SLOPE(O37:P37,$G$3:$G$4)","v":-8.6666666666666593E-3},{"$f":"INTERCEPT(O37:P37,$G$3:$G$4)","v":6.81},{"$f":"SLOPE(Q37:R37,$G$3:$G$4)","v":-9.6666666666666672E-3},{"$f":"INTERCEPT(Q37:R37,$G$3:$G$4)","v":6.5200000000000005},{"$f":"SLOPE(S37:T37,$G$3:$G$4)","v":-4.6666666666666853E-3},{"$f":"INTERCEPT(S37:T37,$G$3:$G$4)","v":6.830000000000001},{"$f":"SLOPE(U37:V37,$G$3:$G$4)","v":1.3333333333333346E-3},{"$f":"INTERCEPT(U37:V37,$G$3:$G$4)","v":4.1399999999999988},{"$f":"SLOPE(W37:X37,$G$3:$G$4)","v":1.0333333333333333E-2},{"$f":"INTERCEPT(W37:X37,$G$3:$G$4)","v":3.58},{"$f":"SLOPE(Y37:Z37,$G$3:$G$4)","v":9.9999999999999352E-4},{"$f":"INTERCEPT(Y37:Z37,$G$3:$G$4)","v":3.7800000000000002},{"$f":"SLOPE(AA37:AB37,$G$3:$G$4)","v":8.3333333333333332E-3},{"$f":"INTERCEPT(AA37:AB37,$G$3:$G$4)","v":4.13},{"$f":"SLOPE(AC37:AD37,$G$3:$G$4)","v":1.6666666666666754E-3},{"$f":"INTERCEPT(AC37:AD37,$G$3:$G$4)","v":3.87},9.6666666666666672E-3,{"$f":"INTERCEPT(AE37:AF37,$G$3:$G$4)","v":3.7999999999999994},null,"Mix 6",{"$f":"H37","v":"Retinyl acetate"},5.89,6.15,6.23,4.1799999999999988,3.81,3.9200000000000004,null,"Mix 6",{"$f":"H37","v":"Retinyl acetate"},5.72,6.55,6.69,3.89,4.38,4.09,null,null,null,null,null,null,null,null,null,"Mix 6",{"$f":"$H37","v":"Retinyl acetate"},{"$f":"'1'!D86","v":0},{"$f":"'1'!E86","v":4.4133542425748302E-2},{"$f":"'1'!F86","v":0.26115723286126802},{"$f":"'1'!G86","v":0.27198729653383202},{"$f":"'1'!H86","v":0.15864742597012299},{"$f":"'1'!I86","v":7.7577862561152205E-2},{"$f":"'1'!J86","v":5.0589460735748097E-2},{"$f":"'1'!K86","v":6.06033781051687E-2},{"$f":"'1'!L86","v":9.3901588728054194E-2},{"$f":"'1'!M86","v":0.14963538507940599},{"$f":"'1'!N86","v":0.255548337607858},{"$f":"'1'!O86","v":0.359441759454666},{"$f":"'1'!P86","v":0.42338390428384998},{"$f":"'1'!Q86","v":0.44461092611625702},{"$f":"'1'!R86","v":0.38390827967521401},{"$f":"'1'!S86","v":0.250138638062953},null,"Mix 6",{"$f":"$H37","v":"Retinyl acetate"},{"$f":"HLOOKUP($DD$7,$CJ$7:$CZ$48,31,FALSE)","v":0.26115723286126802},null,"Mix 6",{"$f":"$H37","v":"Retinyl acetate"},{"$f":"IF($C$4=2.7,'1'!D154,IF($C$4=4.5,'1'!G154,IF($C$4=7,'1'!J154,IF($C$4=9,'1'!M154,FALSE))))","v":1.08},{"$f":"IF($C$4=2.7,'1'!E154,IF($C$4=4.5,'1'!H154,IF($C$4=7,'1'!K154,IF($C$4=9,'1'!N154,FALSE))))","v":1.1100000000000001},{"$f":"IF($C$4=2.7,'1'!F154,IF($C$4=4.5,'1'!I154,IF($C$4=7,'1'!L154,IF($C$4=9,'1'!O154,FALSE))))","v":1.0900000000000001},null,"Mix 6",{"$f":"$H37","v":"Retinyl acetate"},{"$f":"HLOOKUP($DN$7,$DG$7:$DJ$48,31,FALSE)","v":1.08},null,"Mix 6",{"$f":"$H37","v":"Retinyl acetate"},20,null,2,null,11,0.62700123414338504,99.372998765856622]
[null,"solute molar volume",100,"cm3/g.mol",null,null,null,"Alpha tocopherol",{"$f":"IF($C$4=2.7,'1'!D41,IF($C$4=4.5,'1'!AB41,IF($C$4=7,'1'!AZ41,IF($C$4=9,'1'!BX41,\"FAUX\"))))","v":9.6300000000000008},{"$f":"IF($C$4=2.7,'1'!E41,IF($C$4=4.5,'1'!AC41,IF($C$4=7,'1'!BA41,IF($C$4=9,'1'!BY41,\"FAUX\"))))","v":8.5},{"$f":"IF($C$4=2.7,'1'!F41,IF($C$4=4.5,'1'!AD41,IF($C$4=7,'1'!BB41,IF($C$4=9,'1'!BZ41,\"FAUX\"))))","v":9.14},{"$f":"IF($C$4=2.7,'1'!G41,IF($C$4=4.5,'1'!AE41,IF($C$4=7,'1'!BC41,IF($C$4=9,'1'!CA41,\"FAUX\"))))","v":8.16},{"$f":"IF($C$4=2.7,'1'!H41,IF($C$4=4.5,'1'!AF41,IF($C$4=7,'1'!BD41,IF($C$4=9,'1'!CB41,\"FAUX\"))))","v":6.93},{"$f":"IF($C$4=2.7,'1'!I41,IF($C$4=4.5,'1'!AG41,IF($C$4=7,'1'!BE41,IF($C$4=9,'1'!CC41,\"FAUX\"))))","v":6.49},{"$f":"IF($C$4=2.7,'1'!J41,IF($C$4=4.5,'1'!AH41,IF($C$4=7,'1'!BF41,IF($C$4=9,'1'!CD41,\"FAUX\"))))","v":6.99},{"$f":"IF($C$4=2.7,'1'!K41,IF($C$4=4.5,'1'!AI41,IF($C$4=7,'1'!BG41,IF($C$4=9,'1'!CE41,\"FAUX\"))))","v":6.69},{"$f":"IF($C$4=2.7,'1'!L41,IF($C$4=4.5,'1'!AJ41,IF($C$4=7,'1'!BH41,IF($C$4=9,'1'!CF41,\"FAUX\"))))","v":6.8},{"$f":"IF($C$4=2.7,'1'!M41,IF($C$4=4.5,'1'!AK41,IF($C$4=7,'1'!BI41,IF($C$4=9,'1'!CG41,\"FAUX\"))))","v":7.02},{"$f":"IF($C$4=2.7,'1'!N41,IF($C$4=4.5,'1'!AL41,IF($C$4=7,'1'!BJ41,IF($C$4=9,'1'!CH41,\"FAUX\"))))","v":6.84},{"$f":"IF($C$4=2.7,'1'!O41,IF($C$4=4.5,'1'!AM41,IF($C$4=7,'1'!BK41,IF($C$4=9,'1'!CI41,\"FAUX\"))))","v":7.31},{"$f":"IF($C$4=2.7,'1'!P41,IF($C$4=4.5,'1'!AN41,IF($C$4=7,'1'!BL41,IF($C$4=9,'1'!CJ41,\"FAUX\"))))","v":8.2100000000000009},{"$f":"IF($C$4=2.7,'1'!Q41,IF($C$4=4.5,'1'!AO41,IF($C$4=7,'1'!BM41,IF($C$4=9,'1'!CK41,\"FAUX\"))))","v":6.43},{"$f":"IF($C$4=2.7,'1'!R41,IF($C$4=4.5,'1'!AP41,IF($C$4=7,'1'!BN41,IF($C$4=9,'1'!CL41,\"FAUX\"))))","v":7.37},{"$f":"IF($C$4=2.7,'1'!S41,IF($C$4=4.5,'1'!AQ41,IF($C$4=7,'1'!BO41,IF($C$4=9,'1'!CM41,\"FAUX\"))))","v":5.86},{"$f":"IF($C$4=2.7,'1'!T41,IF($C$4=4.5,'1'!AR41,IF($C$4=7,'1'!BP41,IF($C$4=9,'1'!CN41,\"FAUX\"))))","v":4.58},{"$f":"IF($C$4=2.7,'1'!U41,IF($C$4=4.5,'1'!AS41,IF($C$4=7,'1'!BQ41,IF($C$4=9,'1'!CO41,\"FAUX\"))))","v":6.05},{"$f":"IF($C$4=2.7,'1'!V41,IF($C$4=4.5,'1'!AT41,IF($C$4=7,'1'!BR41,IF($C$4=9,'1'!CP41,\"FAUX\"))))","v":4.6399999999999997},{"$f":"IF($C$4=2.7,'1'!W41,IF($C$4=4.5,'1'!AU41,IF($C$4=7,'1'!BS41,IF($C$4=9,'1'!CQ41,\"FAUX\"))))","v":6.69},{"$f":"IF($C$4=2.7,'1'!X41,IF($C$4=4.5,'1'!AV41,IF($C$4=7,'1'!BT41,IF($C$4=9,'1'!CR41,\"FAUX\"))))","v":5.58},{"$f":"IF($C$4=2.7,'1'!Y41,IF($C$4=4.5,'1'!AW41,IF($C$4=7,'1'!BU41,IF($C$4=9,'1'!CS41,\"FAUX\"))))","v":4.58},{"$f":"IF($C$4=2.7,'1'!Z41,IF($C$4=4.5,'1'!AX41,IF($C$4=7,'1'!BV41,IF($C$4=9,'1'!CT41,\"FAUX\"))))","v":5.43},{"$f":"IF($C$4=2.7,'1'!AA41,IF($C$4=4.5,'1'!AY41,IF($C$4=7,'1'!BW41,IF($C$4=9,'1'!CU41,\"FAUX\"))))","v":4.5},null,null,"Alpha tocopherol",-3.7666666666666689E-2,10.760000000000002,-3.2666666666666684E-2,10.120000000000001,-1.4666666666666651E-2,7.3699999999999992,-9.9999999999999933E-3,7.2899999999999991,7.3333333333333254E-3,6.58,1.5666666666666659E-2,6.3699999999999992,-5.933333333333337E-2,9.990000000000002,-5.0333333333333327E-2,8.879999999999999,4.8999999999999995E-2,3.11,6.8333333333333357E-2,2.589999999999999,-3.3333333333333333E-2,6.58,-3.0999999999999989E-2,6.3599999999999994,null,null,"Alpha tocopherol",9.6300000000000008,6.93,6.8,8.2100000000000009,4.58,5.58,null,null,"Alpha tocopherol",9.14,6.9899999999999993,6.839999999999999,7.3699999999999992,4.6399999999999997,5.43,null,null,null,null,null,null,null,null,null,null,"Alpha tocopherol",{"$f":"'1'!D87","v":0},{"$f":"'1'!E87","v":9.3057200095957596E-2},{"$f":"'1'!F87","v":0.301576937054298},{"$f":"'1'!G87","v":0.32890299256092498},{"$f":"'1'!H87","v":0.16943712509393399},{"$f":"'1'!I87","v":4.2622546208610598E-2},{"$f":"'1'!J87","v":3.6060716629260901E-3},{"$f":"'1'!K87","v":4.5624259847434397E-3},{"$f":"'1'!L87","v":1.2418132525277899E-2},{"$f":"'1'!M87","v":2.5334058973540699E-2},{"$f":"'1'!N87","v":3.1362377997696603E-2},{"$f":"'1'!O87","v":1.1226797000536E-2},{"$f":"'1'!P87","v":0},{"$f":"'1'!Q87","v":0},{"$f":"'1'!R87","v":0},{"$f":"'1'!S87","v":0},null,null,"Alpha tocopherol",{"$f":"HLOOKUP($DD$7,$CJ$7:$CZ$48,32,FALSE)","v":0.301576937054298},null,null,"Alpha tocopherol",{"$f":"IF($C$4=2.7,'1'!D155,IF($C$4=4.5,'1'!G155,IF($C$4=7,'1'!J155,IF($C$4=9,'1'!M155,FALSE))))","v":1.1599999999999999},{"$f":"IF($C$4=2.7,'1'!E155,IF($C$4=4.5,'1'!H155,IF($C$4=7,'1'!K155,IF($C$4=9,'1'!N155,FALSE))))","v":1.0900000000000001},{"$f":"IF($C$4=2.7,'1'!F155,IF($C$4=4.5,'1'!I155,IF($C$4=7,'1'!L155,IF($C$4=9,'1'!O155,FALSE))))","v":1.1599999999999999},null,null,"Alpha tocopherol",{"$f":"HLOOKUP($DN$7,$DG$7:$DJ$48,32,FALSE)","v":1.1599999999999999},null,null,"Alpha tocopherol",10.8,null,2,null,11.5,0.19912891707283215,99.800871082927173]
[null,"Column dead volume",{"$f":"PI()*C14*C14/4*C13*C37","v":1744.9976394364501},"µl",null,null,null,"cholecalciferol",{"$f":"IF($C$4=2.7,'1'!D42,IF($C$4=4.5,'1'!AB42,IF($C$4=7,'1'!AZ42,IF($C$4=9,'1'!BX42,\"FAUX\"))))","v":8.31},{"$f":"IF($C$4=2.7,'1'!E42,IF($C$4=4.5,'1'!AC42,IF($C$4=7,'1'!BA42,IF($C$4=9,'1'!BY42,\"FAUX\"))))","v":6.93},{"$f":"IF($C$4=2.7,'1'!F42,IF($C$4=4.5,'1'!AD42,IF($C$4=7,'1'!BB42,IF($C$4=9,'1'!BZ42,\"FAUX\"))))","v":7.88},{"$f":"IF($C$4=2.7,'1'!G42,IF($C$4=4.5,'1'!AE42,IF($C$4=7,'1'!BC42,IF($C$4=9,'1'!CA42,\"FAUX\"))))","v":6.59},{"$f":"IF($C$4=2.7,'1'!H42,IF($C$4=4.5,'1'!AF42,IF($C$4=7,'1'!BD42,IF($C$4=9,'1'!CB42,\"FAUX\"))))","v":6.68},{"$f":"IF($C$4=2.7,'1'!I42,IF($C$4=4.5,'1'!AG42,IF($C$4=7,'1'!BE42,IF($C$4=9,'1'!CC42,\"FAUX\"))))","v":6.24},{"$f":"IF($C$4=2.7,'1'!J42,IF($C$4=4.5,'1'!AH42,IF($C$4=7,'1'!BF42,IF($C$4=9,'1'!CD42,\"FAUX\"))))","v":6.84},{"$f":"IF($C$4=2.7,'1'!K42,IF($C$4=4.5,'1'!AI42,IF($C$4=7,'1'!BG42,IF($C$4=9,'1'!CE42,\"FAUX\"))))","v":6.55},{"$f":"IF($C$4=2.7,'1'!L42,IF($C$4=4.5,'1'!AJ42,IF($C$4=7,'1'!BH42,IF($C$4=9,'1'!CF42,\"FAUX\"))))","v":6.42},{"$f":"IF($C$4=2.7,'1'!M42,IF($C$4=4.5,'1'!AK42,IF($C$4=7,'1'!BI42,IF($C$4=9,'1'!CG42,\"FAUX\"))))","v":6.47},{"$f":"IF($C$4=2.7,'1'!N42,IF($C$4=4.5,'1'!AL42,IF($C$4=7,'1'!BJ42,IF($C$4=9,'1'!CH42,\"FAUX\"))))","v":6.42},{"$f":"IF($C$4=2.7,'1'!O42,IF($C$4=4.5,'1'!AM42,IF($C$4=7,'1'!BK42,IF($C$4=9,'1'!CI42,\"FAUX\"))))","v":6.69},{"$f":"IF($C$4=2.7,'1'!P42,IF($C$4=4.5,'1'!AN42,IF($C$4=7,'1'!BL42,IF($C$4=9,'1'!CJ42,\"FAUX\"))))","v":5.92},{"$f":"IF($C$4=2.7,'1'!Q42,IF($C$4=4.5,'1'!AO42,IF($C$4=7,'1'!BM42,IF($C$4=9,'1'!CK42,\"FAUX\"))))","v":4.9000000000000004},{"$f":"IF($C$4=2.7,'1'!R42,IF($C$4=4.5,'1'!AP42,IF($C$4=7,'1'!BN42,IF($C$4=9,'1'!CL42,\"FAUX\"))))","v":5.19},{"$f":"IF($C$4=2.7,'1'!S42,IF($C$4=4.5,'1'!AQ42,IF($C$4=7,'1'!BO42,IF($C$4=9,'1'!CM42,\"FAUX\"))))","v":4.3499999999999996},{"$f":"IF($C$4=2.7,'1'!T42,IF($C$4=4.5,'1'!AR42,IF($C$4=7,'1'!BP42,IF($C$4=9,'1'!CN42,\"FAUX\"))))","v":4.03},{"$f":"IF($C$4=2.7,'1'!U42,IF($C$4=4.5,'1'!AS42,IF($C$4=7,'1'!BQ42,IF($C$4=9,'1'!CO42,\"FAUX\"))))","v":4.05},{"$f":"IF($C$4=2.7,'1'!V42,IF($C$4=4.5,'1'!AT42,IF($C$4=7,'1'!BR42,IF($C$4=9,'1'!CP42,\"FAUX\"))))","v":4.26},{"$f":"IF($C$4=2.7,'1'!W42,IF($C$4=4.5,'1'!AU42,IF($C$4=7,'1'!BS42,IF($C$4=9,'1'!CQ42,\"FAUX\"))))","v":4.5},{"$f":"IF($C$4=2.7,'1'!X42,IF($C$4=4.5,'1'!AV42,IF($C$4=7,'1'!BT42,IF($C$4=9,'1'!CR42,\"FAUX\"))))","v":4.09},{"$f":"IF($C$4=2.7,'1'!Y42,IF($C$4=4.5,'1'!AW42,IF($C$4=7,'1'!BU42,IF($C$4=9,'1'!CS42,\"FAUX\"))))","v":4.18},{"$f":"IF($C$4=2.7,'1'!Z42,IF($C$4=4.5,'1'!AX42,IF($C$4=7,'1'!BV42,IF($C$4=9,'1'!CT42,\"FAUX\"))))","v":3.8},{"$f":"IF($C$4=2.7,'1'!AA42,IF($C$4=4.5,'1'!AY42,IF($C$4=7,'1'!BW42,IF($C$4=9,'1'!CU42,\"FAUX\"))))","v":4.1500000000000004},null,null,"cholecalciferol",-4.600000000000002E-2,9.6900000000000013,-4.3000000000000003E-2,9.17,-1.4666666666666651E-2,7.1199999999999992,-9.6666666666666672E-3,7.13,1.6666666666666607E-3,6.370000000000001,9.0000000000000149E-3,6.1499999999999986,-3.3999999999999989E-2,6.9399999999999995,-2.8000000000000028E-2,6.0300000000000011,6.6666666666665244E-4,4.0100000000000007,8.0000000000000071E-3,4.0199999999999996,2.9999999999999953E-3,4,1.1666666666666685E-2,3.4499999999999993,null,null,"cholecalciferol",8.31,6.68,6.4200000000000008,5.92,4.03,4.09,null,null,"cholecalciferol",7.88,6.84,6.419999999999999,5.19,4.26,3.8,null,null,null,null,null,null,null,null,null,null,"cholecalciferol",{"$f":"'1'!D88","v":0},{"$f":"'1'!E88","v":0.19118502574594201},{"$f":"'1'!F88","v":0.43237224147113201},{"$f":"'1'!G88","v":0.41516245627197701},{"$f":"'1'!H88","v":0.31412798985496798},{"$f":"'1'!I88","v":0.24359466336980701},{"$f":"'1'!J88","v":0.25099530842015799},{"$f":"'1'!K88","v":0.248779404467839},{"$f":"'1'!L88","v":0.191855276408051},{"$f":"'1'!M88","v":0.111925071099016},{"$f":"'1'!N88","v":3.73052028657972E-2},{"$f":"'1'!O88","v":1.0224398160789299E-2},{"$f":"'1'!P88","v":0},{"$f":"'1'!Q88","v":0},{"$f":"'1'!R88","v":0},{"$f":"'1'!S88","v":0},null,null,"cholecalciferol",{"$f":"HLOOKUP($DD$7,$CJ$7:$CZ$48,33,FALSE)","v":0.43237224147113201},null,null,"cholecalciferol",{"$f":"IF($C$4=2.7,'1'!D156,IF($C$4=4.5,'1'!G156,IF($C$4=7,'1'!J156,IF($C$4=9,'1'!M156,FALSE))))","v":1.06},{"$f":"IF($C$4=2.7,'1'!E156,IF($C$4=4.5,'1'!H156,IF($C$4=7,'1'!K156,IF($C$4=9,'1'!N156,FALSE))))","v":1.06},{"$f":"IF($C$4=2.7,'1'!F156,IF($C$4=4.5,'1'!I156,IF($C$4=7,'1'!L156,IF($C$4=9,'1'!O156,FALSE))))","v":1.1200000000000001},null,null,"cholecalciferol",{"$f":"HLOOKUP($DN$7,$DG$7:$DJ$48,33,FALSE)","v":1.06},null,null,"cholecalciferol",20,null,2,null,12,6.3055948833989434E-2,99.936944051166009]
[null,"Column dead time",{"$f":"C39/(C3*1000)","v":1.7449976394364501},"min",null,null,null,"Vitamin K1",{"$f":"IF($C$4=2.7,'1'!D43,IF($C$4=4.5,'1'!AB43,IF($C$4=7,'1'!AZ43,IF($C$4=9,'1'!BX43,\"FAUX\"))))","v":9.85},{"$f":"IF($C$4=2.7,'1'!E43,IF($C$4=4.5,'1'!AC43,IF($C$4=7,'1'!BA43,IF($C$4=9,'1'!BY43,\"FAUX\"))))","v":10.4},{"$f":"IF($C$4=2.7,'1'!F43,IF($C$4=4.5,'1'!AD43,IF($C$4=7,'1'!BB43,IF($C$4=9,'1'!BZ43,\"FAUX\"))))","v":9.14},{"$f":"IF($C$4=2.7,'1'!G43,IF($C$4=4.5,'1'!AE43,IF($C$4=7,'1'!BC43,IF($C$4=9,'1'!CA43,\"FAUX\"))))","v":9.94},{"$f":"IF($C$4=2.7,'1'!H43,IF($C$4=4.5,'1'!AF43,IF($C$4=7,'1'!BD43,IF($C$4=9,'1'!CB43,\"FAUX\"))))","v":6.96},{"$f":"IF($C$4=2.7,'1'!I43,IF($C$4=4.5,'1'!AG43,IF($C$4=7,'1'!BE43,IF($C$4=9,'1'!CC43,\"FAUX\"))))","v":6.16},{"$f":"IF($C$4=2.7,'1'!J43,IF($C$4=4.5,'1'!AH43,IF($C$4=7,'1'!BF43,IF($C$4=9,'1'!CD43,\"FAUX\"))))","v":6.71},{"$f":"IF($C$4=2.7,'1'!K43,IF($C$4=4.5,'1'!AI43,IF($C$4=7,'1'!BG43,IF($C$4=9,'1'!CE43,\"FAUX\"))))","v":6.05},{"$f":"IF($C$4=2.7,'1'!L43,IF($C$4=4.5,'1'!AJ43,IF($C$4=7,'1'!BH43,IF($C$4=9,'1'!CF43,\"FAUX\"))))","v":6.94},{"$f":"IF($C$4=2.7,'1'!M43,IF($C$4=4.5,'1'!AK43,IF($C$4=7,'1'!BI43,IF($C$4=9,'1'!CG43,\"FAUX\"))))","v":6.61},{"$f":"IF($C$4=2.7,'1'!N43,IF($C$4=4.5,'1'!AL43,IF($C$4=7,'1'!BJ43,IF($C$4=9,'1'!CH43,\"FAUX\"))))","v":6.72},{"$f":"IF($C$4=2.7,'1'!O43,IF($C$4=4.5,'1'!AM43,IF($C$4=7,'1'!BK43,IF($C$4=9,'1'!CI43,\"FAUX\"))))","v":6.55},{"$f":"IF($C$4=2.7,'1'!P43,IF($C$4=4.5,'1'!AN43,IF($C$4=7,'1'!BL43,IF($C$4=9,'1'!CJ43,\"FAUX\"))))","v":9.42},{"$f":"IF($C$4=2.7,'1'!Q43,IF($C$4=4.5,'1'!AO43,IF($C$4=7,'1'!BM43,IF($C$4=9,'1'!CK43,\"FAUX\"))))","v":7.38},{"$f":"IF($C$4=2.7,'1'!R43,IF($C$4=4.5,'1'!AP43,IF($C$4=7,'1'!BN43,IF($C$4=9,'1'!CL43,\"FAUX\"))))","v":8.4700000000000006},{"$f":"IF($C$4=2.7,'1'!S43,IF($C$4=4.5,'1'!AQ43,IF($C$4=7,'1'!BO43,IF($C$4=9,'1'!CM43,\"FAUX\"))))","v":6.72},{"$f":"IF($C$4=2.7,'1'!T43,IF($C$4=4.5,'1'!AR43,IF($C$4=7,'1'!BP43,IF($C$4=9,'1'!CN43,\"FAUX\"))))","v":4.8600000000000003},{"$f":"IF($C$4=2.7,'1'!U43,IF($C$4=4.5,'1'!AS43,IF($C$4=7,'1'!BQ43,IF($C$4=9,'1'!CO43,\"FAUX\"))))","v":4.71},{"$f":"IF($C$4=2.7,'1'!V43,IF($C$4=4.5,'1'!AT43,IF($C$4=7,'1'!BR43,IF($C$4=9,'1'!CP43,\"FAUX\"))))","v":4.7699999999999996},{"$f":"IF($C$4=2.7,'1'!W43,IF($C$4=4.5,'1'!AU43,IF($C$4=7,'1'!BS43,IF($C$4=9,'1'!CQ43,\"FAUX\"))))","v":4.8499999999999996},{"$f":"IF($C$4=2.7,'1'!X43,IF($C$4=4.5,'1'!AV43,IF($C$4=7,'1'!BT43,IF($C$4=9,'1'!CR43,\"FAUX\"))))","v":6.04},{"$f":"IF($C$4=2.7,'1'!Y43,IF($C$4=4.5,'1'!AW43,IF($C$4=7,'1'!BU43,IF($C$4=9,'1'!CS43,\"FAUX\"))))","v":5.03},{"$f":"IF($C$4=2.7,'1'!Z43,IF($C$4=4.5,'1'!AX43,IF($C$4=7,'1'!BV43,IF($C$4=9,'1'!CT43,\"FAUX\"))))","v":5.51},{"$f":"IF($C$4=2.7,'1'!AA43,IF($C$4=4.5,'1'!AY43,IF($C$4=7,'1'!BW43,IF($C$4=9,'1'!CU43,\"FAUX\"))))","v":4.7300000000000004},null,null,"Vitamin K1",1.8333333333333358E-2,9.2999999999999989,2.666666666666663E-2,8.34,-2.6666666666666658E-2,7.76,-2.2000000000000006E-2,7.37,-1.1000000000000003E-2,7.2700000000000005,-5.6666666666666645E-3,6.89,-6.8000000000000005E-2,11.46,-5.8333333333333362E-2,10.220000000000002,-5.0000000000000122E-3,5.0100000000000007,2.6666666666666692E-3,4.6899999999999995,-3.3666666666666657E-2,7.05,-2.5999999999999978E-2,6.2899999999999991,null,null,"Vitamin K1",9.85,6.96,6.94,9.4200000000000017,4.8600000000000003,6.04,null,null,"Vitamin K1",9.1399999999999988,6.71,6.72,8.4700000000000024,4.7699999999999996,5.51,null,null,null,null,null,null,null,null,null,null,"Vitamin K1",{"$f":"'1'!D89","v":-3.98411107903488E-4},{"$f":"'1'!E89","v":5.2002449014015698E-2},{"$f":"'1'!F89","v":0.33200437952539702},{"$f":"'1'!G89","v":0.37301204014282302},{"$f":"'1'!H89","v":0.27249530906072},{"$f":"'1'!I89","v":0.15524733460669701},{"$f":"'1'!J89","v":0.102711953701667},{"$f":"'1'!K89","v":0.105125538082121},{"$f":"'1'!L89","v":2.4062164662813499E-2},{"$f":"'1'!M89","v":7.4189925792483898E-3},{"$f":"'1'!N89","v":1.02754038153197E-2},{"$f":"'1'!O89","v":1.40580644276193E-2},{"$f":"'1'!P89","v":1.8158515438036898E-2},{"$f":"'1'!Q89","v":1.9595292318198999E-2},{"$f":"'1'!R89","v":1.68666178823265E-2},{"$f":"'1'!S89","v":1.00626581639868E-2},null,null,"Vitamin K1",{"$f":"HLOOKUP($DD$7,$CJ$7:$CZ$48,34,FALSE)","v":0.33200437952539702},null,null,"Vitamin K1",{"$f":"IF($C$4=2.7,'1'!D157,IF($C$4=4.5,'1'!G157,IF($C$4=7,'1'!J157,IF($C$4=9,'1'!M157,FALSE))))","v":1.1100000000000001},{"$f":"IF($C$4=2.7,'1'!E157,IF($C$4=4.5,'1'!H157,IF($C$4=7,'1'!K157,IF($C$4=9,'1'!N157,FALSE))))","v":1.1599999999999999},{"$f":"IF($C$4=2.7,'1'!F157,IF($C$4=4.5,'1'!I157,IF($C$4=7,'1'!L157,IF($C$4=9,'1'!O157,FALSE))))","v":1.1000000000000001},null,null,"Vitamin K1",{"$f":"HLOOKUP($DN$7,$DG$7:$DJ$48,34,FALSE)","v":1.1100000000000001},null,null,"Vitamin K1",20,null,2,null,12.5,1.9948642872153068E-2,99.980051357127849]
[null,"viscosity",{"$f":"IF(C5=\"Acetonitrile\",10^(-2.063+(601.9/($C$17+273))+0.0709*$C$34/100+((62*$C$34/100)/($C$17+273))+0.5043*($C$34/100)*($C$34/100)-(345.8*($C$34/100)*($C$34/100)/($C$17+273))),10^(-2.429+(714/($C$17+273))-1.859*$C$34/100+((911.7*$C$34/100)/($C$17+273))+1.8586*($C$34/100)*($C$34/100)-(968.1*($C$34/100)*($C$34/100)/($C$17+273))))","v":0.8546025249448872},"cp",null,null,null,{"$f":"\"\"","v":""},0,0,0,0,0,0,0,0,0,0,0,0,0,0,0,0,0,0,0,0,0,0,0,0,null,null,null,0,{"$f":"SLOPE(J41:K41,$G$3:$G$4)","v":0},0,{"$f":"SLOPE(L41:M41,$G$3:$G$4)","v":0},0,{"$f":"SLOPE(N41:O41,$G$3:$G$4)","v":0},0,{"$f":"SLOPE(P41:Q41,$G$3:$G$4)","v":0},0,{"$f":"SLOPE(R41:S41,$G$3:$G$4)","v":0},0,{"$f":"SLOPE(T41:U41,$G$3:$G$4)","v":0},0,{"$f":"SLOPE(V41:W41,$G$3:$G$4)","v":0},0,{"$f":"SLOPE(X41:Y41,$G$3:$G$4)","v":0},0,{"$f":"SLOPE(Z41:AA41,$G$3:$G$4)","v":0},0,{"$f":"SLOPE(AB41:AC41,$G$3:$G$4)","v":0},0,{"$f":"SLOPE(AD41:AE41,$G$3:$G$4)","v":0},{"$f":"SLOPE(AE41:AF41,$G$3:$G$4)","v":0},{"$error":"#DIV/0!"},null,null,{"$f":"\"\"","v":""},0,{"$f":"AK41*$C$17+AL41","v":0},{"$f":"AL41*$C$17+AM41","v":0},{"$f":"AM41*$C$17+AN41","v":0},{"$f":"AN41*$C$17+AO41","v":0},{"$f":"AO41*$C$17+AP41","v":0},null,null,{"$f":"\"\"","v":""},0,0,0,0,0,{"$error":"#DIV/0!"},null,null,null,null,null,null,null,null,null,null,{"$f":"\"\"","v":""},{"$f":"'1'!D90","v":0},{"$f":"'1'!E90","v":0},{"$f":"'1'!F90","v":0},{"$f":"'1'!G90","v":0},{"$f":"'1'!H90","v":0},{"$f":"'1'!I90","v":0},{"$f":"'1'!J90","v":0},{"$f":"'1'!K90","v":0},{"$f":"'1'!L90","v":0},{"$f":"'1'!M90","v":0},{"$f":"'1'!N90","v":0},{"$f":"'1'!O90","v":0},{"$f":"'1'!P90","v":0},{"$f":"'1'!Q90","v":0},{"$f":"'1'!R90","v":0},{"$f":"'1'!S90","v":0},null,null,{"$f":"\"\"","v":""},{"$f":"HLOOKUP($DD$7,$CJ$7:$CZ$48,35,FALSE)","v":0},null,null,{"$f":"\"\"","v":""},{"$f":"IF($C$4=2.7,'1'!D158,IF($C$4=4.5,'1'!G158,IF($C$4=7,'1'!J158,IF($C$4=9,'1'!M158,FALSE))))","v":0},{"$f":"IF($C$4=2.7,'1'!E158,IF($C$4=4.5,'1'!H158,IF($C$4=7,'1'!K158,IF($C$4=9,'1'!N158,FALSE))))","v":0},{"$f":"IF($C$4=2.7,'1'!F158,IF($C$4=4.5,'1'!I158,IF($C$4=7,'1'!L158,IF($C$4=9,'1'!O158,FALSE))))","v":0},null,null,{"$f":"\"\"","v":""},{"$f":"HLOOKUP($DN$7,$DG$7:$DJ$48,35,FALSE)","v":0},null,null,null,null,null,{"$f":"IF(DR37=\"\",1,2)","v":2},null,13,6.3091753627486646E-3,99.993690824637255]
[null,"Φ",750,null,null,null,"Mix 7","Acebutolol",{"$f":"IF($C$4=2.7,'1'!D45,IF($C$4=4.5,'1'!AB45,IF($C$4=7,'1'!AZ45,IF($C$4=9,'1'!BX45,\"FAUX\"))))","v":2.5},{"$f":"IF($C$4=2.7,'1'!E45,IF($C$4=4.5,'1'!AC45,IF($C$4=7,'1'!BA45,IF($C$4=9,'1'!BY45,\"FAUX\"))))","v":2.33},{"$f":"IF($C$4=2.7,'1'!F45,IF($C$4=4.5,'1'!AD45,IF($C$4=7,'1'!BB45,IF($C$4=9,'1'!BZ45,\"FAUX\"))))","v":6.07},{"$f":"IF($C$4=2.7,'1'!G45,IF($C$4=4.5,'1'!AE45,IF($C$4=7,'1'!BC45,IF($C$4=9,'1'!CA45,\"FAUX\"))))","v":5.71},{"$f":"IF($C$4=2.7,'1'!H45,IF($C$4=4.5,'1'!AF45,IF($C$4=7,'1'!BD45,IF($C$4=9,'1'!CB45,\"FAUX\"))))","v":2.41},{"$f":"IF($C$4=2.7,'1'!I45,IF($C$4=4.5,'1'!AG45,IF($C$4=7,'1'!BE45,IF($C$4=9,'1'!CC45,\"FAUX\"))))","v":2.13},{"$f":"IF($C$4=2.7,'1'!J45,IF($C$4=4.5,'1'!AH45,IF($C$4=7,'1'!BF45,IF($C$4=9,'1'!CD45,\"FAUX\"))))","v":5.54},{"$f":"IF($C$4=2.7,'1'!K45,IF($C$4=4.5,'1'!AI45,IF($C$4=7,'1'!BG45,IF($C$4=9,'1'!CE45,\"FAUX\"))))","v":5.0199999999999996},{"$f":"IF($C$4=2.7,'1'!L45,IF($C$4=4.5,'1'!AJ45,IF($C$4=7,'1'!BH45,IF($C$4=9,'1'!CF45,\"FAUX\"))))","v":2.37},{"$f":"IF($C$4=2.7,'1'!M45,IF($C$4=4.5,'1'!AK45,IF($C$4=7,'1'!BI45,IF($C$4=9,'1'!CG45,\"FAUX\"))))","v":2.23},{"$f":"IF($C$4=2.7,'1'!N45,IF($C$4=4.5,'1'!AL45,IF($C$4=7,'1'!BJ45,IF($C$4=9,'1'!CH45,\"FAUX\"))))","v":6.04},{"$f":"IF($C$4=2.7,'1'!O45,IF($C$4=4.5,'1'!AM45,IF($C$4=7,'1'!BK45,IF($C$4=9,'1'!CI45,\"FAUX\"))))","v":5.79},{"$f":"IF($C$4=2.7,'1'!P45,IF($C$4=4.5,'1'!AN45,IF($C$4=7,'1'!BL45,IF($C$4=9,'1'!CJ45,\"FAUX\"))))","v":2.6},{"$f":"IF($C$4=2.7,'1'!Q45,IF($C$4=4.5,'1'!AO45,IF($C$4=7,'1'!BM45,IF($C$4=9,'1'!CK45,\"FAUX\"))))","v":2.42},{"$f":"IF($C$4=2.7,'1'!R45,IF($C$4=4.5,'1'!AP45,IF($C$4=7,'1'!BN45,IF($C$4=9,'1'!CL45,\"FAUX\"))))","v":12.5},{"$f":"IF($C$4=2.7,'1'!S45,IF($C$4=4.5,'1'!AQ45,IF($C$4=7,'1'!BO45,IF($C$4=9,'1'!CM45,\"FAUX\"))))","v":11.6},{"$f":"IF($C$4=2.7,'1'!T45,IF($C$4=4.5,'1'!AR45,IF($C$4=7,'1'!BP45,IF($C$4=9,'1'!CN45,\"FAUX\"))))","v":2.23},{"$f":"IF($C$4=2.7,'1'!U45,IF($C$4=4.5,'1'!AS45,IF($C$4=7,'1'!BQ45,IF($C$4=9,'1'!CO45,\"FAUX\"))))","v":2.0699999999999998},{"$f":"IF($C$4=2.7,'1'!V45,IF($C$4=4.5,'1'!AT45,IF($C$4=7,'1'!BR45,IF($C$4=9,'1'!CP45,\"FAUX\"))))","v":10.4},{"$f":"IF($C$4=2.7,'1'!W45,IF($C$4=4.5,'1'!AU45,IF($C$4=7,'1'!BS45,IF($C$4=9,'1'!CQ45,\"FAUX\"))))","v":9.68},{"$f":"IF($C$4=2.7,'1'!X45,IF($C$4=4.5,'1'!AV45,IF($C$4=7,'1'!BT45,IF($C$4=9,'1'!CR45,\"FAUX\"))))","v":2.2799999999999998},{"$f":"IF($C$4=2.7,'1'!Y45,IF($C$4=4.5,'1'!AW45,IF($C$4=7,'1'!BU45,IF($C$4=9,'1'!CS45,\"FAUX\"))))","v":2.19},{"$f":"IF($C$4=2.7,'1'!Z45,IF($C$4=4.5,'1'!AX45,IF($C$4=7,'1'!BV45,IF($C$4=9,'1'!CT45,\"FAUX\"))))","v":10.8},{"$f":"IF($C$4=2.7,'1'!AA45,IF($C$4=4.5,'1'!AY45,IF($C$4=7,'1'!BW45,IF($C$4=9,'1'!CU45,\"FAUX\"))))","v":10.4},null,"Mix 7","Acebutolol",-5.6666666666666645E-3,2.67,-1.2000000000000011E-2,6.4300000000000015,-9.333333333333341E-3,2.6900000000000004,-1.733333333333335E-2,6.0600000000000005,-4.6666666666666705E-3,2.5099999999999998,-8.3333333333333332E-3,6.29,-6.0000000000000053E-3,2.7800000000000002,-3.0000000000000013E-2,13.400000000000002,-5.3333333333333384E-3,2.39,-2.4000000000000021E-2,11.120000000000001,-2.9999999999999953E-3,2.3699999999999997,-1.3333333333333345E-2,11.200000000000003,null,"Mix 7","Acebutolol",2.5,{"$f":"AN42*$C$17+AO42","v":2.41},{"$f":"AR42*$C$17+AS42","v":2.3699999999999997},{"$f":"AV42*$C$17+AW42","v":2.6},{"$f":"AZ42*$C$17+BA42","v":2.23},{"$f":"BD42*$C$17+BE42","v":2.2799999999999998},null,"Mix 7","Acebutolol",6.0700000000000012,5.54,6.04,12.500000000000002,10.4,10.800000000000002,null,null,null,null,null,null,null,null,null,"Mix 7","Acebutolol",{"$f":"'1'!D91","v":0.11665321383119399},{"$f":"'1'!E91","v":0.163046407290834},{"$f":"'1'!F91","v":0.245943895321873},{"$f":"'1'!G91","v":0.29315243543395397},{"$f":"'1'!H91","v":0.26211622216373098},{"$f":"'1'!I91","v":0.18783412027925001},{"$f":"'1'!J91","v":0.12024074700929099},{"$f":"'1'!K91","v":4.0739731300526501E-2},{"$f":"'1'!L91","v":8.2366566472004306E-3},{"$f":"'1'!M91","v":9.1094374336457094E-3},{"$f":"'1'!N91","v":1.7215392897453E-2},{"$f":"'1'!O91","v":2.4077498219575801E-2},{"$f":"'1'!P91","v":2.8262857153750601E-2},{"$f":"'1'!Q91","v":2.7707752449080799E-2},{"$f":"'1'!R91","v":2.2663565263522801E-2},{"$f":"'1'!S91","v":1.3421623934252299E-2},null,"Mix 7","Acebutolol",{"$f":"HLOOKUP($DD$7,$CJ$7:$CZ$48,36,FALSE)","v":0.245943895321873},null,"Mix 7","Acebutolol",{"$f":"IF($C$4=2.7,'1'!D159,IF($C$4=4.5,'1'!G159,IF($C$4=7,'1'!J159,IF($C$4=9,'1'!M159,FALSE))))","v":1.1200000000000001},{"$f":"IF($C$4=2.7,'1'!E159,IF($C$4=4.5,'1'!H159,IF($C$4=7,'1'!K159,IF($C$4=9,'1'!N159,FALSE))))","v":1.06},{"$f":"IF($C$4=2.7,'1'!F159,IF($C$4=4.5,'1'!I159,IF($C$4=7,'1'!L159,IF($C$4=9,'1'!O159,FALSE))))","v":1.21},null,"Mix 7","Acebutolol",{"$f":"HLOOKUP($DN$7,$DG$7:$DJ$48,36,FALSE)","v":1.1200000000000001},null,"Mix 7","Acebutolol",null,9.57,1,null,13.5,1.9952225050461373E-3,99.998004777494955]
[null,"Dm",{"$f":"IF($C$5=\"acetonitrile\",(0.0000000000069*((($C$34/100)*1*41)+((1-$C$34/100)*2.26*18))^0.5*(273+$C$17))/($C$41*(C38^0.6)),(0.0000000000069*((($C$34/100)*1.9*32)+((1-$C$34/100)*2.26*18))^0.5*(273+$C$17))/($C$41*C38^0.6))","v":9.8605287317283414E-10},"m²/s",null,null,null,"Propranolol",{"$f":"IF($C$4=2.7,'1'!D46,IF($C$4=4.5,'1'!AB46,IF($C$4=7,'1'!AZ46,IF($C$4=9,'1'!BX46,\"FAUX\"))))","v":2.7},{"$f":"IF($C$4=2.7,'1'!E46,IF($C$4=4.5,'1'!AC46,IF($C$4=7,'1'!BA46,IF($C$4=9,'1'!BY46,\"FAUX\"))))","v":2.5499999999999998},{"$f":"IF($C$4=2.7,'1'!F46,IF($C$4=4.5,'1'!AD46,IF($C$4=7,'1'!BB46,IF($C$4=9,'1'!BZ46,\"FAUX\"))))","v":4.0199999999999996},{"$f":"IF($C$4=2.7,'1'!G46,IF($C$4=4.5,'1'!AE46,IF($C$4=7,'1'!BC46,IF($C$4=9,'1'!CA46,\"FAUX\"))))","v":3.73},{"$f":"IF($C$4=2.7,'1'!H46,IF($C$4=4.5,'1'!AF46,IF($C$4=7,'1'!BD46,IF($C$4=9,'1'!CB46,\"FAUX\"))))","v":2.74},{"$f":"IF($C$4=2.7,'1'!I46,IF($C$4=4.5,'1'!AG46,IF($C$4=7,'1'!BE46,IF($C$4=9,'1'!CC46,\"FAUX\"))))","v":2.42},{"$f":"IF($C$4=2.7,'1'!J46,IF($C$4=4.5,'1'!AH46,IF($C$4=7,'1'!BF46,IF($C$4=9,'1'!CD46,\"FAUX\"))))","v":4.18},{"$f":"IF($C$4=2.7,'1'!K46,IF($C$4=4.5,'1'!AI46,IF($C$4=7,'1'!BG46,IF($C$4=9,'1'!CE46,\"FAUX\"))))","v":3.67},{"$f":"IF($C$4=2.7,'1'!L46,IF($C$4=4.5,'1'!AJ46,IF($C$4=7,'1'!BH46,IF($C$4=9,'1'!CF46,\"FAUX\"))))","v":2.6},{"$f":"IF($C$4=2.7,'1'!M46,IF($C$4=4.5,'1'!AK46,IF($C$4=7,'1'!BI46,IF($C$4=9,'1'!CG46,\"FAUX\"))))","v":2.37},{"$f":"IF($C$4=2.7,'1'!N46,IF($C$4=4.5,'1'!AL46,IF($C$4=7,'1'!BJ46,IF($C$4=9,'1'!CH46,\"FAUX\"))))","v":4.33},{"$f":"IF($C$4=2.7,'1'!O46,IF($C$4=4.5,'1'!AM46,IF($C$4=7,'1'!BK46,IF($C$4=9,'1'!CI46,\"FAUX\"))))","v":3.83},{"$f":"IF($C$4=2.7,'1'!P46,IF($C$4=4.5,'1'!AN46,IF($C$4=7,'1'!BL46,IF($C$4=9,'1'!CJ46,\"FAUX\"))))","v":2.73},{"$f":"IF($C$4=2.7,'1'!Q46,IF($C$4=4.5,'1'!AO46,IF($C$4=7,'1'!BM46,IF($C$4=9,'1'!CK46,\"FAUX\"))))","v":2.54},{"$f":"IF($C$4=2.7,'1'!R46,IF($C$4=4.5,'1'!AP46,IF($C$4=7,'1'!BN46,IF($C$4=9,'1'!CL46,\"FAUX\"))))","v":7.84},{"$f":"IF($C$4=2.7,'1'!S46,IF($C$4=4.5,'1'!AQ46,IF($C$4=7,'1'!BO46,IF($C$4=9,'1'!CM46,\"FAUX\"))))","v":7.13},{"$f":"IF($C$4=2.7,'1'!T46,IF($C$4=4.5,'1'!AR46,IF($C$4=7,'1'!BP46,IF($C$4=9,'1'!CN46,\"FAUX\"))))","v":2.7},{"$f":"IF($C$4=2.7,'1'!U46,IF($C$4=4.5,'1'!AS46,IF($C$4=7,'1'!BQ46,IF($C$4=9,'1'!CO46,\"FAUX\"))))","v":2.34},{"$f":"IF($C$4=2.7,'1'!V46,IF($C$4=4.5,'1'!AT46,IF($C$4=7,'1'!BR46,IF($C$4=9,'1'!CP46,\"FAUX\"))))","v":7.83},{"$f":"IF($C$4=2.7,'1'!W46,IF($C$4=4.5,'1'!AU46,IF($C$4=7,'1'!BS46,IF($C$4=9,'1'!CQ46,\"FAUX\"))))","v":6.65},{"$f":"IF($C$4=2.7,'1'!X46,IF($C$4=4.5,'1'!AV46,IF($C$4=7,'1'!BT46,IF($C$4=9,'1'!CR46,\"FAUX\"))))","v":2.75},{"$f":"IF($C$4=2.7,'1'!Y46,IF($C$4=4.5,'1'!AW46,IF($C$4=7,'1'!BU46,IF($C$4=9,'1'!CS46,\"FAUX\"))))","v":2.36},{"$f":"IF($C$4=2.7,'1'!Z46,IF($C$4=4.5,'1'!AX46,IF($C$4=7,'1'!BV46,IF($C$4=9,'1'!CT46,\"FAUX\"))))","v":8.23},{"$f":"IF($C$4=2.7,'1'!AA46,IF($C$4=4.5,'1'!AY46,IF($C$4=7,'1'!BW46,IF($C$4=9,'1'!CU46,\"FAUX\"))))","v":6.79},null,null,"Propranolol",-5.0000000000000122E-3,2.8500000000000005,-9.6666666666666533E-3,4.3099999999999996,-1.0666666666666677E-2,3.0600000000000005,-1.6999999999999994E-2,4.6899999999999995,-7.6666666666666662E-3,2.83,-1.6666666666666666E-2,4.83,-6.3333333333333314E-3,2.92,-2.3666666666666662E-2,8.5499999999999989,-1.2000000000000011E-2,3.0600000000000005,-3.9333333333333324E-2,9.01,-1.3000000000000003E-2,3.1399999999999997,-4.8000000000000022E-2,9.6700000000000017,null,null,"Propranolol",2.7,2.74,2.6,2.73,2.7,2.7499999999999996,null,null,"Propranolol",4.0199999999999996,4.18,4.33,7.839999999999999,7.83,8.23,null,null,null,null,null,null,null,null,null,null,"Propranolol",{"$f":"'1'!D92","v":0.20042547589082699},{"$f":"'1'!E92","v":0.50538014809556198},{"$f":"'1'!F92","v":0.514269099464992},{"$f":"'1'!G92","v":0.43417615943483601},{"$f":"'1'!H92","v":0.11875568334816899},{"$f":"'1'!I92","v":1.44909230036955E-2},{"$f":"'1'!J92","v":2.2636373753923099E-2},{"$f":"'1'!K92","v":4.0644405121832601E-2},{"$f":"'1'!L92","v":6.0415201920555099E-2},{"$f":"'1'!M92","v":6.7736199474438402E-2},{"$f":"'1'!N92","v":4.67386622476876E-2},{"$f":"'1'!O92","v":2.9200597154340001E-2},{"$f":"'1'!P92","v":1.8040465333651098E-2},{"$f":"'1'!Q92","v":-3.67225027618609E-4},{"$f":"'1'!R92","v":-3.67225027618609E-4},{"$f":"'1'!S92","v":-3.67225027618609E-4},null,null,"Propranolol",{"$f":"HLOOKUP($DD$7,$CJ$7:$CZ$48,37,FALSE)","v":0.514269099464992},null,null,"Propranolol",{"$f":"IF($C$4=2.7,'1'!D160,IF($C$4=4.5,'1'!G160,IF($C$4=7,'1'!J160,IF($C$4=9,'1'!M160,FALSE))))","v":1.21},{"$f":"IF($C$4=2.7,'1'!E160,IF($C$4=4.5,'1'!H160,IF($C$4=7,'1'!K160,IF($C$4=9,'1'!N160,FALSE))))","v":1.19},{"$f":"IF($C$4=2.7,'1'!F160,IF($C$4=4.5,'1'!I160,IF($C$4=7,'1'!L160,IF($C$4=9,'1'!O160,FALSE))))","v":1.27},null,null,"Propranolol",{"$f":"HLOOKUP($DN$7,$DG$7:$DJ$48,37,FALSE)","v":1.21},null,null,"Propranolol",null,9.67,1,null,14,6.3095336343360641E-4,99.999369046636573]
[null,"u",{"$f":"(C3/60*1000*4)/(PI()*C37*C14*C14)","v":1.432666694499013},"mm/s",null,null,null,"Atenolol",{"$f":"IF($C$4=2.7,'1'!D47,IF($C$4=4.5,'1'!AB47,IF($C$4=7,'1'!AZ47,IF($C$4=9,'1'!BX47,\"FAUX\"))))","v":1.63},{"$f":"IF($C$4=2.7,'1'!E47,IF($C$4=4.5,'1'!AC47,IF($C$4=7,'1'!BA47,IF($C$4=9,'1'!BY47,\"FAUX\"))))","v":1.46},{"$f":"IF($C$4=2.7,'1'!F47,IF($C$4=4.5,'1'!AD47,IF($C$4=7,'1'!BB47,IF($C$4=9,'1'!BZ47,\"FAUX\"))))","v":9.36},{"$f":"IF($C$4=2.7,'1'!G47,IF($C$4=4.5,'1'!AE47,IF($C$4=7,'1'!BC47,IF($C$4=9,'1'!CA47,\"FAUX\"))))","v":8.92},{"$f":"IF($C$4=2.7,'1'!H47,IF($C$4=4.5,'1'!AF47,IF($C$4=7,'1'!BD47,IF($C$4=9,'1'!CB47,\"FAUX\"))))","v":1.39},{"$f":"IF($C$4=2.7,'1'!I47,IF($C$4=4.5,'1'!AG47,IF($C$4=7,'1'!BE47,IF($C$4=9,'1'!CC47,\"FAUX\"))))","v":1.2},{"$f":"IF($C$4=2.7,'1'!J47,IF($C$4=4.5,'1'!AH47,IF($C$4=7,'1'!BF47,IF($C$4=9,'1'!CD47,\"FAUX\"))))","v":6.97},{"$f":"IF($C$4=2.7,'1'!K47,IF($C$4=4.5,'1'!AI47,IF($C$4=7,'1'!BG47,IF($C$4=9,'1'!CE47,\"FAUX\"))))","v":6.64},{"$f":"IF($C$4=2.7,'1'!L47,IF($C$4=4.5,'1'!AJ47,IF($C$4=7,'1'!BH47,IF($C$4=9,'1'!CF47,\"FAUX\"))))","v":1.48},{"$f":"IF($C$4=2.7,'1'!M47,IF($C$4=4.5,'1'!AK47,IF($C$4=7,'1'!BI47,IF($C$4=9,'1'!CG47,\"FAUX\"))))","v":1.31},{"$f":"IF($C$4=2.7,'1'!N47,IF($C$4=4.5,'1'!AL47,IF($C$4=7,'1'!BJ47,IF($C$4=9,'1'!CH47,\"FAUX\"))))","v":8.99},{"$f":"IF($C$4=2.7,'1'!O47,IF($C$4=4.5,'1'!AM47,IF($C$4=7,'1'!BK47,IF($C$4=9,'1'!CI47,\"FAUX\"))))","v":8.1300000000000008},{"$f":"IF($C$4=2.7,'1'!P47,IF($C$4=4.5,'1'!AN47,IF($C$4=7,'1'!BL47,IF($C$4=9,'1'!CJ47,\"FAUX\"))))","v":1.88},{"$f":"IF($C$4=2.7,'1'!Q47,IF($C$4=4.5,'1'!AO47,IF($C$4=7,'1'!BM47,IF($C$4=9,'1'!CK47,\"FAUX\"))))","v":1.87},{"$f":"IF($C$4=2.7,'1'!R47,IF($C$4=4.5,'1'!AP47,IF($C$4=7,'1'!BN47,IF($C$4=9,'1'!CL47,\"FAUX\"))))","v":22.3},{"$f":"IF($C$4=2.7,'1'!S47,IF($C$4=4.5,'1'!AQ47,IF($C$4=7,'1'!BO47,IF($C$4=9,'1'!CM47,\"FAUX\"))))","v":23.6},{"$f":"IF($C$4=2.7,'1'!T47,IF($C$4=4.5,'1'!AR47,IF($C$4=7,'1'!BP47,IF($C$4=9,'1'!CN47,\"FAUX\"))))","v":1.39},{"$f":"IF($C$4=2.7,'1'!U47,IF($C$4=4.5,'1'!AS47,IF($C$4=7,'1'!BQ47,IF($C$4=9,'1'!CO47,\"FAUX\"))))","v":1.42},{"$f":"IF($C$4=2.7,'1'!V47,IF($C$4=4.5,'1'!AT47,IF($C$4=7,'1'!BR47,IF($C$4=9,'1'!CP47,\"FAUX\"))))","v":14.5},{"$f":"IF($C$4=2.7,'1'!W47,IF($C$4=4.5,'1'!AU47,IF($C$4=7,'1'!BS47,IF($C$4=9,'1'!CQ47,\"FAUX\"))))","v":16.8},{"$f":"IF($C$4=2.7,'1'!X47,IF($C$4=4.5,'1'!AV47,IF($C$4=7,'1'!BT47,IF($C$4=9,'1'!CR47,\"FAUX\"))))","v":1.47},{"$f":"IF($C$4=2.7,'1'!Y47,IF($C$4=4.5,'1'!AW47,IF($C$4=7,'1'!BU47,IF($C$4=9,'1'!CS47,\"FAUX\"))))","v":1.27},{"$f":"IF($C$4=2.7,'1'!Z47,IF($C$4=4.5,'1'!AX47,IF($C$4=7,'1'!BV47,IF($C$4=9,'1'!CT47,\"FAUX\"))))","v":16.5},{"$f":"IF($C$4=2.7,'1'!AA47,IF($C$4=4.5,'1'!AY47,IF($C$4=7,'1'!BW47,IF($C$4=9,'1'!CU47,\"FAUX\"))))","v":14.8},null,null,"Atenolol",{"$f":"SLOPE(I44:J44,$G$3:$G$4)","v":-5.6666666666666645E-3},{"$f":"INTERCEPT(I44:J44,$G$3:$G$4)","v":1.7999999999999998},{"$f":"SLOPE(K44:L44,$G$3:$G$4)","v":-1.4666666666666651E-2},9.8000000000000007,-6.3333333333333314E-3,1.5799999999999998,-1.1000000000000003E-2,7.3,-5.6666666666666645E-3,1.65,-2.8666666666666649E-2,9.85,-3.3333333333332622E-4,1.8899999999999997,4.3333333333333356E-2,21,1.0000000000000009E-3,1.3599999999999999,7.6666666666666702E-2,12.2,-6.6666666666666645E-3,1.67,-5.6666666666666643E-2,18.2,null,null,"Atenolol",1.63,1.39,1.48,1.88,1.39,1.47,null,null,"Atenolol",9.3600000000000012,6.97,8.99,22.3,14.5,16.5,null,null,null,null,null,null,null,null,null,null,"Atenolol",{"$f":"'1'!D93","v":0.307971097242145},{"$f":"'1'!E93","v":0.173854486950556},{"$f":"'1'!F93","v":0.20714968703539399},{"$f":"'1'!G93","v":0.15688428160307},{"$f":"'1'!H93","v":3.26046356394682E-2},{"$f":"'1'!I93","v":5.8471718615405802E-3},{"$f":"'1'!J93","v":1.1642371719438599E-2},{"$f":"'1'!K93","v":2.1218189529194201E-2},{"$f":"'1'!L93","v":1.9156281591199E-2},{"$f":"'1'!M93","v":7.2967384734469898E-4},{"$f":"'1'!N93","v":-4.7765174206196602E-4},{"$f":"'1'!O93","v":-4.1583978203056199E-4},{"$f":"'1'!P93","v":-3.4705748217788302E-4},{"$f":"'1'!Q93","v":-2.59063838314714E-4},{"$f":"'1'!R93","v":-2.1240363145521299E-4},{"$f":"'1'!S93","v":-2.5358442566629502E-4},null,null,"Atenolol",{"$f":"HLOOKUP($DD$7,$CJ$7:$CZ$48,38,FALSE)","v":0.20714968703539399},null,null,"Atenolol",{"$f":"IF($C$4=2.7,'1'!D161,IF($C$4=4.5,'1'!G161,IF($C$4=7,'1'!J161,IF($C$4=9,'1'!M161,FALSE))))","v":1.3},{"$f":"IF($C$4=2.7,'1'!E161,IF($C$4=4.5,'1'!H161,IF($C$4=7,'1'!K161,IF($C$4=9,'1'!N161,FALSE))))","v":1.23},{"$f":"IF($C$4=2.7,'1'!F161,IF($C$4=4.5,'1'!I161,IF($C$4=7,'1'!L161,IF($C$4=9,'1'!O161,FALSE))))","v":1.26},null,null,"Atenolol",{"$f":"HLOOKUP($DN$7,$DG$7:$DJ$48,38,FALSE)","v":1.3},null,null,"Atenolol",null,9.67,1]
[null,"ΔP",{"$f":"C42*C13/10*0.01*C44*0.001*C41*0.001/(C15*0.000001)^2/100000","v":55.096225853548603},"bar",null,null,null,"Hydrochlorothiazide",{"$f":"IF($C$4=2.7,'1'!D48,IF($C$4=4.5,'1'!AB48,IF($C$4=7,'1'!AZ48,IF($C$4=9,'1'!BX48,\"FAUX\"))))","v":1.1299999999999999},{"$f":"IF($C$4=2.7,'1'!E48,IF($C$4=4.5,'1'!AC48,IF($C$4=7,'1'!BA48,IF($C$4=9,'1'!BY48,\"FAUX\"))))","v":0.92},{"$f":"IF($C$4=2.7,'1'!F48,IF($C$4=4.5,'1'!AD48,IF($C$4=7,'1'!BB48,IF($C$4=9,'1'!BZ48,\"FAUX\"))))","v":6.66},{"$f":"IF($C$4=2.7,'1'!G48,IF($C$4=4.5,'1'!AE48,IF($C$4=7,'1'!BC48,IF($C$4=9,'1'!CA48,\"FAUX\"))))","v":8.2200000000000006},{"$f":"IF($C$4=2.7,'1'!H48,IF($C$4=4.5,'1'!AF48,IF($C$4=7,'1'!BD48,IF($C$4=9,'1'!CB48,\"FAUX\"))))","v":1.25},{"$f":"IF($C$4=2.7,'1'!I48,IF($C$4=4.5,'1'!AG48,IF($C$4=7,'1'!BE48,IF($C$4=9,'1'!CC48,\"FAUX\"))))","v":0.98399999999999999},{"$f":"IF($C$4=2.7,'1'!J48,IF($C$4=4.5,'1'!AH48,IF($C$4=7,'1'!BF48,IF($C$4=9,'1'!CD48,\"FAUX\"))))","v":4.74},{"$f":"IF($C$4=2.7,'1'!K48,IF($C$4=4.5,'1'!AI48,IF($C$4=7,'1'!BG48,IF($C$4=9,'1'!CE48,\"FAUX\"))))","v":5.34},{"$f":"IF($C$4=2.7,'1'!L48,IF($C$4=4.5,'1'!AJ48,IF($C$4=7,'1'!BH48,IF($C$4=9,'1'!CF48,\"FAUX\"))))","v":1.1000000000000001},{"$f":"IF($C$4=2.7,'1'!M48,IF($C$4=4.5,'1'!AK48,IF($C$4=7,'1'!BI48,IF($C$4=9,'1'!CG48,\"FAUX\"))))","v":0.876},{"$f":"IF($C$4=2.7,'1'!N48,IF($C$4=4.5,'1'!AL48,IF($C$4=7,'1'!BJ48,IF($C$4=9,'1'!CH48,\"FAUX\"))))","v":6.51},{"$f":"IF($C$4=2.7,'1'!O48,IF($C$4=4.5,'1'!AM48,IF($C$4=7,'1'!BK48,IF($C$4=9,'1'!CI48,\"FAUX\"))))","v":7.22},{"$f":"IF($C$4=2.7,'1'!P48,IF($C$4=4.5,'1'!AN48,IF($C$4=7,'1'!BL48,IF($C$4=9,'1'!CJ48,\"FAUX\"))))","v":1.28},{"$f":"IF($C$4=2.7,'1'!Q48,IF($C$4=4.5,'1'!AO48,IF($C$4=7,'1'!BM48,IF($C$4=9,'1'!CK48,\"FAUX\"))))","v":0.999},{"$f":"IF($C$4=2.7,'1'!R48,IF($C$4=4.5,'1'!AP48,IF($C$4=7,'1'!BN48,IF($C$4=9,'1'!CL48,\"FAUX\"))))","v":8.0299999999999994},{"$f":"IF($C$4=2.7,'1'!S48,IF($C$4=4.5,'1'!AQ48,IF($C$4=7,'1'!BO48,IF($C$4=9,'1'!CM48,\"FAUX\"))))","v":8.68},{"$f":"IF($C$4=2.7,'1'!T48,IF($C$4=4.5,'1'!AR48,IF($C$4=7,'1'!BP48,IF($C$4=9,'1'!CN48,\"FAUX\"))))","v":1.3},{"$f":"IF($C$4=2.7,'1'!U48,IF($C$4=4.5,'1'!AS48,IF($C$4=7,'1'!BQ48,IF($C$4=9,'1'!CO48,\"FAUX\"))))","v":1.02},{"$f":"IF($C$4=2.7,'1'!V48,IF($C$4=4.5,'1'!AT48,IF($C$4=7,'1'!BR48,IF($C$4=9,'1'!CP48,\"FAUX\"))))","v":6.71},{"$f":"IF($C$4=2.7,'1'!W48,IF($C$4=4.5,'1'!AU48,IF($C$4=7,'1'!BS48,IF($C$4=9,'1'!CQ48,\"FAUX\"))))","v":7.03},{"$f":"IF($C$4=2.7,'1'!X48,IF($C$4=4.5,'1'!AV48,IF($C$4=7,'1'!BT48,IF($C$4=9,'1'!CR48,\"FAUX\"))))","v":1.17},{"$f":"IF($C$4=2.7,'1'!Y48,IF($C$4=4.5,'1'!AW48,IF($C$4=7,'1'!BU48,IF($C$4=9,'1'!CS48,\"FAUX\"))))","v":0.91700000000000004},{"$f":"IF($C$4=2.7,'1'!Z48,IF($C$4=4.5,'1'!AX48,IF($C$4=7,'1'!BV48,IF($C$4=9,'1'!CT48,\"FAUX\"))))","v":6.53},{"$f":"IF($C$4=2.7,'1'!AA48,IF($C$4=4.5,'1'!AY48,IF($C$4=7,'1'!BW48,IF($C$4=9,'1'!CU48,\"FAUX\"))))","v":6.88},null,null,"Hydrochlorothiazide",-6.9999999999999949E-3,1.3399999999999996,5.2000000000000011E-2,{"$f":"INTERCEPT(K45:L45,$G$3:$G$4)","v":5.0999999999999996},-8.8666666666666668E-3,1.516,1.9999999999999987E-2,4.1400000000000006,-7.4666666666666692E-3,1.3240000000000001,2.3666666666666662E-2,5.8000000000000007,-9.3666666666666655E-3,1.5609999999999999,2.1666666666666678E-2,7.38,-9.3333333333333358E-3,1.5800000000000003,1.0666666666666677E-2,6.39,-8.4333333333333291E-3,1.4229999999999996,1.1666666666666655E-2,6.1800000000000006,null,null,"Hydrochlorothiazide",1.1299999999999999,1.25,1.1000000000000001,1.28,1.3000000000000003,1.1699999999999997,null,null,"Hydrochlorothiazide",6.66,4.74,6.5100000000000007,8.0300000000000011,6.71,6.53,null,null,null,null,null,null,null,null,null,null,"Hydrochlorothiazide",{"$f":"'1'!D94","v":0.137881535787204},{"$f":"'1'!E94","v":0.31245967098411498},{"$f":"'1'!F94","v":0.52729270868655997},{"$f":"'1'!G94","v":0.32289183301209801},{"$f":"'1'!H94","v":3.7469468196032897E-2},{"$f":"'1'!I94","v":4.2622936340384297E-2},{"$f":"'1'!J94","v":0.16381474283431399},{"$f":"'1'!K94","v":0.27452596762980902},{"$f":"'1'!L94","v":0.16646676363958901},{"$f":"'1'!M94","v":4.2031663881842103E-2},{"$f":"'1'!N94","v":3.3651432861357397E-2},{"$f":"'1'!O94","v":4.0979333367476299E-2},{"$f":"'1'!P94","v":4.24010814636476E-2},{"$f":"'1'!Q94","v":3.10216754840647E-2},{"$f":"'1'!R94","v":1.00121844266612E-2},{"$f":"'1'!S94","v":3.31000010191929E-5},null,null,"Hydrochlorothiazide",{"$f":"HLOOKUP($DD$7,$CJ$7:$CZ$48,39,FALSE)","v":0.52729270868655997},null,null,"Hydrochlorothiazide",{"$f":"IF($C$4=2.7,'1'!D162,IF($C$4=4.5,'1'!G162,IF($C$4=7,'1'!J162,IF($C$4=9,'1'!M162,FALSE))))","v":1.0900000000000001},{"$f":"IF($C$4=2.7,'1'!E162,IF($C$4=4.5,'1'!H162,IF($C$4=7,'1'!K162,IF($C$4=9,'1'!N162,FALSE))))","v":1.07},{"$f":"IF($C$4=2.7,'1'!F162,IF($C$4=4.5,'1'!I162,IF($C$4=7,'1'!L162,IF($C$4=9,'1'!O162,FALSE))))","v":1.0900000000000001},null,null,"Hydrochlorothiazide",{"$f":"HLOOKUP($DN$7,$DG$7:$DJ$48,39,FALSE)","v":1.0900000000000001},null,null,"Hydrochlorothiazide",9.09,null,2]
[null,"A",1,null,null,null,null,"Furosemide",{"$f":"IF($C$4=2.7,'1'!D49,IF($C$4=4.5,'1'!AB49,IF($C$4=7,'1'!AZ49,IF($C$4=9,'1'!BX49,\"FAUX\"))))","v":2.54},{"$f":"IF($C$4=2.7,'1'!E49,IF($C$4=4.5,'1'!AC49,IF($C$4=7,'1'!BA49,IF($C$4=9,'1'!BY49,\"FAUX\"))))","v":2.2799999999999998},{"$f":"IF($C$4=2.7,'1'!F49,IF($C$4=4.5,'1'!AD49,IF($C$4=7,'1'!BB49,IF($C$4=9,'1'!BZ49,\"FAUX\"))))","v":6.19},{"$f":"IF($C$4=2.7,'1'!G49,IF($C$4=4.5,'1'!AE49,IF($C$4=7,'1'!BC49,IF($C$4=9,'1'!CA49,\"FAUX\"))))","v":6.5},{"$f":"IF($C$4=2.7,'1'!H49,IF($C$4=4.5,'1'!AF49,IF($C$4=7,'1'!BD49,IF($C$4=9,'1'!CB49,\"FAUX\"))))","v":2.52},{"$f":"IF($C$4=2.7,'1'!I49,IF($C$4=4.5,'1'!AG49,IF($C$4=7,'1'!BE49,IF($C$4=9,'1'!CC49,\"FAUX\"))))","v":2.23},{"$f":"IF($C$4=2.7,'1'!J49,IF($C$4=4.5,'1'!AH49,IF($C$4=7,'1'!BF49,IF($C$4=9,'1'!CD49,\"FAUX\"))))","v":5.47},{"$f":"IF($C$4=2.7,'1'!K49,IF($C$4=4.5,'1'!AI49,IF($C$4=7,'1'!BG49,IF($C$4=9,'1'!CE49,\"FAUX\"))))","v":5.68},{"$f":"IF($C$4=2.7,'1'!L49,IF($C$4=4.5,'1'!AJ49,IF($C$4=7,'1'!BH49,IF($C$4=9,'1'!CF49,\"FAUX\"))))","v":2.42},{"$f":"IF($C$4=2.7,'1'!M49,IF($C$4=4.5,'1'!AK49,IF($C$4=7,'1'!BI49,IF($C$4=9,'1'!CG49,\"FAUX\"))))","v":2.11},{"$f":"IF($C$4=2.7,'1'!N49,IF($C$4=4.5,'1'!AL49,IF($C$4=7,'1'!BJ49,IF($C$4=9,'1'!CH49,\"FAUX\"))))","v":5.84},{"$f":"IF($C$4=2.7,'1'!O49,IF($C$4=4.5,'1'!AM49,IF($C$4=7,'1'!BK49,IF($C$4=9,'1'!CI49,\"FAUX\"))))","v":5.73},{"$f":"IF($C$4=2.7,'1'!P49,IF($C$4=4.5,'1'!AN49,IF($C$4=7,'1'!BL49,IF($C$4=9,'1'!CJ49,\"FAUX\"))))","v":2.85},{"$f":"IF($C$4=2.7,'1'!Q49,IF($C$4=4.5,'1'!AO49,IF($C$4=7,'1'!BM49,IF($C$4=9,'1'!CK49,\"FAUX\"))))","v":2.69},{"$f":"IF($C$4=2.7,'1'!R49,IF($C$4=4.5,'1'!AP49,IF($C$4=7,'1'!BN49,IF($C$4=9,'1'!CL49,\"FAUX\"))))","v":11.7},{"$f":"IF($C$4=2.7,'1'!S49,IF($C$4=4.5,'1'!AQ49,IF($C$4=7,'1'!BO49,IF($C$4=9,'1'!CM49,\"FAUX\"))))","v":12.6},{"$f":"IF($C$4=2.7,'1'!T49,IF($C$4=4.5,'1'!AR49,IF($C$4=7,'1'!BP49,IF($C$4=9,'1'!CN49,\"FAUX\"))))","v":2.74},{"$f":"IF($C$4=2.7,'1'!U49,IF($C$4=4.5,'1'!AS49,IF($C$4=7,'1'!BQ49,IF($C$4=9,'1'!CO49,\"FAUX\"))))","v":2.4},{"$f":"IF($C$4=2.7,'1'!V49,IF($C$4=4.5,'1'!AT49,IF($C$4=7,'1'!BR49,IF($C$4=9,'1'!CP49,\"FAUX\"))))","v":10.9},{"$f":"IF($C$4=2.7,'1'!W49,IF($C$4=4.5,'1'!AU49,IF($C$4=7,'1'!BS49,IF($C$4=9,'1'!CQ49,\"FAUX\"))))","v":10.8},{"$f":"IF($C$4=2.7,'1'!X49,IF($C$4=4.5,'1'!AV49,IF($C$4=7,'1'!BT49,IF($C$4=9,'1'!CR49,\"FAUX\"))))","v":2.66},{"$f":"IF($C$4=2.7,'1'!Y49,IF($C$4=4.5,'1'!AW49,IF($C$4=7,'1'!BU49,IF($C$4=9,'1'!CS49,\"FAUX\"))))","v":2.2999999999999998},{"$f":"IF($C$4=2.7,'1'!Z49,IF($C$4=4.5,'1'!AX49,IF($C$4=7,'1'!BV49,IF($C$4=9,'1'!CT49,\"FAUX\"))))","v":10.199999999999999},{"$f":"IF($C$4=2.7,'1'!AA49,IF($C$4=4.5,'1'!AY49,IF($C$4=7,'1'!BW49,IF($C$4=9,'1'!CU49,\"FAUX\"))))","v":9.82},null,null,"Furosemide",-8.6666666666666749E-3,2.8000000000000007,1.0333333333333321E-2,5.8800000000000008,{"$f":"SLOPE(M46:N46,$G$3:$G$4)","v":-9.6666666666666672E-3},2.81,6.9999999999999984E-3,5.26,-1.0333333333333333E-2,2.7299999999999995,-3.6666666666666475E-3,5.9499999999999993,-5.3333333333333384E-3,3.0100000000000002,3.0000000000000013E-2,10.799999999999997,-1.1333333333333345E-2,3.080000000000001,-3.3333333333333214E-3,11,-1.2000000000000011E-2,3.0200000000000005,-1.2666666666666633E-2,10.579999999999998,null,null,"Furosemide",2.5400000000000005,2.52,2.4199999999999995,2.85,2.7400000000000007,2.66,null,null,"Furosemide",6.19,5.47,5.84,11.699999999999998,10.9,10.199999999999999,null,null,null,null,null,null,null,null,null,null,"Furosemide",{"$f":"'1'!D95","v":5.4589519832177302E-2},{"$f":"'1'!E95","v":0.20674224774446301},{"$f":"'1'!F95","v":0.36769617840868002},{"$f":"'1'!G95","v":0.48905295885191402},{"$f":"'1'!H95","v":0.25575696376746698},{"$f":"'1'!I95","v":6.1061975008739999E-2},{"$f":"'1'!J95","v":0.103563499070466},{"$f":"'1'!K95","v":0.19180438373674799},{"$f":"'1'!L95","v":0.15070844270330799},{"$f":"'1'!M95","v":2.25446875331838E-2},{"$f":"'1'!N95","v":8.8598282201666195E-3},{"$f":"'1'!O95","v":1.6192971658824301E-2},{"$f":"'1'!P95","v":2.8350934758695299E-2},{"$f":"'1'!Q95","v":4.2568363679043097E-2},{"$f":"'1'!R95","v":5.3194114037363002E-2},{"$f":"'1'!S95","v":5.0311534740633497E-2},null,null,"Furosemide",{"$f":"HLOOKUP($DD$7,$CJ$7:$CZ$48,40,FALSE)","v":0.36769617840868002},null,null,"Furosemide",{"$f":"IF($C$4=2.7,'1'!D163,IF($C$4=4.5,'1'!G163,IF($C$4=7,'1'!J163,IF($C$4=9,'1'!M163,FALSE))))","v":1},{"$f":"IF($C$4=2.7,'1'!E163,IF($C$4=4.5,'1'!H163,IF($C$4=7,'1'!K163,IF($C$4=9,'1'!N163,FALSE))))","v":0.97},{"$f":"IF($C$4=2.7,'1'!F163,IF($C$4=4.5,'1'!I163,IF($C$4=7,'1'!L163,IF($C$4=9,'1'!O163,FALSE))))","v":0.99},null,null,"Furosemide",{"$f":"HLOOKUP($DN$7,$DG$7:$DJ$48,40,FALSE)","v":1},null,null,"Furosemide",4.25,null,2,null,0,{"$f":"C4","v":7}]
[null,"B",4,null,null,null,null,"Chlorthalidone",{"$f":"IF($C$4=2.7,'1'!D50,IF($C$4=4.5,'1'!AB50,IF($C$4=7,'1'!AZ50,IF($C$4=9,'1'!BX50,\"FAUX\"))))","v":2.69},{"$f":"IF($C$4=2.7,'1'!E50,IF($C$4=4.5,'1'!AC50,IF($C$4=7,'1'!BA50,IF($C$4=9,'1'!BY50,\"FAUX\"))))","v":2.4300000000000002},{"$f":"IF($C$4=2.7,'1'!F50,IF($C$4=4.5,'1'!AD50,IF($C$4=7,'1'!BB50,IF($C$4=9,'1'!BZ50,\"FAUX\"))))","v":6.72},{"$f":"IF($C$4=2.7,'1'!G50,IF($C$4=4.5,'1'!AE50,IF($C$4=7,'1'!BC50,IF($C$4=9,'1'!CA50,\"FAUX\"))))","v":6.95},{"$f":"IF($C$4=2.7,'1'!H50,IF($C$4=4.5,'1'!AF50,IF($C$4=7,'1'!BD50,IF($C$4=9,'1'!CB50,\"FAUX\"))))","v":2.63},{"$f":"IF($C$4=2.7,'1'!I50,IF($C$4=4.5,'1'!AG50,IF($C$4=7,'1'!BE50,IF($C$4=9,'1'!CC50,\"FAUX\"))))","v":2.2999999999999998},{"$f":"IF($C$4=2.7,'1'!J50,IF($C$4=4.5,'1'!AH50,IF($C$4=7,'1'!BF50,IF($C$4=9,'1'!CD50,\"FAUX\"))))","v":5.77},{"$f":"IF($C$4=2.7,'1'!K50,IF($C$4=4.5,'1'!AI50,IF($C$4=7,'1'!BG50,IF($C$4=9,'1'!CE50,\"FAUX\"))))","v":5.81},{"$f":"IF($C$4=2.7,'1'!L50,IF($C$4=4.5,'1'!AJ50,IF($C$4=7,'1'!BH50,IF($C$4=9,'1'!CF50,\"FAUX\"))))","v":2.58},{"$f":"IF($C$4=2.7,'1'!M50,IF($C$4=4.5,'1'!AK50,IF($C$4=7,'1'!BI50,IF($C$4=9,'1'!CG50,\"FAUX\"))))","v":2.35},{"$f":"IF($C$4=2.7,'1'!N50,IF($C$4=4.5,'1'!AL50,IF($C$4=7,'1'!BJ50,IF($C$4=9,'1'!CH50,\"FAUX\"))))","v":6.44},{"$f":"IF($C$4=2.7,'1'!O50,IF($C$4=4.5,'1'!AM50,IF($C$4=7,'1'!BK50,IF($C$4=9,'1'!CI50,\"FAUX\"))))","v":6.65},{"$f":"IF($C$4=2.7,'1'!P50,IF($C$4=4.5,'1'!AN50,IF($C$4=7,'1'!BL50,IF($C$4=9,'1'!CJ50,\"FAUX\"))))","v":2.69},{"$f":"IF($C$4=2.7,'1'!Q50,IF($C$4=4.5,'1'!AO50,IF($C$4=7,'1'!BM50,IF($C$4=9,'1'!CK50,\"FAUX\"))))","v":2.29},{"$f":"IF($C$4=2.7,'1'!R50,IF($C$4=4.5,'1'!AP50,IF($C$4=7,'1'!BN50,IF($C$4=9,'1'!CL50,\"FAUX\"))))","v":10.9},{"$f":"IF($C$4=2.7,'1'!S50,IF($C$4=4.5,'1'!AQ50,IF($C$4=7,'1'!BO50,IF($C$4=9,'1'!CM50,\"FAUX\"))))","v":10.1},{"$f":"IF($C$4=2.7,'1'!T50,IF($C$4=4.5,'1'!AR50,IF($C$4=7,'1'!BP50,IF($C$4=9,'1'!CN50,\"FAUX\"))))","v":2.36},{"$f":"IF($C$4=2.7,'1'!U50,IF($C$4=4.5,'1'!AS50,IF($C$4=7,'1'!BQ50,IF($C$4=9,'1'!CO50,\"FAUX\"))))","v":2.15},{"$f":"IF($C$4=2.7,'1'!V50,IF($C$4=4.5,'1'!AT50,IF($C$4=7,'1'!BR50,IF($C$4=9,'1'!CP50,\"FAUX\"))))","v":8.7899999999999991},{"$f":"IF($C$4=2.7,'1'!W50,IF($C$4=4.5,'1'!AU50,IF($C$4=7,'1'!BS50,IF($C$4=9,'1'!CQ50,\"FAUX\"))))","v":8.93},{"$f":"IF($C$4=2.7,'1'!X50,IF($C$4=4.5,'1'!AV50,IF($C$4=7,'1'!BT50,IF($C$4=9,'1'!CR50,\"FAUX\"))))","v":2.34},{"$f":"IF($C$4=2.7,'1'!Y50,IF($C$4=4.5,'1'!AW50,IF($C$4=7,'1'!BU50,IF($C$4=9,'1'!CS50,\"FAUX\"))))","v":2.1},{"$f":"IF($C$4=2.7,'1'!Z50,IF($C$4=4.5,'1'!AX50,IF($C$4=7,'1'!BV50,IF($C$4=9,'1'!CT50,\"FAUX\"))))","v":8.7899999999999991},{"$f":"IF($C$4=2.7,'1'!AA50,IF($C$4=4.5,'1'!AY50,IF($C$4=7,'1'!BW50,IF($C$4=9,'1'!CU50,\"FAUX\"))))","v":8.66},null,null,"Chlorthalidone",-8.6666666666666593E-3,2.9499999999999997,7.666666666666681E-3,6.4899999999999993,-1.1000000000000003E-2,2.96,1.3333333333333346E-3,5.7299999999999986,-7.6666666666666662E-3,2.8099999999999996,6.9999999999999984E-3,6.23,-1.3333333333333329E-2,3.09,-2.6666666666666689E-2,11.700000000000001,-6.9999999999999984E-3,2.57,4.6666666666666853E-3,8.6499999999999986,-7.9999999999999915E-3,2.5799999999999992,-4.3333333333333002E-3,8.9199999999999982,null,null,"Chlorthalidone",2.69,2.63,2.5799999999999996,2.69,2.36,2.3399999999999994,null,null,"Chlorthalidone",6.72,5.7699999999999987,6.44,10.9,8.7899999999999991,8.7899999999999991,null,null,null,null,null,null,null,null,null,null,"Chlorthalidone",{"$f":"'1'!D96","v":0.68300146136656403},{"$f":"'1'!E96","v":0.65666145311079804},{"$f":"'1'!F96","v":0.45819535429576203},{"$f":"'1'!G96","v":0.34472184181861398},{"$f":"'1'!H96","v":0.17421223207764999},{"$f":"'1'!I96","v":6.5418903282776705E-2},{"$f":"'1'!J96","v":3.3224637107588703E-2},{"$f":"'1'!K96","v":2.59149495441858E-2},{"$f":"'1'!L96","v":2.38749402818864E-2},{"$f":"'1'!M96","v":8.7606090552587099E-3},{"$f":"'1'!N96","v":0},{"$f":"'1'!O96","v":0},{"$f":"'1'!P96","v":0},{"$f":"'1'!Q96","v":0},{"$f":"'1'!R96","v":0},{"$f":"'1'!S96","v":0},null,null,"Chlorthalidone",{"$f":"HLOOKUP($DD$7,$CJ$7:$CZ$48,41,FALSE)","v":0.45819535429576203},null,null,"Chlorthalidone",{"$f":"IF($C$4=2.7,'1'!D164,IF($C$4=4.5,'1'!G164,IF($C$4=7,'1'!J164,IF($C$4=9,'1'!M164,FALSE))))","v":1},{"$f":"IF($C$4=2.7,'1'!E164,IF($C$4=4.5,'1'!H164,IF($C$4=7,'1'!K164,IF($C$4=9,'1'!N164,FALSE))))","v":0.99},{"$f":"IF($C$4=2.7,'1'!F164,IF($C$4=4.5,'1'!I164,IF($C$4=7,'1'!L164,IF($C$4=9,'1'!O164,FALSE))))","v":1.02},null,null,"Chlorthalidone",{"$f":"HLOOKUP($DN$7,$DG$7:$DJ$48,41,FALSE)","v":1},null,null,"Chlorthalidone",8.76,null,2,null,100,{"$f":"DW46","v":7}]
[null,"C",0.05,null,null,null,null,"Dexamethasone",{"$f":"IF($C$4=2.7,'1'!D51,IF($C$4=4.5,'1'!AB51,IF($C$4=7,'1'!AZ51,IF($C$4=9,'1'!BX51,\"FAUX\"))))","v":3.86},{"$f":"IF($C$4=2.7,'1'!E51,IF($C$4=4.5,'1'!AC51,IF($C$4=7,'1'!BA51,IF($C$4=9,'1'!BY51,\"FAUX\"))))","v":3.67},{"$f":"IF($C$4=2.7,'1'!F51,IF($C$4=4.5,'1'!AD51,IF($C$4=7,'1'!BB51,IF($C$4=9,'1'!BZ51,\"FAUX\"))))","v":6.04},{"$f":"IF($C$4=2.7,'1'!G51,IF($C$4=4.5,'1'!AE51,IF($C$4=7,'1'!BC51,IF($C$4=9,'1'!CA51,\"FAUX\"))))","v":6.26},{"$f":"IF($C$4=2.7,'1'!H51,IF($C$4=4.5,'1'!AF51,IF($C$4=7,'1'!BD51,IF($C$4=9,'1'!CB51,\"FAUX\"))))","v":3.6},{"$f":"IF($C$4=2.7,'1'!I51,IF($C$4=4.5,'1'!AG51,IF($C$4=7,'1'!BE51,IF($C$4=9,'1'!CC51,\"FAUX\"))))","v":3.23},{"$f":"IF($C$4=2.7,'1'!J51,IF($C$4=4.5,'1'!AH51,IF($C$4=7,'1'!BF51,IF($C$4=9,'1'!CD51,\"FAUX\"))))","v":5.45},{"$f":"IF($C$4=2.7,'1'!K51,IF($C$4=4.5,'1'!AI51,IF($C$4=7,'1'!BG51,IF($C$4=9,'1'!CE51,\"FAUX\"))))","v":5.27},{"$f":"IF($C$4=2.7,'1'!L51,IF($C$4=4.5,'1'!AJ51,IF($C$4=7,'1'!BH51,IF($C$4=9,'1'!CF51,\"FAUX\"))))","v":3.75},{"$f":"IF($C$4=2.7,'1'!M51,IF($C$4=4.5,'1'!AK51,IF($C$4=7,'1'!BI51,IF($C$4=9,'1'!CG51,\"FAUX\"))))","v":3.44},{"$f":"IF($C$4=2.7,'1'!N51,IF($C$4=4.5,'1'!AL51,IF($C$4=7,'1'!BJ51,IF($C$4=9,'1'!CH51,\"FAUX\"))))","v":6.04},{"$f":"IF($C$4=2.7,'1'!O51,IF($C$4=4.5,'1'!AM51,IF($C$4=7,'1'!BK51,IF($C$4=9,'1'!CI51,\"FAUX\"))))","v":5.93},{"$f":"IF($C$4=2.7,'1'!P51,IF($C$4=4.5,'1'!AN51,IF($C$4=7,'1'!BL51,IF($C$4=9,'1'!CJ51,\"FAUX\"))))","v":3.25},{"$f":"IF($C$4=2.7,'1'!Q51,IF($C$4=4.5,'1'!AO51,IF($C$4=7,'1'!BM51,IF($C$4=9,'1'!CK51,\"FAUX\"))))","v":3.13},{"$f":"IF($C$4=2.7,'1'!R51,IF($C$4=4.5,'1'!AP51,IF($C$4=7,'1'!BN51,IF($C$4=9,'1'!CL51,\"FAUX\"))))","v":8.6999999999999993},{"$f":"IF($C$4=2.7,'1'!S51,IF($C$4=4.5,'1'!AQ51,IF($C$4=7,'1'!BO51,IF($C$4=9,'1'!CM51,\"FAUX\"))))","v":8.69},{"$f":"IF($C$4=2.7,'1'!T51,IF($C$4=4.5,'1'!AR51,IF($C$4=7,'1'!BP51,IF($C$4=9,'1'!CN51,\"FAUX\"))))","v":2.98},{"$f":"IF($C$4=2.7,'1'!U51,IF($C$4=4.5,'1'!AS51,IF($C$4=7,'1'!BQ51,IF($C$4=9,'1'!CO51,\"FAUX\"))))","v":2.82},{"$f":"IF($C$4=2.7,'1'!V51,IF($C$4=4.5,'1'!AT51,IF($C$4=7,'1'!BR51,IF($C$4=9,'1'!CP51,\"FAUX\"))))","v":8.0500000000000007},{"$f":"IF($C$4=2.7,'1'!W51,IF($C$4=4.5,'1'!AU51,IF($C$4=7,'1'!BS51,IF($C$4=9,'1'!CQ51,\"FAUX\"))))","v":7.85},{"$f":"IF($C$4=2.7,'1'!X51,IF($C$4=4.5,'1'!AV51,IF($C$4=7,'1'!BT51,IF($C$4=9,'1'!CR51,\"FAUX\"))))","v":3.01},{"$f":"IF($C$4=2.7,'1'!Y51,IF($C$4=4.5,'1'!AW51,IF($C$4=7,'1'!BU51,IF($C$4=9,'1'!CS51,\"FAUX\"))))","v":2.81},{"$f":"IF($C$4=2.7,'1'!Z51,IF($C$4=4.5,'1'!AX51,IF($C$4=7,'1'!BV51,IF($C$4=9,'1'!CT51,\"FAUX\"))))","v":7.86},{"$f":"IF($C$4=2.7,'1'!AA51,IF($C$4=4.5,'1'!AY51,IF($C$4=7,'1'!BW51,IF($C$4=9,'1'!CU51,\"FAUX\"))))","v":7.49},null,null,"Dexamethasone",-6.3333333333333314E-3,4.05,7.3333333333333254E-3,5.82,-1.2333333333333337E-2,3.97,-6.0000000000000201E-3,5.6300000000000008,-1.0333333333333333E-2,4.0599999999999996,-3.6666666666666774E-3,6.15,-4.0000000000000036E-3,3.37,-3.3333333333332622E-4,8.7100000000000009,-5.3333333333333384E-3,3.14,-6.6666666666667018E-3,8.2500000000000018,-6.6666666666666576E-3,3.21,-1.2333333333333337E-2,8.23,null,null,"Dexamethasone",3.86,3.6,3.7499999999999996,3.25,2.98,3.0100000000000002,null,null,"Dexamethasone",6.04,5.45,6.04,8.7000000000000011,8.0500000000000007,7.86,null,null,null,null,null,null,null,null,null,null,"Dexamethasone",{"$f":"'1'!D97","v":0},{"$f":"'1'!E97","v":0.106234378250859},{"$f":"'1'!F97","v":0.20260634956146301},{"$f":"'1'!G97","v":0.223398556973124},{"$f":"'1'!H97","v":0.19794857008313199},{"$f":"'1'!I97","v":0.14867872246809599},{"$f":"'1'!J97","v":9.1995954815879799E-2},{"$f":"'1'!K97","v":6.0485635260762401E-2},{"$f":"'1'!L97","v":2.5635102163783501E-2},{"$f":"'1'!M97","v":5.0857306487242697E-3},{"$f":"'1'!N97","v":5.6609354534010504E-4},{"$f":"'1'!O97","v":7.90478174044027E-5},{"$f":"'1'!P97","v":-1.9874433448502401E-4},{"$f":"'1'!Q97","v":-4.3650925481024698E-4},{"$f":"'1'!R97","v":0},{"$f":"'1'!S97","v":0},null,null,"Dexamethasone",{"$f":"HLOOKUP($DD$7,$CJ$7:$CZ$48,42,FALSE)","v":0.20260634956146301},null,null,"Dexamethasone",{"$f":"IF($C$4=2.7,'1'!D165,IF($C$4=4.5,'1'!G165,IF($C$4=7,'1'!J165,IF($C$4=9,'1'!M165,FALSE))))","v":1.0900000000000001},{"$f":"IF($C$4=2.7,'1'!E165,IF($C$4=4.5,'1'!H165,IF($C$4=7,'1'!K165,IF($C$4=9,'1'!N165,FALSE))))","v":0.92},{"$f":"IF($C$4=2.7,'1'!F165,IF($C$4=4.5,'1'!I165,IF($C$4=7,'1'!L165,IF($C$4=9,'1'!O165,FALSE))))","v":1.02},null,null,"Dexamethasone",{"$f":"HLOOKUP($DN$7,$DG$7:$DJ$48,42,FALSE)","v":1.0900000000000001},null,null,"Dexamethasone",12.4,null,2]
[null,"N theoretical",{"$f":"VLOOKUP(C3,G77:H1033,2,TRUE)","v":14461.169882665357}]
[null,"σ²col moyen isocratique",{"$f":"(C39*(1+C62))^2/C49","v":1819.4886524691062},"µL²",null,null,null,null,null,null,null,null,null,null,null,null,null,null,null,null,null,null,null,null,null,null,null,null,null,null,null,null,null,null,null,null,null,null,null,null,null,null,null,null,null,null,null,null,null,null,null,null,null,null,null,null,null,null,null,null,null,null,null,null,null,null,null,null,null,null,null,null,null,null,null,null,null,null,null,null,null,null,null,null,null,null,null,"Wavelength",200,210,220,230,240,250,260,270,280,290,300,310,320,330,340,350,null,null,"Noise",{"$f":"(HLOOKUP($DD$7,$CJ$50:$CZ$52,2,FALSE))*(POWER('HPLC simulator'!I16,0.35))","v":7.6473637639155712E-2}]
[null,"σ²cte temps",{"$f":"C11/1000*C11/1000*C3*1000*C3*1000/60/60","v":277.77777777777777},"µl²",{"$f":"C51/C55","v":0.30592023069605601},"UV time constant",null,null,null,null,null,null,null,null,null,null,null,null,null,null,null,null,null,null,null,null,null,null,null,null,null,null,null,null,null,null,{"$f":"IF($C$25=1,H8,IF($C$25=2,H13,IF($C$25=3,H19,IF($C$25=4,H23,IF($C$25=5,H29,IF($C$25=6,H37,IF($C$25=7,H42,H49)))))))","v":"Uracil"},{"$f":"IF($C$25=1,H9,IF($C$25=2,H14,IF($C$25=3,H20,IF($C$25=4,H24,IF($C$25=5,H30,IF($C$25=6,H38,IF($C$25=7,H43,H49)))))))","v":"Methylparaben"},{"$f":"IF($C$25=1,H10,IF($C$25=2,H15,IF($C$25=3,H21,IF($C$25=4,H25,IF($C$25=5,H31,IF($C$25=6,H39,IF($C$25=7,H44,H49)))))))","v":"Ethylparaben"},{"$f":"IF($C$25=1,H11,IF($C$25=2,H16,IF($C$25=3,H22,IF($C$25=4,H26,IF($C$25=5,H32,IF($C$25=6,H40,IF($C$25=7,H45,H49)))))))","v":"Propylparaben"},{"$f":"IF($C$25=1,H12,IF($C$25=2,H17,IF($C$25=3,\"\",IF($C$25=4,H27,IF($C$25=5,H33,IF($C$25=6,H41,IF($C$25=7,H46,H49)))))))","v":"Butylparaben"},{"$f":"IF($C$25=1,\"\",IF($C$25=2,H18,IF($C$25=3,\"\",IF($C$25=4,H28,IF($C$25=5,H34,IF($C$25=6,\"\",IF($C$25=7,H47,H49)))))))","v":""},{"$f":"IF($C$25=1,\"\",IF($C$25=2,\"\",IF($C$25=3,\"\",IF($C$25=4,\"\",IF($C$25=5,H35,IF($C$25=6,\"\",IF($C$25=7,H48,H49)))))))","v":""},{"$f":"IF($C$25=1,\"\",IF($C$25=2,\"\",IF($C$25=3,\"\",IF($C$25=4,\"\",IF($C$25=5,H36,IF($C$25=6,\"\",IF($C$25=7,\"\",H49)))))))","v":""},null,null,null,null,null,null,null,null,null,null,null,null,null,null,null,null,null,null,null,null,null,null,null,null,null,null,null,null,null,null,null,null,null,null,null,null,null,null,null,null,null,null,null,"Noise",{"$f":"IF($C$33=\"methanol2.7\",'1'!D102,IF($C$33=\"methanol4.5\",'1'!D106,IF($C$33=\"methanol7\",'1'!D110,IF($C$33=\"methanol9\",'1'!D114,IF($C$33=\"acetonitrile2.7\",'1'!D104,IF($C$33=\"acetonitrile4.5\",'1'!D108,IF($C$33=\"acetonitrile7\",'1'!D112,IF($C$33=\"acetonitrile9\",'1'!D116,FALSE))))))))","v":0.52},{"$f":"IF($C$33=\"methanol2.7\",'1'!E102,IF($C$33=\"methanol4.5\",'1'!E106,IF($C$33=\"methanol7\",'1'!E110,IF($C$33=\"methanol9\",'1'!E114,IF($C$33=\"acetonitrile2.7\",'1'!E104,IF($C$33=\"acetonitrile4.5\",'1'!E108,IF($C$33=\"acetonitrile7\",'1'!E112,IF($C$33=\"acetonitrile9\",'1'!E116,FALSE))))))))","v":0.29000000000000004},{"$f":"IF($C$33=\"methanol2.7\",'1'!F102,IF($C$33=\"methanol4.5\",'1'!F106,IF($C$33=\"methanol7\",'1'!F110,IF($C$33=\"methanol9\",'1'!F114,IF($C$33=\"acetonitrile2.7\",'1'!F104,IF($C$33=\"acetonitrile4.5\",'1'!F108,IF($C$33=\"acetonitrile7\",'1'!F112,IF($C$33=\"acetonitrile9\",'1'!F116,FALSE))))))))","v":0.06},{"$f":"IF($C$33=\"methanol2.7\",'1'!G102,IF($C$33=\"methanol4.5\",'1'!G106,IF($C$33=\"methanol7\",'1'!G110,IF($C$33=\"methanol9\",'1'!G114,IF($C$33=\"acetonitrile2.7\",'1'!G104,IF($C$33=\"acetonitrile4.5\",'1'!G108,IF($C$33=\"acetonitrile7\",'1'!G112,IF($C$33=\"acetonitrile9\",'1'!G116,FALSE))))))))","v":0.04},{"$f":"IF($C$33=\"methanol2.7\",'1'!H102,IF($C$33=\"methanol4.5\",'1'!H106,IF($C$33=\"methanol7\",'1'!H110,IF($C$33=\"methanol9\",'1'!H114,IF($C$33=\"acetonitrile2.7\",'1'!H104,IF($C$33=\"acetonitrile4.5\",'1'!H108,IF($C$33=\"acetonitrile7\",'1'!H112,IF($C$33=\"acetonitrile9\",'1'!H116,FALSE))))))))","v":0.02},{"$f":"IF($C$33=\"methanol2.7\",'1'!I102,IF($C$33=\"methanol4.5\",'1'!I106,IF($C$33=\"methanol7\",'1'!I110,IF($C$33=\"methanol9\",'1'!I114,IF($C$33=\"acetonitrile2.7\",'1'!I104,IF($C$33=\"acetonitrile4.5\",'1'!I108,IF($C$33=\"acetonitrile7\",'1'!I112,IF($C$33=\"acetonitrile9\",'1'!I116,FALSE))))))))","v":0.02},{"$f":"IF($C$33=\"methanol2.7\",'1'!J102,IF($C$33=\"methanol4.5\",'1'!J106,IF($C$33=\"methanol7\",'1'!J110,IF($C$33=\"methanol9\",'1'!J114,IF($C$33=\"acetonitrile2.7\",'1'!J104,IF($C$33=\"acetonitrile4.5\",'1'!J108,IF($C$33=\"acetonitrile7\",'1'!J112,IF($C$33=\"acetonitrile9\",'1'!J116,FALSE))))))))","v":0.02},{"$f":"IF($C$33=\"methanol2.7\",'1'!K102,IF($C$33=\"methanol4.5\",'1'!K106,IF($C$33=\"methanol7\",'1'!K110,IF($C$33=\"methanol9\",'1'!K114,IF($C$33=\"acetonitrile2.7\",'1'!K104,IF($C$33=\"acetonitrile4.5\",'1'!K108,IF($C$33=\"acetonitrile7\",'1'!K112,IF($C$33=\"acetonitrile9\",'1'!K116,FALSE))))))))","v":1.4999999999999999E-2},{"$f":"IF($C$33=\"methanol2.7\",'1'!L102,IF($C$33=\"methanol4.5\",'1'!L106,IF($C$33=\"methanol7\",'1'!L110,IF($C$33=\"methanol9\",'1'!L114,IF($C$33=\"acetonitrile2.7\",'1'!L104,IF($C$33=\"acetonitrile4.5\",'1'!L108,IF($C$33=\"acetonitrile7\",'1'!L112,IF($C$33=\"acetonitrile9\",'1'!L116,FALSE))))))))","v":0.01},{"$f":"IF($C$33=\"methanol2.7\",'1'!M102,IF($C$33=\"methanol4.5\",'1'!M106,IF($C$33=\"methanol7\",'1'!M110,IF($C$33=\"methanol9\",'1'!M114,IF($C$33=\"acetonitrile2.7\",'1'!M104,IF($C$33=\"acetonitrile4.5\",'1'!M108,IF($C$33=\"acetonitrile7\",'1'!M112,IF($C$33=\"acetonitrile9\",'1'!M116,FALSE))))))))","v":0.01},{"$f":"IF($C$33=\"methanol2.7\",'1'!N102,IF($C$33=\"methanol4.5\",'1'!N106,IF($C$33=\"methanol7\",'1'!N110,IF($C$33=\"methanol9\",'1'!N114,IF($C$33=\"acetonitrile2.7\",'1'!N104,IF($C$33=\"acetonitrile4.5\",'1'!N108,IF($C$33=\"acetonitrile7\",'1'!N112,IF($C$33=\"acetonitrile9\",'1'!N116,FALSE))))))))","v":0.01},{"$f":"IF($C$33=\"methanol2.7\",'1'!O102,IF($C$33=\"methanol4.5\",'1'!O106,IF($C$33=\"methanol7\",'1'!O110,IF($C$33=\"methanol9\",'1'!O114,IF($C$33=\"acetonitrile2.7\",'1'!O104,IF($C$33=\"acetonitrile4.5\",'1'!O108,IF($C$33=\"acetonitrile7\",'1'!O112,IF($C$33=\"acetonitrile9\",'1'!O116,FALSE))))))))","v":0.01},{"$f":"IF($C$33=\"methanol2.7\",'1'!P102,IF($C$33=\"methanol4.5\",'1'!P106,IF($C$33=\"methanol7\",'1'!P110,IF($C$33=\"methanol9\",'1'!P114,IF($C$33=\"acetonitrile2.7\",'1'!P104,IF($C$33=\"acetonitrile4.5\",'1'!P108,IF($C$33=\"acetonitrile7\",'1'!P112,IF($C$33=\"acetonitrile9\",'1'!P116,FALSE))))))))","v":0.01},{"$f":"IF($C$33=\"methanol2.7\",'1'!Q102,IF($C$33=\"methanol4.5\",'1'!Q106,IF($C$33=\"methanol7\",'1'!Q110,IF($C$33=\"methanol9\",'1'!Q114,IF($C$33=\"acetonitrile2.7\",'1'!Q104,IF($C$33=\"acetonitrile4.5\",'1'!Q108,IF($C$33=\"acetonitrile7\",'1'!Q112,IF($C$33=\"acetonitrile9\",'1'!Q116,FALSE))))))))","v":0.01},{"$f":"IF($C$33=\"methanol2.7\",'1'!R102,IF($C$33=\"methanol4.5\",'1'!R106,IF($C$33=\"methanol7\",'1'!R110,IF($C$33=\"methanol9\",'1'!R114,IF($C$33=\"acetonitrile2.7\",'1'!R104,IF($C$33=\"acetonitrile4.5\",'1'!R108,IF($C$33=\"acetonitrile7\",'1'!R112,IF($C$33=\"acetonitrile9\",'1'!R116,FALSE))))))))","v":0.01},{"$f":"IF($C$33=\"methanol2.7\",'1'!S102,IF($C$33=\"methanol4.5\",'1'!S106,IF($C$33=\"methanol7\",'1'!S110,IF($C$33=\"methanol9\",'1'!S114,IF($C$33=\"acetonitrile2.7\",'1'!S104,IF($C$33=\"acetonitrile4.5\",'1'!S108,IF($C$33=\"acetonitrile7\",'1'!S112,IF($C$33=\"acetonitrile9\",'1'!S116,FALSE))))))))","v":0.01},null,null,"Baseline drift",{"$f":"HLOOKUP($DD$7,$CJ$50:$CZ$52,3,FALSE)","v":1E-3}]
[null,"σ²injection",{"$f":"2*C22*C22/12","v":66.666666666666671},"µl²",{"$f":"C52/C55","v":7.342085536705345E-2},"Injection volume",null,null,null,null,null,null,null,null,null,null,null,null,null,null,null,null,null,null,null,null,null,1,{"$f":"EXP(AB52/1000)","v":1.0010005001667084},null,null,null,null,null,null,"log kw",{"$f":"IF(AK$51=\"\",\"\",Q57)","v":-0.35999999999999988},1.76,2.1,2.4900000000000007,2.72,"","","",null,null,null,null,null,null,null,null,null,null,null,null,null,null,null,null,null,null,null,null,null,null,null,null,null,null,null,null,null,null,null,null,null,null,null,null,null,null,null,null,null,null,null,"Baseline drift",{"$f":"IF($C$33=\"methanol2.7\",'1'!D103,IF($C$33=\"methanol4.5\",'1'!D107,IF($C$33=\"methanol7\",'1'!D111,IF($C$33=\"methanol9\",'1'!D115,IF($C$33=\"acetonitrile2.7\",'1'!D105,IF($C$33=\"acetonitrile4.5\",'1'!D109,IF($C$33=\"acetonitrile7\",'1'!D113,IF($C$33=\"acetonitrile9\",'1'!D117,FALSE))))))))","v":-3.7999999999999999E-2},{"$f":"IF($C$33=\"methanol2.7\",'1'!E103,IF($C$33=\"methanol4.5\",'1'!E107,IF($C$33=\"methanol7\",'1'!E111,IF($C$33=\"methanol9\",'1'!E115,IF($C$33=\"acetonitrile2.7\",'1'!E105,IF($C$33=\"acetonitrile4.5\",'1'!E109,IF($C$33=\"acetonitrile7\",'1'!E113,IF($C$33=\"acetonitrile9\",'1'!E117,FALSE))))))))","v":-1.8499999999999999E-2},{"$f":"IF($C$33=\"methanol2.7\",'1'!F103,IF($C$33=\"methanol4.5\",'1'!F107,IF($C$33=\"methanol7\",'1'!F111,IF($C$33=\"methanol9\",'1'!F115,IF($C$33=\"acetonitrile2.7\",'1'!F105,IF($C$33=\"acetonitrile4.5\",'1'!F109,IF($C$33=\"acetonitrile7\",'1'!F113,IF($C$33=\"acetonitrile9\",'1'!F117,FALSE))))))))","v":1E-3},{"$f":"IF($C$33=\"methanol2.7\",'1'!G103,IF($C$33=\"methanol4.5\",'1'!G107,IF($C$33=\"methanol7\",'1'!G111,IF($C$33=\"methanol9\",'1'!G115,IF($C$33=\"acetonitrile2.7\",'1'!G105,IF($C$33=\"acetonitrile4.5\",'1'!G109,IF($C$33=\"acetonitrile7\",'1'!G113,IF($C$33=\"acetonitrile9\",'1'!G117,FALSE))))))))","v":5.0000000000000001E-4},{"$f":"IF($C$33=\"methanol2.7\",'1'!H103,IF($C$33=\"methanol4.5\",'1'!H107,IF($C$33=\"methanol7\",'1'!H111,IF($C$33=\"methanol9\",'1'!H115,IF($C$33=\"acetonitrile2.7\",'1'!H105,IF($C$33=\"acetonitrile4.5\",'1'!H109,IF($C$33=\"acetonitrile7\",'1'!H113,IF($C$33=\"acetonitrile9\",'1'!H117,FALSE))))))))","v":0},{"$f":"IF($C$33=\"methanol2.7\",'1'!I103,IF($C$33=\"methanol4.5\",'1'!I107,IF($C$33=\"methanol7\",'1'!I111,IF($C$33=\"methanol9\",'1'!I115,IF($C$33=\"acetonitrile2.7\",'1'!I105,IF($C$33=\"acetonitrile4.5\",'1'!I109,IF($C$33=\"acetonitrile7\",'1'!I113,IF($C$33=\"acetonitrile9\",'1'!I117,FALSE))))))))","v":0},{"$f":"IF($C$33=\"methanol2.7\",'1'!J103,IF($C$33=\"methanol4.5\",'1'!J107,IF($C$33=\"methanol7\",'1'!J111,IF($C$33=\"methanol9\",'1'!J115,IF($C$33=\"acetonitrile2.7\",'1'!J105,IF($C$33=\"acetonitrile4.5\",'1'!J109,IF($C$33=\"acetonitrile7\",'1'!J113,IF($C$33=\"acetonitrile9\",'1'!J117,FALSE))))))))","v":0},{"$f":"IF($C$33=\"methanol2.7\",'1'!K103,IF($C$33=\"methanol4.5\",'1'!K107,IF($C$33=\"methanol7\",'1'!K111,IF($C$33=\"methanol9\",'1'!K115,IF($C$33=\"acetonitrile2.7\",'1'!K105,IF($C$33=\"acetonitrile4.5\",'1'!K109,IF($C$33=\"acetonitrile7\",'1'!K113,IF($C$33=\"acetonitrile9\",'1'!K117,FALSE))))))))","v":0},{"$f":"IF($C$33=\"methanol2.7\",'1'!L103,IF($C$33=\"methanol4.5\",'1'!L107,IF($C$33=\"methanol7\",'1'!L111,IF($C$33=\"methanol9\",'1'!L115,IF($C$33=\"acetonitrile2.7\",'1'!L105,IF($C$33=\"acetonitrile4.5\",'1'!L109,IF($C$33=\"acetonitrile7\",'1'!L113,IF($C$33=\"acetonitrile9\",'1'!L117,FALSE))))))))","v":0},{"$f":"IF($C$33=\"methanol2.7\",'1'!M103,IF($C$33=\"methanol4.5\",'1'!M107,IF($C$33=\"methanol7\",'1'!M111,IF($C$33=\"methanol9\",'1'!M115,IF($C$33=\"acetonitrile2.7\",'1'!M105,IF($C$33=\"acetonitrile4.5\",'1'!M109,IF($C$33=\"acetonitrile7\",'1'!M113,IF($C$33=\"acetonitrile9\",'1'!M117,FALSE))))))))","v":0},{"$f":"IF($C$33=\"methanol2.7\",'1'!N103,IF($C$33=\"methanol4.5\",'1'!N107,IF($C$33=\"methanol7\",'1'!N111,IF($C$33=\"methanol9\",'1'!N115,IF($C$33=\"acetonitrile2.7\",'1'!N105,IF($C$33=\"acetonitrile4.5\",'1'!N109,IF($C$33=\"acetonitrile7\",'1'!N113,IF($C$33=\"acetonitrile9\",'1'!N117,FALSE))))))))","v":0},{"$f":"IF($C$33=\"methanol2.7\",'1'!O103,IF($C$33=\"methanol4.5\",'1'!O107,IF($C$33=\"methanol7\",'1'!O111,IF($C$33=\"methanol9\",'1'!O115,IF($C$33=\"acetonitrile2.7\",'1'!O105,IF($C$33=\"acetonitrile4.5\",'1'!O109,IF($C$33=\"acetonitrile7\",'1'!O113,IF($C$33=\"acetonitrile9\",'1'!O117,FALSE))))))))","v":0},{"$f":"IF($C$33=\"methanol2.7\",'1'!P103,IF($C$33=\"methanol4.5\",'1'!P107,IF($C$33=\"methanol7\",'1'!P111,IF($C$33=\"methanol9\",'1'!P115,IF($C$33=\"acetonitrile2.7\",'1'!P105,IF($C$33=\"acetonitrile4.5\",'1'!P109,IF($C$33=\"acetonitrile7\",'1'!P113,IF($C$33=\"acetonitrile9\",'1'!P117,FALSE))))))))","v":0},{"$f":"IF($C$33=\"methanol2.7\",'1'!Q103,IF($C$33=\"methanol4.5\",'1'!Q107,IF($C$33=\"methanol7\",'1'!Q111,IF($C$33=\"methanol9\",'1'!Q115,IF($C$33=\"acetonitrile2.7\",'1'!Q105,IF($C$33=\"acetonitrile4.5\",'1'!Q109,IF($C$33=\"acetonitrile7\",'1'!Q113,IF($C$33=\"acetonitrile9\",'1'!Q117,FALSE))))))))","v":0},{"$f":"IF($C$33=\"methanol2.7\",'1'!R103,IF($C$33=\"methanol4.5\",'1'!R107,IF($C$33=\"methanol7\",'1'!R111,IF($C$33=\"methanol9\",'1'!R115,IF($C$33=\"acetonitrile2.7\",'1'!R105,IF($C$33=\"acetonitrile4.5\",'1'!R109,IF($C$33=\"acetonitrile7\",'1'!R113,IF($C$33=\"acetonitrile9\",'1'!R117,FALSE))))))))","v":0},{"$f":"IF($C$33=\"methanol2.7\",'1'!S103,IF($C$33=\"methanol4.5\",'1'!S107,IF($C$33=\"methanol7\",'1'!S111,IF($C$33=\"methanol9\",'1'!S115,IF($C$33=\"acetonitrile2.7\",'1'!S105,IF($C$33=\"acetonitrile4.5\",'1'!S109,IF($C$33=\"acetonitrile7\",'1'!S113,IF($C$33=\"acetonitrile9\",'1'!S117,FALSE))))))))","v":0}]
[null,"σ²cellule",{"$f":"2*C9*C9/12","v":28.166666666666668},"µl²",{"$f":"C53/C55","v":3.1020311392580081E-2},"UV cell",null,null,null,null,null,null,null,null,null,null,null,null,null,null,null,null,null,null,null,null,null,10,{"$f":"EXP(AB53/1000)","v":1.0100501670841679},null,null,null,null,null,null,"S",5.26,5.4,5.17,5.2000000000000011,4.92,"","",""]
[null,"σ²tube",{"$f":"(((C19/1000/2)^4*C18*10*C3*1000/60)/(7.6*(0.000000001*1000000)))+(((C21/1000/2)^4*C20*10*C3*1000/60)/(7.6*(0.000000001*1000000)))","v":535.39610745614038},"µl²",{"$f":"C54/C55","v":0.58963860254431033},"tubing",null,null,null,null,null,null,null,null,null,null,null,null,null,null,null,null,null,null,null,null,null,100,{"$f":"EXP(AB54/1000)","v":1.1051709180756477},null,null,null,null,null,null,"b value",{"$f":"IF(AK$51=\"\",\"\",$C$40*($C$30-$C$29)/100*AK53/$C$28)","v":0.13768031375153592},0.14134480879435249,0.1353245669382967,0.13610981587604312,0.12878082579041003,"","","",null,null,null,null,null,null,null,null,null,null,null,null,null,null,null,null,null,null,null,null,null,null,null,null,null,null,null,null,null,null,null,null,null,null,null,null,null,null,null,null,null,null,"Graphique",{"$f":"calculation2!E86","v":"Uracil"},{"$f":"VLOOKUP($CJ$54,$CJ$7:$CZ$48,2,FALSE)","v":8.8720350379015794E-2},{"$f":"VLOOKUP($CJ$54,$CJ$7:$CZ$48,3,FALSE)","v":4.8196819220748699E-2},{"$f":"VLOOKUP($CJ$54,$CJ$7:$CZ$48,4,FALSE)","v":0},{"$f":"VLOOKUP($CJ$54,$CJ$7:$CZ$48,5,FALSE)","v":7.6579447051938797E-3},{"$f":"VLOOKUP($CJ$54,$CJ$7:$CZ$48,6,FALSE)","v":7.9637421775601805E-2},{"$f":"VLOOKUP($CJ$54,$CJ$7:$CZ$48,7,FALSE)","v":0.15513697682111299},{"$f":"VLOOKUP($CJ$54,$CJ$7:$CZ$48,8,FALSE)","v":0.18952752315180499},{"$f":"VLOOKUP($CJ$54,$CJ$7:$CZ$48,9,FALSE)","v":0.12502273839546099},{"$f":"VLOOKUP($CJ$54,$CJ$7:$CZ$48,10,FALSE)","v":3.3322504423330797E-2},{"$f":"VLOOKUP($CJ$54,$CJ$7:$CZ$48,11,FALSE)","v":1.3510676656862601E-3},{"$f":"VLOOKUP($CJ$54,$CJ$7:$CZ$48,12,FALSE)","v":-2.41269328855411E-5},{"$f":"VLOOKUP($CJ$54,$CJ$7:$CZ$48,13,FALSE)","v":-4.7095990269047998E-5},{"$f":"VLOOKUP($CJ$54,$CJ$7:$CZ$48,14,FALSE)","v":-4.6066759473940303E-5},{"$f":"VLOOKUP($CJ$54,$CJ$7:$CZ$48,15,FALSE)","v":-8.0763321464476294E-5},{"$f":"VLOOKUP($CJ$54,$CJ$7:$CZ$48,16,FALSE)","v":-6.29455548321201E-6},{"$f":"VLOOKUP($CJ$54,$CJ$7:$CZ$48,17,FALSE)","v":-1.2747849531985899E-5}]
[null,"σ²ext",{"$f":"SUM(C51:C54)","v":908.00721856725158},"µl²",null,null,null,null,null,null,null,null,null,null,null,null,null,null,null,null,null,null,null,null,null,null,null,1000,2.7182818284590451,null,null,null,null,null,null,"k0",{"$f":"IF(AK$51=\"\",\"\",10^(AK52-AK53*($C$29/100)))","v":0.23823194693586902},30.902954325135919,69.422460171411942,169.82436524617475,297.8516429429194,"","",""]
[null,"inlet tube",{"$f":"(((C19/1000/2)^4*C18*10*C3*1000/60)/(7.6*(0.000000001*1000000)))","v":267.69805372807019},"µl²",{"$f":"C56/C55","v":0.29481930127215517},"inlet tube",null,null,null,null,null,null,null,null,null,null,{"$f":"IF($C$25=1,H8,IF($C$25=2,H13,IF($C$25=3,H19,IF($C$25=4,H23,IF($C$25=5,H29,IF($C$25=6,H37,IF($C$25=7,H42,H49)))))))","v":"Uracil"},{"$f":"IF($C$25=1,H9,IF($C$25=2,H14,IF($C$25=3,H20,IF($C$25=4,H24,IF($C$25=5,H30,IF($C$25=6,H38,IF($C$25=7,H43,H49)))))))","v":"Methylparaben"},{"$f":"IF($C$25=1,H10,IF($C$25=2,H15,IF($C$25=3,H21,IF($C$25=4,H25,IF($C$25=5,H31,IF($C$25=6,H39,IF($C$25=7,H44,H49)))))))","v":"Ethylparaben"},{"$f":"IF($C$25=1,H11,IF($C$25=2,H16,IF($C$25=3,H22,IF($C$25=4,H26,IF($C$25=5,H32,IF($C$25=6,H40,IF($C$25=7,H45,H49)))))))","v":"Propylparaben"},{"$f":"IF($C$25=1,H12,IF($C$25=2,H17,IF($C$25=3,\"\",IF($C$25=4,H27,IF($C$25=5,H33,IF($C$25=6,H41,IF($C$25=7,H46,H49)))))))","v":"Butylparaben"},{"$f":"IF($C$25=1,\"\",IF($C$25=2,H18,IF($C$25=3,\"\",IF($C$25=4,H28,IF($C$25=5,H34,IF($C$25=6,\"\",IF($C$25=7,H47,H49)))))))","v":""},{"$f":"IF($C$25=1,\"\",IF($C$25=2,\"\",IF($C$25=3,\"\",IF($C$25=4,\"\",IF($C$25=5,H35,IF($C$25=6,\"\",IF($C$25=7,H48,H49)))))))","v":""},{"$f":"IF($C$25=1,\"\",IF($C$25=2,\"\",IF($C$25=3,\"\",IF($C$25=4,\"\",IF($C$25=5,H36,IF($C$25=6,\"\",IF($C$25=7,\"\",H49)))))))","v":""},null,null,null,10000,{"$f":"EXP(AB56/1000)","v":22026.465794806718},null,null,null,null,null,null,"tr pics non élué",{"$f":"IF(AK$51=\"\",0,IF(($C$40/AK54)*LOG(2.3*AK55*AK54+1)+$C$40+($C$6/($C$3*1000))>($C$28+$C$7),\"NOT ELUTED\",\"\"))","v":""},{"$f":"IF(AL$51=\"\",0,IF(($C$40/AL54)*LOG(2.3*AL55*AL54+1)+$C$40+($C$6/($C$3*1000))>($C$28+$C$7),\"NOT ELUTED\",\"\"))","v":""},"","","",0,{"$f":"IF(AQ$51=\"\",\"\",IF(($C$40/AQ54)*LOG(2.3*AQ55*AQ54+1)+$C$40+($C$6/($C$3*1000))>($C$28+$C$7),\"NOT ELUTED\",\"\"))","v":""},{"$f":"IF(AR$51=\"\",\"\",IF(($C$40/AR54)*LOG(2.3*AR55*AR54+1)+$C$40+($C$6/($C$3*1000))>($C$28+$C$7),\"NOT ELUTED\",\"\"))","v":""},null,null,null,null,null,null,null,null,null,null,null,null,null,null,null,null,null,null,null,null,null,null,null,null,null,null,null,null,null,null,null,null,null,null,null,null,null,null,null,null,null,null,null,{"$f":"DD7","v":220},0]
[null,"outlet tube",{"$f":"(((C21/1000/2)^4*C20*10*C3*1000/60)/(7.6*(0.000000001*1000000)))","v":267.69805372807019},"µl²",{"$f":"C57/C55","v":0.29481930127215517},"outlet tube",null,null,null,null,null,null,null,null,null,"log kw",{"$f":"IF(Q$56=\"\",\"\",HLOOKUP($C$32,$CB$8:$CG$16,2,FALSE))","v":-0.35999999999999988},{"$f":"IF(R$56=\"\",\"\",HLOOKUP($C$32,$CB$8:$CG$16,3,FALSE))","v":1.76},{"$f":"IF(S$56=\"\",\"\",HLOOKUP($C$32,$CB$8:$CG$16,4,FALSE))","v":2.1},{"$f":"IF(T$56=\"\",\"\",HLOOKUP($C$32,$CB$8:$CG$16,5,FALSE))","v":2.4900000000000007},{"$f":"IF(U$56=\"\",\"\",HLOOKUP($C$32,$CB$8:$CG$16,6,FALSE))","v":2.72},{"$f":"IF(V$56=\"\",\"\",HLOOKUP($C$32,$CB$8:$CG$16,7,FALSE))","v":""},{"$f":"IF(W$56=\"\",\"\",HLOOKUP($C$32,$CB$8:$CG$16,8,FALSE))","v":""},{"$f":"IF(X$56=\"\",\"\",HLOOKUP($C$32,$CB$8:$CG$16,9,FALSE))","v":""},null,null,null,null,null,null,null,null,null,null,null,"tr sans effet pH (min)",{"$f":"IF(AK56=\"NOT ELUTED\",\"\",IF(AK$51=\"\",\"\",($C$40/AK54)*LOG(2.3*AK55*AK54+1)+$C$40+($C$6/($C$3*1000))))","v":3.6453277479302622},{"$f":"IF(AL56=\"NOT ELUTED\",\"\",IF(AL$51=\"\",\"\",($C$40/AL54)*LOG(2.3*AL55*AL54+1)+$C$40+($C$6/($C$3*1000))))","v":16.124235279381843},20.707957040647251,25.472053656941654,29.674185616919232,"","","",null,null,null,null,null,null,null,null,null,null,null,null,null,null,null,null,null,null,null,null,null,null,null,null,null,null,null,null,null,null,null,null,null,null,null,null,null,null,null,null,null,null,null,{"$f":"DD7","v":220},{"$f":"MAX(CK54:CZ54)","v":0.18952752315180499}]
[null,"σ²sample diluent",{"$f":"(2*AVERAGE(Q70:X70)*AVERAGE(Q70:X70)/12)-C52","v":-59.71856794918839},"µl²",{"$f":"C58/C55","v":-6.5768825101873721E-2},"sample diluent",null,null,null,null,null,null,null,null,null,"S",{"$f":"IF(Q$56=\"\",\"\",HLOOKUP($C$32,$CB$20:$CG$28,2,FALSE))","v":5.26},{"$f":"IF(R$56=\"\",\"\",HLOOKUP($C$32,$CB$20:$CG$28,3,FALSE))","v":5.4},{"$f":"IF(S$56=\"\",\"\",HLOOKUP($C$32,$CB$20:$CG$28,4,FALSE))","v":5.17},{"$f":"IF(T$56=\"\",\"\",HLOOKUP($C$32,$CB$20:$CG$28,5,FALSE))","v":5.2000000000000011},{"$f":"IF(U$56=\"\",\"\",HLOOKUP($C$32,$CB$20:$CG$28,6,FALSE))","v":4.92},{"$f":"IF(V$56=\"\",\"\",HLOOKUP($C$32,$CB$20:$CG$28,7,FALSE))","v":""},{"$f":"IF(W$56=\"\",\"\",HLOOKUP($C$32,$CB$20:$CG$28,8,FALSE))","v":""},{"$f":"IF(X$56=\"\",\"\",HLOOKUP($C$32,$CB$20:$CG$28,9,FALSE))","v":""},null,null,null,null,null,null,null,null,null,null,null,"k elution",{"$f":"IF(AK$51=\"\",\"\",1/(2.3*AK54))","v":3.1579141334634118},3.0760422855588043,3.212887493620415,3.1943516042341433,3.3761439719547854,"","",""]
[null,"N real without sample diluent",{"$f":"IF(C8=\"isocratic\",AVERAGE(Calculation!Q65:X65),AVERAGE(AK63:AR63))","v":7692.0044579957876},null,null,null,null,null,null,null,null,null,null,null,null,"k",{"$f":"IF(Q$56=\"\",\"\",10^(Q57-Q58*($C$26/100)))","v":3.4355794789987446E-3},0.39810717055349709,1.0764652136298349,2.5703957827688648,5.6493697481230294,"","","",null,null,null,null,null,null,null,null,null,null,null,"σ²col (µL²)",{"$f":"IF(AK$51=\"\",\"\",($C$39*(1+AK58))^2/$C$49)","v":3640.3009768680517},{"$f":"IF(AL$51=\"\",\"\",($C$39*(1+AL58))^2/$C$49)","v":3498.3529315728451},3737.1969197070894,3704.3833795699693,4032.4543783018112,"","",""]
[null,"N real with sample diluent",{"$f":"AVERAGE(Calculation!Q72:X72)","v":7850.1154304166603},null,null,null,null,null,null,null,null,null,null,null,null,"tr sans effet pH",{"$f":"IF(Q$56=\"\",\"\",$C$40*(1+Q59))","v":1.7509927175173992},2.4396937122950266,3.6234268961559661,6.2303322127855258,11.60313451421483,"","","",null,null,null,null,null,null,null,null,null,null,null,"σ²tot (µL²)",{"$f":"IF(AK$51=\"\",\"\",AK59+$C$55)","v":4548.3081954353038},4406.3601501400972,4645.2041382743409,4612.3905981372209,4940.4615968690632,"","",""]
[null,"N loss (%)",{"$f":"(C49-C60)/C49","v":0.45715903387411178},null,null,{"$f":"E53","v":3.1020311392580081E-2},{"$f":"F53","v":"UV cell"},null,null,null,null,null,null,null,null,"σ²col (µL²)",{"$f":"IF(Q$56=\"\",\"\",($C$39*(1+Q59))^2/$C$49)","v":212.01434750269817},411.59224724596407,907.89490603554088,2684.2253978499393,9309.947372677505,"","","",null,null,null,null,null,null,null,null,null,null,null,"height (mAU)",{"$f":"IF(AK$51=\"\",\"\",VLOOKUP(AK$51,$DC$8:$DD$48,2,FALSE))","v":0},0.162500542262737,0.17877301778069399,0.18921711508623701,0.189121478342587,"","",""]
[null,"k moyen isocratique",{"$f":"AVERAGE(Q59:X59)","v":1.939554698910845},null,null,{"$f":"E51","v":0.30592023069605601},{"$f":"F51","v":"UV time constant"},null,null,null,null,null,null,null,null,"σ²tot (µL²)",{"$f":"IF(Q$56=\"\",\"\",Q61+$C$55)","v":1120.0215660699498},1319.5994658132156,1815.9021246027924,3592.2326164171909,10217.954591244757,"","","",null,null,null,null,null,null,null,null,null,null,null,"peak height",{"$f":"IF(AK56=\"NOT ELUTED\",\"\",IF(AK51=\"\",\"\",AK61*(SQRT(AK63)*$C$22)/($C$13*$C$14*$C$14*(1+AK58))*$C$31*100000/5))","v":0},53.834753865434173,57.68295253548574,61.269634600722746,59.170467806933445,"","",""]
[null,"temps d'analyse isocratique",{"$f":"MAX(Q60:X60)*1.1","v":12.763447965636313},"min",null,{"$f":"E52","v":7.342085536705345E-2},"Injection volume",null,null,null,null,null,null,null,null,"height (mAU)",{"$f":"IF(Q$56=\"\",\"\",VLOOKUP(Q$56,$DC$8:$DD$48,2,FALSE))","v":0},0.162500542262737,0.17877301778069399,0.18921711508623701,0.189121478342587,"","","",null,null,null,null,null,null,null,null,null,null,null,"Nreal",{"$f":"IF(AK$51=\"\",\"\",$C$49*(1/(1+$C$55/AK59)))","v":11574.196072147057},{"$f":"IF(AL$51=\"\",\"\",$C$49*(1/(1+$C$55/AL59)))","v":11481.194076109919},11634.416471723662,11614.306339128834,11803.352108976167,"","",""]
[null,"gradient slope",{"$f":"(C30-C29)/C28","v":1.5},"%/min",null,{"$f":"E54","v":0.58963860254431033},{"$f":"F54","v":"tubing"},null,null,null,null,null,null,null,null,"peak height",{"$f":"IF(Q56=\"\",\"\",Q63*(SQRT(Q65)*$C$22)/($C$13*$C$14*$C$14*(1+Q59))*$C$31*100000/5)","v":0},98.374301506578533,92.257921412767004,69.426632969597335,41.144025699881425,"","","",null,null,null,null,null,null,null,null,null,null,null,"width baseline (min)",{"$f":"IF(AK56=\"NOT ELUTED\",\"\",IF(AK$51=\"\",\"\",$C$40*(1+AK58)/SQRT(AK63)))","v":6.7441146160450924E-2},{"$f":"IF(AL56=\"NOT ELUTED\",\"\",IF(AL$51=\"\",\"\",$C$40*(1+AL58)/SQRT(AL63)))","v":6.6380419930429008E-2},6.8155734448939367E-2,6.7914583103610537E-2,7.0288417231212874E-2,"","",""]
[null,"linear velocity (u)",{"$f":"C3/60/(PI()*(C14/10)^2/4*0.7)","v":0.14326666944990135},"mm/s",null,null,null,null,null,null,null,null,null,null,null,"Nreal",{"$f":"IF(Q$56=\"\",\"\",$C$49*(1/(1+$C$55/Q61)))","v":2737.4254118670101},4510.5394204929053,7230.1377336943879,10805.825687421153,13176.09403650348,"","","",null,null,null,null,null,null,null,null,null,null,null,"width half height (min)",{"$f":"IF(AK57=\"NOT ELUTED\",\"\",IF(AK$51=\"\",\"\",AK64*2.35))","v":0.15848669347705968},{"$f":"IF(AL57=\"NOT ELUTED\",\"\",IF(AL$51=\"\",\"\",AL64*2.35))","v":0.15599398683650817},{"$f":"IF(AM57=\"NOT ELUTED\",\"\",IF(AM$51=\"\",\"\",AM64*2.35))","v":0.16016597595500751},0.15959927029348478,0.16517778049335027,"","",""]
[null,"OTHERS",null,null,null,null,null,null,null,null,null,null,null,null,null,"Width 50%",{"$f":"IF(Q$56=\"\",\"\",SQRT((5.54*Q60*Q60)/Q65))","v":7.877131124989302E-2},8.5501935888055852E-2,0.10030003873528399,0.14107079320309801,0.23792324063759715,"","","",null,null,null,null,null,null,null,null,null,null,null,"Asymmetry",{"$f":"IF(AK56=\"NOT ELUTED\",\"\",IF(AK$51=\"\",\"\",VLOOKUP(AK$51,$DM$8:$DN$48,2,FALSE)))","v":1.38},1.07,1.08,1.05,1.03,"","",""]
[null,"Height shift",2,null,null,null,null,null,null,null,null,null,null,null,null,"Asymmetry",{"$f":"IF(Q$56=\"\",\"\",VLOOKUP(Q$56,$DM$8:$DN$48,2,FALSE))","v":1.38},1.07,1.08,1.05,1.03,"","","",null,null,null,null,null,null,null,null,null,null,null,"peak area",{"$f":"IF(AK56=\"NOT ELUTED\",\"\",IF(AK51=\"\",\"\",SUM(AX77:AX3077)/($AM3077-$AM78)*1000))","v":0},286.55791899029703,314.74403968450753,332.03511191205087,331.62815442921357,"","",""]
[null,"noise",{"$f":"DD50*6","v":0.45884182583493427},null,null,null,null,null,null,null,null,null,null,null,null,"peak area",{"$f":"IF(Q$56=\"\",\"\",(SUM(AD77:AD3077)/($K3077-$K77)*1000))","v":0},{"$f":"IF(R$56=\"\",\"\",(SUM(AE77:AE3077)/($K3077-$K77)*1000))","v":720.53751163422248},797.80701087926286,848.61990181525437,851.80037432885706,"","","",null,null,null,null,null,null,null,null,null,null,null,"k injection solvent",{"$f":"IF(AK$51=\"\",\"\",10^(AK52-AK53*($C$23/100)))","v":3.8725764492161724E-2},4.7863009232263831,11.641260294104917,28.183829312644573,54.450265284242171,"","",""]
[null,"noise avec time constant",{"$f":"calculation2!H15","v":0.16583245720298323},{"$f":"$C$69*EXP(-$C$11/1000)","v":6.1006351683920601E-2},null,null,null,null,null,null,null,null,null,null,null,"k injection solvent",{"$f":"IF(Q$56=\"\",\"\",10^(Q57-Q58*($C$23/100)))","v":3.8725764492161724E-2},4.7863009232263831,11.641260294104917,28.183829312644573,54.450265284242171,"","","",null,null,null,null,null,null,null,null,null,null,null,"Volume Inj eq",{"$f":"IF(AK$54=\"\",\"\",((1+AK58)/(1+AK68))*$C$22)","v":80.057976332111821},14.088594214647392,6.6652966486024168,2.8744354000294559,1.5784032590366692,"","",""]
[null,"baseline drift",{"$f":"DD51","v":1E-3},null,null,null,null,null,null,null,null,null,null,null,null,"Volume Inj eq",{"$f":"IF(Q$56=\"\",\"\",((1+Q59)/(1+Q69))*$C$22)","v":19.320510066862226},4.8324730742621895,3.2852186654176667,2.4468315960317848,2.3983184621526576,"","","",null,null,null,null,null,null,null,null,null,null,null,"σ²ext",{"$f":"IF(AK$54=\"\",\"\",(2*AK69*AK69/12)+$C$54+$C$53+$C$51)","v":1909.5538142994144},874.42196639141753,848.74491513622979,842.71761504540859,841.75577804194108,"","",""]
[null,"pas en gradient",{"$f":"C28/1000","v":0.03},null,null,null,null,null,null,null,null,null,null,null,null,"σ²ext",{"$f":"IF(Q$56=\"\",\"\",(2*Q70*Q70/12)+$C$54+$C$53+$C$51)","v":903.55423677453882},{"$f":"IF(R$56=\"\",\"\",(2*R70*R70/12)+$C$54+$C$53+$C$51)","v":845.23268456949631},843.13932884718633,842.33838271047466,842.29920714156856,"",{"$f":"IF(W$56=\"\",\"\",(2*W70*W70/12)+$C$54+$C$53+$C$51)","v":""},"",null,null,null,null,null,null,null,null,null,null,null,"Nreal with sample diluent",{"$f":"IF(AK$51=\"\",\"\",$C$49*(1/(1+AK70/AK59)))","v":9485.4753559142373},11569.375793057061,11784.763411135664,11781.070494347929,11963.786118828897,"","",""]
["t0 graph",{"$f":"C39/(C3*1000)","v":1.7449976394364501},{"$f":"IF(C8=\"isocratic\",0.5*MAX(AB78:AB3077),0.5*MAX(BH78:BH3077))","v":50.20850222889522},null,null,null,null,null,null,null,null,null,null,null,null,"Nreal with sample diluent",{"$f":"IF(Q$56=\"\",\"\",$C$49*(1/(1+Q71/Q61)))","v":2748.3523111090235},{"$f":"IF(R$56=\"\",\"\",$C$49*(1/(1+R71/R61)))","v":4735.8269709164524},7497.9815986668973,{"$f":"IF(T$56=\"\",\"\",$C$49*(1/(1+T71/T61)))","v":11007.043086997417},13261.373184393511,"","","",null,null,null,null,null,null,null,null,null,null,null,"width baseline with sample diluent",{"$f":"IF(AK56=\"NOT ELUTED\",\"\",IF(AK$51=\"\",\"\",$C$40*(1+AK58)/SQRT(AK71)))","v":7.4497347544509707E-2},{"$f":"IF(AL56=\"NOT ELUTED\",\"\",IF(AL$51=\"\",\"\",$C$40*(1+AL58)/SQRT(AL71)))","v":6.6126960447039002E-2},6.771958235874849E-2,6.7432195534591483E-2,6.9815543801819327E-2,"","",""]
["t0 graph",{"$f":"C39/(C3*1000)","v":1.7449976394364501},{"$f":"IF(C8=\"isocratic\",MAX(AB78:AB3077),MAX(BH78:BH3077))","v":100.41700445779044},null,null,null,null,null,null,null,null,null,null,null,null,"Width 50% with sample diluent",{"$f":"IF(Q$56=\"\",\"\",SQRT((5.54*Q60*Q60)/Q72))","v":7.8614565806190737E-2},{"$f":"IF(R$56=\"\",\"\",SQRT((5.54*R60*R60)/R72))","v":8.344345463999947E-2},9.8492282242063564E-2,0.13977540321639104,0.23715700717498878,"","","",null,null,null,null,null,null,null,null,null,null,null,"width half height (min)",{"$f":"IF(AK57=\"NOT ELUTED\",\"\",IF(AK$51=\"\",\"\",AK72*2.35))","v":0.17506876672959781},{"$f":"IF(AL57=\"NOT ELUTED\",\"\",IF(AL$51=\"\",\"\",AL72*2.35))","v":0.15539835705054167},0.15914101854305895,0.15846565950628999,0.16406652793427542,"","",""]
[null,"frequence",{"$f":"3000/60/MAX(Q60:X60)/1.2","v":3.5909836790758094},"pts/s"]
[null,null,"EFFICIENCY",null,null,null,null,null,null,null,"RETENTION IN ISOCRATIC MODE",null,null,null,null,null,null,null,null,null,null,null,null,null,null,null,null,null,null,"PEAK AREA IN ISOCRATIC MODE",null,null,null,null,null,null,null,null,"RETENTION IN GRADIENT MODE",null,null,null,null,null,null,null,null,null,null,"aire des pics en gradient"]
[null,null,"v","u","h","H","D (mL/min)","theoretical N",null,null,"time","sigma 1","sigma 2","sigma 3","sigma 4","sigma 5","sigma 6","sigma 7","sigma 8","peak 1","peak 2","peak 3","peak 4","peak 5","peak 6","peak 7","peak 8","sum",null,"peak 1","peak 2","peak 3","peak 4","peak 5","peak 6","peak 7","peak 8",null,"Peak construction",null,null,null,null,null,null,null,null,null,null,"peak 1","peak 2","peak 3","peak 4","peak 5","peak 6","peak 7","peak 8",null,"FINAL RESULTS"]
[null,null,0.3,{"$f":"(2*$C$43*$C77)/($C$15/1000000)*1000","v":0.1183263447807401},{"$f":"$C$46+$C$47/C77+$C$48*C77","v":14.348333333333334},{"$f":"E77*$C$15","v":71.741666666666674},{"$f":"D77*PI()*$C$14*$C$37/4*60/1000","v":1.795471237613348E-2},{"$f":"($C$13*1000)/F77","v":2090.8351724939016},null,null,0,{"$f":"IF(Q$56=\"\",\"\",SQRT(($K77*$K77)/$Q$72))","v":0},{"$f":"IF(R$56=\"\",\"\",SQRT(($K77*$K77)/$R$72))","v":0},{"$f":"IF(S$56=\"\",\"\",SQRT(($K77*$K77)/$S$72))","v":0},{"$f":"IF(T$56=\"\",\"\",SQRT(($K77*$K77)/$T$72))","v":0},{"$f":"IF(U$56=\"\",\"\",SQRT(($K77*$K77)/$U$72))","v":0},{"$f":"IF(V$56=\"\",\"\",SQRT(($K77*$K77)/$V$72))","v":""},{"$f":"IF(W$56=\"\",\"\",SQRT(($K77*$K77)/$W$72))","v":""},{"$f":"IF(X$56=\"\",\"\",SQRT(($K77*$K77)/$X$72))","v":""},null,null,null,null,null,null,null,null,{"$f":"SUM(T77:AA77)+RAND()*$C$69+$C$67","v":2.0991261319426098},null,0,0,0,0,0,0,0,0,null,"time","peak 1","peak 2","peak 3","peak 4","peak 5","peak 6","peak 7","peak 8","sum",null,0,0,0,0,0,0,0,0,null,"time","peak"]
[null,null,0.4,0.15776845970765346,11.02,55.099999999999994,2.3939616501511309E-2,2722.323049001815,null,null,{"$f":"K77+1/($C$74*60)","v":4.6412538056859317E-3},{"$f":"IF(Q$56=\"\",\"\",SQRT(($K78*$K78)/$Q$72))","v":8.8531763720196483E-5},{"$f":"IF(R$56=\"\",\"\",SQRT(($K78*$K78)/$R$72))","v":6.7443081488146944E-5},{"$f":"IF(S$56=\"\",\"\",SQRT(($K78*$K78)/$S$72))","v":5.3599795560372604E-5},{"$f":"IF(T$56=\"\",\"\",SQRT(($K78*$K78)/$T$72))","v":4.4238458461260633E-5},{"$f":"IF(U$56=\"\",\"\",SQRT(($K78*$K78)/$U$72))","v":4.0303342947838107E-5},{"$f":"IF(V$56=\"\",\"\",SQRT(($K78*$K78)/$V$72))","v":""},{"$f":"IF(W$56=\"\",\"\",SQRT(($K78*$K78)/$W$72))","v":""},{"$f":"IF(X$56=\"\",\"\",SQRT(($K78*$K78)/$X$72))","v":""},{"$f":"IF(Q$56=\"\",\"\",IF(ABS(($K78-Q$60) / ( L78 / 2.2))>20,0,IF(Q$60<>\"\",Q$64 * ( POWER(POWER(Q$67, 2),0.5) + POWER(POWER(Q$67, 2),-0.5)  ) / ( POWER(POWER(Q$67, 2),0.5) * EXP( POWER(1 + POWER(Q$67, 2),-1) * ($K78-Q$60)/ ( L78 / 2.2) ) + POWER(POWER(Q$67, 2),-0.5) * EXP(- POWER(Q$67, 2) * POWER(1 + POWER(Q$67, 2),-1) * ($K78-Q$60) / ( L78 / 2.2) ) ),\"\")))","v":0},{"$f":"IF(R$56=\"\",\"\",IF(ABS(($K78-R$60) / ( M78 / 2.2))>20,0,IF(R$60<>\"\",R$64 * ( POWER(POWER(R$67, 2),0.5) + POWER(POWER(R$67, 2),-0.5)  ) / ( POWER(POWER(R$67, 2),0.5) * EXP( POWER(1 + POWER(R$67, 2),-1) * ($K78-R$60)/ ( M78 / 2.2) ) + POWER(POWER(R$67, 2),-0.5) * EXP(- POWER(R$67, 2) * POWER(1 + POWER(R$67, 2),-1) * ($K78-R$60) / ( M78 / 2.2) ) ),\"\")))","v":0},{"$f":"IF(S$56=\"\",\"\",IF(ABS(($K78-S$60) / ( N78 / 2.2))>20,0,IF(S$60<>\"\",S$64 * ( POWER(POWER(S$67, 2),0.5) + POWER(POWER(S$67, 2),-0.5)  ) / ( POWER(POWER(S$67, 2),0.5) * EXP( POWER(1 + POWER(S$67, 2),-1) * ($K78-S$60)/ ( N78 / 2.2) ) + POWER(POWER(S$67, 2),-0.5) * EXP(- POWER(S$67, 2) * POWER(1 + POWER(S$67, 2),-1) * ($K78-S$60) / ( N78 / 2.2) ) ),\"\")))","v":0},{"$f":"IF(T$56=\"\",\"\",IF(ABS(($K78-T$60) / ( O78 / 2.2))>20,0,IF(T$60<>\"\",T$64 * ( POWER(POWER(T$67, 2),0.5) + POWER(POWER(T$67, 2),-0.5)  ) / ( POWER(POWER(T$67, 2),0.5) * EXP( POWER(1 + POWER(T$67, 2),-1) * ($K78-T$60)/ ( O78 / 2.2) ) + POWER(POWER(T$67, 2),-0.5) * EXP(- POWER(T$67, 2) * POWER(1 + POWER(T$67, 2),-1) * ($K78-T$60) / ( O78 / 2.2) ) ),\"\")))","v":0},{"$f":"IF(U$56=\"\",\"\",IF(ABS(($K78-U$60) / ( P78 / 2.2))>20,0,IF(U$60<>\"\",U$64 * ( POWER(POWER(U$67, 2),0.5) + POWER(POWER(U$67, 2),-0.5)  ) / ( POWER(POWER(U$67, 2),0.5) * EXP( POWER(1 + POWER(U$67, 2),-1) * ($K78-U$60)/ ( P78 / 2.2) ) + POWER(POWER(U$67, 2),-0.5) * EXP(- POWER(U$67, 2) * POWER(1 + POWER(U$67, 2),-1) * ($K78-U$60) / ( P78 / 2.2) ) ),\"\")))","v":0},{"$f":"IF(V$56=\"\",\"\",IF(ABS(($K78-V$60) / ( Q78 / 2.2))>20,0,IF(V$60<>\"\",V$64 * ( POWER(POWER(V$67, 2),0.5) + POWER(POWER(V$67, 2),-0.5)  ) / ( POWER(POWER(V$67, 2),0.5) * EXP( POWER(1 + POWER(V$67, 2),-1) * ($K78-V$60)/ ( Q78 / 2.2) ) + POWER(POWER(V$67, 2),-0.5) * EXP(- POWER(V$67, 2) * POWER(1 + POWER(V$67, 2),-1) * ($K78-V$60) / ( Q78 / 2.2) ) ),\"\")))","v":""},{"$f":"IF(W$56=\"\",\"\",IF(ABS(($K78-W$60) / ( R78 / 2.2))>20,0,IF(W$60<>\"\",W$64 * ( POWER(POWER(W$67, 2),0.5) + POWER(POWER(W$67, 2),-0.5)  ) / ( POWER(POWER(W$67, 2),0.5) * EXP( POWER(1 + POWER(W$67, 2),-1) * ($K78-W$60)/ ( R78 / 2.2) ) + POWER(POWER(W$67, 2),-0.5) * EXP(- POWER(W$67, 2) * POWER(1 + POWER(W$67, 2),-1) * ($K78-W$60) / ( R78 / 2.2) ) ),\"\")))","v":""},{"$f":"IF(X$56=\"\",\"\",IF(ABS(($K78-X$60) / ( S78 / 2.2))>20,0,IF(X$60<>\"\",X$64 * ( POWER(POWER(X$67, 2),0.5) + POWER(POWER(X$67, 2),-0.5)  ) / ( POWER(POWER(X$67, 2),0.5) * EXP( POWER(1 + POWER(X$67, 2),-1) * ($K78-X$60)/ ( S78 / 2.2) ) + POWER(POWER(X$67, 2),-0.5) * EXP(- POWER(X$67, 2) * POWER(1 + POWER(X$67, 2),-1) * ($K78-X$60) / ( S78 / 2.2) ) ),\"\")))","v":""},{"$f":"SUM(T78:AA78)+RAND()*$C$69+$C$67","v":2.1176955823238046},null,{"$f":"IF(Q$56=\"\",\"\",($K78-$K77)*T78)","v":0},{"$f":"IF(R$56=\"\",\"\",($K78-$K77)*U78)","v":0},{"$f":"IF(S$56=\"\",\"\",($K78-$K77)*V78)","v":0},{"$f":"IF(T$56=\"\",\"\",($K78-$K77)*W78)","v":0},{"$f":"IF(U$56=\"\",\"\",($K78-$K77)*X78)","v":0},{"$f":"IF(V$56=\"\",\"\",($K78-$K77)*Y78)","v":""},{"$f":"IF(W$56=\"\",\"\",($K78-$K77)*Z78)","v":""},{"$f":"IF(X$56=\"\",\"\",($K78-$K77)*AA78)","v":""},null,0,0,0,0,0,0,0,0,0,{"$f":"SUM(AN78:AU78)+RAND()*$C$69+K78*$C$70+$C$67","v":2.0143907076843171},null,{"$f":"IF(AN78=\"\",\"\",($AM79-$AM78)*AN78)","v":0},{"$f":"IF(AO78=\"\",\"\",($AM79-$AM78)*AO78)","v":0},{"$f":"IF(AP78=\"\",\"\",($AM79-$AM78)*AP78)","v":0},0,0,0,0,0,null,{"$f":"IF($C$8=\"isocratic\",K77,AM78)","v":0},{"$f":"IF($C$8=\"isocratic\",AB77,AV78)","v":2.0991261319426098}]
[null,null,0.5,0.19721057463456682,9.0250000000000004,45.125,2.9924520626889127E-2,3324.0997229916898,null,null,9.2825076113718635E-3,1.7706352744039297E-4,1.3488616297629389E-4,{"$f":"IF(S$56=\"\",\"\",SQRT(($K79*$K79)/$S$72))","v":1.0719959112074521E-4},8.8476916922521266E-5,{"$f":"IF(U$56=\"\",\"\",SQRT(($K79*$K79)/$U$72))","v":8.0606685895676214E-5},"","","",{"$f":"IF(Q$56=\"\",\"\",IF(ABS(($K79-Q$60) / ( L79 / 2.2))>20,0,IF(Q$60<>\"\",Q$64 * ( POWER(POWER(Q$67, 2),0.5) + POWER(POWER(Q$67, 2),-0.5)  ) / ( POWER(POWER(Q$67, 2),0.5) * EXP( POWER(1 + POWER(Q$67, 2),-1) * ($K79-Q$60)/ ( L79 / 2.2) ) + POWER(POWER(Q$67, 2),-0.5) * EXP(- POWER(Q$67, 2) * POWER(1 + POWER(Q$67, 2),-1) * ($K79-Q$60) / ( L79 / 2.2) ) ),\"\")))","v":0},0,0,0,0,"","","",2.0606511411952697,null,{"$f":"IF(Q$56=\"\",\"\",($K79-$K78)*T79)","v":0},0,0,0,0,"","","",null,{"$f":"AM78+MAX($AK$57:$AR$57)*1.2/3000","v":1.1869674246767692E-2},{"$f":"IF(AK$56=\"NOT ELUTED\",\"\",IF(AK$51=\"\",\"\",IF(ABS(($AM79-AK$57)/(AK$72/2.2))>20,0,AK$62*(POWER(POWER(AK$66,2),0.5)+POWER(POWER(AK$66,2),-0.5))/(POWER(POWER(AK$66,2),0.5)*EXP(POWER(1+POWER(AK$66,2),-1)*($AM79-AK$57)/(AK$72/2.2))+POWER(POWER(AK$66,2),-0.5)*EXP(-POWER(AK$66,2)*POWER(1+POWER(AK$66,2),-1)*($AM79-AK$57)/(AK$72/2.2))))))","v":0},{"$f":"IF(AL$56=\"NOT ELUTED\",\"\",IF(AL$51=\"\",\"\",IF(ABS(($AM79-AL$57)/(AL$72/2.2))>20,0,AL$62*(POWER(POWER(AL$66,2),0.5)+POWER(POWER(AL$66,2),-0.5))/(POWER(POWER(AL$66,2),0.5)*EXP(POWER(1+POWER(AL$66,2),-1)*($AM79-AL$57)/(AL$72/2.2))+POWER(POWER(AL$66,2),-0.5)*EXP(-POWER(AL$66,2)*POWER(1+POWER(AL$66,2),-1)*($AM79-AL$57)/(AL$72/2.2))))))","v":0},0,{"$f":"IF(AN$56=\"NOT ELUTED\",\"\",IF(AN$51=\"\",\"\",IF(ABS(($AM79-AN$57)/(AN$72/2.2))>20,0,AN$62*(POWER(POWER(AN$66,2),0.5)+POWER(POWER(AN$66,2),-0.5))/(POWER(POWER(AN$66,2),0.5)*EXP(POWER(1+POWER(AN$66,2),-1)*($AM79-AN$57)/(AN$72/2.2))+POWER(POWER(AN$66,2),-0.5)*EXP(-POWER(AN$66,2)*POWER(1+POWER(AN$66,2),-1)*($AM79-AN$57)/(AN$72/2.2))))))","v":0},0,"","","",{"$f":"SUM(AN79:AU79)+RAND()*$C$69+K79*$C$70+$C$67","v":2.0044224616363047},null,{"$f":"IF(AN79=\"\",\"\",($AM80-$AM79)*AN79)","v":0},{"$f":"IF(AO79=\"\",\"\",($AM80-$AM79)*AO79)","v":0},{"$f":"IF(AP79=\"\",\"\",($AM80-$AM79)*AP79)","v":0},{"$f":"IF(AQ79=\"\",\"\",($AM80-$AM79)*AQ79)","v":0},{"$f":"IF(AR79=\"\",\"\",($AM80-$AM79)*AR79)","v":0},{"$f":"IF(AS79=\"\",\"\",($AM80-$AM79)*AS79)","v":""},{"$f":"IF(AT79=\"\",\"\",($AM80-$AM79)*AT79)","v":""},{"$f":"IF(AU79=\"\",\"\",($AM80-$AM79)*AU79)","v":""},null,4.6412538056859317E-3,2.1176955823238046]
[null,null,0.6,0.2366526895614802,7.6966666666666672,38.483333333333334,3.5909424752266959E-2,3897.7912516240795,null,null,1.3923761417057794E-2,2.6559529116058943E-4,2.023292444644408E-4,1.6079938668111781E-4,1.3271537538378191E-4,1.2091002884351432E-4,"","","",0,0,0,0,0,"","","",2.1428379039091294,null,0,{"$f":"IF(R$56=\"\",\"\",($K80-$K79)*U80)","v":0},0,0,0,"","","",null,2.3739348493535383E-2,{"$f":"IF(AK$56=\"NOT ELUTED\",\"\",IF(AK$51=\"\",\"\",IF(ABS(($AM80-AK$57)/(AK$72/2.2))>20,0,AK$62*(POWER(POWER(AK$66,2),0.5)+POWER(POWER(AK$66,2),-0.5))/(POWER(POWER(AK$66,2),0.5)*EXP(POWER(1+POWER(AK$66,2),-1)*($AM80-AK$57)/(AK$72/2.2))+POWER(POWER(AK$66,2),-0.5)*EXP(-POWER(AK$66,2)*POWER(1+POWER(AK$66,2),-1)*($AM80-AK$57)/(AK$72/2.2))))))","v":0},{"$f":"IF(AL$56=\"NOT ELUTED\",\"\",IF(AL$51=\"\",\"\",IF(ABS(($AM80-AL$57)/(AL$72/2.2))>20,0,AL$62*(POWER(POWER(AL$66,2),0.5)+POWER(POWER(AL$66,2),-0.5))/(POWER(POWER(AL$66,2),0.5)*EXP(POWER(1+POWER(AL$66,2),-1)*($AM80-AL$57)/(AL$72/2.2))+POWER(POWER(AL$66,2),-0.5)*EXP(-POWER(AL$66,2)*POWER(1+POWER(AL$66,2),-1)*($AM80-AL$57)/(AL$72/2.2))))))","v":0},{"$f":"IF(AM$56=\"NOT ELUTED\",\"\",IF(AM$51=\"\",\"\",IF(ABS(($AM80-AM$57)/(AM$72/2.2))>20,0,AM$62*(POWER(POWER(AM$66,2),0.5)+POWER(POWER(AM$66,2),-0.5))/(POWER(POWER(AM$66,2),0.5)*EXP(POWER(1+POWER(AM$66,2),-1)*($AM80-AM$57)/(AM$72/2.2))+POWER(POWER(AM$66,2),-0.5)*EXP(-POWER(AM$66,2)*POWER(1+POWER(AM$66,2),-1)*($AM80-AM$57)/(AM$72/2.2))))))","v":0},{"$f":"IF(AN$56=\"NOT ELUTED\",\"\",IF(AN$51=\"\",\"\",IF(ABS(($AM80-AN$57)/(AN$72/2.2))>20,0,AN$62*(POWER(POWER(AN$66,2),0.5)+POWER(POWER(AN$66,2),-0.5))/(POWER(POWER(AN$66,2),0.5)*EXP(POWER(1+POWER(AN$66,2),-1)*($AM80-AN$57)/(AN$72/2.2))+POWER(POWER(AN$66,2),-0.5)*EXP(-POWER(AN$66,2)*POWER(1+POWER(AN$66,2),-1)*($AM80-AN$57)/(AN$72/2.2))))))","v":0},{"$f":"IF(AO$56=\"NOT ELUTED\",\"\",IF(AO$51=\"\",\"\",IF(ABS(($AM80-AO$57)/(AO$72/2.2))>20,0,AO$62*(POWER(POWER(AO$66,2),0.5)+POWER(POWER(AO$66,2),-0.5))/(POWER(POWER(AO$66,2),0.5)*EXP(POWER(1+POWER(AO$66,2),-1)*($AM80-AO$57)/(AO$72/2.2))+POWER(POWER(AO$66,2),-0.5)*EXP(-POWER(AO$66,2)*POWER(1+POWER(AO$66,2),-1)*($AM80-AO$57)/(AO$72/2.2))))))","v":0},{"$f":"IF(AP$56=\"NOT ELUTED\",\"\",IF(AP$51=\"\",\"\",IF(ABS(($AM80-AP$57)/(AP$72/2.2))>20,0,AP$62*(POWER(POWER(AP$66,2),0.5)+POWER(POWER(AP$66,2),-0.5))/(POWER(POWER(AP$66,2),0.5)*EXP(POWER(1+POWER(AP$66,2),-1)*($AM80-AP$57)/(AP$72/2.2))+POWER(POWER(AP$66,2),-0.5)*EXP(-POWER(AP$66,2)*POWER(1+POWER(AP$66,2),-1)*($AM80-AP$57)/(AP$72/2.2))))))","v":""},{"$f":"IF(AQ$56=\"NOT ELUTED\",\"\",IF(AQ$51=\"\",\"\",IF(ABS(($AM80-AQ$57)/(AQ$72/2.2))>20,0,AQ$62*(POWER(POWER(AQ$66,2),0.5)+POWER(POWER(AQ$66,2),-0.5))/(POWER(POWER(AQ$66,2),0.5)*EXP(POWER(1+POWER(AQ$66,2),-1)*($AM80-AQ$57)/(AQ$72/2.2))+POWER(POWER(AQ$66,2),-0.5)*EXP(-POWER(AQ$66,2)*POWER(1+POWER(AQ$66,2),-1)*($AM80-AQ$57)/(AQ$72/2.2))))))","v":""},{"$f":"IF(AR$56=\"NOT ELUTED\",\"\",IF(AR$51=\"\",\"\",IF(ABS(($AM80-AR$57)/(AR$72/2.2))>20,0,AR$62*(POWER(POWER(AR$66,2),0.5)+POWER(POWER(AR$66,2),-0.5))/(POWER(POWER(AR$66,2),0.5)*EXP(POWER(1+POWER(AR$66,2),-1)*($AM80-AR$57)/(AR$72/2.2))+POWER(POWER(AR$66,2),-0.5)*EXP(-POWER(AR$66,2)*POWER(1+POWER(AR$66,2),-1)*($AM80-AR$57)/(AR$72/2.2))))))","v":""},2.1359200901417754,null,{"$f":"IF(AN80=\"\",\"\",($AM81-$AM80)*AN80)","v":0},{"$f":"IF(AO80=\"\",\"\",($AM81-$AM80)*AO80)","v":0},0,{"$f":"IF(AQ80=\"\",\"\",($AM81-$AM80)*AQ80)","v":0},0,"","","",null,9.2825076113718635E-3,2.0606511411952697]
[null,null,0.7,0.27609480448839352,6.7492857142857146,33.746428571428574,4.1894328877644785E-2,4444.9148057995553,null,null,1.8565015222743727E-2,3.5412705488078593E-4,2.6977232595258777E-4,2.1439918224149042E-4,1.7695383384504253E-4,1.6121337179135243E-4,"","","",0,{"$f":"IF(R$56=\"\",\"\",IF(ABS(($K81-R$60) / ( M81 / 2.2))>20,0,IF(R$60<>\"\",R$64 * ( POWER(POWER(R$67, 2),0.5) + POWER(POWER(R$67, 2),-0.5)  ) / ( POWER(POWER(R$67, 2),0.5) * EXP( POWER(1 + POWER(R$67, 2),-1) * ($K81-R$60)/ ( M81 / 2.2) ) + POWER(POWER(R$67, 2),-0.5) * EXP(- POWER(R$67, 2) * POWER(1 + POWER(R$67, 2),-1) * ($K81-R$60) / ( M81 / 2.2) ) ),\"\")))","v":0},0,{"$f":"IF(T$56=\"\",\"\",IF(ABS(($K81-T$60) / ( O81 / 2.2))>20,0,IF(T$60<>\"\",T$64 * ( POWER(POWER(T$67, 2),0.5) + POWER(POWER(T$67, 2),-0.5)  ) / ( POWER(POWER(T$67, 2),0.5) * EXP( POWER(1 + POWER(T$67, 2),-1) * ($K81-T$60)/ ( O81 / 2.2) ) + POWER(POWER(T$67, 2),-0.5) * EXP(- POWER(T$67, 2) * POWER(1 + POWER(T$67, 2),-1) * ($K81-T$60) / ( O81 / 2.2) ) ),\"\")))","v":0},0,"","","",2.13025238754377,null,0,0,0,0,0,"","","",null,3.5609022740303073E-2,0,0,0,0,0,"","","",2.0042796178757385,null,0,0,{"$f":"IF(AP81=\"\",\"\",($AM82-$AM81)*AP81)","v":0},0,0,"","","",null,1.3923761417057794E-2,2.1428379039091294]
[null,null,0.8,0.31553691941530693,6.04,30.2,4.7879233003022617E-2,4966.8874172185433,null,null,2.320626902842966E-2,4.4265881860098243E-4,3.3721540744073472E-4,2.67998977801863E-4,2.2119229230630318E-4,2.0151671473919055E-4,"","","",0,0,0,0,0,"","","",2.0430637385554911,null,0,0,0,0,0,"","","",null,4.7478696987070766E-2,0,0,{"$f":"IF(AM$56=\"NOT ELUTED\",\"\",IF(AM$51=\"\",\"\",IF(ABS(($AM82-AM$57)/(AM$72/2.2))>20,0,AM$62*(POWER(POWER(AM$66,2),0.5)+POWER(POWER(AM$66,2),-0.5))/(POWER(POWER(AM$66,2),0.5)*EXP(POWER(1+POWER(AM$66,2),-1)*($AM82-AM$57)/(AM$72/2.2))+POWER(POWER(AM$66,2),-0.5)*EXP(-POWER(AM$66,2)*POWER(1+POWER(AM$66,2),-1)*($AM82-AM$57)/(AM$72/2.2))))))","v":0},0,0,"","","",2.0971846052673873,null,0,0,0,0,0,"","","",null,1.8565015222743727E-2,2.13025238754377]
[null,null,0.9,0.35497903434222028,5.4894444444444446,27.447222222222223,5.3864137128400436E-2,5465.033903451068,null,null,2.7847522834115592E-2,5.3119058232117898E-4,4.0465848892888166E-4,3.2159877336223567E-4,2.6543075076756382E-4,2.4182005768702867E-4,"","","",0,0,0,0,0,"","","",2.1011067809657882,null,0,0,0,0,0,"","","",null,5.9348371233838459E-2,0,0,0,0,0,"","","",2.0375225524578684,null,0,0,0,0,0,"","","",null,2.320626902842966E-2,2.0430637385554911]
[null,null,1,0.39442114926913363,5.05,25.25,5.9849041253778254E-2,5940.5940594059402,null,null,3.2488776639801521E-2,6.1972234604137542E-4,4.7210157041702861E-4,3.7519856892260822E-4,3.0966920922882447E-4,2.8212340063486676E-4,"","","",0,0,0,0,0,"","","",2.0055748791150307,null,0,0,0,0,0,"","","",null,7.1218045480606146E-2,0,0,0,0,0,"","","",2.1354004387432997,null,{"$f":"IF(AN84=\"\",\"\",($AM85-$AM84)*AN84)","v":0},{"$f":"IF(AO84=\"\",\"\",($AM85-$AM84)*AO84)","v":0},{"$f":"IF(AP84=\"\",\"\",($AM85-$AM84)*AP84)","v":0},{"$f":"IF(AQ84=\"\",\"\",($AM85-$AM84)*AQ84)","v":0},{"$f":"IF(AR84=\"\",\"\",($AM85-$AM84)*AR84)","v":0},{"$f":"IF(AS84=\"\",\"\",($AM85-$AM84)*AS84)","v":""},{"$f":"IF(AT84=\"\",\"\",($AM85-$AM84)*AT84)","v":""},{"$f":"IF(AU84=\"\",\"\",($AM85-$AM84)*AU84)","v":""},null,2.7847522834115592E-2,2.1011067809657882]
[null,null,1.1000000000000001,0.43386326419604704,4.6913636363636364,23.456818181818182,6.5833945379156086E-2,6394.7291929076637,null,null,3.7130030445487454E-2,7.0825410976157186E-4,5.3954465190517555E-4,4.2879836448298084E-4,3.5390766769008506E-4,3.2242674358270486E-4,"","","",0,0,0,0,0,"","","",2.0623053836430847,null,0,0,0,0,0,"","","",null,8.3087719727373832E-2,0,0,0,0,0,"","","",2.1570767780721485,null,0,0,0,0,0,"","","",null,3.2488776639801521E-2,2.0055748791150307]
[null,null,1.2,0.47330537912296039,4.3933333333333335,21.966666666666669,7.1818849504533919E-2,6828.528072837632,null,null,4.1771284251173386E-2,7.9678587348176841E-4,6.0698773339332244E-4,4.8239816004335345E-4,3.9814612615134571E-4,3.62730086530543E-4,"","","",0,0,0,0,0,"","","",2.0805368523327448,null,0,0,0,0,0,"","","",null,9.4957393974141519E-2,0,0,0,0,0,"","","",2.1531913860412644,null,0,0,0,0,0,"","","",null,3.7130030445487454E-2,2.0623053836430847]
[null,null,1.3,0.51274749404987374,4.141923076923077,20.709615384615386,7.7803753629911751E-2,7243.0123502646484,null,null,4.6412538056859319E-2,8.8531763720196485E-4,6.7443081488146944E-4,5.35997955603726E-4,4.4238458461260636E-4,4.030334294783811E-4,"","","",0,0,0,0,0,"","","",2.0566383820629048,null,0,0,0,0,0,"","","",null,0.1068270682209092,0,0,0,0,0,"","","",2.0962262901110029,null,0,0,0,0,0,"","","",null,4.1771284251173386E-2,2.0805368523327448]
[null,null,1.4,0.55218960897678704,3.927142857142857,19.635714285714286,8.3788657755289569E-2,7639.1415060021827,null,null,5.1053791862545252E-2,9.7384940092216129E-4,7.4187389636961643E-4,5.8959775116409867E-4,4.8662304307386706E-4,4.4333677242621919E-4,"","","",0,0,0,0,0,"","","",2.1113006604032876,null,0,0,0,0,0,"","","",null,0.11869674246767689,0,0,0,0,0,"","","",2.0255879919580058,null,0,0,0,0,0,"","","",null,4.6412538056859319E-2,2.0566383820629048]
[null,null,1.5,0.59163172390370045,3.7416666666666667,18.708333333333332,8.9773561880667402E-2,8017.81737193764,null,null,5.5695045668231184E-2,1.062381164642358E-3,8.0931697785776332E-4,6.4319754672447133E-4,5.3086150153512765E-4,4.8364011537405734E-4,"","","",0,0,0,0,0,"","","",2.1654272628465776,null,0,0,0,0,0,"","","",null,0.13056641671444458,0,0,0,0,0,"","","",2.1144683818933308,null,0,0,0,0,0,"","","",null,5.1053791862545252E-2,2.1113006604032876]
[null,null,1.6,0.63107383883061385,3.58,17.899999999999999,9.5758466006045234E-2,8379.8882681564246,null,null,6.0336299473917117E-2,1.1509129283625544E-3,8.7676005934591032E-4,6.9679734228484389E-4,5.750999599963883E-4,5.2394345832189543E-4,"","","",0,0,0,0,0,"","","",2.0032664266257023,null,0,0,0,0,0,"","","",null,0.14243609096121226,0,0,0,0,0,"","","",2.1275880404957799,null,0,0,0,0,0,"","","",null,5.5695045668231184E-2,2.1654272628465776]
[null,null,1.7,0.67051595375752715,3.4379411764705883,17.189705882352943,0.10174337013142304,8726.1527932243989,null,null,6.4977553279603043E-2,1.2394446920827508E-3,9.4420314083405721E-4,7.5039713784521645E-4,6.1933841845764894E-4,5.6424680126973352E-4,"","","",0,0,0,0,0,"","","",2.1181145290257679,null,0,0,0,0,0,"","","",null,0.15430576520797995,0,0,0,0,0,"","","",2.0332207953452226,null,0,0,0,0,0,"","","",null,6.0336299473917117E-2,2.0032664266257023]
[null,null,1.8,0.70995806868444056,3.3122222222222222,16.56111111111111,0.10772827425680087,9057.3633009057376,null,null,6.9618807085288975E-2,1.3279764558029473E-3,1.0116462223222042E-3,8.0399693340558911E-4,6.6357687691890948E-4,6.0455014421757162E-4,"","","",0,0,0,0,0,"","","",2.0115801540565239,null,0,0,0,0,0,"","","",null,0.16617543945474764,0,0,0,0,0,"","","",2.1406026615921951,null,0,0,0,0,0,"","","",null,6.4977553279603043E-2,2.1181145290257679]
[null,null,1.9,0.74940018361135385,3.2002631578947369,16.001315789473686,0.11371317838217868,9374.2290930022191,null,null,7.4260060890974908E-2,1.4165082195231437E-3,1.0790893038103511E-3,8.5759672896596167E-4,7.0781533538017013E-4,6.4485348716540971E-4,"","","",0,0,0,0,0,"","","",2.1205468731310093,null,0,0,0,0,0,"","","",null,0.17804511370151532,0,0,0,0,0,"","","",2.0616165066651333,null,0,0,0,0,0,"","","",null,6.9618807085288975E-2,2.0115801540565239]
[null,null,2,0.78884229853826726,3.1,15.5,0.11969808250755651,9677.4193548387102,null,null,7.890131469666084E-2,1.5050399832433404E-3,1.146532385298498E-3,9.1119652452633434E-4,7.5205379384143088E-4,6.8515683011324791E-4,"","","",0,0,0,0,0,"","","",2.1470668537903519,null,0,0,0,0,0,"","","",null,0.18991478794828301,0,0,0,0,0,"","","",2.1172004763858627,null,0,0,0,0,0,"","","",null,7.4260060890974908E-2,2.1205468731310093]
[null,null,2.1,0.82828441346518067,3.0097619047619046,15.048809523809524,0.12568298663293437,9967.5658571315562,null,null,8.3542568502346773E-2,1.5935717469635368E-3,1.2139754667866449E-3,9.6479632008670689E-4,7.9629225230269142E-4,7.2546017306108601E-4,"","","",0,0,0,0,0,"","","",2.1256200146692819,null,0,0,0,0,0,"","","",null,0.2017844621950507,0,0,0,0,0,"","","",2.1452593263724182,null,0,0,0,0,0,"","","",null,7.890131469666084E-2,2.1470668537903519]
[null,null,2.2000000000000002,0.86772652839209408,2.9281818181818182,14.640909090909091,0.13166789075831217,10245.265445513816,null,null,8.8183822308032705E-2,1.6821035106837333E-3,1.281418548274792E-3,1.0183961156470796E-3,8.4053071076395217E-4,7.6576351600892399E-4,"","","",0,0,0,0,0,"","","",2.1182696147591398,null,0,0,0,0,0,"","","",null,0.21365413644181838,0,0,0,0,0,"","","",2.1308648016786313,null,0,0,0,0,0,"","","",null,8.3542568502346773E-2,2.1256200146692819]
[null,null,2.2999999999999998,0.90716864331900726,2.8541304347826086,14.270652173913042,0.13765279488368998,10511.08233681164,null,null,9.2825076113718638E-2,1.7706352744039297E-3,1.3488616297629389E-3,1.071995911207452E-3,8.8476916922521271E-4,8.0606685895676219E-4,"","","",0,0,0,0,0,"","","",2.1639634185810923,null,0,0,0,0,0,"","","",null,0.22552381068858607,0,0,0,0,0,"","","",2.1136863322557056,null,0,0,0,0,0,"","","",null,8.8183822308032705E-2,2.1182696147591398]
[null,null,2.4,0.94661075824592078,2.7866666666666671,13.933333333333335,0.14363769900906784,10765.550239234448,null,null,9.7466329919404571E-2,1.8591670381241261E-3,1.4163047112510858E-3,1.1255957067678247E-3,9.2900762768647336E-4,8.4637020190460029E-4,"","","",0,0,0,0,0,"","","",2.0426363397106493,null,0,0,0,0,0,"","","",null,0.23739348493535375,0,0,0,0,0,"","","",2.1607710979675994,null,0,0,0,0,0,"","","",null,9.2825076113718638E-2,2.1639634185810923]
[null,null,2.5,0.98605287317283397,2.7250000000000001,13.625,0.14962260313444561,11009.174311926605,null,null,0.1021075837250905,1.9476988018443226E-3,1.4837477927392329E-3,1.1791955023281973E-3,9.7324608614773411E-4,8.8667354485243838E-4,"","","",0,0,0,0,0,"","","",2.0598554626976444,null,0,0,0,0,0,"","","",null,0.24926315918212144,0,0,0,0,0,"","","",2.0903793354320821,null,0,0,0,0,0,"","","",null,9.7466329919404571E-2,2.0426363397106493]
[null,null,2.6,1.0254949880997475,2.6684615384615382,13.342307692307692,0.1556075072598235,11242.432977803403,null,null,0.10674883753077644,2.0362305655645192E-3,1.5511908742273798E-3,1.23279529788857E-3,1.0174845446089948E-3,9.2697688780027658E-4,"","","",0,0,0,0,0,"","","",2.1566657104275988,null,0,0,0,0,0,"","","",null,0.26113283342888916,0,0,0,0,0,"","","",2.1656133342470931,null,0,0,0,0,0,"","","",null,0.1021075837250905,2.0598554626976444]
[null,null,2.7,1.0649371030266608,2.6164814814814816,13.082407407407409,0.16159241138520131,11465.779602236533,null,null,0.11139009133646237,2.1247623292847159E-3,1.6186339557155266E-3,1.2863950934489427E-3,1.0617230030702553E-3,9.6728023074811468E-4,"","","",0,0,0,0,0,"","","",2.1016050102941639,null,0,0,0,0,0,"","","",null,0.27300250767565687,0,0,0,0,0,"","","",2.0283782410623905,null,0,0,0,0,0,"","","",null,0.10674883753077644,2.1566657104275988]
[null,null,2.8,1.1043792179535741,2.5685714285714289,12.842857142857145,0.16757731551057914,11679.644048943268,null,null,0.1160313451421483,2.2132940930049121E-3,1.6860770372036735E-3,1.3399948890093151E-3,1.1059614615315158E-3,1.0075835736959528E-3,"","","",0,0,0,0,0,"","","",2.1608832896166357,null,0,0,0,0,0,"","","",null,0.28487218192242458,0,0,0,0,0,"","","",2.0176257281892709,null,0,0,0,0,0,"","","",null,0.11139009133646237,2.1016050102941639]
[null,null,2.9,1.1438213328804874,2.5243103448275863,12.621551724137932,0.17356221963595694,11884.434123352228,null,null,0.12067259894783423,2.3018258567251088E-3,1.7535201186918206E-3,1.3935946845696878E-3,1.1501999199927766E-3,1.0478869166437909E-3,"","","",0,0,0,0,0,"","","",2.0759232405944008,null,0,0,0,0,0,"","","",null,0.2967418561691923,0,0,0,0,0,"","","",2.1432146235706333,null,0,0,0,0,0,"","","",null,0.1160313451421483,2.1608832896166357]
[null,null,3,1.1832634478074009,2.4833333333333329,12.416666666666664,0.1795471237613348,12080.536912751681,null,null,0.12531385275352017,2.390357620445305E-3,1.8209632001799677E-3,1.4471944801300604E-3,1.1944383784540373E-3,1.088190259591629E-3,"","","",0,0,0,0,0,"","","",2.1136922358092378,null,0,0,0,0,0,"","","",null,0.30861153041596001,0,0,0,0,0,"","","",2.1322271795351857,null,0,0,0,0,0,"","","",null,0.12067259894783423,2.0759232405944008]
[null,null,3.1,1.2227055627343144,2.4453225806451613,12.226612903225806,0.18553202788671264,12268.320031660181,null,null,0.12995510655920609,2.4788893841655017E-3,1.8884062816681144E-3,1.5007942756904329E-3,1.2386768369152979E-3,1.128493602539467E-3,"","","",0,0,0,0,0,"","","",2.0139650650544567,null,0,0,0,0,0,"","","",null,0.32048120466272773,0,0,0,0,0,"","","",2.1200328788470313,null,0,0,0,0,0,"","","",null,0.12531385275352017,2.1136922358092378]
[null,null,3.2,1.2621476776612277,2.41,12.05,0.19151693201209047,12448.132780082988,null,null,0.134596360364892,2.5674211478856979E-3,1.9558493631562611E-3,1.5543940712508053E-3,1.2829152953765584E-3,1.1687969454873051E-3,"","","",0,0,0,0,0,"","","",2.0012282029018804,null,0,0,0,0,0,"","","",null,0.33235087890949544,0,0,0,0,0,"","","",2.1404579133471744,null,0,0,0,0,0,"","","",null,0.12995510655920609,2.0139650650544567]
[null,null,3.3,1.3015897925881408,2.377121212121212,11.88560606060606,0.19750183613746819,12620.307221620244,null,null,0.13923761417057792,2.6559529116058937E-3,2.023292444644408E-3,1.6079938668111778E-3,1.3271537538378187E-3,1.209100288435143E-3,"","","",0,0,0,0,0,"","","",2.0975434765183603,null,0,0,0,0,0,"","","",null,0.34422055315626315,0,0,0,0,0,"","","",2.0549369481331219,null,0,0,0,0,0,"","","",null,0.134596360364892,2.0012282029018804]
[null,null,3.4,1.3410319075150543,2.3464705882352943,11.732352941176472,0.20348674026284608,12785.159187766356,null,null,0.14387886797626384,2.7444846753260899E-3,2.0907355261325544E-3,1.6615936623715502E-3,1.3713922122990793E-3,1.2494036313829811E-3,"","","",0,0,0,0,0,"","","",2.1262197356777297,null,0,0,0,0,0,"","","",null,0.35609022740303087,0,0,0,0,0,"","","",2.0978686201802477,null,0,0,0,0,0,"","","",null,0.13923761417057792,2.0975434765183603]
[null,null,3.5,1.3804740224419678,2.3178571428571426,11.589285714285714,0.20947164438822391,12942.989214175655,null,null,0.14852012178194976,2.8330164390462866E-3,2.1581786076207013E-3,1.7151934579319227E-3,1.4156306707603398E-3,1.289706974330819E-3,"","","",0,0,0,0,0,"","","",2.1412344546617943,null,0,0,0,0,0,"","","",null,0.36795990164979858,0,0,0,0,0,"","","",2.1399481880626019,null,0,0,0,0,0,"","","",null,0.14387886797626384,2.1262197356777297]
[null,null,3.6,1.4199161373688811,2.2911111111111113,11.455555555555556,0.21545654851360174,13094.083414161008,null,null,0.15316137558763568,2.9215482027664828E-3,2.2256216891088482E-3,1.7687932534922951E-3,1.4598691292216004E-3,1.3300103172786571E-3,"","","",0,0,0,0,0,"","","",2.014163959082365,null,0,0,0,0,0,"","","",null,0.3798295758965663,0,0,0,0,0,"","","",2.1056303392762006,null,0,0,0,0,0,"","","",null,0.14852012178194976,2.1412344546617943]
[null,null,3.7,1.4593582522957944,2.2660810810810808,11.330405405405404,0.22144145263897957,13238.714294233409,null,null,0.1578026293933216,3.010079966486679E-3,2.2930647705969947E-3,1.8223930490526676E-3,1.5041075876828609E-3,1.370313660226495E-3,"","","",0,0,0,0,0,"","","",2.0111358945817459,null,0,0,0,0,0,"","","",null,0.39169925014333401,0,0,0,0,0,"","","",2.0633130496262733,null,0,0,0,0,0,"","","",null,0.15316137558763568,2.014163959082365]
[null,null,3.8,1.4988003672227077,2.2426315789473681,11.21315789473684,0.22742635676435735,13377.141516076041,null,null,0.16244388319900752,3.0986117302068752E-3,2.3605078520851416E-3,1.87599284461304E-3,1.5483460461441214E-3,1.4106170031743331E-3,"","","",0,0,0,0,0,"","","",2.1632081414075923,null,0,0,0,0,0,"","","",null,0.40356892439010172,0,0,0,0,0,"","","",2.1494783477054074,null,0,0,0,0,0,"","","",null,0.1578026293933216,2.0111358945817459]
[null,null,3.9,1.538242482149621,2.2206410256410254,11.103205128205127,0.23341126088973516,13509.612608971769,null,null,0.16708513700469343,3.1871434939270715E-3,2.4279509335732885E-3,1.9295926401734125E-3,1.592584504605382E-3,1.4509203461221709E-3,"","","",0,0,0,0,0,"","","",2.1022991039464891,null,0,0,0,0,0,"","","",null,0.41543859863686944,0,0,0,0,0,"","","",2.0196785395978831,null,0,0,0,0,0,"","","",null,0.16244388319900752,2.1632081414075923]
[null,null,4,1.5776845970765345,2.2000000000000002,11,0.23939616501511302,13636.363636363636,null,null,0.17172639081037935,3.2756752576472677E-3,2.4953940150614349E-3,1.9831924357337849E-3,1.6368229630666425E-3,1.4912236890700088E-3,"","","",0,0,0,0,0,"","","",2.0208282892439602,null,0,0,0,0,0,"","","",null,0.42730827288363715,0,0,0,0,0,"","","",2.0119012672835459,null,0,0,0,0,0,"","","",null,0.16708513700469343,2.1022991039464891]
[null,null,4.0999999999999996,1.6171267120034476,2.180609756097561,10.903048780487804,0.24538106914049085,13757.619819920586,null,null,0.17636764461606527,3.3642070213674639E-3,2.5628370965495818E-3,2.0367922312941574E-3,1.6810614215279028E-3,1.5315270320178469E-3,"","","",0,0,0,0,0,"","","",2.1251198132907936,null,0,0,0,0,0,"","","",null,0.43917794713040487,0,0,0,0,0,"","","",2.1095678301984044,null,0,0,0,0,0,"","","",null,0.17172639081037935,2.0208282892439602]
[null,null,4.2,1.6565688269303613,2.1623809523809525,10.811904761904763,0.25136597326586874,13873.596124201717,null,null,0.18100889842175119,3.4527387850876601E-3,2.6302801780377287E-3,2.0903920268545298E-3,1.7252998799891634E-3,1.571830374965685E-3,"","","",0,0,0,0,0,"","","",2.009758872665758,null,0,0,0,0,0,"","","",null,0.45104762137717258,0,0,0,0,0,"","","",2.0975498169408957,null,0,0,0,0,0,"","","",null,0.17636764461606527,2.1251198132907936]
[null,null,4.3,1.6960109418572744,2.1452325581395346,10.726162790697673,0.25735087739124646,13984.497804759067,null,null,0.18565015222743711,3.5412705488078564E-3,2.6977232595258756E-3,2.1439918224149027E-3,1.7695383384504241E-3,1.6121337179135231E-3,"","","",0,0,0,0,0,"","","",2.132981201929486,null,0,0,0,0,0,"","","",null,0.46291729562394029,0,0,0,0,0,"","","",2.0434868185563531,null,0,0,0,0,0,"","","",null,0.18100889842175119,2.009758872665758]
[null,null,4.4000000000000004,1.7354530567841882,2.1290909090909094,10.645454545454546,0.26333578151662435,14090.520922288641,null,null,0.19029140603312303,3.6298023125280526E-3,2.765166341014022E-3,2.1975916179752747E-3,1.8137767969116844E-3,1.652437060861361E-3,"","","",0,0,0,0,0,"","","",2.1656149630374673,null,0,0,0,0,0,"","","",null,0.47478696987070801,0,0,0,0,0,"","","",2.1628048344701631,null,0,0,0,0,0,"","","",null,0.18565015222743711,2.132981201929486]
[null,null,4.5,1.7748951717111012,2.1138888888888889,10.569444444444445,0.26932068564200212,14191.85282522996,null,null,0.19493265983880895,3.7183340762482488E-3,2.8326094225021685E-3,2.2511914135356472E-3,1.858015255372945E-3,1.6927404038091988E-3,"","","",0,0,0,0,0,"","","",2.0053946134361476,null,0,0,0,0,0,"","","",null,0.48665664411747572,0,0,0,0,0,"","","",2.1352889543323119,null,0,0,0,0,0,"","","",null,0.19029140603312303,2.1656149630374673]
[null,null,4.5999999999999996,1.8143372866380145,2.0995652173913042,10.497826086956522,0.27530558976737995,14288.6726030234,null,null,0.19957391364449487,3.806865839968445E-3,2.9000525039903158E-3,2.3047912090960196E-3,1.9022537138342055E-3,1.7330437467570371E-3,"","","",0,0,0,0,0,"","","",2.119686407773703,null,0,0,0,0,0,"","","",null,0.49852631836424344,0,0,0,0,0,"","","",2.0084524699380912,null,0,0,0,0,0,"","","",null,0.19493265983880895,2.0053946134361476]
[null,null,4.7,1.853779401564928,2.0860638297872338,10.430319148936169,0.28129049389275779,14381.151512060789,null,null,0.20421516745018078,3.8953976036886413E-3,2.9674955854784623E-3,2.3583910046563921E-3,1.9464921722954661E-3,1.7733470897048748E-3,"","","",0,0,0,0,0,"","","",2.1522650791858267,null,0,0,0,0,0,"","","",null,0.5103959926110111,0,0,0,0,0,"","","",2.0652599268707212,null,0,0,0,0,0,"","","",null,0.19957391364449487,2.119686407773703]
[null,null,4.8,1.8932215164918416,2.0733333333333333,10.366666666666667,0.28727539801813567,14469.453376205787,null,null,0.2088564212558667,3.9839293674088375E-3,3.0349386669666092E-3,2.4119908002167645E-3,1.9907306307567264E-3,1.8136504326527129E-3,"","","",0,0,0,0,0,"","","",2.1323918315761197,null,0,0,0,0,0,"","","",null,0.52226566685777875,0,0,0,0,0,"","","",2.0955355951698613,null,0,0,0,0,0,"","","",null,0.20421516745018078,2.1522650791858267]
[null,null,4.9000000000000004,1.9326636314187549,2.061326530612245,10.306632653061225,0.29326030214351351,14553.734963615661,null,null,0.21349767506155262,4.0724611311290342E-3,3.102381748454756E-3,2.465590595777137E-3,2.0349690892179874E-3,1.853953775600551E-3,"","","",0,0,0,0,0,"","","",2.1102927687934474,null,0,0,0,0,0,"","","",null,0.53413534110454641,0,0,0,0,0,"","","",2.1481644213659083,null,0,0,0,0,0,"","","",null,0.2088564212558667,2.1323918315761197]
[null,null,5,1.9721057463456679,2.0499999999999998,10.25,0.29924520626889123,14634.146341463415,null,null,0.21813892886723854,4.1609928948492299E-3,3.1698248299429025E-3,2.5191903913375094E-3,2.0792075476792475E-3,1.8942571185483889E-3,"","","",0,0,0,0,0,"","","",2.0846017838204505,null,0,0,0,0,0,"","","",null,0.54600501535131407,0,0,0,0,0,"","","",2.0668186054153086,null,0,0,0,0,0,"","","",null,0.21349767506155262,2.1102927687934474]
[null,null,5.0999999999999996,2.0115478612725815,2.0393137254901963,10.196568627450981,0.30523011039426917,14710.831210037977,null,null,0.22278018267292446,4.2495246585694266E-3,3.2372679114310494E-3,2.5727901868978819E-3,2.123446006140508E-3,1.934560461496227E-3,"","","",0,0,0,0,0,"","","",2.1518452796600611,null,0,0,0,0,0,"","","",null,0.55787468959808173,0,0,0,0,0,"","","",2.1442742421694274,null,0,0,0,0,0,"","","",null,0.21813892886723854,2.0846017838204505]
[null,null,5.2,2.050989976199495,2.0292307692307689,10.146153846153844,0.311215014519647,14783.927217589086,null,null,0.22742143647861038,4.3380564222896224E-3,3.3047109929191963E-3,2.6263899824582543E-3,2.1676844646017685E-3,1.9748638044440646E-3,"","","",0,0,0,0,0,"","","",2.0375868437092137,null,0,0,0,0,0,"","","",null,0.56974436384484939,0,0,0,0,0,"","","",2.0617253349340952,null,0,0,0,0,0,"","","",null,0.22278018267292446,2.1518452796600611]
[null,null,5.3,2.090432091126408,2.0197169811320754,10.098584905660378,0.31719991864502484,14853.566257181559,null,null,0.2320626902842963,4.4265881860098191E-3,3.3721540744073432E-3,2.6799897780186268E-3,2.2119229230630291E-3,2.0151671473919029E-3,"","","",0,0,0,0,0,"","","",2.0335414157249518,null,0,0,0,0,0,"","","",null,0.58161403809161705,0,0,0,0,0,"","","",2.1311978916562149,null,0,0,0,0,0,"","","",null,0.22742143647861038,2.0375868437092137]
[null,null,5.4,2.1298742060533216,2.0107407407407409,10.053703703703704,0.32318482277040261,14919.874746730522,null,null,0.23670394408998222,4.5151199497300148E-3,3.4395971558954896E-3,2.7335895735789992E-3,2.2561613815242896E-3,2.0554704903397408E-3,"","","",0,0,0,0,0,"","","",2.093171877351887,null,0,0,0,0,0,"","","",null,0.59348371233838471,0,0,0,0,0,"","","",2.079638364539167,null,0,0,0,0,0,"","","",null,0.2320626902842963,2.0335414157249518]
[null,null,5.5,2.1693163209802351,2.0022727272727274,10.011363636363637,0.32916972689578045,14982.973893303064,null,null,0.24134519789566813,4.6036517134502115E-3,3.5070402373836365E-3,2.7871893691393717E-3,2.3003998399855501E-3,2.0957738332875787E-3,"","","",0,0,0,0,0,"","","",2.0810064046592034,null,0,0,0,0,0,"","","",null,0.60535338658515236,0,0,0,0,0,"","","",2.0725889845111278,null,0,0,0,0,0,"","","",null,0.23670394408998222,2.093171877351887]
[null,null,5.6,2.2087584359071482,1.9942857142857144,9.9714285714285715,0.33515463102115828,15042.97994269341,null,null,0.24598645170135405,4.6921834771704073E-3,3.5744833188717834E-3,2.8407891646997441E-3,2.3446382984468107E-3,2.136077176235417E-3,"","","",0,0,0,0,0,"","","",2.0308194266224535,null,0,0,0,0,0,"","","",null,0.61722306083192002,0,0,0,0,0,"","","",2.1305063402178788,null,0,0,0,0,0,"","","",null,0.24134519789566813,2.0810064046592034]
[null,null,5.7,2.2482005508340617,1.9867543859649124,9.9337719298245624,0.34113953514653605,15100.004415205967,null,null,0.25062770550704,4.780715240890604E-3,3.6419264003599303E-3,2.894388960260117E-3,2.3888767569080717E-3,2.1763805191832553E-3,"","","",0,0,0,0,0,"","","",2.0303888778715589,null,0,0,0,0,0,"","","",null,0.62909273507868768,0,0,0,0,0,"","","",2.1021428620364846,null,0,0,0,0,0,"","","",null,0.24598645170135405,2.0308194266224535]
[null,null,5.8,2.2876426657609747,1.9796551724137932,9.8982758620689655,0.34712443927191389,15154.154328514196,null,null,0.25526895931272592,4.8692470046108006E-3,3.7093694818480772E-3,2.9479887558204894E-3,2.4331152153693322E-3,2.2166838621310932E-3,"","","",0,0,0,0,0,"","","",2.0615663321844506,null,0,0,0,0,0,"","","",null,0.64096240932545534,0,0,0,0,0,"","","",2.0368247242070341,null,0,0,0,0,0,"","","",null,0.25062770550704,2.0303888778715589]
[null,null,5.9,2.3270847806878887,1.9729661016949152,9.8648305084745758,0.35310934339729183,15205.532408401701,null,null,0.25991021311841184,4.9577787683309964E-3,3.7768125633362241E-3,3.0015885513808619E-3,2.4773536738305923E-3,2.2569872050789311E-3,"","","",0,0,0,0,0,"","","",2.0512006766129902,null,0,0,0,0,0,"","","",null,0.652832083572223,0,0,0,0,0,"","","",2.1430338772996009,null,0,0,0,0,0,"","","",null,0.25526895931272592,2.0615663321844506]
[null,null,6,2.3665268956148018,1.9666666666666666,9.8333333333333321,0.35909424752266961,15254.237288135595,null,null,0.26455146692409776,5.0463105320511922E-3,3.8442556448243705E-3,3.0551883469412343E-3,2.5215921322918528E-3,2.2972905480267689E-3,"","","",0,0,0,0,0,"","","",2.0258098192262395,null,0,0,0,0,0,"","","",null,0.66470175781899066,0,0,0,0,0,"","","",2.0969384170422489,null,0,0,0,0,0,"","","",null,0.25991021311841184,2.0512006766129902]
[null,null,6.1,2.4059690105417144,1.9607377049180328,9.8036885245901644,0.36507915164804727,15300.363697169851,null,null,0.26919272072978367,5.1348422957713889E-3,3.9116987263125179E-3,3.1087881425016072E-3,2.5658305907531138E-3,2.3375938909746072E-3,"","","",0,0,0,0,0,"","","",2.0816494590698533,null,0,0,0,0,0,"","","",null,0.67657143206575832,0,0,0,0,0,"","","",2.1345130823410905,null,0,0,0,0,0,"","","",null,0.26455146692409776,2.0258098192262395]
[null,null,6.2,2.4454111254686288,1.9551612903225806,9.7758064516129028,0.37106405577342527,15344.002639828412,null,null,0.27383397453546959,5.2233740594915855E-3,3.9791418078006643E-3,3.1623879380619792E-3,2.6100690492143739E-3,2.3778972339224451E-3,"","","",0,0,0,0,0,"","","",2.1231020969725889,null,0,0,0,0,0,"","","",null,0.68844110631252597,0,0,0,0,0,"","","",2.0712174416521512,null,0,0,0,0,0,"","","",null,0.26919272072978367,2.0816494590698533]
[null,null,6.3,2.4848532403955415,1.9499206349206348,9.7496031746031733,0.37704895989880294,15385.241564573245,null,null,0.27847522834115551,5.3119058232117822E-3,4.0465848892888108E-3,3.2159877336223517E-3,2.6543075076756345E-3,2.418200576870283E-3,"","","",0,0,0,0,0,"","","",2.0798558643606286,null,0,0,0,0,0,"","","",null,0.70031078055929363,0,0,0,0,0,"","","",2.0038926115428497,null,0,0,0,0,0,"","","",null,0.27383397453546959,2.1231020969725889]
[null,null,6.4,2.5242953553224554,1.9450000000000001,9.7249999999999996,0.38303386402418094,15424.164524421594,null,null,0.28311648214684143,5.400437586931978E-3,4.1140279707769581E-3,3.2695875291827246E-3,2.698545966136895E-3,2.4585039198181213E-3,"","","",0,0,0,0,0,"","","",2.0862102037111638,null,0,0,0,0,0,"","","",null,0.71218045480606129,0,0,0,0,0,"","","",2.0864101653881364,null,0,0,0,0,0,"","","",null,0.27847522834115551,2.0798558643606286]
[null,null,6.5,2.5637374702493685,1.9403846153846154,9.7019230769230766,0.38901876814955871,15460.852329038653,null,null,0.28775773595252735,5.4889693506521738E-3,4.1814710522651045E-3,3.3231873247430966E-3,2.7427844245981555E-3,2.4988072627659588E-3,"","","",0,0,0,0,0,"","","",2.1331716203502076,null,0,0,0,0,0,"","","",null,0.72405012905282895,0,0,0,0,0,"","","",2.1503479443173279,null,0,0,0,0,0,"","","",null,0.28311648214684143,2.0862102037111638]
[null,null,6.6,2.6031795851762816,1.936060606060606,9.6803030303030297,0.39500367227493638,15495.382688996713,null,null,0.29239898975821327,5.5775011143723704E-3,4.248914133753251E-3,3.376787120303469E-3,2.7870228830594161E-3,2.5391106057137971E-3,"","","",0,0,0,0,0,"","","",2.1562362405469826,null,0,0,0,0,0,"","","",null,0.73591980329959661,0,0,0,0,0,"","","",2.1204313144758236,null,0,0,0,0,0,"","","",null,0.28775773595252735,2.1331716203502076]
[null,null,6.7,{"$f":"(2*$C$43*$C141)/($C$15/1000000)*1000","v":2.6426217001031955},{"$f":"$C$46+$C$47/C141+$C$48*C141","v":1.9320149253731342},{"$f":"E141*$C$15","v":9.6600746268656721},{"$f":"D141*PI()*$C$14*$C$37/4*60/1000","v":0.40098857640031438},{"$f":"($C$13*1000)/F141","v":15527.83035265943},null,null,0.29704024356389919,5.6660328780925662E-3,4.3163572152413975E-3,3.4303869158638415E-3,2.8312613415206766E-3,2.5794139486616349E-3,"","","",0,0,0,0,0,"","","",2.165816610422417,null,0,0,0,0,0,"","","",null,0.74778947754636427,0,0,0,0,0,"","","",2.0194723854077457,null,0,0,0,0,0,"","","",null,0.29239898975821327,2.1562362405469826]
[null,null,6.8,2.6820638150301086,1.9282352941176473,9.6411764705882366,0.40697348052569216,15558.267236119584,null,null,{"$f":"K141+1/($C$74*60)","v":0.30168149736958511},{"$f":"IF(Q$56=\"\",\"\",SQRT(($K142*$K142)/$Q$72))","v":5.7545646418127629E-3},{"$f":"IF(R$56=\"\",\"\",SQRT(($K142*$K142)/$R$72))","v":4.3838002967295448E-3},{"$f":"IF(S$56=\"\",\"\",SQRT(($K142*$K142)/$S$72))","v":3.4839867114242144E-3},{"$f":"IF(T$56=\"\",\"\",SQRT(($K142*$K142)/$T$72))","v":2.8754997999819371E-3},{"$f":"IF(U$56=\"\",\"\",SQRT(($K142*$K142)/$U$72))","v":2.6197172916094733E-3},{"$f":"IF(V$56=\"\",\"\",SQRT(($K142*$K142)/$V$72))","v":""},{"$f":"IF(W$56=\"\",\"\",SQRT(($K142*$K142)/$W$72))","v":""},{"$f":"IF(X$56=\"\",\"\",SQRT(($K142*$K142)/$X$72))","v":""},{"$f":"IF(Q$56=\"\",\"\",IF(ABS(($K142-Q$60) / ( L142 / 2.2))>20,0,IF(Q$60<>\"\",Q$64 * ( POWER(POWER(Q$67, 2),0.5) + POWER(POWER(Q$67, 2),-0.5)  ) / ( POWER(POWER(Q$67, 2),0.5) * EXP( POWER(1 + POWER(Q$67, 2),-1) * ($K142-Q$60)/ ( L142 / 2.2) ) + POWER(POWER(Q$67, 2),-0.5) * EXP(- POWER(Q$67, 2) * POWER(1 + POWER(Q$67, 2),-1) * ($K142-Q$60) / ( L142 / 2.2) ) ),\"\")))","v":0},{"$f":"IF(R$56=\"\",\"\",IF(ABS(($K142-R$60) / ( M142 / 2.2))>20,0,IF(R$60<>\"\",R$64 * ( POWER(POWER(R$67, 2),0.5) + POWER(POWER(R$67, 2),-0.5)  ) / ( POWER(POWER(R$67, 2),0.5) * EXP( POWER(1 + POWER(R$67, 2),-1) * ($K142-R$60)/ ( M142 / 2.2) ) + POWER(POWER(R$67, 2),-0.5) * EXP(- POWER(R$67, 2) * POWER(1 + POWER(R$67, 2),-1) * ($K142-R$60) / ( M142 / 2.2) ) ),\"\")))","v":0},{"$f":"IF(S$56=\"\",\"\",IF(ABS(($K142-S$60) / ( N142 / 2.2))>20,0,IF(S$60<>\"\",S$64 * ( POWER(POWER(S$67, 2),0.5) + POWER(POWER(S$67, 2),-0.5)  ) / ( POWER(POWER(S$67, 2),0.5) * EXP( POWER(1 + POWER(S$67, 2),-1) * ($K142-S$60)/ ( N142 / 2.2) ) + POWER(POWER(S$67, 2),-0.5) * EXP(- POWER(S$67, 2) * POWER(1 + POWER(S$67, 2),-1) * ($K142-S$60) / ( N142 / 2.2) ) ),\"\")))","v":0},{"$f":"IF(T$56=\"\",\"\",IF(ABS(($K142-T$60) / ( O142 / 2.2))>20,0,IF(T$60<>\"\",T$64 * ( POWER(POWER(T$67, 2),0.5) + POWER(POWER(T$67, 2),-0.5)  ) / ( POWER(POWER(T$67, 2),0.5) * EXP( POWER(1 + POWER(T$67, 2),-1) * ($K142-T$60)/ ( O142 / 2.2) ) + POWER(POWER(T$67, 2),-0.5) * EXP(- POWER(T$67, 2) * POWER(1 + POWER(T$67, 2),-1) * ($K142-T$60) / ( O142 / 2.2) ) ),\"\")))","v":0},{"$f":"IF(U$56=\"\",\"\",IF(ABS(($K142-U$60) / ( P142 / 2.2))>20,0,IF(U$60<>\"\",U$64 * ( POWER(POWER(U$67, 2),0.5) + POWER(POWER(U$67, 2),-0.5)  ) / ( POWER(POWER(U$67, 2),0.5) * EXP( POWER(1 + POWER(U$67, 2),-1) * ($K142-U$60)/ ( P142 / 2.2) ) + POWER(POWER(U$67, 2),-0.5) * EXP(- POWER(U$67, 2) * POWER(1 + POWER(U$67, 2),-1) * ($K142-U$60) / ( P142 / 2.2) ) ),\"\")))","v":0},{"$f":"IF(V$56=\"\",\"\",IF(ABS(($K142-V$60) / ( Q142 / 2.2))>20,0,IF(V$60<>\"\",V$64 * ( POWER(POWER(V$67, 2),0.5) + POWER(POWER(V$67, 2),-0.5)  ) / ( POWER(POWER(V$67, 2),0.5) * EXP( POWER(1 + POWER(V$67, 2),-1) * ($K142-V$60)/ ( Q142 / 2.2) ) + POWER(POWER(V$67, 2),-0.5) * EXP(- POWER(V$67, 2) * POWER(1 + POWER(V$67, 2),-1) * ($K142-V$60) / ( Q142 / 2.2) ) ),\"\")))","v":""},{"$f":"IF(W$56=\"\",\"\",IF(ABS(($K142-W$60) / ( R142 / 2.2))>20,0,IF(W$60<>\"\",W$64 * ( POWER(POWER(W$67, 2),0.5) + POWER(POWER(W$67, 2),-0.5)  ) / ( POWER(POWER(W$67, 2),0.5) * EXP( POWER(1 + POWER(W$67, 2),-1) * ($K142-W$60)/ ( R142 / 2.2) ) + POWER(POWER(W$67, 2),-0.5) * EXP(- POWER(W$67, 2) * POWER(1 + POWER(W$67, 2),-1) * ($K142-W$60) / ( R142 / 2.2) ) ),\"\")))","v":""},{"$f":"IF(X$56=\"\",\"\",IF(ABS(($K142-X$60) / ( S142 / 2.2))>20,0,IF(X$60<>\"\",X$64 * ( POWER(POWER(X$67, 2),0.5) + POWER(POWER(X$67, 2),-0.5)  ) / ( POWER(POWER(X$67, 2),0.5) * EXP( POWER(1 + POWER(X$67, 2),-1) * ($K142-X$60)/ ( S142 / 2.2) ) + POWER(POWER(X$67, 2),-0.5) * EXP(- POWER(X$67, 2) * POWER(1 + POWER(X$67, 2),-1) * ($K142-X$60) / ( S142 / 2.2) ) ),\"\")))","v":""},{"$f":"SUM(T142:AA142)+RAND()*$C$69+$C$67","v":2.109596613384177},null,{"$f":"IF(Q$56=\"\",\"\",($K142-$K141)*T142)","v":0},{"$f":"IF(R$56=\"\",\"\",($K142-$K141)*U142)","v":0},{"$f":"IF(S$56=\"\",\"\",($K142-$K141)*V142)","v":0},{"$f":"IF(T$56=\"\",\"\",($K142-$K141)*W142)","v":0},{"$f":"IF(U$56=\"\",\"\",($K142-$K141)*X142)","v":0},{"$f":"IF(V$56=\"\",\"\",($K142-$K141)*Y142)","v":""},{"$f":"IF(W$56=\"\",\"\",($K142-$K141)*Z142)","v":""},{"$f":"IF(X$56=\"\",\"\",($K142-$K141)*AA142)","v":""},null,0.75965915179313193,0,0,0,0,0,"","","",2.1270138124088742,null,0,0,0,0,0,"","","",null,{"$f":"IF($C$8=\"isocratic\",K141,AM142)","v":0.29704024356389919},{"$f":"IF($C$8=\"isocratic\",AB141,AV142)","v":2.165816610422417}]
[null,null,6.9,2.7215059299570221,1.9247101449275361,9.6235507246376812,0.41295838465106999,15586.762546590866,null,null,0.30632275117527102,5.8430964055329587E-3,4.4512433782176912E-3,3.5375865069845864E-3,2.9197382584431977E-3,2.6600206345573111E-3,"","","",0,0,0,0,0,"","","",2.006028337039087,null,0,0,0,0,0,"","","",null,{"$f":"AM142+MAX($AK$57:$AR$57)*1.2/3000","v":0.77152882603989958},0,0,0,0,0,"","","",{"$f":"SUM(AN143:AU143)+RAND()*$C$69+K143*$C$70+$C$67","v":2.0785104950744175},null,0,0,0,0,0,"","","",null,0.30168149736958511,2.109596613384177]
[null,null,7,2.7609480448839356,1.9214285714285715,9.6071428571428577,0.41894328877644782,15613.382899628252,null,null,0.31096400498095694,5.9316281692531553E-3,4.5186864597058377E-3,3.5911863025449588E-3,2.9639767169044582E-3,2.700323977505149E-3,"","","",0,0,0,0,0,"","","",2.1463855422926099,null,0,0,0,0,0,"","","",null,0.78339850028666724,{"$f":"IF(AK$56=\"NOT ELUTED\",\"\",IF(AK$51=\"\",\"\",IF(ABS(($AM144-AK$57)/(AK$72/2.2))>20,0,AK$62*(POWER(POWER(AK$66,2),0.5)+POWER(POWER(AK$66,2),-0.5))/(POWER(POWER(AK$66,2),0.5)*EXP(POWER(1+POWER(AK$66,2),-1)*($AM144-AK$57)/(AK$72/2.2))+POWER(POWER(AK$66,2),-0.5)*EXP(-POWER(AK$66,2)*POWER(1+POWER(AK$66,2),-1)*($AM144-AK$57)/(AK$72/2.2))))))","v":0},{"$f":"IF(AL$56=\"NOT ELUTED\",\"\",IF(AL$51=\"\",\"\",IF(ABS(($AM144-AL$57)/(AL$72/2.2))>20,0,AL$62*(POWER(POWER(AL$66,2),0.5)+POWER(POWER(AL$66,2),-0.5))/(POWER(POWER(AL$66,2),0.5)*EXP(POWER(1+POWER(AL$66,2),-1)*($AM144-AL$57)/(AL$72/2.2))+POWER(POWER(AL$66,2),-0.5)*EXP(-POWER(AL$66,2)*POWER(1+POWER(AL$66,2),-1)*($AM144-AL$57)/(AL$72/2.2))))))","v":0},{"$f":"IF(AM$56=\"NOT ELUTED\",\"\",IF(AM$51=\"\",\"\",IF(ABS(($AM144-AM$57)/(AM$72/2.2))>20,0,AM$62*(POWER(POWER(AM$66,2),0.5)+POWER(POWER(AM$66,2),-0.5))/(POWER(POWER(AM$66,2),0.5)*EXP(POWER(1+POWER(AM$66,2),-1)*($AM144-AM$57)/(AM$72/2.2))+POWER(POWER(AM$66,2),-0.5)*EXP(-POWER(AM$66,2)*POWER(1+POWER(AM$66,2),-1)*($AM144-AM$57)/(AM$72/2.2))))))","v":0},{"$f":"IF(AN$56=\"NOT ELUTED\",\"\",IF(AN$51=\"\",\"\",IF(ABS(($AM144-AN$57)/(AN$72/2.2))>20,0,AN$62*(POWER(POWER(AN$66,2),0.5)+POWER(POWER(AN$66,2),-0.5))/(POWER(POWER(AN$66,2),0.5)*EXP(POWER(1+POWER(AN$66,2),-1)*($AM144-AN$57)/(AN$72/2.2))+POWER(POWER(AN$66,2),-0.5)*EXP(-POWER(AN$66,2)*POWER(1+POWER(AN$66,2),-1)*($AM144-AN$57)/(AN$72/2.2))))))","v":0},{"$f":"IF(AO$56=\"NOT ELUTED\",\"\",IF(AO$51=\"\",\"\",IF(ABS(($AM144-AO$57)/(AO$72/2.2))>20,0,AO$62*(POWER(POWER(AO$66,2),0.5)+POWER(POWER(AO$66,2),-0.5))/(POWER(POWER(AO$66,2),0.5)*EXP(POWER(1+POWER(AO$66,2),-1)*($AM144-AO$57)/(AO$72/2.2))+POWER(POWER(AO$66,2),-0.5)*EXP(-POWER(AO$66,2)*POWER(1+POWER(AO$66,2),-1)*($AM144-AO$57)/(AO$72/2.2))))))","v":0},{"$f":"IF(AP$56=\"NOT ELUTED\",\"\",IF(AP$51=\"\",\"\",IF(ABS(($AM144-AP$57)/(AP$72/2.2))>20,0,AP$62*(POWER(POWER(AP$66,2),0.5)+POWER(POWER(AP$66,2),-0.5))/(POWER(POWER(AP$66,2),0.5)*EXP(POWER(1+POWER(AP$66,2),-1)*($AM144-AP$57)/(AP$72/2.2))+POWER(POWER(AP$66,2),-0.5)*EXP(-POWER(AP$66,2)*POWER(1+POWER(AP$66,2),-1)*($AM144-AP$57)/(AP$72/2.2))))))","v":""},{"$f":"IF(AQ$56=\"NOT ELUTED\",\"\",IF(AQ$51=\"\",\"\",IF(ABS(($AM144-AQ$57)/(AQ$72/2.2))>20,0,AQ$62*(POWER(POWER(AQ$66,2),0.5)+POWER(POWER(AQ$66,2),-0.5))/(POWER(POWER(AQ$66,2),0.5)*EXP(POWER(1+POWER(AQ$66,2),-1)*($AM144-AQ$57)/(AQ$72/2.2))+POWER(POWER(AQ$66,2),-0.5)*EXP(-POWER(AQ$66,2)*POWER(1+POWER(AQ$66,2),-1)*($AM144-AQ$57)/(AQ$72/2.2))))))","v":""},{"$f":"IF(AR$56=\"NOT ELUTED\",\"\",IF(AR$51=\"\",\"\",IF(ABS(($AM144-AR$57)/(AR$72/2.2))>20,0,AR$62*(POWER(POWER(AR$66,2),0.5)+POWER(POWER(AR$66,2),-0.5))/(POWER(POWER(AR$66,2),0.5)*EXP(POWER(1+POWER(AR$66,2),-1)*($AM144-AR$57)/(AR$72/2.2))+POWER(POWER(AR$66,2),-0.5)*EXP(-POWER(AR$66,2)*POWER(1+POWER(AR$66,2),-1)*($AM144-AR$57)/(AR$72/2.2))))))","v":""},2.1371627460590177,null,0,0,0,0,0,"","","",null,0.30632275117527102,2.006028337039087]
[null,null,7.1,2.8003901598108483,1.918380281690141,9.5919014084507044,0.4249281929018256,15638.192430527513,null,null,0.31560525878664286,6.020159932973352E-3,4.586129541193985E-3,3.6447860981053317E-3,3.0082151753657188E-3,2.7406273204529873E-3,"","","",0,0,0,0,0,"","","",2.1630741048481474,null,0,0,0,0,0,"","","",null,0.7952681745334349,0,0,0,0,0,"","","",2.117375059200433,null,0,0,0,0,0,"","","",null,0.31096400498095694,2.1463855422926099]
[null,null,7.2,2.8398322747377622,1.9155555555555557,9.5777777777777793,0.43091309702720348,15661.252900232015,null,null,0.32024651259232878,6.1086916966935478E-3,4.6535726226821323E-3,3.6983858936657042E-3,3.0524536338269793E-3,2.7809306634008252E-3,"","","",0,0,0,0,0,"","","",2.0917382371958504,null,0,0,0,0,0,"","","",null,0.80713784878020256,0,0,0,0,0,"","","",2.1160564994327644,null,0,0,0,0,0,"","","",null,0.31560525878664286,2.1630741048481474]
[null,null,7.3,2.8792743896646753,1.912945205479452,9.5647260273972599,0.43689800115258126,15682.62379605428,null,null,0.3248877663980147,6.1972234604137436E-3,4.7210157041702779E-3,3.7519856892260762E-3,3.0966920922882394E-3,2.8212340063486631E-3,"","","",0,0,0,0,0,"","","",2.054461310510777,null,0,0,0,0,0,"","","",null,0.81900752302697022,0,0,0,0,0,"","","",2.0924533475255553,null,0,0,0,0,0,"","","",null,0.32024651259232878,2.0917382371958504]
[null,null,7.4,2.9187165045915888,1.9105405405405405,9.5527027027027032,0.44288290527795915,15702.362427500353,null,null,0.32952902020370062,6.2857552241339402E-3,4.7884587856584252E-3,3.8055854847864486E-3,3.1409305507494999E-3,2.8615373492965009E-3,"","","",0,0,0,0,0,"","","",2.0496645456881271,null,0,0,0,0,0,"","","",null,0.83087719727373788,0,0,0,0,0,"","","",2.0305702198542432,null,{"$f":"IF(AN148=\"\",\"\",($AM149-$AM148)*AN148)","v":0},{"$f":"IF(AO148=\"\",\"\",($AM149-$AM148)*AO148)","v":0},{"$f":"IF(AP148=\"\",\"\",($AM149-$AM148)*AP148)","v":0},{"$f":"IF(AQ148=\"\",\"\",($AM149-$AM148)*AQ148)","v":0},{"$f":"IF(AR148=\"\",\"\",($AM149-$AM148)*AR148)","v":0},{"$f":"IF(AS148=\"\",\"\",($AM149-$AM148)*AS148)","v":""},{"$f":"IF(AT148=\"\",\"\",($AM149-$AM148)*AT148)","v":""},{"$f":"IF(AU148=\"\",\"\",($AM149-$AM148)*AU148)","v":""},null,0.3248877663980147,2.054461310510777]
[null,null,7.5,2.9581586195185023,1.9083333333333332,9.5416666666666661,0.44886780940333693,15720.524017467249,null,null,0.33417027400938654,6.374286987854136E-3,4.8559018671465717E-3,3.8591852803468211E-3,3.1851690092107605E-3,2.9018406922443388E-3,"","","",0,0,0,0,0,"","","",2.0766376246625762,null,0,0,0,0,0,"","","",null,0.84274687152050554,0,0,0,0,0,"","","",2.1327042321705791,null,0,0,0,0,0,"","","",null,0.32952902020370062,2.0496645456881271]
[null,null,7.6,2.9976007344454154,1.906315789473684,9.5315789473684198,0.4548527135287147,15737.161789066817,null,null,0.33881152781507246,6.4628187515743327E-3,4.9233449486347182E-3,3.9127850759071939E-3,3.229407467672021E-3,2.9421440351921771E-3,"","","",0,0,0,0,0,"","","",2.1413795362883898,null,0,0,0,0,0,"","","",null,0.85461654576727319,0,0,0,0,0,"","","",2.0322701665001182,null,0,0,0,0,0,"","","",null,0.33417027400938654,2.0766376246625762]
[null,null,7.7,3.0370428493723294,1.9044805194805194,9.5224025974025963,0.46083761765409265,15752.327048313957,null,null,0.34345278162075837,6.5513505152945285E-3,4.9907880301228655E-3,3.9663848714675664E-3,3.2736459261332816E-3,2.982447378140015E-3,"","","",0,0,0,0,0,"","","",2.0239156973533805,null,0,0,0,0,0,"","","",null,0.86648622001404085,0,0,0,0,0,"","","",2.163152129719824,null,0,0,0,0,0,"","","",null,0.33881152781507246,2.1413795362883898]
[null,null,7.8,3.076484964299242,1.9028205128205129,9.5141025641025649,0.46682252177947031,15766.069262902573,null,null,0.34809403542644429,6.6398822790147251E-3,5.0582311116110119E-3,4.0199846670279388E-3,3.3178843845945421E-3,3.0227507210878529E-3,"","","",0,0,0,0,0,"","","",2.0466483431736542,null,0,0,0,0,0,"","","",null,0.87835589426080851,0,0,0,0,0,"","","",2.1509854436084059,null,0,0,0,0,0,"","","",null,0.34345278162075837,2.0239156973533805]
[null,null,7.9,3.1159270792261555,1.9013291139240507,9.5066455696202539,0.4728074259048482,15778.43613727905,null,null,0.35273528923213021,6.7284140427349218E-3,5.1256741930991593E-3,4.0735844625883113E-3,3.3621228430558026E-3,3.0630540640356908E-3,"","","",0,0,0,0,0,"","","",2.0021116316440337,null,0,0,0,0,0,"","","",null,0.89022556850757617,0,0,0,0,0,"","","",2.0700748550072006,null,0,0,0,0,0,"","","",null,0.34809403542644429,2.0466483431736542]
[null,null,8,3.155369194153069,1.9,9.5,0.47879233003022603,15789.473684210527,null,null,0.35737654303781613,6.8169458064551176E-3,5.1931172745873057E-3,4.1271842581486837E-3,3.4063613015170632E-3,3.1033574069835291E-3,"","","",0,0,0,0,0,"","","",2.1381294349393363,null,0,0,0,0,0,"","","",null,0.90209524275434383,0,0,0,0,0,"","","",2.0850999124162271,null,0,0,0,0,0,"","","",null,0.35273528923213021,2.0021116316440337]
[null,null,8.1,3.1948113090799821,1.8988271604938272,9.4941358024691365,0.48477723415560386,15799.226293033385,null,null,0.36201779684350205,6.9054775701753134E-3,5.2605603560754522E-3,4.1807840537090562E-3,3.4505997599783237E-3,3.1436607499313669E-3,"","","",0,0,0,0,0,"","","",2.1363232450450607,null,0,0,0,0,0,"","","",null,0.91396491700111149,0,0,0,0,0,"","","",2.0313005353400597,null,0,0,0,0,0,"","","",null,0.35737654303781613,2.1381294349393363]
[null,null,8.1999999999999993,3.2342534240068952,1.8978048780487804,9.4890243902439018,0.4907621382809817,15807.73679475646,null,null,0.36665905064918797,6.99400933389551E-3,5.3280034375635995E-3,4.2343838492694286E-3,3.4948382184395842E-3,3.1839640928792053E-3,"","","",0,0,0,0,0,"","","",2.0914117965392736,null,0,0,0,0,0,"","","",null,0.92583459124787915,0,0,0,0,0,"","","",2.1219497936110656,null,0,0,0,0,0,"","","",null,0.36201779684350205,2.1363232450450607]
[null,null,8.3000000000000007,3.2736955389338096,1.8969277108433735,9.4846385542168683,0.49674704240635958,15815.046524183046,null,null,0.37130030445487389,7.0825410976157067E-3,5.395446519051746E-3,4.2879836448298011E-3,3.5390766769008448E-3,3.2242674358270431E-3,"","","",0,0,0,0,0,"","","",2.0529929280030386,null,0,0,0,0,0,"","","",null,0.9377042654946468,0,0,0,0,0,"","","",2.1617999536153927,null,0,0,0,0,0,"","","",null,0.36665905064918797,2.0914117965392736]
[null,null,8.4,3.3131376538607227,1.8961904761904762,9.480952380952381,0.50273194653173747,15821.195379206429,null,null,0.3759415582605598,7.1710728613359025E-3,5.4628896005398924E-3,4.3415834403901735E-3,3.5833151353621053E-3,3.264570778774881E-3,"","","",0,0,0,0,0,"","","",2.0314286494130043,null,0,0,0,0,0,"","","",null,0.94957393974141446,0,0,0,0,0,"","","",2.0123146357956139,null,0,0,0,0,0,"","","",null,0.37130030445487389,2.0529929280030386]
[null,null,8.5,3.3525797687876358,1.8955882352941178,9.4779411764705888,0.50871685065711525,15826.221877424359,null,null,0.38058281206624572,7.2596046250560983E-3,5.5303326820280389E-3,4.395183235950546E-3,3.6275535938233659E-3,3.3048741217227189E-3,"","","",0,0,0,0,0,"","","",2.0617226807612155,null,0,0,0,0,0,"","","",null,0.96144361398818212,0,0,0,0,0,"","","",2.0607545909540543,null,0,0,0,0,0,"","","",null,0.3759415582605598,2.0314286494130043]
[null,null,8.6,3.3920218837145488,1.8951162790697673,9.4755813953488364,0.51470175478249292,15830.163210209843,null,null,0.38522406587193164,7.3481363887762949E-3,5.5977757635161862E-3,4.4487830315109184E-3,3.6717920522846264E-3,3.3451774646705572E-3,"","","",0,0,0,0,0,"","","",2.0015888282197349,null,0,0,0,0,0,"","","",null,0.97331328823494978,0,0,0,0,0,"","","",2.0458964128091681,null,0,0,0,0,0,"","","",null,0.38058281206624572,2.0617226807612155]
[null,null,8.6999999999999993,3.4314639986414623,1.8947701149425289,9.4738505747126442,0.5206866589078708,15833.055294367436,null,null,0.38986531967761756,7.4366681524964916E-3,5.6652188450043335E-3,4.5023828270712909E-3,3.7160305107458869E-3,3.3854808076183951E-3,"","","",0,0,0,0,0,"","","",2.1068439637438647,null,0,0,0,0,0,"","","",null,0.98518296248171744,0,0,0,0,0,"","","",2.1530996035614813,null,0,0,0,0,0,"","","",null,0.38522406587193164,2.0015888282197349]
[null,null,8.8000000000000007,3.4709061135683763,1.8945454545454545,9.4727272727272727,0.52667156303324869,15834.932821497121,null,null,0.39450657348330348,7.5251999162166874E-3,5.73266192649248E-3,4.5559826226316633E-3,3.7602689692071475E-3,3.425784150566233E-3,"","","",0,0,0,0,0,"","","",2.0040016642352141,null,0,0,0,0,0,"","","",null,0.9970526367284851,0,0,0,0,0,"","","",2.1130240050432616,null,0,0,0,0,0,"","","",null,0.38986531967761756,2.1068439637438647]
[null,null,8.9,3.5103482284952894,1.8944382022471911,9.4721910112359549,0.53265646715862647,15835.829305180749,null,null,0.3991478272889894,7.613731679936884E-3,5.8001050079806264E-3,4.6095824181920358E-3,3.804507427668408E-3,3.4660874935140708E-3,"","","",0,0,0,0,0,"","","",2.0157881234216259,null,0,0,0,0,0,"","","",null,1.0089223109752528,0,0,0,0,0,"","","",2.1224962509101184,null,0,0,0,0,0,"","","",null,0.39450657348330348,2.0040016642352141]
[null,null,9,3.5497903434222025,1.8944444444444444,9.4722222222222214,0.53864137128400424,15835.777126099709,null,null,0.40378908109467532,7.7022634436570798E-3,5.8675480894687737E-3,4.6631822137524082E-3,3.8487458861296681E-3,3.5063908364619091E-3,"","","",0,0,0,0,0,"","","",2.0581096150102316,null,0,0,0,0,0,"","","",null,1.0207919852220204,0,0,0,0,0,"","","",2.1094641050768237,null,0,0,0,0,0,"","","",null,0.3991478272889894,2.0157881234216259]
[null,null,9.1,3.5892324583491155,1.8945604395604396,9.4728021978021975,0.54462627540938202,15834.807575186334,null,null,0.40843033490036124,7.7907952073772756E-3,5.9349911709569193E-3,4.7167820093127807E-3,3.8929843445909286E-3,3.546694179409747E-3,"","","",0,0,0,0,0,"","","",2.0784983393914582,null,0,0,0,0,0,"","","",null,1.0326616594687881,0,0,0,0,0,"","","",2.0074422158504164,null,0,0,0,0,0,"","","",null,0.40378908109467532,2.0581096150102316]
[null,null,9.1999999999999993,3.628674573276029,1.8947826086956523,9.4739130434782624,0.55061117953475991,15832.950894905918,null,null,0.41307158870604715,7.8793269710974723E-3,6.0024342524450667E-3,4.7703818048731531E-3,3.9372228030521896E-3,3.5869975223575849E-3,"","","",0,0,0,0,0,"","","",2.0183062473559672,null,0,0,0,0,0,"","","",null,1.0445313337155557,0,0,0,0,0,"","","",2.1406696041023419,null,0,0,0,0,0,"","","",null,0.40843033490036124,2.0784983393914582]
[null,null,9.3000000000000007,3.668116688202943,1.8951075268817206,9.4755376344086031,0.5565960836601378,15830.236318760813,null,null,0.41771284251173307,7.9678587348176698E-3,6.0698773339332131E-3,4.8239816004335256E-3,3.9814612615134502E-3,3.6273008653054232E-3,"","","",0,0,0,0,0,"","","",2.0906449493988193,null,0,0,0,0,0,"","","",null,1.0564010079623234,0,0,0,0,0,"","","",2.0960329174763679,null,0,0,0,0,0,"","","",null,0.41307158870604715,2.0183062473559672]
[null,null,9.4,3.7075588031298561,1.8955319148936169,9.4776595744680847,0.56258098778551557,15826.692109103155,null,null,0.42235409631741899,8.0563904985378656E-3,6.1373204154213604E-3,4.877581395993898E-3,4.0256997199747107E-3,3.6676042082532611E-3,"","","",0,0,0,0,0,"","","",2.1006015712102295,null,0,0,0,0,0,"","","",null,1.068270682209091,0,0,0,0,0,"","","",2.1259572807939082,null,0,0,0,0,0,"","","",null,0.41771284251173307,2.0906449493988193]
[null,null,9.5,3.7470009180567692,1.8960526315789474,9.4802631578947363,0.56856589191089346,15822.345593337961,null,null,0.42699535012310491,8.1449222622580614E-3,6.2047634969095069E-3,4.9311811915542705E-3,4.0699381784359712E-3,3.707907551201099E-3,"","","",0,0,0,0,0,"","","",2.0166439020111908,null,0,0,0,0,0,"","","",null,1.0801403564558587,0,0,0,0,0,"","","",2.0848086600747329,null,0,0,0,0,0,"","","",null,0.42235409631741899,2.1006015712102295]
[null,null,9.6,3.7864430329836831,1.8966666666666667,9.4833333333333343,0.57455079603627135,15817.223198594023,null,null,0.43163660392879083,8.2334540259782572E-3,6.2722065783976542E-3,4.9847809871146429E-3,4.1141766368972318E-3,3.7482108941489373E-3,"","","",0,0,0,0,0,"","","",2.0668664905957388,null,0,0,0,0,0,"","","",null,1.0920100307026264,0,0,0,0,0,"","","",2.0668582248624601,null,0,0,0,0,0,"","","",null,0.42699535012310491,2.0166439020111908]
[null,null,9.6999999999999993,3.8258851479105958,1.8973711340206187,9.4868556701030933,0.58053570016164902,15811.350484935749,null,null,0.43627785773447675,8.321985789698453E-3,6.3396496598858007E-3,5.0383807826750154E-3,4.1584150953584923E-3,3.7885142370967751E-3,"","","",0,0,0,0,0,"","","",2.1401321304088667,null,0,0,0,0,0,"","","",null,1.103879704949394,0,0,0,0,0,"","","",2.1509840744109878,null,0,0,0,0,0,"","","",null,0.43163660392879083,2.0668664905957388]
[null,null,9.8000000000000007,3.8653272628375097,1.8981632653061224,9.4908163265306129,0.58652060428702701,15804.752177185248,null,null,0.44091911154016267,8.4105175534186505E-3,6.4070927413739471E-3,5.0919805782353878E-3,4.2026535538197528E-3,3.828817580044613E-3,"","","",0,0,0,0,0,"","","",2.1025552443550359,null,0,0,0,0,0,"","","",null,1.1157493791961617,0,0,0,0,0,"","","",2.0622495957861751,null,0,0,0,0,0,"","","",null,0.43627785773447675,2.1401321304088667]
[null,null,9.9,3.9047693777644228,1.8990404040404041,9.4952020202020204,0.59250550841240479,15797.452195420334,null,null,0.44556036534584859,8.4990493171388463E-3,6.4745358228620936E-3,5.1455803737957603E-3,4.2468920122810125E-3,3.8691209229924509E-3,"","","",0,0,0,0,0,"","","",2.0442771200483163,null,0,0,0,0,0,"","","",null,1.1276190534429293,0,0,0,0,0,"","","",2.1046423855106546,null,0,0,0,0,0,"","","",null,0.44091911154016267,2.1025552443550359]
[null,null,10,3.9442114926913359,1.9,9.5,0.59849041253778246,15789.473684210527,null,null,0.4502016191515345,8.5875810808590421E-3,6.5419789043502409E-3,5.1991801693561327E-3,4.2911304707422739E-3,3.9094242659402888E-3,"","","",0,0,0,0,0,"","","",2.1441487280929565,null,0,0,0,0,0,"","","",null,1.139488727689697,0,0,0,0,0,"","","",2.1444463611573124,null,0,0,0,0,0,"","","",null,0.44556036534584859,2.0442771200483163]
[null,null,10.1,3.9836536076182494,1.9010396039603958,9.5051980198019788,0.60447531666316034,15780.839040649986,null,null,0.45484287295722042,8.6761128445792379E-3,6.6094219858383874E-3,5.2527799649165052E-3,4.3353689292035345E-3,3.9497276088881266E-3,"","","",0,0,0,0,0,"","","",2.0431785894540919,null,0,0,0,0,0,"","","",null,1.1513584019364647,0,0,0,0,0,"","","",2.138477832880104,null,0,0,0,0,0,"","","",null,0.4502016191515345,2.1441487280929565]
[null,null,10.199999999999999,4.0230957225451629,1.902156862745098,9.5107843137254893,0.61046022078853834,15771.569941243173,null,null,0.45948412676290634,8.7646446082994354E-3,6.6768650673265347E-3,5.3063797604768776E-3,4.379607387664795E-3,3.9900309518359654E-3,"","","",0,0,0,0,0,"","","",2.1511461342919072,null,0,0,0,0,0,"","","",null,1.1632280761832323,0,0,0,0,0,"","","",2.0774769262991231,null,0,0,0,0,0,"","","",null,0.45484287295722042,2.0431785894540919]
[null,null,10.3,4.0625378374720764,1.9033495145631067,9.5167475728155342,0.61644512491391612,15761.687367696191,null,null,0.46412538056859226,8.8531763720196312E-3,6.7443081488146811E-3,5.3599795560372501E-3,4.4238458461260547E-3,4.0303342947838033E-3,"","","",0,0,0,0,0,"","","",2.0328313748122127,null,0,0,0,0,0,"","","",null,1.17509775043,0,0,0,0,0,"","","",2.1406098936053182,null,0,0,0,0,0,"","","",null,0.45948412676290634,2.1511461342919072]
[null,null,10.4,4.1019799523989899,1.9046153846153846,9.523076923076923,0.62243002903929401,15751.211631663975,null,null,0.46876663437427818,8.941708135739827E-3,6.8117512303028276E-3,5.4135793515976225E-3,4.4680843045873161E-3,4.0706376377316411E-3,"","","",0,0,0,0,0,"","","",2.1654587164391068,null,0,0,0,0,0,"","","",null,1.1869674246767676,0,0,0,0,0,"","","",2.028792783619882,null,0,0,0,0,0,"","","",null,0.46412538056859226,2.0328313748122127]
[null,null,10.5,4.1414220673259035,1.9059523809523808,9.5297619047619051,0.62841493316467179,15740.162398500936,null,null,0.4734078881799641,9.0302398994600245E-3,6.8791943117909749E-3,5.467179147157995E-3,4.5123227630485757E-3,4.110940980679479E-3,"","","",0,0,0,0,0,"","","",2.1457062723782787,null,0,0,0,0,0,"","","",null,1.1988370989235353,0,0,0,0,0,"","","",2.1361521198862143,null,0,0,0,0,0,"","","",null,0.46876663437427818,2.1654587164391068]
[null,null,10.6,4.1808641822528161,1.9073584905660377,9.5367924528301877,0.63439983729004967,15728.558710060344,null,null,0.47804914198565002,9.1187716631802203E-3,6.9466373932791214E-3,5.5207789427183674E-3,4.5565612215098363E-3,4.1512443236273169E-3,"","","",0,0,0,0,0,"","","",2.0358314679162741,null,0,0,0,0,0,"","","",null,1.210706773170303,0,0,0,0,0,"","","",2.0977250405214187,null,0,0,0,0,0,"","","",null,0.4734078881799641,2.1457062723782787]
[null,null,10.7,4.2203062971797296,1.9088317757009348,9.5441588785046747,0.64038474141542745,15716.419006585225,null,null,0.48269039579133594,9.2073034269004161E-3,7.0140804747672687E-3,5.5743787382787399E-3,4.6007996799710968E-3,4.1915476665751548E-3,"","","",0,0,0,0,0,"","","",2.0518621070380001,null,0,0,0,0,0,"","","",null,1.2225764474170706,0,0,0,0,0,"","","",2.1653366283753335,null,0,0,0,0,0,"","","",null,0.47804914198565002,2.0358314679162741]
[null,null,10.8,4.2597484121066431,1.9103703703703703,9.5518518518518505,0.64636964554080523,15703.76114773168,null,null,0.48733164959702185,9.2958351906206119E-3,7.0815235562554143E-3,5.6279785338391123E-3,4.6450381384323574E-3,4.2318510095229935E-3,"","","",0,0,0,0,0,"","","",2.0721102332078916,null,0,0,0,0,0,"","","",null,1.2344461216638383,0,0,0,0,0,"","","",2.0453786292113469,null,0,0,0,0,0,"","","",null,0.48269039579133594,2.0518621070380001]
[null,null,10.9,4.2991905270335566,1.9119724770642201,9.5598623853211002,0.65235454966618311,15690.602432763131,null,null,0.49197290340270777,9.3843669543408077E-3,7.1489666377435616E-3,5.6815783293994847E-3,4.6892765968936179E-3,4.2721543524708305E-3,"","","",0,0,0,0,0,"","","",2.0178352614903008,null,0,0,0,0,0,"","","",null,1.2463157959106059,0,0,0,0,0,"","","",2.0894971827369146,null,0,0,0,0,0,"","","",null,0.48733164959702185,2.0721102332078916]
[null,null,11,4.3386326419604702,1.9136363636363638,9.5681818181818183,0.65833945379156089,15676.959619952493,null,null,0.49661415720839369,9.4728987180610052E-3,7.2164097192317081E-3,5.7351781249598572E-3,4.7335150553548784E-3,4.3124576954186684E-3,"","","",0,0,0,0,0,"","","",2.1326013975373259,null,0,0,0,0,0,"","","",null,1.2581854701573736,0,0,0,0,0,"","","",2.1348647194857038,null,0,0,0,0,0,"","","",null,0.49197290340270777,2.0178352614903008]
[null,null,11.1,4.3780747568873828,1.9153603603603604,9.5768018018018015,0.66432435791693867,15662.848945227064,null,null,0.50125541101407967,9.5614304817812027E-3,7.2838528007198554E-3,5.7887779205202305E-3,4.7777535138161398E-3,4.3527610383665072E-3,"","","",0,0,0,0,0,"","","",2.0354032315264439,null,0,0,0,0,0,"","","",null,1.2700551444041412,0,0,0,0,0,"","","",2.1323898481895083,null,0,0,0,0,0,"","","",null,0.49661415720839369,2.1326013975373259]
[null,null,11.2,4.4175168718142963,1.9171428571428573,9.5857142857142854,0.67030926204231656,15648.28614008942,null,null,0.50589666481976558,9.6499622455013985E-3,7.3512958822080027E-3,5.842377716080603E-3,4.8219919722774004E-3,4.393064381314345E-3,"","","",0,0,0,0,0,"","","",2.0537713567148792,null,0,0,0,0,0,"","","",null,1.2819248186509089,0,0,0,0,0,"","","",2.1276088187520994,null,0,0,0,0,0,"","","",null,0.50125541101407967,2.0354032315264439]
[null,null,11.3,4.4569589867412098,1.9189823008849558,9.594911504424779,0.67629416616769433,15633.286448845949,null,null,0.5105379186254515,9.7384940092215943E-3,7.4187389636961492E-3,5.8959775116409754E-3,4.8662304307386609E-3,4.4333677242621838E-3,"","","",0,0,0,0,0,"","","",2.1378992205970304,null,0,0,0,0,0,"","","",null,1.2937944928976766,0,0,0,0,0,"","","",2.0047702208788887,null,0,0,0,0,0,"","","",null,0.50589666481976558,2.0537713567148792]
[null,null,11.4,4.4964011016681233,1.9208771929824562,9.6043859649122805,0.68227907029307211,15617.864645173075,null,null,0.51517917243113742,9.8270257729417901E-3,7.4861820451842956E-3,5.949577307201347E-3,4.9104688891999215E-3,4.4736710672100208E-3,"","","",0,0,0,0,0,"","","",2.1419830316277029,null,0,0,0,0,0,"","","",null,1.3056641671444442,0,0,0,0,0,"","","",2.0839389901784005,null,0,0,0,0,0,"","","",null,0.5105379186254515,2.1378992205970304]
[null,null,11.5,4.5358432165950369,1.9228260869565217,9.6141304347826093,0.68826397441845011,15602.035048049745,null,null,0.51982042623682334,9.9155575366619876E-3,7.5536251266724429E-3,6.0031771027617203E-3,4.954707347661182E-3,4.5139744101578595E-3,"","","",0,0,0,0,0,"","","",2.114153286593794,null,0,0,0,0,0,"","","",null,1.3175338413912119,0,0,0,0,0,"","","",2.0982945543980462,null,0,0,0,0,0,"","","",null,0.51517917243113742,2.1419830316277029]
[null,null,11.6,4.5752853315219495,1.9248275862068964,9.6241379310344826,0.69424887854382777,15585.811537083482,null,null,0.52446168004250926,1.0004089300382183E-2,7.6210682081605894E-3,6.0567768983220928E-3,4.9989458061224425E-3,4.5542777531056974E-3,"","","",0,0,0,0,0,"","","",2.0096378585117205,null,0,0,0,0,0,"","","",null,1.3294035156379795,0,0,0,0,0,"","","",2.1485692933756733,null,0,0,0,0,0,"","","",null,0.51982042623682334,2.114153286593794]
[null,null,11.7,4.614727446448863,1.926880341880342,9.6344017094017094,0.70023378266920555,15569.207567255871,null,null,0.52910293384819518,1.0092621064102379E-2,7.6885112896487367E-3,6.1103766938824652E-3,5.0431842645837022E-3,4.5945810960535353E-3,"","","",0,0,0,0,0,"","","",2.1608279225822908,null,0,0,0,0,0,"","","",null,1.3412731898847472,0,0,0,0,0,"","","",2.0575722611444314,null,0,0,0,0,0,"","","",null,0.52446168004250926,2.0096378585117205]
[null,null,11.8,4.6541695613757774,1.9289830508474577,9.6449152542372882,0.70621868679458366,15552.236183112205,null,null,0.5337441876538811,1.0181152827822577E-2,7.7559543711368832E-3,6.1639764894428377E-3,5.0874227230449636E-3,4.6348844390013732E-3,"","","",0,0,0,0,0,"","","",2.1162511533947477,null,0,0,0,0,0,"","","",null,1.3531428641315149,0,0,0,0,0,"","","",2.0530723210416095,null,0,0,0,0,0,"","","",null,0.52910293384819518,2.1608279225822908]
[null,null,11.9,4.6936116763026901,1.9311344537815125,9.655672268907562,0.71220359091996122,15534.910032418791,null,null,0.53838544145956702,1.0269684591542771E-2,7.8233974526250305E-3,6.2175762850032101E-3,5.1316611815062233E-3,4.675187781949211E-3,"","","",0,0,0,0,0,"","","",2.0979673689543956,null,0,0,0,0,0,"","","",null,1.3650125383782825,0,0,0,0,0,"","","",2.1620347673037652,null,0,0,0,0,0,"","","",null,0.5337441876538811,2.1162511533947477]
[null,null,12,4.7330537912296036,1.9333333333333333,9.6666666666666661,0.71818849504533921,15517.241379310346,null,null,0.54302669526525293,1.0358216355262968E-2,7.890840534113177E-3,6.2711760805635825E-3,5.1758996399674847E-3,4.7154911248970498E-3,"","","",0,0,0,0,0,"","","",2.0586299690482832,null,0,0,0,0,0,"","","",null,1.3768822126250502,0,0,0,0,0,"","","",2.0568983638226213,null,0,0,0,0,0,"","","",null,0.53838544145956702,2.0979673689543956]
[null,null,12.1,4.7724959061565171,1.9355785123966942,9.6778925619834713,0.72417339917071699,15499.242116948826,null,null,0.54766794907093885,1.0446748118983164E-2,7.9582836156013234E-3,6.324775876123955E-3,5.2201380984287452E-3,4.7557944678448877E-3,"","","",0,0,0,0,0,"","","",2.0471915400297225,null,0,0,0,0,0,"","","",null,1.3887518868718178,0,0,0,0,0,"","","",2.122807004754061,null,0,0,0,0,0,"","","",null,0.54302669526525293,2.0586299690482832]
[null,null,12.2,4.8119380210834288,1.9378688524590162,9.6893442622950801,0.73015830329609455,15480.92377971407,null,null,0.55230920287662477,1.053527988270336E-2,8.0257266970894699E-3,6.3783756716843274E-3,5.2643765568900058E-3,4.7960978107927255E-3,"","","",0,0,0,0,0,"","","",2.0615540284860567,null,0,0,0,0,0,"","","",null,1.4006215611185855,0,0,0,0,0,"","","",2.1578732967096439,null,0,0,0,0,0,"","","",null,0.54766794907093885,2.0471915400297225]
[null,null,12.3,4.8513801360103441,1.9402032520325205,9.7010162601626035,0.73614320742147266,15462.297554945628,null,null,0.55695045668231069,1.0623811646423556E-2,8.0931697785776163E-3,6.4319754672446999E-3,5.3086150153512654E-3,4.8364011537405634E-3,"","","",0,0,0,0,0,"","","",2.119575340988348,null,0,0,0,0,0,"","","",null,1.4124912353653531,0,0,0,0,0,"","","",2.1410793158512438,null,0,0,0,0,0,"","","",null,0.55230920287662477,2.0615540284860567]
[null,null,12.4,4.8908222509372576,1.9425806451612904,9.7129032258064516,0.74212811154685054,15443.374294254401,null,null,0.56159171048799661,1.0712343410143753E-2,8.1606128600657645E-3,6.4855752628050723E-3,5.3528534738125268E-3,4.8767044966884013E-3,"","","",0,0,0,0,0,"","","",2.0677576486349833,null,0,0,0,0,0,"","","",null,1.4243609096121208,0,0,0,0,0,"","","",2.1354388726475437,null,0,0,0,0,0,"","","",null,0.55695045668231069,2.119575340988348]
[null,null,12.5,4.9302643658641703,1.9450000000000001,9.7249999999999996,0.74811301567222832,15424.164524421594,null,null,0.56623296429368253,1.0800875173863949E-2,8.228055941553911E-3,6.5391750583654448E-3,5.3970919322737865E-3,4.9170078396362392E-3,"","","",0,0,0,0,0,"","","",2.0696965567803356,null,0,0,0,0,0,"","","",null,1.4362305838588885,0,0,0,0,0,"","","",2.0712575200542909,null,0,0,0,0,0,"","","",null,0.56159171048799661,2.0677576486349833]
[null,null,12.6,4.9697064807910829,1.9474603174603176,9.7373015873015873,0.75409791979760588,15404.67845790203,null,null,0.57087421809936845,1.0889406937584145E-2,8.2954990230420574E-3,6.5927748539258172E-3,5.4413303907350479E-3,4.957311182584077E-3,"","","",0,0,0,0,0,"","","",2.1248062357320872,null,0,0,0,0,0,"","","",null,1.4481002581056561,0,0,0,0,0,"","","",2.0160513057156626,null,0,0,0,0,0,"","","",null,0.56623296429368253,2.0696965567803356]
[null,null,12.7,5.0091485957179973,1.9499606299212597,9.7498031496062989,0.76008282392298399,15384.926002947768,null,null,0.57551547190505437,1.0977938701304342E-2,8.3629421045302039E-3,6.6463746494861897E-3,5.4855688491963085E-3,4.9976145255319158E-3,"","","",0,0,0,0,0,"","","",2.0023137058561793,null,0,0,0,0,0,"","","",null,1.4599699323524238,0,0,0,0,0,"","","",2.0026357776157875,null,0,0,0,0,0,"","","",null,0.57087421809936845,2.1248062357320872]
[null,null,12.8,5.0485907106449108,1.9525000000000001,9.7625000000000011,0.76606772804836187,15364.916773367477,null,null,0.58015672571074028,1.1066470465024538E-2,8.4303851860183503E-3,6.6999744450465621E-3,5.5298073076575681E-3,5.0379178684797537E-3,"","","",0,0,0,0,0,"","","",2.1539677516559403,null,0,0,0,0,0,"","","",null,1.4718396065991914,0,0,0,0,0,"","","",2.0426322982013949,null,0,0,0,0,0,"","","",null,0.57551547190505437,2.0023137058561793]
[null,null,12.9,5.0880328255718235,1.9550775193798451,9.7753875968992254,0.77205263217373954,15344.660097936201,null,null,0.5847979795164262,1.1155002228744734E-2,8.4978282675064968E-3,6.7535742406069337E-3,5.5740457661188287E-3,5.0782212114275915E-3,"","","",0,0,0,0,0,"","","",2.0993448924653451,null,0,0,0,0,0,"","","",null,1.4837092808459591,0,0,0,0,0,"","","",2.1660154292876368,null,0,0,0,0,0,"","","",null,0.58015672571074028,2.1539677516559403]
[null,null,13,5.127474940498737,1.9576923076923078,9.7884615384615401,0.77803753629911743,15324.165029469546,null,null,0.58943923332211212,1.124353399246493E-2,8.5652713489946432E-3,6.8071740361673062E-3,5.6182842245800892E-3,5.1185245543754294E-3,"","","",0,0,0,0,0,"","","",2.1326947209732299,null,0,0,0,0,0,"","","",null,1.4955789550927268,0,0,0,0,0,"","","",2.0583368059595744,null,0,0,0,0,0,"","","",null,0.5847979795164262,2.0993448924653451]
[null,null,13.1,{"$f":"(2*$C$43*$C205)/($C$15/1000000)*1000","v":5.1669170554256505},{"$f":"$C$46+$C$47/C205+$C$48*C205","v":1.9603435114503818},{"$f":"E205*$C$15","v":9.8017175572519086},{"$f":"D205*PI()*$C$14*$C$37/4*60/1000","v":0.7840224404244952},{"$f":"($C$13*1000)/F205","v":15303.44035357567},null,null,0.59408048712779804,1.1332065756185127E-2,8.6327144304827897E-3,6.8607738317276786E-3,5.6625226830413497E-3,5.1588278973232673E-3,"","","",0,0,0,0,0,"","","",2.1437016564280738,null,0,0,0,0,0,"","","",null,1.5074486293394944,0,0,0,0,0,"","","",2.0710995760559889,null,0,0,0,0,0,"","","",null,0.58943923332211212,2.1326947209732299]
[null,null,13.2,5.2063591703525631,1.9630303030303029,9.8151515151515145,0.79000734454987276,15282.494597097872,null,null,{"$f":"K205+1/($C$74*60)","v":0.59872174093348396},{"$f":"IF(Q$56=\"\",\"\",SQRT(($K206*$K206)/$Q$72))","v":1.1420597519905323E-2},{"$f":"IF(R$56=\"\",\"\",SQRT(($K206*$K206)/$R$72))","v":8.7001575119709379E-3},{"$f":"IF(S$56=\"\",\"\",SQRT(($K206*$K206)/$S$72))","v":6.9143736272880519E-3},{"$f":"IF(T$56=\"\",\"\",SQRT(($K206*$K206)/$T$72))","v":5.7067611415026103E-3},{"$f":"IF(U$56=\"\",\"\",SQRT(($K206*$K206)/$U$72))","v":5.1991312402711052E-3},{"$f":"IF(V$56=\"\",\"\",SQRT(($K206*$K206)/$V$72))","v":""},{"$f":"IF(W$56=\"\",\"\",SQRT(($K206*$K206)/$W$72))","v":""},{"$f":"IF(X$56=\"\",\"\",SQRT(($K206*$K206)/$X$72))","v":""},{"$f":"IF(Q$56=\"\",\"\",IF(ABS(($K206-Q$60) / ( L206 / 2.2))>20,0,IF(Q$60<>\"\",Q$64 * ( POWER(POWER(Q$67, 2),0.5) + POWER(POWER(Q$67, 2),-0.5)  ) / ( POWER(POWER(Q$67, 2),0.5) * EXP( POWER(1 + POWER(Q$67, 2),-1) * ($K206-Q$60)/ ( L206 / 2.2) ) + POWER(POWER(Q$67, 2),-0.5) * EXP(- POWER(Q$67, 2) * POWER(1 + POWER(Q$67, 2),-1) * ($K206-Q$60) / ( L206 / 2.2) ) ),\"\")))","v":0},{"$f":"IF(R$56=\"\",\"\",IF(ABS(($K206-R$60) / ( M206 / 2.2))>20,0,IF(R$60<>\"\",R$64 * ( POWER(POWER(R$67, 2),0.5) + POWER(POWER(R$67, 2),-0.5)  ) / ( POWER(POWER(R$67, 2),0.5) * EXP( POWER(1 + POWER(R$67, 2),-1) * ($K206-R$60)/ ( M206 / 2.2) ) + POWER(POWER(R$67, 2),-0.5) * EXP(- POWER(R$67, 2) * POWER(1 + POWER(R$67, 2),-1) * ($K206-R$60) / ( M206 / 2.2) ) ),\"\")))","v":0},{"$f":"IF(S$56=\"\",\"\",IF(ABS(($K206-S$60) / ( N206 / 2.2))>20,0,IF(S$60<>\"\",S$64 * ( POWER(POWER(S$67, 2),0.5) + POWER(POWER(S$67, 2),-0.5)  ) / ( POWER(POWER(S$67, 2),0.5) * EXP( POWER(1 + POWER(S$67, 2),-1) * ($K206-S$60)/ ( N206 / 2.2) ) + POWER(POWER(S$67, 2),-0.5) * EXP(- POWER(S$67, 2) * POWER(1 + POWER(S$67, 2),-1) * ($K206-S$60) / ( N206 / 2.2) ) ),\"\")))","v":0},{"$f":"IF(T$56=\"\",\"\",IF(ABS(($K206-T$60) / ( O206 / 2.2))>20,0,IF(T$60<>\"\",T$64 * ( POWER(POWER(T$67, 2),0.5) + POWER(POWER(T$67, 2),-0.5)  ) / ( POWER(POWER(T$67, 2),0.5) * EXP( POWER(1 + POWER(T$67, 2),-1) * ($K206-T$60)/ ( O206 / 2.2) ) + POWER(POWER(T$67, 2),-0.5) * EXP(- POWER(T$67, 2) * POWER(1 + POWER(T$67, 2),-1) * ($K206-T$60) / ( O206 / 2.2) ) ),\"\")))","v":0},{"$f":"IF(U$56=\"\",\"\",IF(ABS(($K206-U$60) / ( P206 / 2.2))>20,0,IF(U$60<>\"\",U$64 * ( POWER(POWER(U$67, 2),0.5) + POWER(POWER(U$67, 2),-0.5)  ) / ( POWER(POWER(U$67, 2),0.5) * EXP( POWER(1 + POWER(U$67, 2),-1) * ($K206-U$60)/ ( P206 / 2.2) ) + POWER(POWER(U$67, 2),-0.5) * EXP(- POWER(U$67, 2) * POWER(1 + POWER(U$67, 2),-1) * ($K206-U$60) / ( P206 / 2.2) ) ),\"\")))","v":0},{"$f":"IF(V$56=\"\",\"\",IF(ABS(($K206-V$60) / ( Q206 / 2.2))>20,0,IF(V$60<>\"\",V$64 * ( POWER(POWER(V$67, 2),0.5) + POWER(POWER(V$67, 2),-0.5)  ) / ( POWER(POWER(V$67, 2),0.5) * EXP( POWER(1 + POWER(V$67, 2),-1) * ($K206-V$60)/ ( Q206 / 2.2) ) + POWER(POWER(V$67, 2),-0.5) * EXP(- POWER(V$67, 2) * POWER(1 + POWER(V$67, 2),-1) * ($K206-V$60) / ( Q206 / 2.2) ) ),\"\")))","v":""},{"$f":"IF(W$56=\"\",\"\",IF(ABS(($K206-W$60) / ( R206 / 2.2))>20,0,IF(W$60<>\"\",W$64 * ( POWER(POWER(W$67, 2),0.5) + POWER(POWER(W$67, 2),-0.5)  ) / ( POWER(POWER(W$67, 2),0.5) * EXP( POWER(1 + POWER(W$67, 2),-1) * ($K206-W$60)/ ( R206 / 2.2) ) + POWER(POWER(W$67, 2),-0.5) * EXP(- POWER(W$67, 2) * POWER(1 + POWER(W$67, 2),-1) * ($K206-W$60) / ( R206 / 2.2) ) ),\"\")))","v":""},{"$f":"IF(X$56=\"\",\"\",IF(ABS(($K206-X$60) / ( S206 / 2.2))>20,0,IF(X$60<>\"\",X$64 * ( POWER(POWER(X$67, 2),0.5) + POWER(POWER(X$67, 2),-0.5)  ) / ( POWER(POWER(X$67, 2),0.5) * EXP( POWER(1 + POWER(X$67, 2),-1) * ($K206-X$60)/ ( S206 / 2.2) ) + POWER(POWER(X$67, 2),-0.5) * EXP(- POWER(X$67, 2) * POWER(1 + POWER(X$67, 2),-1) * ($K206-X$60) / ( S206 / 2.2) ) ),\"\")))","v":""},{"$f":"SUM(T206:AA206)+RAND()*$C$69+$C$67","v":2.0206170063967779},null,{"$f":"IF(Q$56=\"\",\"\",($K206-$K205)*T206)","v":0},{"$f":"IF(R$56=\"\",\"\",($K206-$K205)*U206)","v":0},{"$f":"IF(S$56=\"\",\"\",($K206-$K205)*V206)","v":0},{"$f":"IF(T$56=\"\",\"\",($K206-$K205)*W206)","v":0},{"$f":"IF(U$56=\"\",\"\",($K206-$K205)*X206)","v":0},{"$f":"IF(V$56=\"\",\"\",($K206-$K205)*Y206)","v":""},{"$f":"IF(W$56=\"\",\"\",($K206-$K205)*Z206)","v":""},{"$f":"IF(X$56=\"\",\"\",($K206-$K205)*AA206)","v":""},null,1.5193183035862621,0,0,0,0,0,"","","",2.0679281593716978,null,0,0,0,0,0,"","","",null,{"$f":"IF($C$8=\"isocratic\",K205,AM206)","v":0.59408048712779804},{"$f":"IF($C$8=\"isocratic\",AB205,AV206)","v":2.1437016564280738}]
[null,null,13.3,5.2458012852794775,1.9657518796992481,9.8287593984962403,0.79599224867525087,15261.336036260018,null,null,0.60336299473916988,1.1509129283625519E-2,8.7676005934590844E-3,6.9679734228484244E-3,5.7509995999638708E-3,5.239434583218943E-3,"","","",0,0,0,0,0,"","","",2.049889956698578,null,0,0,0,0,0,"","","",null,{"$f":"AM206+MAX($AK$57:$AR$57)*1.2/3000","v":1.5311879778330297},0,0,0,0,0,"","","",{"$f":"SUM(AN207:AU207)+RAND()*$C$69+K207*$C$70+$C$67","v":2.130231577043082},null,0,0,0,0,0,"","","",null,0.59872174093348396,2.0206170063967779]
[null,null,13.4,5.2852434002063911,1.9685074626865671,9.8425373134328353,0.80197715280062876,15239.972704526501,null,null,0.6080042485448558,1.1597661047345716E-2,8.8350436749472308E-3,7.0215732184087968E-3,5.7952380584251314E-3,5.2797379261667818E-3,"","","",0,0,0,0,0,"","","",2.1205079403112581,null,0,0,0,0,0,"","","",null,1.5430576520797974,{"$f":"IF(AK$56=\"NOT ELUTED\",\"\",IF(AK$51=\"\",\"\",IF(ABS(($AM208-AK$57)/(AK$72/2.2))>20,0,AK$62*(POWER(POWER(AK$66,2),0.5)+POWER(POWER(AK$66,2),-0.5))/(POWER(POWER(AK$66,2),0.5)*EXP(POWER(1+POWER(AK$66,2),-1)*($AM208-AK$57)/(AK$72/2.2))+POWER(POWER(AK$66,2),-0.5)*EXP(-POWER(AK$66,2)*POWER(1+POWER(AK$66,2),-1)*($AM208-AK$57)/(AK$72/2.2))))))","v":0},{"$f":"IF(AL$56=\"NOT ELUTED\",\"\",IF(AL$51=\"\",\"\",IF(ABS(($AM208-AL$57)/(AL$72/2.2))>20,0,AL$62*(POWER(POWER(AL$66,2),0.5)+POWER(POWER(AL$66,2),-0.5))/(POWER(POWER(AL$66,2),0.5)*EXP(POWER(1+POWER(AL$66,2),-1)*($AM208-AL$57)/(AL$72/2.2))+POWER(POWER(AL$66,2),-0.5)*EXP(-POWER(AL$66,2)*POWER(1+POWER(AL$66,2),-1)*($AM208-AL$57)/(AL$72/2.2))))))","v":0},{"$f":"IF(AM$56=\"NOT ELUTED\",\"\",IF(AM$51=\"\",\"\",IF(ABS(($AM208-AM$57)/(AM$72/2.2))>20,0,AM$62*(POWER(POWER(AM$66,2),0.5)+POWER(POWER(AM$66,2),-0.5))/(POWER(POWER(AM$66,2),0.5)*EXP(POWER(1+POWER(AM$66,2),-1)*($AM208-AM$57)/(AM$72/2.2))+POWER(POWER(AM$66,2),-0.5)*EXP(-POWER(AM$66,2)*POWER(1+POWER(AM$66,2),-1)*($AM208-AM$57)/(AM$72/2.2))))))","v":0},{"$f":"IF(AN$56=\"NOT ELUTED\",\"\",IF(AN$51=\"\",\"\",IF(ABS(($AM208-AN$57)/(AN$72/2.2))>20,0,AN$62*(POWER(POWER(AN$66,2),0.5)+POWER(POWER(AN$66,2),-0.5))/(POWER(POWER(AN$66,2),0.5)*EXP(POWER(1+POWER(AN$66,2),-1)*($AM208-AN$57)/(AN$72/2.2))+POWER(POWER(AN$66,2),-0.5)*EXP(-POWER(AN$66,2)*POWER(1+POWER(AN$66,2),-1)*($AM208-AN$57)/(AN$72/2.2))))))","v":0},{"$f":"IF(AO$56=\"NOT ELUTED\",\"\",IF(AO$51=\"\",\"\",IF(ABS(($AM208-AO$57)/(AO$72/2.2))>20,0,AO$62*(POWER(POWER(AO$66,2),0.5)+POWER(POWER(AO$66,2),-0.5))/(POWER(POWER(AO$66,2),0.5)*EXP(POWER(1+POWER(AO$66,2),-1)*($AM208-AO$57)/(AO$72/2.2))+POWER(POWER(AO$66,2),-0.5)*EXP(-POWER(AO$66,2)*POWER(1+POWER(AO$66,2),-1)*($AM208-AO$57)/(AO$72/2.2))))))","v":0},{"$f":"IF(AP$56=\"NOT ELUTED\",\"\",IF(AP$51=\"\",\"\",IF(ABS(($AM208-AP$57)/(AP$72/2.2))>20,0,AP$62*(POWER(POWER(AP$66,2),0.5)+POWER(POWER(AP$66,2),-0.5))/(POWER(POWER(AP$66,2),0.5)*EXP(POWER(1+POWER(AP$66,2),-1)*($AM208-AP$57)/(AP$72/2.2))+POWER(POWER(AP$66,2),-0.5)*EXP(-POWER(AP$66,2)*POWER(1+POWER(AP$66,2),-1)*($AM208-AP$57)/(AP$72/2.2))))))","v":""},{"$f":"IF(AQ$56=\"NOT ELUTED\",\"\",IF(AQ$51=\"\",\"\",IF(ABS(($AM208-AQ$57)/(AQ$72/2.2))>20,0,AQ$62*(POWER(POWER(AQ$66,2),0.5)+POWER(POWER(AQ$66,2),-0.5))/(POWER(POWER(AQ$66,2),0.5)*EXP(POWER(1+POWER(AQ$66,2),-1)*($AM208-AQ$57)/(AQ$72/2.2))+POWER(POWER(AQ$66,2),-0.5)*EXP(-POWER(AQ$66,2)*POWER(1+POWER(AQ$66,2),-1)*($AM208-AQ$57)/(AQ$72/2.2))))))","v":""},{"$f":"IF(AR$56=\"NOT ELUTED\",\"\",IF(AR$51=\"\",\"\",IF(ABS(($AM208-AR$57)/(AR$72/2.2))>20,0,AR$62*(POWER(POWER(AR$66,2),0.5)+POWER(POWER(AR$66,2),-0.5))/(POWER(POWER(AR$66,2),0.5)*EXP(POWER(1+POWER(AR$66,2),-1)*($AM208-AR$57)/(AR$72/2.2))+POWER(POWER(AR$66,2),-0.5)*EXP(-POWER(AR$66,2)*POWER(1+POWER(AR$66,2),-1)*($AM208-AR$57)/(AR$72/2.2))))))","v":""},2.0189436849500648,null,0,0,0,0,0,"","","",null,0.60336299473916988,2.049889956698578]
[null,null,13.5,5.3246855151333037,1.9712962962962963,9.856481481481481,0.80796205692600642,15218.412400187883,null,null,0.61264550235054172,1.1686192811065912E-2,8.9024867564353773E-3,7.0751730139691693E-3,5.8394765168863919E-3,5.3200412691146197E-3,"","","",0,0,0,0,0,"","","",2.1582985189056618,null,0,0,0,0,0,"","","",null,1.5549273263265651,0,0,0,0,0,"","","",2.0260954507652853,null,0,0,0,0,0,"","","",null,0.6080042485448558,2.1205079403112581]
[null,null,13.6,5.3641276300602172,1.9741176470588235,9.8705882352941181,0.81394696105138431,15196.662693682954,null,null,0.61728675615622763,1.1774724574786108E-2,8.9699298379235255E-3,7.1287728095295417E-3,5.8837149753476524E-3,5.3603446120624575E-3,"","","",0,0,0,0,0,"","","",2.0418261144027694,null,0,0,0,0,0,"","","",null,1.5667970005733327,0,0,0,0,0,"","","",2.0234761437617226,null,0,0,0,0,0,"","","",null,0.61264550235054172,2.1582985189056618]
[null,null,13.7,5.4035697449871307,1.9769708029197082,9.8848540145985417,0.81993186517676209,15174.730934667426,null,null,0.62192800996191355,1.1863256338506304E-2,9.0373729194116719E-3,7.1823726050899142E-3,5.927953433808913E-3,5.4006479550102954E-3,"","","",0,0,0,0,0,"","","",2.0294430393420009,null,0,0,0,0,0,"","","",null,1.5786666748201004,0,0,0,0,0,"","","",2.1139630580797619,null,0,0,0,0,0,"","","",null,0.61728675615622763,2.0418261144027694]
[null,null,13.8,5.4430118599140442,1.979855072463768,9.8992753623188392,0.82591676930213997,15152.624258839032,null,null,0.62656926376759947,1.1951788102226499E-2,9.1048160008998184E-3,7.2359724006502866E-3,5.9721918922701735E-3,5.4409512979581333E-3,"","","",0,0,0,0,0,"","","",2.1501769219739311,null,0,0,0,0,0,"","","",null,1.590536349066868,0,0,0,0,0,"","","",2.1045202970607355,null,{"$f":"IF(AN212=\"\",\"\",($AM213-$AM212)*AN212)","v":0},{"$f":"IF(AO212=\"\",\"\",($AM213-$AM212)*AO212)","v":0},{"$f":"IF(AP212=\"\",\"\",($AM213-$AM212)*AP212)","v":0},{"$f":"IF(AQ212=\"\",\"\",($AM213-$AM212)*AQ212)","v":0},{"$f":"IF(AR212=\"\",\"\",($AM213-$AM212)*AR212)","v":0},{"$f":"IF(AS212=\"\",\"\",($AM213-$AM212)*AS212)","v":""},{"$f":"IF(AT212=\"\",\"\",($AM213-$AM212)*AT212)","v":""},{"$f":"IF(AU212=\"\",\"\",($AM213-$AM212)*AU212)","v":""},null,0.62192800996191355,2.0294430393420009]
[null,null,13.9,5.4824539748409569,1.9827697841726619,9.9138489208633089,0.83190167342751775,15130.349594528401,null,null,0.63121051757328539,1.2040319865946697E-2,9.1722590823879648E-3,7.2895721962106591E-3,6.016430350731434E-3,5.4812546409059712E-3,"","","",0,0,0,0,0,"","","",2.0904712298023767,null,0,0,0,0,0,"","","",null,1.6024060233136357,0,0,0,0,0,"","","",2.1008075385783096,null,0,0,0,0,0,"","","",null,0.62656926376759947,2.1501769219739311]
[null,null,14,5.5218960897678713,1.9857142857142858,9.9285714285714288,0.83788657755289564,15107.913669064748,null,null,0.63585177137897131,1.2128851629666893E-2,9.2397021638761113E-3,7.3431719917710315E-3,6.0606688091926946E-3,5.521557983853809E-3,"","","",0,0,0,0,0,"","","",2.0864186552079049,null,0,0,0,0,0,"","","",null,1.6142756975604033,0,0,0,0,0,"","","",2.0918498611972427,null,0,0,0,0,0,"","","",null,0.63121051757328539,2.0904712298023767]
[null,null,14.1,5.5613382046947848,1.9886879432624114,9.9434397163120565,0.84387148167827342,15085.323014924841,null,null,0.64049302518465723,1.2217383393387089E-2,9.3071452453642595E-3,7.396771787331404E-3,6.1049072676539551E-3,5.5618613268016478E-3,"","","",0,0,0,0,0,"","","",2.0749780120133203,null,0,0,0,0,0,"","","",null,1.626145371807171,0,0,0,0,0,"","","",2.0846069507259135,null,0,0,0,0,0,"","","",null,0.63585177137897131,2.0864186552079049]
[null,null,14.2,5.6007803196216965,1.9916901408450705,9.9584507042253527,0.84985638580365119,15062.583975673573,null,null,0.64513427899034315,1.2305915157107284E-2,9.3745883268524042E-3,7.4503715828917764E-3,6.1491457261152157E-3,5.6021646697494857E-3,"","","",0,0,0,0,0,"","","",2.0568941888154075,null,0,0,0,0,0,"","","",null,1.6380150460539387,0,0,0,0,0,"","","",2.1373147398624677,null,0,0,0,0,0,"","","",null,0.64049302518465723,2.0749780120133203]
[null,null,14.3,5.6402224345486109,1.9947202797202797,9.9736013986013976,0.85584128992902919,15039.702711703976,null,null,0.64977553279602906,1.2394446920827482E-2,9.4420314083405506E-3,7.5039713784521489E-3,6.1933841845764762E-3,5.6424680126973227E-3,"","","",0,0,0,0,0,"","","",2.1193290343856264,null,0,0,0,0,0,"","","",null,1.6498847203007063,0,0,0,0,0,"","","",2.0210127012154184,null,0,0,0,0,0,"","","",null,0.64513427899034315,2.0568941888154075]
[null,null,14.4,5.6796645494755245,1.9977777777777779,9.9888888888888889,0.86182619405440697,15016.685205784204,null,null,0.65441678660171498,1.2482978684547676E-2,9.5094744898286988E-3,7.5575711740125213E-3,6.2376226430377367E-3,5.6827713556451605E-3,"","","",0,0,0,0,0,"","","",2.0364694379948229,null,0,0,0,0,0,"","","",null,1.661754394547474,0,0,0,0,0,"","","",2.0301783153768329,null,0,0,0,0,0,"","","",null,0.64977553279602906,2.1193290343856264]
[null,null,14.5,5.7191066644024371,2.0008620689655174,10.004310344827587,0.86781109817978463,14993.537268418784,null,null,0.6590580404074009,1.2571510448267873E-2,9.5769175713168453E-3,7.6111709695728938E-3,6.2818611014989964E-3,5.7230746985929993E-3,"","","",0,0,0,0,0,"","","",2.0899420673302163,null,0,0,0,0,0,"","","",null,1.6736240687942416,0,0,0,0,0,"","","",2.1221095004904047,null,0,0,0,0,0,"","","",null,0.65441678660171498,2.0364694379948229]
[null,null,14.6,5.7585487793293506,2.0039726027397258,10.019863013698629,0.87379600230516252,14970.264543030968,null,null,0.66369929421308682,1.2660042211988071E-2,9.6443606528049917E-3,7.6647707651332662E-3,6.3260995599602578E-3,5.7633780415408372E-3,"","","",0,0,0,0,0,"","","",2.0913163019265011,null,0,0,0,0,0,"","","",null,1.6854937430410093,0,0,0,0,0,"","","",2.100029277071962,null,0,0,0,0,0,"","","",null,0.6590580404074009,2.0899420673302163]
[null,null,14.7,5.7979908942562641,2.0071088435374151,10.035544217687075,0.87978090643054041,14946.872510972902,null,null,0.66834054801877274,1.2748573975708267E-2,9.7118037342931382E-3,7.7183705606936387E-3,6.3703380184215175E-3,5.803681384488675E-3,"","","",0,0,0,0,0,"","","",2.0871832506859129,null,0,0,0,0,0,"","","",null,1.697363417287777,0,0,0,0,0,"","","",2.0511827715162521,null,0,0,0,0,0,"","","",null,0.66369929421308682,2.0913163019265011]
[null,null,14.8,5.8374330091831776,2.0102702702702704,10.051351351351352,0.8857658105559183,14923.36649636999,null,null,0.67298180182445866,1.2837105739428463E-2,9.7792468157812864E-3,7.7719703562540111E-3,6.4145764768827789E-3,5.8439847274365129E-3,"","","",0,0,0,0,0,"","","",2.0551242167114863,null,0,0,0,0,0,"","","",null,1.7092330915345446,0,0,0,0,0,"","","",2.0061045832847397,null,0,0,0,0,0,"","","",null,0.66834054801877274,2.0871832506859129]
[null,null,14.9,5.8768751241100912,2.0134563758389263,10.067281879194631,0.89175071468129619,14899.751670805486,null,null,0.67762305563014458,1.2925637503148658E-2,9.8466898972694328E-3,7.8255701518143844E-3,6.4588149353440394E-3,5.8842880703843508E-3,"","","",0,0,0,0,0,"","","",2.0123448544925457,null,0,0,0,0,0,"","","",null,1.7211027657813123,0,0,0,0,0,"","","",2.1642477249478249,null,0,0,0,0,0,"","","",null,0.67298180182445866,2.0551242167114863]
[null,null,15,5.9163172390370047,2.0166666666666666,10.083333333333332,0.89773561880667385,14876.033057851242,null,null,0.6822643094358305,1.3014169266868856E-2,9.9141329787575793E-3,7.8791699473747569E-3,6.5030533938053E-3,5.9245914133321887E-3,"","","",0,0,0,0,0,"","","",2.0041294138236538,null,0,0,0,0,0,"","","",null,1.7329724400280799,0,0,0,0,0,"","","",2.0115976365929971,null,0,0,0,0,0,"","","",null,0.67762305563014458,2.0123448544925457]
[null,null,15.1,5.9557593539639182,2.0199006622516555,10.099503311258278,0.90372052293205185,14852.215537450205,null,null,0.68690556324151641,1.3102701030589052E-2,9.9815760602457258E-3,7.9327697429351293E-3,6.5472918522665596E-3,5.9648947562800274E-3,"","","",0,0,0,0,0,"","","",2.159687455992779,null,0,0,0,0,0,"","","",null,1.7448421142748476,0,0,0,0,0,"","","",2.1429213777991087,null,0,0,0,0,0,"","","",null,0.6822643094358305,2.0041294138236538]
[null,null,15.2,5.9952014688908308,2.0231578947368423,10.115789473684211,0.90970542705742941,14828.303850156086,null,null,0.69154681704720233,1.3191232794309248E-2,1.0049019141733872E-2,7.9863695384955018E-3,6.591530310727821E-3,6.0051980992278644E-3,"","","",0,0,0,0,0,"","","",2.1311608693681827,null,0,0,0,0,0,"","","",null,1.7567117885216152,0,0,0,0,0,"","","",2.1395287958867297,null,0,0,0,0,0,"","","",null,0.68690556324151641,2.159687455992779]
[null,null,15.3,6.0346435838177444,2.0264379084967321,10.13218954248366,0.91569033118280729,14804.302601235304,null,null,0.69618807085288825,1.3279764558029443E-2,1.0116462223222019E-2,8.0399693340558742E-3,6.6357687691890807E-3,6.0455014421757032E-3,"","","",0,0,0,0,0,"","","",2.0635780634543499,null,0,0,0,0,0,"","","",null,1.7685814627683829,0,0,0,0,0,"","","",2.079180117896883,null,0,0,0,0,0,"","","",null,0.69154681704720233,2.1311608693681827]
[null,null,15.4,6.0740856987446588,2.0297402597402598,10.148701298701299,0.92167523530818529,14780.216264636252,null,null,0.70082932465857417,1.3368296321749641E-2,1.0183905304710165E-2,8.0935691296162449E-3,6.6800072276503412E-3,6.085804785123541E-3,"","","",0,0,0,0,0,"","","",2.0478514367636813,null,0,0,0,0,0,"","","",null,1.7804511370151506,0,0,0,0,0,"","","",2.1517202565655582,null,0,0,0,0,0,"","","",null,0.69618807085288825,2.0635780634543499]
[null,null,15.5,6.1135278136715705,2.0330645161290324,10.165322580645162,0.92766013943356296,14756.049186830622,null,null,0.70547057846426009,1.3456828085469837E-2,1.0251348386198313E-2,8.1471689251766191E-3,6.7242456861116027E-3,6.1261081280713789E-3,"","","",0,0,0,0,0,"","","",2.086851835753516,null,0,0,0,0,0,"","","",null,1.7923208112619182,0,0,0,0,0,"","","",2.0990954007022733,null,0,0,0,0,0,"","","",null,0.70082932465857417,2.0478514367636813]
[null,null,15.6,6.152969928598484,2.0364102564102566,10.182051282051283,0.93364504355894062,14731.80559053135,null,null,0.71011183226994601,1.3545359849190032E-2,1.031879146768646E-2,8.2007687207369916E-3,6.7684841445728632E-3,6.1664114710192168E-3,"","","",0,0,0,0,0,"","","",2.0517320985122884,null,0,0,0,0,0,"","","",null,1.8041904855086859,0,0,0,0,0,"","","",2.020761067925172,null,0,0,0,0,0,"","","",null,0.70547057846426009,2.086851835753516]
[null,null,15.7,6.1924120435253984,2.0397770700636944,10.198885350318472,0.93962994768431873,14707.489578291619,null,null,0.71475308607563193,1.3633891612910228E-2,1.0386234549174606E-2,8.2543685162973623E-3,6.8127226030341229E-3,6.2067148139670547E-3,"","","",0,0,0,0,0,"","","",2.1174411735680567,null,0,0,0,0,0,"","","",null,1.8160601597554535,0,0,0,0,0,"","","",2.0615583181401447,null,0,0,0,0,0,"","","",null,0.71011183226994601,2.0517320985122884]
[null,null,15.8,6.2318541584523111,2.0431645569620254,10.215822784810127,0.9456148518096964,14683.105135989095,null,null,0.71939433988131785,1.3722423376630426E-2,1.0453677630662753E-2,8.3079683118577365E-3,6.8569610614953843E-3,6.2470181569148934E-3,"","","",0,0,0,0,0,"","","",2.1499155787248636,null,0,0,0,0,0,"","","",null,1.8279298340022212,0,0,0,0,0,"","","",2.0415323403790588,null,0,0,0,0,0,"","","",null,0.71475308607563193,2.1174411735680567]
[null,null,15.9,6.2712962733792246,2.046572327044025,10.232861635220125,0.95159975593507418,14658.656136199506,null,null,0.72403559368700376,1.3810955140350622E-2,1.0521120712150899E-2,8.3615681074181089E-3,6.9011995199566448E-3,6.2873214998627313E-3,"","","",0,0,0,0,0,"","","",2.0738222885868138,null,0,0,0,0,0,"","","",null,1.8397995082489889,0,0,0,0,0,"","","",2.0698739125101246,null,0,0,0,0,0,"","","",null,0.71939433988131785,2.1499155787248636]
[null,null,16,6.3107383883061381,2.0499999999999998,10.25,0.95758466006045206,14634.146341463415,null,null,0.72867684749268968,1.3899486904070819E-2,1.0588563793639047E-2,8.4151679029784814E-3,6.9454379784179053E-3,6.3276248428105692E-3,"","","",0,0,0,0,0,"","","",2.1052383367939815,null,0,0,0,0,0,"","","",null,1.8516691824957565,0,0,0,0,0,"","","",2.1590901072807434,null,0,0,0,0,0,"","","",null,0.72403559368700376,2.0738222885868138]
[null,null,16.100000000000001,6.3501805032330516,2.0534472049689443,10.267236024844721,0.96356956418582995,14609.579407449977,null,null,0.7333181012983756,1.3988018667791013E-2,1.0656006875127194E-2,8.4687676985388538E-3,6.989676436879165E-3,6.3679281857584071E-3,"","","",0,0,0,0,0,"","","",2.0845107134029015,null,0,0,0,0,0,"","","",null,1.8635388567425242,0,0,0,0,0,"","","",2.128607260982927,null,0,0,0,0,0,"","","",null,0.72867684749268968,2.1052383367939815]
[null,null,16.2,6.3896226181599642,2.0569135802469134,10.284567901234567,0.96955446831120773,14584.958886021248,null,null,0.73795935510406152,1.4076550431511211E-2,1.072344995661534E-2,8.5223674940992263E-3,7.0339148953404255E-3,6.4082315287062449E-3,"","","",0,0,0,0,0,"","","",2.0797606642740276,null,0,0,0,0,0,"","","",null,1.8754085309892918,0,0,0,0,0,"","","",2.0910674076608737,null,0,0,0,0,0,"","","",null,0.7333181012983756,2.0845107134029015]
[null,null,16.3,6.4290647330868778,2.0603987730061348,10.301993865030674,0.97553937243658562,14560.28822820051,null,null,0.74260060890974744,1.4165082195231406E-2,1.0790893038103487E-2,8.575967289659597E-3,7.0781533538016861E-3,6.4485348716540837E-3,"","","",0,0,0,0,0,"","","",2.1441328216458087,null,0,0,0,0,0,"","","",null,1.8872782052360595,0,0,0,0,0,"","","",2.0617556578049925,null,0,0,0,0,0,"","","",null,0.73795935510406152,2.0797606642740276]
[null,null,16.399999999999999,6.4685068480137904,2.0639024390243903,10.319512195121952,0.98152427656196339,14535.570787047978,null,null,0.74724186271543336,1.4253613958951602E-2,1.0858336119591633E-2,8.6295670852199694E-3,7.1223918122629466E-3,6.4888382146019207E-3,"","","",0,0,0,0,0,"","","",2.0830120636084617,null,0,0,0,0,0,"","","",null,1.8991478794828272,0,0,0,0,0,"","","",2.0059614236548393,null,0,0,0,0,0,"","","",null,0.74260060890974744,2.1441328216458087]
[null,null,16.5,6.5079489629407048,2.0674242424242424,10.337121212121211,0.98750918068734128,14510.809820447052,null,null,0.75188311652111928,1.43421457226718E-2,1.0925779201079781E-2,8.6831668807803436E-3,7.166630270724208E-3,6.5291415575497594E-3,"","","",0,0,0,0,0,"","","",2.1239874898354976,null,0,0,0,0,0,"","","",null,1.9110175537295948,0,0,0,0,0,"","","",2.0521752458832734,null,0,0,0,0,0,"","","",null,0.74724186271543336,2.0830120636084617]
[null,null,16.600000000000001,6.5473910778676192,2.0709638554216867,10.354819277108433,0.99349408481271917,14486.008493804178,null,null,0.7565243703268052,1.4430677486391996E-2,1.0993222282567928E-2,8.736766676340716E-3,7.2108687291854686E-3,6.5694449004975973E-3,"","","",0,0,0,0,0,"","","",2.0461030841632546,null,0,0,0,0,0,"","","",null,1.9228872279763625,0,0,0,0,0,"","","",2.0604805281436258,null,0,0,0,0,0,"","","",null,0.75188311652111928,2.1239874898354976]
[null,null,16.7,6.5868331927945318,2.0745209580838324,10.372604790419162,0.99947898893809706,14461.169882665357,null,null,0.76116562413249111,1.4519209250112191E-2,1.1060665364056074E-2,8.7903664719010885E-3,7.2551071876467291E-3,6.6097482434454352E-3,"","","",0,0,0,0,0,"","","",2.0042980301190489,null,0,0,0,0,0,"","","",null,1.9347569022231301,0,0,0,0,0,"","","",2.0569155772710452,null,0,0,0,0,0,"","","",null,0.7565243703268052,2.0461030841632546]
[null,null,16.8,6.6262753077214454,2.078095238095238,10.390476190476189,1.0054638930634749,14436.296975252064,null,null,0.76580687793817703,1.4607741013832387E-2,1.1128108445544221E-2,8.8439662674614592E-3,7.2993456461079888E-3,6.6500515863932731E-3,"","","",0,0,0,0,0,"","","",2.0591009519151293,null,0,0,0,0,0,"","","",null,1.9466265764698978,0,0,0,0,0,"","","",2.1496864241378248,null,0,0,0,0,0,"","","",null,0.76116562413249111,2.0042980301190489]
[null,null,16.899999999999999,6.665717422648358,2.0816863905325445,10.408431952662722,1.0114487971888526,14411.392674919343,null,null,0.77044813174386295,1.4696272777552583E-2,1.1195551527032367E-2,8.8975660630218317E-3,7.3435841045692493E-3,6.6903549293411109E-3,"","","",0,0,0,0,0,"","","",2.0163339262515763,null,0,0,0,0,0,"","","",null,1.9584962507166654,0,0,0,0,0,"","","",2.0083013022194853,null,0,0,0,0,0,"","","",null,0.76580687793817703,2.0591009519151293]
[null,null,17,6.7051595375752715,2.085294117647059,10.426470588235295,1.0174337013142305,14386.459802538786,null,null,0.77508938554954887,1.478480454127278E-2,1.1262994608520515E-2,8.9511658585822058E-3,7.3878225630305099E-3,6.7306582722889488E-3,"","","",0,0,0,0,0,"","","",2.1450555153547124,null,0,0,0,0,0,"","","",null,1.9703659249634331,0,0,0,0,0,"","","",2.0056212965233033,null,0,0,0,0,0,"","","",null,0.77044813174386295,2.0163339262515763]
[null,null,17.100000000000001,6.744601652502185,2.0889181286549707,10.444590643274854,1.0234186054396084,14361.501098808807,null,null,0.77973063935523479,1.4873336304992976E-2,1.133043769000866E-2,9.0047656541425766E-3,7.4320610214917704E-3,6.7709616152367867E-3,"","","",0,0,0,0,0,"","","",2.0720427647736619,null,0,0,0,0,0,"","","",null,1.9822355992102008,0,0,0,0,0,"","","",2.1437165875051867,null,0,0,0,0,0,"","","",null,0.77508938554954887,2.1450555153547124]
[null,null,17.2,6.7840437674290976,2.0925581395348836,10.462790697674418,1.0294035095649858,14336.519226494778,null,null,0.78437189316092071,1.4961868068713172E-2,1.1397880771496808E-2,9.0583654497029507E-3,7.4762994799530309E-3,6.8112649581846254E-3,"","","",0,0,0,0,0,"","","",2.0160021688731131,null,0,0,0,0,0,"","","",null,1.9941052734569684,0,0,0,0,0,"","","",2.0550172478376481,null,0,0,0,0,0,"","","",null,0.77973063935523479,2.0720427647736619]
[null,null,17.3,6.8234858823560112,2.09621387283237,10.481069364161851,1.0353884136903637,14311.516772601302,null,null,0.78901314696660663,1.5050399832433368E-2,1.1465323852984955E-2,9.1119652452633232E-3,7.5205379384142915E-3,6.8515683011324633E-3,"","","",0,0,0,0,0,"","","",2.0891246175199587,null,0,0,0,0,0,"","","",null,2.0059749477037361,0,0,0,0,0,"","","",2.0559405144705498,null,0,0,0,0,0,"","","",null,0.78437189316092071,2.0160021688731131]
[null,null,17.399999999999999,6.8629279972829247,2.0998850574712642,10.499425287356321,1.0413733178157416,14286.496250478955,null,null,0.79365440077229255,1.5138931596153564E-2,1.1532766934473101E-2,9.1655650408236939E-3,7.564776396875552E-3,6.8918716440803012E-3,"","","",0,0,0,0,0,"","","",2.0146693500584978,null,0,0,0,0,0,"","","",null,2.0178446219505037,0,0,0,0,0,"","","",2.0501044937778343,null,0,0,0,0,0,"","","",null,0.78901314696660663,2.0891246175199587]
[null,null,17.5,6.9023701122098391,2.1035714285714286,10.517857142857142,1.0473582219411197,14261.460101867573,null,null,0.79829565457797846,1.5227463359873761E-2,1.1600210015961248E-2,9.2191648363840681E-3,7.6090148553368117E-3,6.9321749870281391E-3,"","","",0,0,0,0,0,"","","",2.0502026651010099,null,0,0,0,0,0,"","","",null,2.0297142961972714,0,0,0,0,0,"","","",2.1281041169743009,null,0,0,0,0,0,"","","",null,0.79365440077229255,2.0146693500584978]
[null,null,17.600000000000001,6.9418122271367526,2.1072727272727274,10.536363636363637,1.0533431260664974,14236.410698878342,null,null,0.80293690838366438,1.5315995123593957E-2,1.1667653097449394E-2,9.2727646319444405E-3,7.6532533137980731E-3,6.9724783299759769E-3,"","","",0,0,0,0,0,"","","",2.1491919124874688,null,0,0,0,0,0,"","","",null,2.0415839704440391,0,0,0,0,0,"","","",2.0381324526840157,null,0,0,0,0,0,"","","",null,0.79829565457797846,2.0502026651010099]
[null,null,17.7,6.9812543420636652,2.1109887005649717,10.554943502824859,1.059328030191875,14211.350345916579,null,null,0.8075781621893503,1.5404526887314153E-2,1.1735096178937541E-2,9.326364427504813E-3,7.6974917722593336E-3,7.0127816729238148E-3,"","","",0,0,0,0,0,"","","",2.1120460726535097,null,0,0,0,0,0,"","","",null,2.0534536446908067,0,0,0,0,0,"","","",2.043325472094363,null,0,0,0,0,0,"","","",null,0.80293690838366438,2.1491919124874688]
[null,null,17.8,7.0206964569905788,2.1147191011235957,10.573595505617979,1.0653129343172529,14186.281281547206,null,null,0.81221941599503622,1.549305865103435E-2,1.1802539260425689E-2,9.3799642230651854E-3,7.7417302307205942E-3,7.0530850158716527E-3,"","","",0,0,0,0,0,"","","",2.1246369674430232,null,0,0,0,0,0,"","","",null,2.0653233189375744,0,0,0,0,0,"","","",2.1099625800788928,null,0,0,0,0,0,"","","",null,0.8075781621893503,2.1120460726535097]
[null,null,17.899999999999999,7.0601385719174914,2.1184636871508378,10.592318435754189,1.0712978384426306,14161.205680304849,null,null,0.81686066980072214,1.5581590414754544E-2,1.1869982341913835E-2,9.4335640186255561E-3,7.7859686891818547E-3,7.0933883588194914E-3,"","","",0,0,0,0,0,"","","",2.1074883174866854,null,0,0,0,0,0,"","","",null,2.077192993184342,0,0,0,0,0,"","","",2.0597079966127509,null,0,0,0,0,0,"","","",null,0.81221941599503622,2.1246369674430232]
[null,null,18,7.0995806868444049,2.1222222222222222,10.611111111111111,1.0772827425680085,14136.125654450263,null,null,0.82150192360640806,1.5670122178474744E-2,1.1937425423401982E-2,9.4871638141859303E-3,7.8302071476431152E-3,7.1336917017673293E-3,"","","",0,0,0,0,0,"","","",2.0537943034418626,null,0,0,0,0,0,"","","",null,2.0890626674311097,0,0,0,0,0,"","","",2.1649807272110584,null,0,0,0,0,0,"","","",null,0.81686066980072214,2.1074883174866854]
[null,null,18.100000000000001,7.1390228017713184,2.1259944751381217,10.629972375690608,1.0832676466933864,14111.043255674953,null,null,0.82614317741209398,1.5758653942194938E-2,1.2004868504890128E-2,9.540763609746301E-3,7.8744456061043758E-3,7.1739950447151672E-3,"","","",0,0,0,0,0,"","","",2.0267367364775661,null,0,0,0,0,0,"","","",null,2.1009323416778773,0,0,0,0,0,"","","",2.0620924540942212,null,0,0,0,0,0,"","","",null,0.82150192360640806,2.0537943034418626]
[null,null,18.2,7.1784649166982311,2.12978021978022,10.648901098901099,1.089252550818764,14085.960476755585,null,null,0.8307844312177799,1.5847185705915135E-2,1.2072311586378276E-2,9.5943634053066752E-3,7.9186840645656363E-3,7.2142983876630051E-3,"","","",0,0,0,0,0,"","","",2.0512172294889766,null,0,0,0,0,0,"","","",null,2.112802015924645,0,0,0,0,0,"","","",2.1368309673460937,null,0,0,0,0,0,"","","",null,0.82614317741209398,2.0267367364775661]
[null,null,18.3,7.2179070316251464,2.1335792349726779,10.66789617486339,1.0952374549441422,14060.879253159854,null,null,0.83542568502346581,1.5935717469635333E-2,1.2139754667866423E-2,9.6479632008670477E-3,7.9629225230268968E-3,7.2546017306108429E-3,"","","",0,0,0,0,0,"","","",2.00356213789961,null,0,0,0,0,0,"","","",null,2.1246716901714127,0,0,0,0,0,"","","",2.1054272926990212,null,0,0,0,0,0,"","","",null,0.8307844312177799,2.0512172294889766]
[null,null,18.399999999999999,7.2573491465520581,2.1373913043478261,10.68695652173913,1.1012223590695198,14035.801464605371,null,null,0.84006693882915173,1.6024249233355527E-2,1.2207197749354569E-2,9.7015629964274201E-3,8.0071609814881574E-3,7.2949050735586808E-3,"","","",0,0,0,0,0,"","","",2.125322690595111,null,0,0,0,0,0,"","","",null,2.1365413644181803,0,0,0,0,0,"","","",2.076596864789793,null,0,0,0,0,0,"","","",null,0.83542568502346581,2.00356213789961]
[null,null,18.5,7.2967912614789725,2.1412162162162165,10.706081081081082,1.1072072631948977,14010.72893657305,null,null,0.84470819263483765,1.6112780997075724E-2,1.2274640830842716E-2,9.7551627919877926E-3,8.0513994399494179E-3,7.3352084165065187E-3,"","","",0,0,0,0,0,"","","",2.0409231035302065,null,0,0,0,0,0,"","","",null,2.148411038664948,0,0,0,0,0,"","","",2.1424846654128871,null,0,0,0,0,0,"","","",null,0.84006693882915173,2.125322690595111]
[null,null,18.600000000000001,7.336233376405886,2.1450537634408606,10.725268817204302,1.1131921673202756,13985.663441776529,null,null,0.84934944644052357,1.6201312760795918E-2,1.2342083912330862E-2,9.808762587548165E-3,8.0956378984106785E-3,7.3755117594543574E-3,"","","",0,0,0,0,0,"","","",2.1226040184720461,null,0,0,0,0,0,"","","",null,2.1602807129117156,0,0,0,0,0,"","","",2.0878362023505788,null,0,0,0,0,0,"","","",null,0.84470819263483765,2.0409231035302065]
[null,null,18.7,7.3756754913327978,2.148903743315508,10.74451871657754,1.1191770714456535,13960.606701588922,null,null,0.85399070024620949,1.6289844524516116E-2,1.2409526993819009E-2,9.8623623831085375E-3,8.139876356871939E-3,7.4158151024021953E-3,"","","",0,0,0,0,0,"","","",2.0089107050496335,null,0,0,0,0,0,"","","",null,2.1721503871584833,0,0,0,0,0,"","","",2.1478232722901001,null,0,0,0,0,0,"","","",null,0.84934944644052357,2.1226040184720461]
[null,null,18.8,7.4151176062597122,2.1527659574468085,10.763829787234043,1.1251619755710311,13935.560387428346,null,null,0.85863195405189541,1.6378376288236313E-2,1.2476970075307155E-2,9.9159621786689099E-3,8.1841148153331995E-3,7.4561184453500332E-3,"","","",0,0,0,0,0,"","","",2.0700288223879579,null,0,0,0,0,0,"","","",null,2.184020061405251,0,0,0,0,0,"","","",2.1010479300280069,null,0,0,0,0,0,"","","",null,0.85399070024620949,2.0089107050496335]
[null,null,18.899999999999999,7.4545597211866248,2.1566402116402115,10.783201058201058,1.131146879696409,13910.526122103507,null,null,0.86327320785758133,1.6466908051956511E-2,1.2544413156795303E-2,9.9695619742292824E-3,8.2283532737944601E-3,7.4964217882978711E-3,"","","",0,0,0,0,0,"","","",2.1215065977301517,null,0,0,0,0,0,"","","",null,2.1958897356520186,0,0,0,0,0,"","","",2.1387841236136818,null,0,0,0,0,0,"","","",null,0.85863195405189541,2.0700288223879579]
[null,null,19,7.4940018361135383,2.1605263157894736,10.802631578947368,1.1371317838217869,13885.505481120585,null,null,0.86791446166326724,1.6555439815676705E-2,1.261185623828345E-2,1.0023161769789655E-2,8.2725917322557206E-3,7.5367251312457089E-3,"","","",0,0,0,0,0,"","","",2.1401442735437239,null,0,0,0,0,0,"","","",null,2.2077594098987863,0,0,0,0,0,"","","",2.1023942753016955,null,0,0,0,0,0,"","","",null,0.86327320785758133,2.1215065977301517]
[null,null,19.100000000000001,7.5334439510404536,2.1644240837696334,10.822120418848167,1.1431166879471648,13860.499993952662,null,null,0.87255571546895316,1.6643971579396899E-2,1.2679299319771596E-2,1.0076761565350026E-2,8.3168301907169812E-3,7.5770284741935468E-3,"","","",0,0,0,0,0,"","","",2.0950561600151274,null,0,0,0,0,0,"","","",null,2.2196290841455539,0,0,0,0,0,"","","",2.1021990229909688,null,0,0,0,0,0,"","","",null,0.86791446166326724,2.1401442735437239]
[null,null,19.2,7.5728860659673662,2.168333333333333,10.841666666666665,1.1491015920725427,13835.511145272869,null,null,0.87719696927463908,1.6732503343117097E-2,1.2746742401259743E-2,1.01303613609104E-2,8.3610686491782417E-3,7.6173318171413856E-3,"","","",0,0,0,0,0,"","","",2.0866151386613274,null,0,0,0,0,0,"","","",null,2.2314987583923216,0,0,0,0,0,"","","",2.0616839858991884,null,0,0,0,0,0,"","","",null,0.87255571546895316,2.0950561600151274]
[null,null,19.3,7.6123281808942798,2.1722538860103628,10.861269430051815,1.1550864961979206,13810.540376152368,null,null,0.881838223080325,1.6821035106837294E-2,1.2814185482747891E-2,1.0183961156470772E-2,8.4053071076395022E-3,7.6576351600892234E-3,"","","",0,0,0,0,0,"","","",2.0850658953796266,null,0,0,0,0,0,"","","",null,2.2433684326390892,0,0,0,0,0,"","","",2.0204013021576905,null,0,0,0,0,0,"","","",null,0.87719696927463908,2.0866151386613274]
[null,null,19.399999999999999,7.6517702958211915,2.1761855670103092,10.880927835051546,1.161071400323298,13785.589085224312,null,null,0.88647947688601092,1.6909566870557492E-2,1.2881628564236036E-2,1.0237560952031145E-2,8.4495455661007628E-3,7.6979385030370613E-3,"","","",0,0,0,0,0,"","","",2.1032653162250492,null,0,0,0,0,0,"","","",null,2.2552381068858569,0,0,0,0,0,"","","",2.0583057890423166,null,0,0,0,0,0,"","","",null,0.881838223080325,2.0850658953796266]
[null,null,19.5,{"$f":"(2*$C$43*$C269)/($C$15/1000000)*1000","v":7.6912124107481059},{"$f":"$C$46+$C$47/C269+$C$48*C269","v":2.1801282051282049},{"$f":"E269*$C$15","v":10.900641025641026},{"$f":"D269*PI()*$C$14*$C$37/4*60/1000","v":1.1670563044486761},{"$f":"($C$13*1000)/F269","v":13760.658629814761},null,null,0.89112073069169684,1.6998098634277686E-2,1.2949071645724182E-2,1.0291160747591517E-2,8.4937840245620233E-3,7.7382418459848983E-3,"","","",0,0,0,0,0,"","","",2.0385022058452287,null,0,0,0,0,0,"","","",null,2.2671077811326246,0,0,0,0,0,"","","",2.1420141312262522,null,0,0,0,0,0,"","","",null,0.88647947688601092,2.1032653162250492]
[null,null,19.600000000000001,7.7306545256750194,2.1840816326530614,10.920408163265307,1.173041208574054,13735.750327041673,null,null,{"$f":"K269+1/($C$74*60)","v":0.89576198449738276},{"$f":"IF(Q$56=\"\",\"\",SQRT(($K270*$K270)/$Q$72))","v":1.7086630397997883E-2},{"$f":"IF(R$56=\"\",\"\",SQRT(($K270*$K270)/$R$72))","v":1.301651472721233E-2},{"$f":"IF(S$56=\"\",\"\",SQRT(($K270*$K270)/$S$72))","v":1.034476054315189E-2},{"$f":"IF(T$56=\"\",\"\",SQRT(($K270*$K270)/$T$72))","v":8.5380224830232838E-3},{"$f":"IF(U$56=\"\",\"\",SQRT(($K270*$K270)/$U$72))","v":7.7785451889327371E-3},{"$f":"IF(V$56=\"\",\"\",SQRT(($K270*$K270)/$V$72))","v":""},{"$f":"IF(W$56=\"\",\"\",SQRT(($K270*$K270)/$W$72))","v":""},{"$f":"IF(X$56=\"\",\"\",SQRT(($K270*$K270)/$X$72))","v":""},{"$f":"IF(Q$56=\"\",\"\",IF(ABS(($K270-Q$60) / ( L270 / 2.2))>20,0,IF(Q$60<>\"\",Q$64 * ( POWER(POWER(Q$67, 2),0.5) + POWER(POWER(Q$67, 2),-0.5)  ) / ( POWER(POWER(Q$67, 2),0.5) * EXP( POWER(1 + POWER(Q$67, 2),-1) * ($K270-Q$60)/ ( L270 / 2.2) ) + POWER(POWER(Q$67, 2),-0.5) * EXP(- POWER(Q$67, 2) * POWER(1 + POWER(Q$67, 2),-1) * ($K270-Q$60) / ( L270 / 2.2) ) ),\"\")))","v":0},{"$f":"IF(R$56=\"\",\"\",IF(ABS(($K270-R$60) / ( M270 / 2.2))>20,0,IF(R$60<>\"\",R$64 * ( POWER(POWER(R$67, 2),0.5) + POWER(POWER(R$67, 2),-0.5)  ) / ( POWER(POWER(R$67, 2),0.5) * EXP( POWER(1 + POWER(R$67, 2),-1) * ($K270-R$60)/ ( M270 / 2.2) ) + POWER(POWER(R$67, 2),-0.5) * EXP(- POWER(R$67, 2) * POWER(1 + POWER(R$67, 2),-1) * ($K270-R$60) / ( M270 / 2.2) ) ),\"\")))","v":0},{"$f":"IF(S$56=\"\",\"\",IF(ABS(($K270-S$60) / ( N270 / 2.2))>20,0,IF(S$60<>\"\",S$64 * ( POWER(POWER(S$67, 2),0.5) + POWER(POWER(S$67, 2),-0.5)  ) / ( POWER(POWER(S$67, 2),0.5) * EXP( POWER(1 + POWER(S$67, 2),-1) * ($K270-S$60)/ ( N270 / 2.2) ) + POWER(POWER(S$67, 2),-0.5) * EXP(- POWER(S$67, 2) * POWER(1 + POWER(S$67, 2),-1) * ($K270-S$60) / ( N270 / 2.2) ) ),\"\")))","v":0},{"$f":"IF(T$56=\"\",\"\",IF(ABS(($K270-T$60) / ( O270 / 2.2))>20,0,IF(T$60<>\"\",T$64 * ( POWER(POWER(T$67, 2),0.5) + POWER(POWER(T$67, 2),-0.5)  ) / ( POWER(POWER(T$67, 2),0.5) * EXP( POWER(1 + POWER(T$67, 2),-1) * ($K270-T$60)/ ( O270 / 2.2) ) + POWER(POWER(T$67, 2),-0.5) * EXP(- POWER(T$67, 2) * POWER(1 + POWER(T$67, 2),-1) * ($K270-T$60) / ( O270 / 2.2) ) ),\"\")))","v":0},{"$f":"IF(U$56=\"\",\"\",IF(ABS(($K270-U$60) / ( P270 / 2.2))>20,0,IF(U$60<>\"\",U$64 * ( POWER(POWER(U$67, 2),0.5) + POWER(POWER(U$67, 2),-0.5)  ) / ( POWER(POWER(U$67, 2),0.5) * EXP( POWER(1 + POWER(U$67, 2),-1) * ($K270-U$60)/ ( P270 / 2.2) ) + POWER(POWER(U$67, 2),-0.5) * EXP(- POWER(U$67, 2) * POWER(1 + POWER(U$67, 2),-1) * ($K270-U$60) / ( P270 / 2.2) ) ),\"\")))","v":0},{"$f":"IF(V$56=\"\",\"\",IF(ABS(($K270-V$60) / ( Q270 / 2.2))>20,0,IF(V$60<>\"\",V$64 * ( POWER(POWER(V$67, 2),0.5) + POWER(POWER(V$67, 2),-0.5)  ) / ( POWER(POWER(V$67, 2),0.5) * EXP( POWER(1 + POWER(V$67, 2),-1) * ($K270-V$60)/ ( Q270 / 2.2) ) + POWER(POWER(V$67, 2),-0.5) * EXP(- POWER(V$67, 2) * POWER(1 + POWER(V$67, 2),-1) * ($K270-V$60) / ( Q270 / 2.2) ) ),\"\")))","v":""},{"$f":"IF(W$56=\"\",\"\",IF(ABS(($K270-W$60) / ( R270 / 2.2))>20,0,IF(W$60<>\"\",W$64 * ( POWER(POWER(W$67, 2),0.5) + POWER(POWER(W$67, 2),-0.5)  ) / ( POWER(POWER(W$67, 2),0.5) * EXP( POWER(1 + POWER(W$67, 2),-1) * ($K270-W$60)/ ( R270 / 2.2) ) + POWER(POWER(W$67, 2),-0.5) * EXP(- POWER(W$67, 2) * POWER(1 + POWER(W$67, 2),-1) * ($K270-W$60) / ( R270 / 2.2) ) ),\"\")))","v":""},{"$f":"IF(X$56=\"\",\"\",IF(ABS(($K270-X$60) / ( S270 / 2.2))>20,0,IF(X$60<>\"\",X$64 * ( POWER(POWER(X$67, 2),0.5) + POWER(POWER(X$67, 2),-0.5)  ) / ( POWER(POWER(X$67, 2),0.5) * EXP( POWER(1 + POWER(X$67, 2),-1) * ($K270-X$60)/ ( S270 / 2.2) ) + POWER(POWER(X$67, 2),-0.5) * EXP(- POWER(X$67, 2) * POWER(1 + POWER(X$67, 2),-1) * ($K270-X$60) / ( S270 / 2.2) ) ),\"\")))","v":""},{"$f":"SUM(T270:AA270)+RAND()*$C$69+$C$67","v":2.1646567675639199},null,{"$f":"IF(Q$56=\"\",\"\",($K270-$K269)*T270)","v":0},{"$f":"IF(R$56=\"\",\"\",($K270-$K269)*U270)","v":0},{"$f":"IF(S$56=\"\",\"\",($K270-$K269)*V270)","v":0},{"$f":"IF(T$56=\"\",\"\",($K270-$K269)*W270)","v":0},{"$f":"IF(U$56=\"\",\"\",($K270-$K269)*X270)","v":0},{"$f":"IF(V$56=\"\",\"\",($K270-$K269)*Y270)","v":""},{"$f":"IF(W$56=\"\",\"\",($K270-$K269)*Z270)","v":""},{"$f":"IF(X$56=\"\",\"\",($K270-$K269)*AA270)","v":""},null,2.2789774553793922,0,0,0,0,0,"","","",2.074203840719572,null,0,0,0,0,0,"","","",null,{"$f":"IF($C$8=\"isocratic\",K269,AM270)","v":0.89112073069169684},{"$f":"IF($C$8=\"isocratic\",AB269,AV270)","v":2.0385022058452287}]
[null,null,19.7,7.7700966406019312,2.1880456852791879,10.94022842639594,1.1790261126994317,13710.8654548829,null,null,0.90040323830306868,1.7175162161718077E-2,1.3083957808700477E-2,1.0398360338712262E-2,8.5822609414845444E-3,7.8188485318805758E-3,"","","",0,0,0,0,0,"","","",2.1506954185868619,null,0,0,0,0,0,"","","",null,{"$f":"AM270+MAX($AK$57:$AR$57)*1.2/3000","v":2.2908471296261599},0,0,0,0,0,"","","",{"$f":"SUM(AN271:AU271)+RAND()*$C$69+K271*$C$70+$C$67","v":2.0207245222444059},null,0,0,0,0,0,"","","",null,0.89576198449738276,2.1646567675639199]
[null,null,19.8,7.8095387555288456,2.1920202020202022,10.960101010101011,1.1850110168248096,13686.005253214136,null,null,0.90504449210875459,1.7263693925438275E-2,1.3151400890188623E-2,1.0451960134272633E-2,8.6264993999458049E-3,7.8591518748284128E-3,"","","",0,0,0,0,0,"","","",2.0485880088003277,null,0,0,0,0,0,"","","",null,2.3027168038729275,{"$f":"IF(AK$56=\"NOT ELUTED\",\"\",IF(AK$51=\"\",\"\",IF(ABS(($AM272-AK$57)/(AK$72/2.2))>20,0,AK$62*(POWER(POWER(AK$66,2),0.5)+POWER(POWER(AK$66,2),-0.5))/(POWER(POWER(AK$66,2),0.5)*EXP(POWER(1+POWER(AK$66,2),-1)*($AM272-AK$57)/(AK$72/2.2))+POWER(POWER(AK$66,2),-0.5)*EXP(-POWER(AK$66,2)*POWER(1+POWER(AK$66,2),-1)*($AM272-AK$57)/(AK$72/2.2))))))","v":0},{"$f":"IF(AL$56=\"NOT ELUTED\",\"\",IF(AL$51=\"\",\"\",IF(ABS(($AM272-AL$57)/(AL$72/2.2))>20,0,AL$62*(POWER(POWER(AL$66,2),0.5)+POWER(POWER(AL$66,2),-0.5))/(POWER(POWER(AL$66,2),0.5)*EXP(POWER(1+POWER(AL$66,2),-1)*($AM272-AL$57)/(AL$72/2.2))+POWER(POWER(AL$66,2),-0.5)*EXP(-POWER(AL$66,2)*POWER(1+POWER(AL$66,2),-1)*($AM272-AL$57)/(AL$72/2.2))))))","v":0},{"$f":"IF(AM$56=\"NOT ELUTED\",\"\",IF(AM$51=\"\",\"\",IF(ABS(($AM272-AM$57)/(AM$72/2.2))>20,0,AM$62*(POWER(POWER(AM$66,2),0.5)+POWER(POWER(AM$66,2),-0.5))/(POWER(POWER(AM$66,2),0.5)*EXP(POWER(1+POWER(AM$66,2),-1)*($AM272-AM$57)/(AM$72/2.2))+POWER(POWER(AM$66,2),-0.5)*EXP(-POWER(AM$66,2)*POWER(1+POWER(AM$66,2),-1)*($AM272-AM$57)/(AM$72/2.2))))))","v":0},{"$f":"IF(AN$56=\"NOT ELUTED\",\"\",IF(AN$51=\"\",\"\",IF(ABS(($AM272-AN$57)/(AN$72/2.2))>20,0,AN$62*(POWER(POWER(AN$66,2),0.5)+POWER(POWER(AN$66,2),-0.5))/(POWER(POWER(AN$66,2),0.5)*EXP(POWER(1+POWER(AN$66,2),-1)*($AM272-AN$57)/(AN$72/2.2))+POWER(POWER(AN$66,2),-0.5)*EXP(-POWER(AN$66,2)*POWER(1+POWER(AN$66,2),-1)*($AM272-AN$57)/(AN$72/2.2))))))","v":0},{"$f":"IF(AO$56=\"NOT ELUTED\",\"\",IF(AO$51=\"\",\"\",IF(ABS(($AM272-AO$57)/(AO$72/2.2))>20,0,AO$62*(POWER(POWER(AO$66,2),0.5)+POWER(POWER(AO$66,2),-0.5))/(POWER(POWER(AO$66,2),0.5)*EXP(POWER(1+POWER(AO$66,2),-1)*($AM272-AO$57)/(AO$72/2.2))+POWER(POWER(AO$66,2),-0.5)*EXP(-POWER(AO$66,2)*POWER(1+POWER(AO$66,2),-1)*($AM272-AO$57)/(AO$72/2.2))))))","v":0},{"$f":"IF(AP$56=\"NOT ELUTED\",\"\",IF(AP$51=\"\",\"\",IF(ABS(($AM272-AP$57)/(AP$72/2.2))>20,0,AP$62*(POWER(POWER(AP$66,2),0.5)+POWER(POWER(AP$66,2),-0.5))/(POWER(POWER(AP$66,2),0.5)*EXP(POWER(1+POWER(AP$66,2),-1)*($AM272-AP$57)/(AP$72/2.2))+POWER(POWER(AP$66,2),-0.5)*EXP(-POWER(AP$66,2)*POWER(1+POWER(AP$66,2),-1)*($AM272-AP$57)/(AP$72/2.2))))))","v":""},{"$f":"IF(AQ$56=\"NOT ELUTED\",\"\",IF(AQ$51=\"\",\"\",IF(ABS(($AM272-AQ$57)/(AQ$72/2.2))>20,0,AQ$62*(POWER(POWER(AQ$66,2),0.5)+POWER(POWER(AQ$66,2),-0.5))/(POWER(POWER(AQ$66,2),0.5)*EXP(POWER(1+POWER(AQ$66,2),-1)*($AM272-AQ$57)/(AQ$72/2.2))+POWER(POWER(AQ$66,2),-0.5)*EXP(-POWER(AQ$66,2)*POWER(1+POWER(AQ$66,2),-1)*($AM272-AQ$57)/(AQ$72/2.2))))))","v":""},{"$f":"IF(AR$56=\"NOT ELUTED\",\"\",IF(AR$51=\"\",\"\",IF(ABS(($AM272-AR$57)/(AR$72/2.2))>20,0,AR$62*(POWER(POWER(AR$66,2),0.5)+POWER(POWER(AR$66,2),-0.5))/(POWER(POWER(AR$66,2),0.5)*EXP(POWER(1+POWER(AR$66,2),-1)*($AM272-AR$57)/(AR$72/2.2))+POWER(POWER(AR$66,2),-0.5)*EXP(-POWER(AR$66,2)*POWER(1+POWER(AR$66,2),-1)*($AM272-AR$57)/(AR$72/2.2))))))","v":""},2.0529660373357235,null,0,0,0,0,0,"","","",null,0.90040323830306868,2.1506954185868619]
[null,null,19.899999999999999,7.8489808704557582,2.1960050251256282,10.980025125628142,1.1909959209501875,13661.170924817792,null,null,0.90968574591444051,1.7352225689158472E-2,1.321884397167677E-2,1.0505559929833007E-2,8.6707378584070655E-3,7.8994552177762516E-3,"","","",0,0,0,0,0,"","","",2.0825172881618781,null,0,0,0,0,0,"","","",null,2.3145864781196952,0,0,0,0,0,"","","",2.0697641644968749,null,0,0,0,0,0,"","","",null,0.90504449210875459,2.0485880088003277]
[null,null,20,7.8884229853826717,2.2000000000000002,11,1.1969808250755649,13636.363636363636,null,null,0.91432699972012643,1.7440757452878666E-2,1.3286287053164916E-2,1.0559159725393379E-2,8.714976316868326E-3,7.9397585607240886E-3,"","","",0,0,0,0,0,"","","",2.0486310598251012,null,0,0,0,0,0,"","","",null,2.3264561523664629,0,0,0,0,0,"","","",2.1090532129912289,null,0,0,0,0,0,"","","",null,0.90968574591444051,2.0825172881618781]
[null,null,20.100000000000001,7.9278651003095861,2.204004975124378,11.020024875621889,1.202965729200943,13611.584519362086,null,null,0.91896825352581235,1.7529289216598864E-2,1.3353730134653064E-2,1.061275952095375E-2,8.7592147753295848E-3,7.9800619036719273E-3,"","","",0,0,0,0,0,"","","",2.1158413877820275,null,0,0,0,0,0,"","","",null,2.3383258266132305,0,0,0,0,0,"","","",2.1212976800180465,null,0,0,0,0,0,"","","",null,0.91432699972012643,2.0486310598251012]
[null,null,20.2,7.9673072152364988,2.208019801980198,11.04009900990099,1.2089506333263207,13586.834671090983,null,null,0.92360950733149827,1.7617820980319058E-2,1.3421173216141211E-2,1.0666359316514124E-2,8.8034532337908453E-3,8.0203652466197661E-3,"","","",0,0,0,0,0,"","","",2.1585211053535684,null,0,0,0,0,0,"","","",null,2.3501955008599982,0,0,0,0,0,"","","",2.1257270126003482,null,{"$f":"IF(AN276=\"\",\"\",($AM277-$AM276)*AN276)","v":0},{"$f":"IF(AO276=\"\",\"\",($AM277-$AM276)*AO276)","v":0},{"$f":"IF(AP276=\"\",\"\",($AM277-$AM276)*AP276)","v":0},{"$f":"IF(AQ276=\"\",\"\",($AM277-$AM276)*AQ276)","v":0},{"$f":"IF(AR276=\"\",\"\",($AM277-$AM276)*AR276)","v":0},{"$f":"IF(AS276=\"\",\"\",($AM277-$AM276)*AS276)","v":""},{"$f":"IF(AT276=\"\",\"\",($AM277-$AM276)*AT276)","v":""},{"$f":"IF(AU276=\"\",\"\",($AM277-$AM276)*AU276)","v":""},null,0.91896825352581235,2.1158413877820275]
[null,null,20.3,8.0067493301634123,2.2120443349753698,11.06022167487685,1.2149355374516986,13562.115155496662,null,null,0.92825076113718419,1.7706352744039255E-2,1.3488616297629357E-2,1.0719959112074497E-2,8.8476916922521076E-3,8.0606685895676031E-3,"","","",0,0,0,0,0,"","","",2.0921117061076151,null,0,0,0,0,0,"","","",null,2.3620651751067658,0,0,0,0,0,"","","",2.0972183149616632,null,0,0,0,0,0,"","","",null,0.92360950733149827,2.1585211053535684]
[null,null,20.399999999999999,8.0461914450903258,2.2160784313725488,11.080392156862743,1.2209204415770767,13537.427004070079,null,null,0.93289201494287011,1.7794884507759449E-2,1.3556059379117504E-2,1.0773558907634869E-2,8.8919301507133681E-3,8.1009719325154401E-3,"","","",0,0,0,0,0,"","","",2.0446052912053645,null,0,0,0,0,0,"","","",null,2.3739348493535335,0,0,0,0,0,"","","",2.1184288353453198,null,0,0,0,0,0,"","","",null,0.92825076113718419,2.0921117061076151]
[null,null,20.5,8.0856335600172393,2.2201219512195123,11.100609756097562,1.2269053457024544,13512.771216698708,null,null,0.93753326874855603,1.788341627147965E-2,1.3623502460605652E-2,1.0827158703195242E-2,8.936168609174627E-3,8.1412752754632788E-3,"","","",0,0,0,0,0,"","","",2.0725300338981358,null,0,0,0,0,0,"","","",null,2.3858045236003012,0,0,0,0,0,"","","",2.0411077927903443,null,0,0,0,0,0,"","","",null,0.93289201494287011,2.0446052912053645]
[null,null,20.6,8.1250756749441528,2.2241747572815536,11.120873786407767,1.2328902498278322,13488.14876249509,null,null,0.94217452255424194,1.7971948035199845E-2,1.3690945542093798E-2,1.0880758498755614E-2,8.9804070676358892E-3,8.1815786184111176E-3,"","","",0,0,0,0,0,"","","",2.0417683538974978,null,0,0,0,0,0,"","","",null,2.3976741978470688,0,0,0,0,0,"","","",2.1403379012984511,null,0,0,0,0,0,"","","",null,0.93753326874855603,2.0725300338981358]
[null,null,20.7,8.1645177898710664,2.2282367149758455,11.141183574879229,1.2388751539532099,13463.560580602498,null,null,0.94681577635992786,1.8060479798920039E-2,1.3758388623581945E-2,1.0934358294315986E-2,9.0246455260971498E-3,8.2218819613589546E-3,"","","",0,0,0,0,0,"","","",2.0533365996245649,null,0,0,0,0,0,"","","",null,2.4095438720938365,0,0,0,0,0,"","","",2.0506434219442227,null,0,0,0,0,0,"","","",null,0.94217452255424194,2.0417683538974978]
[null,null,20.8,8.2039599047979799,2.2323076923076925,11.161538461538463,1.244860058078588,13439.007580978634,null,null,0.95145703016561378,1.8149011562640236E-2,1.3825831705070089E-2,1.0987958089876357E-2,9.0688839845584086E-3,8.2621853043067916E-3,"","","",0,0,0,0,0,"","","",2.082748900225504,null,0,0,0,0,0,"","","",null,2.4214135463406041,0,0,0,0,0,"","","",2.0132177414235906,null,0,0,0,0,0,"","","",null,0.94681577635992786,2.0533365996245649]
[null,null,20.9,8.2434020197248916,2.2363875598086125,11.181937799043062,1.2508449622039655,13414.490645157839,null,null,0.9560982839712997,1.8237543326360434E-2,1.3893274786558238E-2,1.1041557885436731E-2,9.1131224430196708E-3,8.3024886472546303E-3,"","","",0,0,0,0,0,"","","",2.0791713706960233,null,0,0,0,0,0,"","","",null,2.4332832205873718,0,0,0,0,0,"","","",2.048152415347094,null,0,0,0,0,0,"","","",null,0.95145703016561378,2.082748900225504]
[null,null,21,8.2828441346518069,2.2404761904761905,11.202380952380953,1.2568298663293436,13390.010626992562,null,null,0.96073953777698562,1.8326075090080628E-2,1.3960717868046384E-2,1.1095157680997104E-2,9.1573609014809314E-3,8.3427919902024691E-3,"","","",0,0,0,0,0,"","","",2.0776945576473529,null,0,0,0,0,0,"","","",null,2.4451528948341394,0,0,0,0,0,"","","",2.1559242768582507,null,0,0,0,0,0,"","","",null,0.9560982839712997,2.0791713706960233]
[null,null,21.1,8.3222862495787204,2.2445734597156397,11.222867298578198,1.2628147704547215,13365.568353374649,null,null,0.96538079158267154,1.8414606853800825E-2,1.402816094953453E-2,1.1148757476557476E-2,9.2015993599421902E-3,8.3830953331503061E-3,"","","",0,0,0,0,0,"","","",2.0233638861497996,null,0,0,0,0,0,"","","",null,2.4570225690809071,0,0,0,0,0,"","","",2.1526593334140944,null,0,0,0,0,0,"","","",null,0.96073953777698562,2.0776945576473529]
[null,null,21.2,8.3617283645056322,2.2486792452830189,11.243396226415094,1.2687996745800993,13341.164624937071,null,null,0.97002204538835746,1.8503138617521023E-2,1.4095604031022679E-2,1.1202357272117849E-2,9.2458378184034507E-3,8.4233986760981448E-3,"","","",0,0,0,0,0,"","","",2.0581075991856439,null,0,0,0,0,0,"","","",null,2.4688922433276748,0,0,0,0,0,"","","",2.0126520351846522,null,0,0,0,0,0,"","","",null,0.96538079158267154,2.0233638861497996]
[null,null,21.3,8.4011704794325475,2.2527934272300474,11.263967136150237,1.2747845787054772,13316.800216736652,null,null,0.97466329919404338,1.859167038124122E-2,1.4163047112510825E-2,1.1255957067678221E-2,9.290076276864713E-3,8.4637020190459836E-3,"","","",0,0,0,0,0,"","","",2.1283235758778307,null,0,0,0,0,0,"","","",null,2.4807619175744424,0,0,0,0,0,"","","",2.0499484280857305,null,0,0,0,0,0,"","","",null,0.97002204538835746,2.0581075991856439]
[null,null,21.4,8.4406125943594592,2.2569158878504672,11.284579439252337,1.2807694828308549,13292.475878918382,null,null,0.97930455299972929,1.8680202144961414E-2,1.4230490193998972E-2,1.1309556863238594E-2,9.3343147353259718E-3,8.5040053619938206E-3,"","","",0,0,0,0,0,"","","",2.097654442913917,null,0,0,0,0,0,"","","",null,2.4926315918212101,0,0,0,0,0,"","","",2.154042402039269,null,0,0,0,0,0,"","","",null,0.97466329919404338,2.1283235758778307]
[null,null,21.5,8.4800547092863727,2.2610465116279066,11.305232558139533,1.2867543869562326,13268.192337361792,null,null,0.98394580680541521,1.8768733908681608E-2,1.4297933275487118E-2,1.1363156658798966E-2,9.3785531937872323E-3,8.5443087049416593E-3,"","","",0,0,0,0,0,"","","",2.0055693205176586,null,0,0,0,0,0,"","","",null,2.5045012660679777,0,0,0,0,0,"","","",2.0894648208216915,null,0,0,0,0,0,"","","",null,0.97930455299972929,2.097654442913917]
[null,null,21.6,8.5194968242132862,2.2651851851851852,11.325925925925926,1.2927392910816105,13243.950294310007,null,null,0.98858706061110113,1.8857265672401806E-2,1.4365376356975264E-2,1.1416756454359338E-2,9.4227916522484929E-3,8.5846120478894963E-3,"","","",0,0,0,0,0,"","","",2.0124971034130654,null,0,0,0,0,0,"","","",null,2.5163709403147454,0,0,0,0,0,"","","",2.0167834828636737,null,0,0,0,0,0,"","","",null,0.98394580680541521,2.0055693205176586]
[null,null,21.7,8.558938939140198,2.2693317972350231,11.346658986175115,1.2987241952069881,13219.750428981917,null,null,0.99322831441678705,1.8945797436122003E-2,1.4432819438463411E-2,1.1470356249919711E-2,9.4670301107097534E-3,8.6249153908373351E-3,"","","",0,0,0,0,0,"","","",2.1182487587734617,null,0,0,0,0,0,"","","",null,2.5282406145615131,0,0,0,0,0,"","","",2.1259828178500455,null,0,0,0,0,0,"","","",null,0.98858706061110113,2.0124971034130654]
[null,null,21.8,8.5983810540671133,2.2734862385321102,11.36743119266055,1.3047090993323662,13195.593398167952,null,null,0.99786956822247297,1.9034329199842201E-2,1.4500262519951559E-2,1.1523956045480083E-2,9.5112685691710139E-3,8.6652187337851738E-3,"","","",0,0,0,0,0,"","","",2.0490433563132351,null,0,0,0,0,0,"","","",null,2.5401102888082807,0,0,0,0,0,"","","",2.1423805254966735,null,0,0,0,0,0,"","","",null,0.99322831441678705,2.1182487587734617]
[null,null,21.9,8.6378231689940268,2.2776484018264842,11.388242009132421,1.3106940034577441,13171.479836809975,null,null,1.0025108220281589,1.9122860963562395E-2,1.4567705601439706E-2,1.1577555841040456E-2,9.5555070276322745E-3,8.7055220767330108E-3,"","","",0,0,0,0,0,"","","",2.1435190813473342,null,0,0,0,0,0,"","","",null,2.5519799630550484,0,0,0,0,0,"","","",2.0384643848656721,null,0,0,0,0,0,"","","",null,0.99786956822247297,2.0490433563132351]
[null,null,22,8.6772652839209403,2.2818181818181822,11.40909090909091,1.3166789075831218,13147.410358565736,null,null,1.0071520758338448,1.9211392727282589E-2,1.4635148682927852E-2,1.1631155636600827E-2,9.599745486093535E-3,8.7458254196808478E-3,"","","",0,0,0,0,0,"","","",2.0702301344161573,null,0,0,0,0,0,"","","",null,2.563849637301816,0,0,0,0,0,"","","",2.0142906652847201,null,0,0,0,0,0,"","","",null,1.0025108220281589,2.1435190813473342]
[null,null,22.1,8.7167073988478521,2.2859954751131224,11.429977375565612,1.3226638117084992,13123.385556358309,null,null,1.0117933296395307,1.9299924491002787E-2,1.4702591764415998E-2,1.1684755432161201E-2,9.6439839445547956E-3,8.7861287626286866E-3,"","","",0,0,0,0,0,"","","",2.1387964114122258,null,0,0,0,0,0,"","","",null,2.5757193115485837,0,0,0,0,0,"","","",2.0770505857627399,null,0,0,0,0,0,"","","",null,1.0071520758338448,2.0702301344161573]
[null,null,22.2,8.7561495137747656,2.2901801801801804,11.450900900900901,1.3286487158338773,13099.406002910979,null,null,1.0164345834452166,1.9388456254722984E-2,1.4770034845904145E-2,1.1738355227721571E-2,9.6882224030160561E-3,8.8264321055765253E-3,"","","",0,0,0,0,0,"","","",2.0632937841281418,null,0,0,0,0,0,"","","",null,2.5875889857953513,0,0,0,0,0,"","","",2.1571190304019545,null,0,0,0,0,0,"","","",null,1.0117933296395307,2.1387964114122258]
[null,null,22.3,8.7955916287016791,2.2943721973094169,11.471860986547085,1.334633619959255,13075.472251267969,null,null,1.0210758372509026,1.9476988018443182E-2,1.4837477927392293E-2,1.1791955023281946E-2,9.7324608614773184E-3,8.8667354485243641E-3,"","","",0,0,0,0,0,"","","",2.0202131636747556,null,0,0,0,0,0,"","","",null,2.599458660042119,0,0,0,0,0,"","","",2.1464327003254686,null,0,0,0,0,0,"","","",null,1.0164345834452166,2.0632937841281418]
[null,null,22.4,8.8350337436285926,2.2985714285714285,11.492857142857142,1.3406185240846331,13051.58483530143,null,null,1.0257170910565885,1.9565519782163376E-2,1.490492100888044E-2,1.1845554818842318E-2,9.7766993199385772E-3,8.9070387914722011E-3,"","","",0,0,0,0,0,"","","",2.1340995135565772,null,0,0,0,0,0,"","","",null,2.6113283342888867,0,0,0,0,0,"","","",2.0384716240000125,null,0,0,0,0,0,"","","",null,1.0210758372509026,2.0202131636747556]
[null,null,22.5,8.8744758585555061,2.302777777777778,11.513888888888889,1.3466034282100106,13027.744270205067,null,null,1.0303583448622744,1.9654051545883573E-2,1.4972364090368584E-2,1.1899154614402691E-2,9.8209377783998377E-3,8.9473421344200381E-3,"","","",0,0,0,0,0,"","","",2.0488521643691469,null,0,0,0,0,0,"","","",null,2.6231980085356543,0,0,0,0,0,"","","",2.1083970918523969,null,0,0,0,0,0,"","","",null,1.0257170910565885,2.1340995135565772]
[null,null,22.6,8.9139179734824197,2.306991150442478,11.53495575221239,1.3525883323353887,13003.951052974797,null,null,1.0349995986679603,1.9742583309603771E-2,1.5039807171856734E-2,1.1952754409963063E-2,9.8651762368611E-3,8.9876454773678768E-3,"","","",0,0,0,0,0,"","","",2.0780151474938506,null,0,0,0,0,0,"","","",null,2.635067682782422,0,0,0,0,0,"","","",2.1267566079838862,null,0,0,0,0,0,"","","",null,1.0303583448622744,2.0488521643691469]
[null,null,22.7,8.9533600884093349,2.3112114537444937,11.556057268722469,1.3585732364607668,12980.2056628768,null,null,1.0396408524736462,1.9831115073323965E-2,1.5107250253344879E-2,1.2006354205523435E-2,9.9094146953223588E-3,9.0279488203157156E-3,"","","",0,0,0,0,0,"","","",2.0576208087003267,null,0,0,0,0,0,"","","",null,2.6469373570291896,0,0,0,0,0,"","","",2.0209263697300992,null,0,0,0,0,0,"","","",null,1.0349995986679603,2.0780151474938506]
[null,null,22.8,8.9928022033362467,2.3154385964912283,11.577192982456141,1.3645581405861442,12956.508561903318,null,null,1.0442821062793322,1.9919646837044162E-2,1.5174693334833027E-2,1.2059954001083808E-2,9.9536531537836211E-3,9.0682521632635526E-3,"","","",0,0,0,0,0,"","","",2.0934612255281797,null,0,0,0,0,0,"","","",null,2.6588070312759573,0,0,0,0,0,"","","",2.0713461880842452,null,0,0,0,0,0,"","","",null,1.0396408524736462,2.0576208087003267]
[null,null,22.9,9.0322443182631584,2.3196724890829694,11.598362445414846,1.3705430447115221,12932.860195216537,null,null,1.0489233600850181,2.000817860076436E-2,1.5242136416321174E-2,1.211355379664418E-2,9.9978916122448799E-3,9.1085555062113913E-3,"","","",0,0,0,0,0,"","","",2.0881889345570497,null,0,0,0,0,0,"","","",null,2.670676705522725,0,0,0,0,0,"","","",2.1011754091242216,null,0,0,0,0,0,"","","",null,1.0442821062793322,2.0934612255281797]
[null,null,23,9.0716864331900737,2.3239130434782611,11.619565217391305,1.3765279488369002,12909.260991580917,null,null,1.053564613890704,2.0096710364484554E-2,1.530957949780932E-2,1.2167153592204553E-2,1.004213007070614E-2,9.1488588491592283E-3,"","","",0,0,0,0,0,"","","",2.1064864206910165,null,0,0,0,0,0,"","","",null,2.6825463797694926,0,0,0,0,0,"","","",2.0048041981324745,null,0,0,0,0,0,"","","",null,1.0489233600850181,2.0881889345570497]
[null,null,23.1,9.1111285481169872,2.3281601731601729,11.640800865800864,1.3825128529622779,12885.711363784272,null,null,1.0582058676963899,2.0185242128204751E-2,1.5377022579297467E-2,1.2220753387764925E-2,1.0086368529167401E-2,9.1891621921070671E-3,"","","",0,0,0,0,0,"","","",2.0858913907539556,null,0,0,0,0,0,"","","",null,2.6944160540162603,0,0,0,0,0,"","","",2.005675075042646,null,0,0,0,0,0,"","","",null,1.053564613890704,2.1064864206910165]
[null,null,23.2,9.150570663043899,2.3324137931034485,11.662068965517243,1.3884977570876555,12862.211709047899,null,null,1.0628471215020758,2.0273773891924949E-2,1.5444465660785613E-2,1.2274353183325298E-2,1.0130606987628661E-2,9.2294655350549041E-3,"","","",0,0,0,0,0,"","","",2.0960674113098547,null,0,0,0,0,0,"","","",null,2.7062857282630279,0,0,0,0,0,"","","",2.0115828668389466,null,0,0,0,0,0,"","","",null,1.0582058676963899,2.0858913907539556]
[null,null,23.3,9.1900127779708143,2.3366738197424892,11.683369098712447,1.3944826612130337,12838.762409426112,null,null,1.0674883753077617,2.0362305655645143E-2,1.5511908742273759E-2,1.232795297888567E-2,1.0174845446089922E-2,9.2697688780027428E-3,"","","",0,0,0,0,0,"","","",2.022522064259114,null,0,0,0,0,0,"","","",null,2.7181554025097956,0,0,0,0,0,"","","",2.0293727566480335,null,0,0,0,0,0,"","","",null,1.0628471215020758,2.0960674113098547]
[null,null,23.4,9.229454892897726,2.3409401709401711,11.704700854700857,1.4004675653384111,12815.363832195404,null,null,1.0721296291134477,2.0450837419365337E-2,1.5579351823761906E-2,1.2381552774446043E-2,1.0219083904551183E-2,9.3100722209505798E-3,"","","",0,0,0,0,0,"","","",2.0704505154925896,null,0,0,0,0,0,"","","",null,2.7300250767565633,0,0,0,0,0,"","","",2.0935512490688062,null,0,0,0,0,0,"","","",null,1.0674883753077617,2.022522064259114]
[null,null,23.5,9.2688970078246395,2.3452127659574469,11.726063829787234,1.406452469463789,12792.016330233613,null,null,1.0767708829191336,2.0539369183085535E-2,1.5646794905250054E-2,1.2435152570006415E-2,1.0263322363012443E-2,9.3503755638984186E-3,"","","",0,0,0,0,0,"","","",2.0349504738984323,null,0,0,0,0,0,"","","",null,2.7418947510033309,0,0,0,0,0,"","","",2.1300133422139091,null,0,0,0,0,0,"","","",null,1.0721296291134477,2.0704505154925896]
[null,null,23.6,9.3083391227515548,2.349491525423729,11.747457627118646,1.4124373735891673,12768.720242389263,null,null,1.0814121367248195,2.0627900946805732E-2,1.5714237986738201E-2,1.2488752365566787E-2,1.0307560821473704E-2,9.3906789068462573E-3,"","","",0,0,0,0,0,"","","",2.1037955731867899,null,0,0,0,0,0,"","","",null,2.7537644252500986,0,0,0,0,0,"","","",2.1450831069267591,null,0,0,0,0,0,"","","",null,1.0767708829191336,2.0349504738984323]
[null,null,23.7,9.3477812376784666,2.3537763713080171,11.768881856540085,1.4184222777145448,12745.475893841478,null,null,1.0860533905305054,2.0716432710525926E-2,1.5781681068226347E-2,1.254235216112716E-2,1.0351799279934964E-2,9.4309822497940943E-3,"","","",0,0,0,0,0,"","","",2.1371724674353585,null,0,0,0,0,0,"","","",null,2.7656340994968662,0,0,0,0,0,"","","",2.0434301791654192,null,0,0,0,0,0,"","","",null,1.0814121367248195,2.1037955731867899]
[null,null,23.8,9.3872233526053801,2.3580672268907565,11.790336134453783,1.4244071818399224,12722.283596450588,null,null,1.0906946443361913,2.0804964474246124E-2,1.5849124149714493E-2,1.2595951956687532E-2,1.0396037738396225E-2,9.4712855927419331E-3,"","","",0,0,0,0,0,"","","",2.164332534066475,null,0,0,0,0,0,"","","",null,2.7775037737436339,0,0,0,0,0,"","","",2.0259329070740724,null,0,0,0,0,0,"","","",null,1.0860533905305054,2.1371724674353585]
[null,null,23.9,9.4266654675322936,2.362364016736402,11.81182008368201,1.4303920859653005,12699.143649099811,null,null,1.0953358981418773,2.0893496237966321E-2,1.591656723120264E-2,1.2649551752247905E-2,1.0440276196857485E-2,9.5115889356897701E-3,"","","",0,0,0,0,0,"","","",2.1036128919145236,null,0,0,0,0,0,"","","",null,2.7893734479904015,0,0,0,0,0,"","","",2.1212914782517918,null,0,0,0,0,0,"","","",null,1.0906946443361913,2.164332534066475]
[null,null,24,9.4661075824592071,2.3666666666666671,11.833333333333336,1.4363769900906784,12676.056338028167,null,null,1.0999771519475632,2.0982028001686519E-2,1.5984010312690786E-2,1.2703151547808277E-2,1.0484514655318746E-2,9.5518922786376088E-3,"","","",0,0,0,0,0,"","","",2.146789684783184,null,0,0,0,0,0,"","","",null,2.8012431222371692,0,0,0,0,0,"","","",2.111882462477118,null,0,0,0,0,0,"","","",null,1.0953358981418773,2.1036128919145236]
[null,null,24.1,9.5055496973861207,2.3709751037344402,11.854875518672202,1.4423618942160561,12653.021937154905,null,null,1.1046184057532491,2.1070559765406713E-2,1.6051453394178933E-2,1.275675134336865E-2,1.0528753113780006E-2,9.5921956215854476E-3,"","","",0,0,0,0,0,"","","",2.0208420418673603,null,0,0,0,0,0,"","","",null,2.8131127964839369,0,0,0,0,0,"","","",2.1304906294658301,null,0,0,0,0,0,"","","",null,1.0999771519475632,2.146789684783184]
[null,null,24.2,9.5449918123130342,2.375289256198347,11.876446280991734,1.448346798341434,12630.040708395672,null,null,1.109259659558935,2.1159091529126907E-2,1.6118896475667079E-2,1.2810351138929022E-2,1.0572991572241267E-2,9.6324989645332846E-3,"","","",0,0,0,0,0,"","","",2.0055058575655016,null,0,0,0,0,0,"","","",null,2.8249824707307045,0,0,0,0,0,"","","",2.1504446949543201,null,0,0,0,0,0,"","","",null,1.1046184057532491,2.0208420418673603]
[null,null,24.3,9.5844339272399459,2.3796090534979424,11.898045267489712,1.4543317024668112,12607.112901970619,null,null,1.1139009133646209,2.1247623292847104E-2,1.6186339557155229E-2,1.2863950934489395E-2,1.0617230030702527E-2,9.6728023074811233E-3,"","","",0,0,0,0,0,"","","",2.0416008212650869,null,0,0,0,0,0,"","","",null,2.8368521449774722,0,0,0,0,0,"","","",2.104994126947314,null,0,0,0,0,0,"","","",null,1.109259659558935,2.0055058575655016]
[null,null,24.4,9.6238760421668577,2.3839344262295081,11.919672131147541,1.4603166065921891,12584.238756704717,null,null,1.1185421671703069,2.1336155056567302E-2,1.6253782638643376E-2,1.2917550730049767E-2,1.0661468489163788E-2,9.7131056504289603E-3,"","","",0,0,0,0,0,"","","",2.0359072970845604,null,0,0,0,0,0,"","","",null,2.8487218192242398,0,0,0,0,0,"","","",2.0848198925551156,null,0,0,0,0,0,"","","",null,1.1139009133646209,2.0416008212650869]
[null,null,24.5,9.6633181570937747,2.3882653061224488,11.941326530612244,1.4663015107175674,12561.418500320446,null,null,1.1231834209759928,2.1424686820287496E-2,1.6321225720131522E-2,1.2971150525610139E-2,1.0705706947625048E-2,9.7534089933767991E-3,"","","",0,0,0,0,0,"","","",2.0727324897700772,null,0,0,0,0,0,"","","",null,2.8605914934710075,0,0,0,0,0,"","","",2.1073471390228407,null,0,0,0,0,0,"","","",null,1.1185421671703069,2.0359072970845604]
[null,null,24.6,9.7027602720206882,2.3926016260162601,11.963008130081301,1.4722864148429453,12538.652349723063,null,null,1.1278246747816787,2.1513218584007694E-2,1.6388668801619669E-2,1.3024750321170512E-2,1.0749945406086309E-2,9.7937123363246361E-3,"","","",0,0,0,0,0,"","","",2.0519776641474268,null,0,0,0,0,0,"","","",null,2.8724611677177752,0,0,0,0,0,"","","",2.164086049401575,null,0,0,0,0,0,"","","",null,1.1231834209759928,2.0727324897700772]
[null,null,24.7,9.7422023869476,2.3969433198380568,11.984716599190284,1.478271318968323,12515.940511278703,null,null,1.1324659285873646,2.1601750347727888E-2,1.6456111883107815E-2,1.3078350116730884E-2,1.079418386454757E-2,9.8340156792724748E-3,"","","",0,0,0,0,0,"","","",2.1196674025365367,null,0,0,0,0,0,"","","",null,2.8843308419645428,0,0,0,0,0,"","","",2.0976243725487387,null,0,0,0,0,0,"","","",null,1.1278246747816787,2.0519776641474268]
[null,null,24.8,9.7816445018745153,2.4012903225806452,12.006451612903227,1.4842562230937011,12493.283181085437,null,null,1.1371071823930505,2.1690282111448085E-2,1.6523554964595961E-2,1.3131949912291257E-2,1.083842232300883E-2,9.8743190222203136E-3,"","","",0,0,0,0,0,"","","",2.1350529067439785,null,0,0,0,0,0,"","","",null,2.8962005162113105,0,0,0,0,0,"","","",2.1336703503872152,null,0,0,0,0,0,"","","",null,1.1324659285873646,2.1196674025365367]
[null,null,24.9,9.821086616801427,2.4056425702811248,12.028212851405623,1.4902411272190788,12470.680545237517,null,null,1.1417484361987364,2.1778813875168283E-2,1.6590998046084108E-2,1.3185549707851629E-2,1.0882660781470091E-2,9.9146223651681506E-3,"","","",0,0,0,0,0,"","","",2.0168477025178704,null,0,0,0,0,0,"","","",null,2.9080701904580781,0,0,0,0,0,"","","",2.1041106886899033,null,0,0,0,0,0,"","","",null,1.1371071823930505,2.1350529067439785]
[null,null,25,9.8605287317283405,2.41,12.05,1.4962260313444566,12448.132780082988,null,null,1.1463896900044224,2.186734563888848E-2,1.6658441127572254E-2,1.3239149503412002E-2,1.0926899239931351E-2,9.9549257081159876E-3,"","","",0,0,0,0,0,"","","",2.012545771461101,null,0,0,0,0,0,"","","",null,2.9199398647048458,0,0,0,0,0,"","","",2.1125782812141858,null,0,0,0,0,0,"","","",null,1.1417484361987364,2.0168477025178704]
[null,null,25.1,9.8999708466552541,2.414362549800797,12.071812749003985,1.5022109354698343,12425.640052474813,null,null,1.1510309438101083,2.1955877402608674E-2,1.6725884209060401E-2,1.3292749298972374E-2,1.0971137698392612E-2,9.9952290510638264E-3,"","","",0,0,0,0,0,"","","",2.0589565179217733,null,0,0,0,0,0,"","","",null,2.9318095389516134,0,0,0,0,0,"","","",2.0432398675647279,null,0,0,0,0,0,"","","",null,1.1463896900044224,2.012545771461101]
[null,null,25.2,9.9394129615821658,2.4187301587301588,12.093650793650795,1.5081958395952118,12403.202520015748,null,null,1.1556721976157942,2.2044409166328872E-2,1.6793327290548547E-2,1.3346349094532747E-2,1.1015376156853872E-2,1.0035532394011665E-2,"","","",0,0,0,0,0,"","","",2.1550694104294719,null,0,0,0,0,0,"","","",null,2.9436792131983811,0,0,0,0,0,"","","",2.1657993480575555,null,0,0,0,0,0,"","","",null,1.1510309438101083,2.0589565179217733]
[null,null,25.3,9.9788550765090811,2.4231027667984191,12.115513833992095,1.5141807437205903,12380.820331297049,null,null,1.1603134514214801,2.2132940930049066E-2,1.6860770372036694E-2,1.3399948890093119E-2,1.1059614615315133E-2,1.0075835736959502E-2,"","","",0,0,0,0,0,"","","",2.0026579362821586,null,0,0,0,0,0,"","","",null,2.9555488874451488,0,0,0,0,0,"","","",2.0682707920777976,null,0,0,0,0,0,"","","",null,1.1556721976157942,2.1550694104294719]
[null,null,25.4,10.018297191435995,2.4274803149606301,12.13740157480315,1.520165647845968,12358.49362613124,null,null,1.164954705227166,2.2221472693769263E-2,1.692821345352484E-2,1.3453548685653492E-2,1.1103853073776393E-2,1.0116139079907341E-2,"","","",0,0,0,0,0,"","","",2.0010703789568138,null,0,0,0,0,0,"","","",null,2.9674185616919164,0,0,0,0,0,"","","",2.1003899744247487,null,0,0,0,0,0,"","","",null,1.1603134514214801,2.0026579362821586]
[null,null,25.5,10.057739306362908,2.431862745098039,12.159313725490195,1.5261505519713459,12336.222535779078,null,null,1.169595959032852,2.2310004457489461E-2,1.699565653501299E-2,1.3507148481213864E-2,1.1148091532237654E-2,1.015644242285518E-2,"","","",0,0,0,0,0,"","","",2.042653048970196,null,0,0,0,0,0,"","","",null,2.9792882359386841,0,0,0,0,0,"","","",2.1483608546637845,null,0,0,0,0,0,"","","",null,1.164954705227166,2.0010703789568138]
[null,null,25.6,10.097181421289822,2.4362500000000002,12.181250000000002,1.5321354560967237,12314.007183170856,null,null,1.1742372128385379,2.2398536221209655E-2,1.7063099616501133E-2,1.3560748276774236E-2,1.1192329990698914E-2,1.0196745765803017E-2,"","","",0,0,0,0,0,"","","",2.1307372865322183,null,0,0,0,0,0,"","","",null,2.9911579101854517,0,0,0,0,0,"","","",2.1279890836542639,null,0,0,0,0,0,"","","",null,1.169595959032852,2.042653048970196]
[null,null,25.7,10.136623536216733,2.4406420233463035,12.203210116731517,1.5381203602221012,12291.847683122225,null,null,1.1788784666442238,2.2487067984929852E-2,1.7130542697989283E-2,1.3614348072334609E-2,1.1236568449160175E-2,1.0237049108750855E-2,"","","",0,0,0,0,0,"","","",2.110656931908752,null,0,0,0,0,0,"","","",null,3.0030275844322194,0,0,0,0,0,"","","",2.007074887791628,null,0,0,0,0,0,"","","",null,1.1742372128385379,2.1307372865322183]
[null,null,25.8,10.176065651143647,2.4450387596899228,12.225193798449613,1.5441052643474791,12269.744142544623,null,null,1.1835197204499097,2.2575599748650046E-2,1.7197985779477429E-2,1.3667947867894981E-2,1.1280806907621435E-2,1.0277352451698692E-2,"","","",0,0,0,0,0,"","","",2.0679940701687429,null,0,0,0,0,0,"","","",null,3.0148972586789871,0,0,0,0,0,"","","",2.0226967419520037,null,0,0,0,0,0,"","","",null,1.1788784666442238,2.110656931908752]
[null,null,25.9,{"$f":"(2*$C$43*$C333)/($C$15/1000000)*1000","v":10.21550776607056},{"$f":"$C$46+$C$47/C333+$C$48*C333","v":2.4494401544401541},{"$f":"E333*$C$15","v":12.24720077220077},{"$f":"D333*PI()*$C$14*$C$37/4*60/1000","v":1.5500901684728572},{"$f":"($C$13*1000)/F333","v":12247.696660650532},null,null,1.1881609742555956,2.2664131512370247E-2,1.7265428860965576E-2,1.3721547663455354E-2,1.1325045366082696E-2,1.0317655794646531E-2,"","","",0,0,0,0,0,"","","",2.1315561028250052,null,0,0,0,0,0,"","","",null,3.0267669329257547,0,0,0,0,0,"","","",2.1366881601285841,null,0,0,0,0,0,"","","",null,1.1835197204499097,2.0679940701687429]
[null,null,26,10.254949880997474,2.453846153846154,12.26923076923077,1.5560750725982349,12225.705329153605,null,null,{"$f":"K333+1/($C$74*60)","v":1.1928022280612816},{"$f":"IF(Q$56=\"\",\"\",SQRT(($K334*$K334)/$Q$72))","v":2.2752663276090442E-2},{"$f":"IF(R$56=\"\",\"\",SQRT(($K334*$K334)/$R$72))","v":1.7332871942453722E-2},{"$f":"IF(S$56=\"\",\"\",SQRT(($K334*$K334)/$S$72))","v":1.3775147459015726E-2},{"$f":"IF(T$56=\"\",\"\",SQRT(($K334*$K334)/$T$72))","v":1.1369283824543957E-2},{"$f":"IF(U$56=\"\",\"\",SQRT(($K334*$K334)/$U$72))","v":1.0357959137594368E-2},{"$f":"IF(V$56=\"\",\"\",SQRT(($K334*$K334)/$V$72))","v":""},{"$f":"IF(W$56=\"\",\"\",SQRT(($K334*$K334)/$W$72))","v":""},{"$f":"IF(X$56=\"\",\"\",SQRT(($K334*$K334)/$X$72))","v":""},{"$f":"IF(Q$56=\"\",\"\",IF(ABS(($K334-Q$60) / ( L334 / 2.2))>20,0,IF(Q$60<>\"\",Q$64 * ( POWER(POWER(Q$67, 2),0.5) + POWER(POWER(Q$67, 2),-0.5)  ) / ( POWER(POWER(Q$67, 2),0.5) * EXP( POWER(1 + POWER(Q$67, 2),-1) * ($K334-Q$60)/ ( L334 / 2.2) ) + POWER(POWER(Q$67, 2),-0.5) * EXP(- POWER(Q$67, 2) * POWER(1 + POWER(Q$67, 2),-1) * ($K334-Q$60) / ( L334 / 2.2) ) ),\"\")))","v":0},{"$f":"IF(R$56=\"\",\"\",IF(ABS(($K334-R$60) / ( M334 / 2.2))>20,0,IF(R$60<>\"\",R$64 * ( POWER(POWER(R$67, 2),0.5) + POWER(POWER(R$67, 2),-0.5)  ) / ( POWER(POWER(R$67, 2),0.5) * EXP( POWER(1 + POWER(R$67, 2),-1) * ($K334-R$60)/ ( M334 / 2.2) ) + POWER(POWER(R$67, 2),-0.5) * EXP(- POWER(R$67, 2) * POWER(1 + POWER(R$67, 2),-1) * ($K334-R$60) / ( M334 / 2.2) ) ),\"\")))","v":0},{"$f":"IF(S$56=\"\",\"\",IF(ABS(($K334-S$60) / ( N334 / 2.2))>20,0,IF(S$60<>\"\",S$64 * ( POWER(POWER(S$67, 2),0.5) + POWER(POWER(S$67, 2),-0.5)  ) / ( POWER(POWER(S$67, 2),0.5) * EXP( POWER(1 + POWER(S$67, 2),-1) * ($K334-S$60)/ ( N334 / 2.2) ) + POWER(POWER(S$67, 2),-0.5) * EXP(- POWER(S$67, 2) * POWER(1 + POWER(S$67, 2),-1) * ($K334-S$60) / ( N334 / 2.2) ) ),\"\")))","v":0},{"$f":"IF(T$56=\"\",\"\",IF(ABS(($K334-T$60) / ( O334 / 2.2))>20,0,IF(T$60<>\"\",T$64 * ( POWER(POWER(T$67, 2),0.5) + POWER(POWER(T$67, 2),-0.5)  ) / ( POWER(POWER(T$67, 2),0.5) * EXP( POWER(1 + POWER(T$67, 2),-1) * ($K334-T$60)/ ( O334 / 2.2) ) + POWER(POWER(T$67, 2),-0.5) * EXP(- POWER(T$67, 2) * POWER(1 + POWER(T$67, 2),-1) * ($K334-T$60) / ( O334 / 2.2) ) ),\"\")))","v":0},{"$f":"IF(U$56=\"\",\"\",IF(ABS(($K334-U$60) / ( P334 / 2.2))>20,0,IF(U$60<>\"\",U$64 * ( POWER(POWER(U$67, 2),0.5) + POWER(POWER(U$67, 2),-0.5)  ) / ( POWER(POWER(U$67, 2),0.5) * EXP( POWER(1 + POWER(U$67, 2),-1) * ($K334-U$60)/ ( P334 / 2.2) ) + POWER(POWER(U$67, 2),-0.5) * EXP(- POWER(U$67, 2) * POWER(1 + POWER(U$67, 2),-1) * ($K334-U$60) / ( P334 / 2.2) ) ),\"\")))","v":0},{"$f":"IF(V$56=\"\",\"\",IF(ABS(($K334-V$60) / ( Q334 / 2.2))>20,0,IF(V$60<>\"\",V$64 * ( POWER(POWER(V$67, 2),0.5) + POWER(POWER(V$67, 2),-0.5)  ) / ( POWER(POWER(V$67, 2),0.5) * EXP( POWER(1 + POWER(V$67, 2),-1) * ($K334-V$60)/ ( Q334 / 2.2) ) + POWER(POWER(V$67, 2),-0.5) * EXP(- POWER(V$67, 2) * POWER(1 + POWER(V$67, 2),-1) * ($K334-V$60) / ( Q334 / 2.2) ) ),\"\")))","v":""},{"$f":"IF(W$56=\"\",\"\",IF(ABS(($K334-W$60) / ( R334 / 2.2))>20,0,IF(W$60<>\"\",W$64 * ( POWER(POWER(W$67, 2),0.5) + POWER(POWER(W$67, 2),-0.5)  ) / ( POWER(POWER(W$67, 2),0.5) * EXP( POWER(1 + POWER(W$67, 2),-1) * ($K334-W$60)/ ( R334 / 2.2) ) + POWER(POWER(W$67, 2),-0.5) * EXP(- POWER(W$67, 2) * POWER(1 + POWER(W$67, 2),-1) * ($K334-W$60) / ( R334 / 2.2) ) ),\"\")))","v":""},{"$f":"IF(X$56=\"\",\"\",IF(ABS(($K334-X$60) / ( S334 / 2.2))>20,0,IF(X$60<>\"\",X$64 * ( POWER(POWER(X$67, 2),0.5) + POWER(POWER(X$67, 2),-0.5)  ) / ( POWER(POWER(X$67, 2),0.5) * EXP( POWER(1 + POWER(X$67, 2),-1) * ($K334-X$60)/ ( S334 / 2.2) ) + POWER(POWER(X$67, 2),-0.5) * EXP(- POWER(X$67, 2) * POWER(1 + POWER(X$67, 2),-1) * ($K334-X$60) / ( S334 / 2.2) ) ),\"\")))","v":""},{"$f":"SUM(T334:AA334)+RAND()*$C$69+$C$67","v":2.0749441516037219},null,{"$f":"IF(Q$56=\"\",\"\",($K334-$K333)*T334)","v":0},{"$f":"IF(R$56=\"\",\"\",($K334-$K333)*U334)","v":0},{"$f":"IF(S$56=\"\",\"\",($K334-$K333)*V334)","v":0},{"$f":"IF(T$56=\"\",\"\",($K334-$K333)*W334)","v":0},{"$f":"IF(U$56=\"\",\"\",($K334-$K333)*X334)","v":0},{"$f":"IF(V$56=\"\",\"\",($K334-$K333)*Y334)","v":""},{"$f":"IF(W$56=\"\",\"\",($K334-$K333)*Z334)","v":""},{"$f":"IF(X$56=\"\",\"\",($K334-$K333)*AA334)","v":""},null,3.0386366071725224,0,0,0,0,0,"","","",2.0105397358050321,null,0,0,0,0,0,"","","",null,{"$f":"IF($C$8=\"isocratic\",K333,AM334)","v":1.1881609742555956},{"$f":"IF($C$8=\"isocratic\",AB333,AV334)","v":2.1315561028250052}]
[null,null,26.1,10.294391995924387,2.458256704980843,12.291283524904216,1.5620599767236127,12203.770232463898,null,null,1.1974434818669675,2.2841195039810636E-2,1.7400315023941869E-2,1.3828747254576099E-2,1.1413522283005217E-2,1.0398262480542207E-2,"","","",0,0,0,0,0,"","","",2.1433791175817656,null,0,0,0,0,0,"","","",null,{"$f":"AM334+MAX($AK$57:$AR$57)*1.2/3000","v":3.05050628141929},0,0,0,0,0,"","","",{"$f":"SUM(AN335:AU335)+RAND()*$C$69+K335*$C$70+$C$67","v":2.1160539920009964},null,0,0,0,0,0,"","","",null,1.1928022280612816,2.0749441516037219]
[null,null,26.2,10.333834110851301,2.4626717557251911,12.313358778625956,1.5680448808489904,12181.891447878241,null,null,1.2020847356726534,2.2929726803530833E-2,1.7467758105430015E-2,1.3882347050136469E-2,1.1457760741466476E-2,1.0438565823490044E-2,"","","",0,0,0,0,0,"","","",2.0684870990457624,null,0,0,0,0,0,"","","",null,3.0623759556660577,{"$f":"IF(AK$56=\"NOT ELUTED\",\"\",IF(AK$51=\"\",\"\",IF(ABS(($AM336-AK$57)/(AK$72/2.2))>20,0,AK$62*(POWER(POWER(AK$66,2),0.5)+POWER(POWER(AK$66,2),-0.5))/(POWER(POWER(AK$66,2),0.5)*EXP(POWER(1+POWER(AK$66,2),-1)*($AM336-AK$57)/(AK$72/2.2))+POWER(POWER(AK$66,2),-0.5)*EXP(-POWER(AK$66,2)*POWER(1+POWER(AK$66,2),-1)*($AM336-AK$57)/(AK$72/2.2))))))","v":0},{"$f":"IF(AL$56=\"NOT ELUTED\",\"\",IF(AL$51=\"\",\"\",IF(ABS(($AM336-AL$57)/(AL$72/2.2))>20,0,AL$62*(POWER(POWER(AL$66,2),0.5)+POWER(POWER(AL$66,2),-0.5))/(POWER(POWER(AL$66,2),0.5)*EXP(POWER(1+POWER(AL$66,2),-1)*($AM336-AL$57)/(AL$72/2.2))+POWER(POWER(AL$66,2),-0.5)*EXP(-POWER(AL$66,2)*POWER(1+POWER(AL$66,2),-1)*($AM336-AL$57)/(AL$72/2.2))))))","v":0},{"$f":"IF(AM$56=\"NOT ELUTED\",\"\",IF(AM$51=\"\",\"\",IF(ABS(($AM336-AM$57)/(AM$72/2.2))>20,0,AM$62*(POWER(POWER(AM$66,2),0.5)+POWER(POWER(AM$66,2),-0.5))/(POWER(POWER(AM$66,2),0.5)*EXP(POWER(1+POWER(AM$66,2),-1)*($AM336-AM$57)/(AM$72/2.2))+POWER(POWER(AM$66,2),-0.5)*EXP(-POWER(AM$66,2)*POWER(1+POWER(AM$66,2),-1)*($AM336-AM$57)/(AM$72/2.2))))))","v":0},{"$f":"IF(AN$56=\"NOT ELUTED\",\"\",IF(AN$51=\"\",\"\",IF(ABS(($AM336-AN$57)/(AN$72/2.2))>20,0,AN$62*(POWER(POWER(AN$66,2),0.5)+POWER(POWER(AN$66,2),-0.5))/(POWER(POWER(AN$66,2),0.5)*EXP(POWER(1+POWER(AN$66,2),-1)*($AM336-AN$57)/(AN$72/2.2))+POWER(POWER(AN$66,2),-0.5)*EXP(-POWER(AN$66,2)*POWER(1+POWER(AN$66,2),-1)*($AM336-AN$57)/(AN$72/2.2))))))","v":0},{"$f":"IF(AO$56=\"NOT ELUTED\",\"\",IF(AO$51=\"\",\"\",IF(ABS(($AM336-AO$57)/(AO$72/2.2))>20,0,AO$62*(POWER(POWER(AO$66,2),0.5)+POWER(POWER(AO$66,2),-0.5))/(POWER(POWER(AO$66,2),0.5)*EXP(POWER(1+POWER(AO$66,2),-1)*($AM336-AO$57)/(AO$72/2.2))+POWER(POWER(AO$66,2),-0.5)*EXP(-POWER(AO$66,2)*POWER(1+POWER(AO$66,2),-1)*($AM336-AO$57)/(AO$72/2.2))))))","v":0},{"$f":"IF(AP$56=\"NOT ELUTED\",\"\",IF(AP$51=\"\",\"\",IF(ABS(($AM336-AP$57)/(AP$72/2.2))>20,0,AP$62*(POWER(POWER(AP$66,2),0.5)+POWER(POWER(AP$66,2),-0.5))/(POWER(POWER(AP$66,2),0.5)*EXP(POWER(1+POWER(AP$66,2),-1)*($AM336-AP$57)/(AP$72/2.2))+POWER(POWER(AP$66,2),-0.5)*EXP(-POWER(AP$66,2)*POWER(1+POWER(AP$66,2),-1)*($AM336-AP$57)/(AP$72/2.2))))))","v":""},{"$f":"IF(AQ$56=\"NOT ELUTED\",\"\",IF(AQ$51=\"\",\"\",IF(ABS(($AM336-AQ$57)/(AQ$72/2.2))>20,0,AQ$62*(POWER(POWER(AQ$66,2),0.5)+POWER(POWER(AQ$66,2),-0.5))/(POWER(POWER(AQ$66,2),0.5)*EXP(POWER(1+POWER(AQ$66,2),-1)*($AM336-AQ$57)/(AQ$72/2.2))+POWER(POWER(AQ$66,2),-0.5)*EXP(-POWER(AQ$66,2)*POWER(1+POWER(AQ$66,2),-1)*($AM336-AQ$57)/(AQ$72/2.2))))))","v":""},{"$f":"IF(AR$56=\"NOT ELUTED\",\"\",IF(AR$51=\"\",\"\",IF(ABS(($AM336-AR$57)/(AR$72/2.2))>20,0,AR$62*(POWER(POWER(AR$66,2),0.5)+POWER(POWER(AR$66,2),-0.5))/(POWER(POWER(AR$66,2),0.5)*EXP(POWER(1+POWER(AR$66,2),-1)*($AM336-AR$57)/(AR$72/2.2))+POWER(POWER(AR$66,2),-0.5)*EXP(-POWER(AR$66,2)*POWER(1+POWER(AR$66,2),-1)*($AM336-AR$57)/(AR$72/2.2))))))","v":""},2.1663057324177566,null,0,0,0,0,0,"","","",null,1.1974434818669675,2.1433791175817656]
[null,null,26.3,10.373276225778215,2.4670912547528516,12.335456273764258,1.5740297849743685,12160.069045765938,null,null,1.2067259894783393,2.3018258567251031E-2,1.7535201186918162E-2,1.3935946845696844E-2,1.1501999199927738E-2,1.0478869166437883E-2,"","","",0,0,0,0,0,"","","",2.030775353712011,null,0,0,0,0,0,"","","",null,3.0742456299128254,0,0,0,0,0,"","","",2.114336226859173,null,0,0,0,0,0,"","","",null,1.2020847356726534,2.0684870990457624]
[null,null,26.4,10.412718340705126,2.4715151515151517,12.357575757575759,1.5800146890997455,12138.303089749876,null,null,1.2113672432840252,2.3106790330971225E-2,1.7602644268406308E-2,1.3989546641257216E-2,1.1546237658388999E-2,1.0519172509385721E-2,"","","",0,0,0,0,0,"","","",2.0640406375185885,null,0,0,0,0,0,"","","",null,3.086115304159593,0,0,0,0,0,"","","",2.0778215111133296,null,0,0,0,0,0,"","","",null,1.2067259894783393,2.030775353712011]
[null,null,26.5,10.452160455632042,2.4759433962264152,12.379716981132077,1.5859995932251241,12116.593636883214,null,null,1.2160084970897111,2.3195322094691422E-2,1.7670087349894458E-2,1.4043146436817588E-2,1.1590476116850259E-2,1.0559475852333558E-2,"","","",0,0,0,0,0,"","","",2.0900976335552945,null,0,0,0,0,0,"","","",null,3.0979849784063607,0,0,0,0,0,"","","",2.0179765543800063,null,0,0,0,0,0,"","","",null,1.2113672432840252,2.0640406375185885]
[null,null,26.6,10.491602570558955,2.4803759398496243,12.401879699248122,1.5919844973505017,12094.940737821697,null,null,1.2206497508953971,2.328385385841162E-2,1.7737530431382605E-2,1.4096746232377961E-2,1.163471457531152E-2,1.0599779195281397E-2,"","","",0,0,0,0,0,"","","",2.0292357904738361,null,0,0,0,0,0,"","","",null,3.1098546526531283,0,0,0,0,0,"","","",2.1081266742929903,null,{"$f":"IF(AN340=\"\",\"\",($AM341-$AM340)*AN340)","v":0},{"$f":"IF(AO340=\"\",\"\",($AM341-$AM340)*AO340)","v":0},{"$f":"IF(AP340=\"\",\"\",($AM341-$AM340)*AP340)","v":0},{"$f":"IF(AQ340=\"\",\"\",($AM341-$AM340)*AQ340)","v":0},{"$f":"IF(AR340=\"\",\"\",($AM341-$AM340)*AR340)","v":0},{"$f":"IF(AS340=\"\",\"\",($AM341-$AM340)*AS340)","v":""},{"$f":"IF(AT340=\"\",\"\",($AM341-$AM340)*AT340)","v":""},{"$f":"IF(AU340=\"\",\"\",($AM341-$AM340)*AU340)","v":""},null,1.2160084970897111,2.0900976335552945]
[null,null,26.7,10.531044685485867,2.4848127340823969,12.424063670411984,1.5979694014758796,12073.344436991763,null,null,1.225291004701083,2.3372385622131814E-2,1.7804973512870751E-2,1.4150346027938333E-2,1.167895303377278E-2,1.0640082538229234E-2,"","","",0,0,0,0,0,"","","",2.0971043648147045,null,0,0,0,0,0,"","","",null,3.121724326899896,0,0,0,0,0,"","","",2.1387800648845077,null,0,0,0,0,0,"","","",null,1.2206497508953971,2.0292357904738361]
[null,null,26.8,10.570486800412782,2.4892537313432834,12.446268656716416,1.6039543056012575,12051.804772754529,null,null,1.2299322585067689,2.3460917385852011E-2,1.7872416594358898E-2,1.4203945823498706E-2,1.1723191492234041E-2,1.0680385881177073E-2,"","","",0,0,0,0,0,"","","",2.0560807819472413,null,0,0,0,0,0,"","","",null,3.1335940011466636,0,0,0,0,0,"","","",2.0509090175551665,null,0,0,0,0,0,"","","",null,1.225291004701083,2.0971043648147045]
[null,null,26.9,10.609928915339694,2.4936988847583645,12.468494423791823,1.609939209726635,12030.321777565759,null,null,1.2345735123124548,2.3549449149572205E-2,1.793985967584704E-2,1.4257545619059078E-2,1.1767429950695301E-2,1.072068922412491E-2,"","","",0,0,0,0,0,"","","",2.1266289875536124,null,0,0,0,0,0,"","","",null,3.1454636753934313,0,0,0,0,0,"","","",2.0779766369360031,null,0,0,0,0,0,"","","",null,1.2299322585067689,2.0560807819472413]
[null,null,27,10.649371030266607,2.4981481481481485,12.490740740740742,1.6159241138520128,12008.895478131948,null,null,1.2392147661181407,2.3637980913292403E-2,1.800730275733519E-2,1.4311145414619451E-2,1.1811668409156562E-2,1.0760992567072749E-2,"","","",0,0,0,0,0,"","","",2.1559408962511117,null,0,0,0,0,0,"","","",null,3.157333349640199,0,0,0,0,0,"","","",2.0892713601223911,null,0,0,0,0,0,"","","",null,1.2345735123124548,2.1266289875536124]
[null,null,27.1,10.688813145193523,2.5026014760147604,12.513007380073802,1.6219090179773912,11987.52589556255,null,null,1.2438560199238267,2.37265126770126E-2,1.8074745838823337E-2,1.4364745210179823E-2,1.1855906867617822E-2,1.0801295910020587E-2,"","","",0,0,0,0,0,"","","",2.0082981683037917,null,0,0,0,0,0,"","","",null,3.1692030238869666,0,0,0,0,0,"","","",2.0321157748990832,null,0,0,0,0,0,"","","",null,1.2392147661181407,2.1559408962511117]
[null,null,27.2,10.728255260120434,2.5070588235294116,12.535294117647059,1.6278939221027686,11966.213045518536,null,null,1.2484972737295126,2.3815044440732798E-2,1.8142188920311483E-2,1.4418345005740196E-2,1.1900145326079083E-2,1.0841599252968424E-2,"","","",0,0,0,0,0,"","","",2.1097915815781478,null,0,0,0,0,0,"","","",null,3.1810726981337343,0,0,0,0,0,"","","",2.018426165950288,null,0,0,0,0,0,"","","",null,1.2438560199238267,2.0082981683037917]
[null,null,27.3,10.767697375047348,2.5115201465201467,12.557600732600733,1.6338788262281467,11944.956938357313,null,null,1.2531385275351985,2.3903576204452992E-2,1.820963200179963E-2,1.4471944801300568E-2,1.1944383784540342E-2,1.0881902595916263E-2,"","","",0,0,0,0,0,"","","",2.1634107161536535,null,0,0,0,0,0,"","","",null,3.1929423723805019,0,0,0,0,0,"","","",2.1551749650587699,null,0,0,0,0,0,"","","",null,1.2484972737295126,2.1097915815781478]
[null,null,27.4,10.807139489974261,2.5159854014598544,12.579927007299272,1.6398637303535242,11923.757579274128,null,null,1.2577797813408844,2.399210796817319E-2,1.8277075083287776E-2,1.452554459686094E-2,1.1988622243001604E-2,1.09222059388641E-2,"","","",0,0,0,0,0,"","","",2.1054370664969433,null,0,0,0,0,0,"","","",null,3.2048120466272696,0,0,0,0,0,"","","",2.0464899994246188,null,0,0,0,0,0,"","","",null,1.2531385275351985,2.1634107161536535]
[null,null,27.5,10.846581604901175,2.5204545454545455,12.602272727272727,1.6458486344789023,11902.614968440037,null,null,1.2624210351465703,2.4080639731893384E-2,1.8344518164775923E-2,1.4579144392421313E-2,1.2032860701462863E-2,1.0962509281811939E-2,"","","",0,0,0,0,0,"","","",2.0309290828444864,null,0,0,0,0,0,"","","",null,3.2166817208740373,0,0,0,0,0,"","","",2.0425410228331806,null,0,0,0,0,0,"","","",null,1.2577797813408844,2.1054370664969433]
[null,null,27.6,10.886023719828088,2.5249275362318842,12.62463768115942,1.6518335386042799,11881.529101136493,null,null,1.2670622889522563,2.4169171495613581E-2,1.8411961246264073E-2,1.4632744187981685E-2,1.2077099159924125E-2,1.1002812624759778E-2,"","","",0,0,0,0,0,"","","",2.1415300156394181,null,0,0,0,0,0,"","","",null,3.2285513951208049,0,0,0,0,0,"","","",2.065751434338245,null,0,0,0,0,0,"","","",null,1.2624210351465703,2.0309290828444864]
[null,null,27.7,10.925465834755,2.529404332129964,12.64702166064982,1.6578184427296574,11860.499967886733,null,null,1.2717035427579422,2.4257703259333775E-2,1.8479404327752216E-2,1.4686343983542058E-2,1.2121337618385386E-2,1.1043115967707615E-2,"","","",0,0,0,0,0,"","","",2.1280853780645645,null,0,0,0,0,0,"","","",null,3.2404210693675726,0,0,0,0,0,"","","",2.0680447070244163,null,0,0,0,0,0,"","","",null,1.2670622889522563,2.1415300156394181]
[null,null,27.8,10.964907949681914,2.5338848920863311,12.669424460431655,1.6638033468550355,11839.527554583912,null,null,1.2763447965636281,2.4346235023053973E-2,1.8546847409240362E-2,1.4739943779102429E-2,1.2165576076846646E-2,1.1083419310655452E-2,"","","",0,0,0,0,0,"","","",2.0737417576178045,null,0,0,0,0,0,"","","",null,3.2522907436143402,0,0,0,0,0,"","","",2.1132673169006706,null,0,0,0,0,0,"","","",null,1.2717035427579422,2.1280853780645645]
[null,null,27.9,11.004350064608827,2.5383691756272402,12.691845878136201,1.6697882509804134,11818.611842616192,null,null,1.280986050369314,2.443476678677417E-2,1.8614290490728512E-2,1.4793543574662803E-2,1.2209814535307905E-2,1.1123722653603292E-2,"","","",0,0,0,0,0,"","","",2.0012427939117674,null,0,0,0,0,0,"","","",null,3.2641604178611079,0,0,0,0,0,"","","",2.0524215553874541,null,0,0,0,0,0,"","","",null,1.2763447965636281,2.0737417576178045]
[null,null,28,11.043792179535743,2.5428571428571427,12.714285714285714,1.6757731551057913,11797.752808988766,null,null,1.2856273041749999,2.4523298550494364E-2,1.8681733572216658E-2,1.4847143370223175E-2,1.2254052993769166E-2,1.1164025996551129E-2,"","","",0,0,0,0,0,"","","",2.1458530893881607,null,0,0,0,0,0,"","","",null,3.2760300921078755,0,0,0,0,0,"","","",2.0705389688422087,null,0,0,0,0,0,"","","",null,1.280986050369314,2.0012427939117674]
[null,null,28.1,11.083234294462656,2.5473487544483988,12.736743772241994,1.6817580592311694,11776.950426442954,null,null,1.2902685579806858,2.4611830314214562E-2,1.8749176653704805E-2,1.4900743165783548E-2,1.2298291452230428E-2,1.1204329339498966E-2,"","","",0,0,0,0,0,"","","",2.1101604287533924,null,0,0,0,0,0,"","","",null,3.2878997663546432,0,0,0,0,0,"","","",2.1537811462562901,null,0,0,0,0,0,"","","",null,1.2856273041749999,2.1458530893881607]
[null,null,28.2,11.12267640938957,2.5518439716312056,12.759219858156028,1.6877429633565468,11756.204663572442,null,null,1.2949098117863718,2.4700362077934756E-2,1.8816619735192951E-2,1.495434296134392E-2,1.2342529910691687E-2,1.1244632682446805E-2,"","","",0,0,0,0,0,"","","",2.0968680722836681,null,0,0,0,0,0,"","","",null,3.2997694406014109,0,0,0,0,0,"","","",2.1303804181064461,null,0,0,0,0,0,"","","",null,1.2902685579806858,2.1101604287533924]
[null,null,28.3,11.162118524316481,2.5563427561837457,12.781713780918729,1.6937278674819247,11735.515484936657,null,null,1.2995510655920577,2.4788893841654953E-2,1.8884062816681098E-2,1.5007942756904293E-2,1.2386768369152947E-2,1.1284936025394642E-2,"","","",0,0,0,0,0,"","","",2.0606610348043599,null,0,0,0,0,0,"","","",null,3.3116391148481785,0,0,0,0,0,"","","",2.0322225010967405,null,0,0,0,0,0,"","","",null,1.2949098117863718,2.0968680722836681]
[null,null,28.4,11.201560639243393,2.560845070422535,12.804225352112674,1.6997127716073024,11714.882851171491,null,null,1.3041923193977436,2.4877425605375151E-2,1.8951505898169244E-2,1.5061542552464665E-2,1.2431006827614208E-2,1.1325239368342481E-2,"","","",0,0,0,0,0,"","","",2.0861662569769317,null,0,0,0,0,0,"","","",null,3.3235087890949462,0,0,0,0,0,"","","",2.029171961503935,null,0,0,0,0,0,"","","",null,1.2995510655920577,2.0606610348043599]
[null,null,28.5,11.241002754170308,2.5653508771929827,12.826754385964914,1.7056976757326805,11694.30671909728,null,null,1.3088335732034295,2.4965957369095348E-2,1.9018948979657391E-2,1.5115142348025037E-2,1.2475245286075468E-2,1.1365542711290318E-2,"","","",0,0,0,0,0,"","","",2.1384215809187497,null,0,0,0,0,0,"","","",null,3.3353784633417138,0,0,0,0,0,"","","",2.1183758318348009,null,0,0,0,0,0,"","","",null,1.3041923193977436,2.0861662569769317]
[null,null,28.6,11.280444869097222,2.5698601398601397,12.849300699300699,1.7116825798580584,11673.787041824267,null,null,1.3134748270091154,2.5054489132815543E-2,1.9086392061145537E-2,1.516874214358541E-2,1.2519483744536729E-2,1.1405846054238156E-2,"","","",0,0,0,0,0,"","","",2.1417944234649346,null,0,0,0,0,0,"","","",null,3.3472481375884815,0,0,0,0,0,"","","",2.0555933662030785,null,0,0,0,0,0,"","","",null,1.3088335732034295,2.1384215809187497]
[null,null,28.7,11.319886984024134,2.5743728222996518,12.871864111498258,1.7176674839834356,11653.323768855444,null,null,1.3181160808148014,2.514302089653574E-2,1.9153835142633684E-2,1.5222341939145782E-2,1.2563722202997991E-2,1.1446149397185993E-2,"","","",0,0,0,0,0,"","","",2.0241900595712297,null,0,0,0,0,0,"","","",null,3.3591178118352492,0,0,0,0,0,"","","",2.1055851944429023,null,0,0,0,0,0,"","","",null,1.3134748270091154,2.1417944234649346]
[null,null,28.8,11.359329098951049,2.5788888888888888,12.894444444444444,1.7236523881088139,11632.916846186989,null,null,1.3227573346204873,2.5231552660255934E-2,1.922127822412183E-2,1.5275941734706155E-2,1.260796066145925E-2,1.1486452740133832E-2,"","","",0,0,0,0,0,"","","",2.0092633925920342,null,0,0,0,0,0,"","","",null,3.3709874860820168,0,0,0,0,0,"","","",2.0592752051524639,null,0,0,0,0,0,"","","",null,1.3181160808148014,2.0241900595712297]
[null,null,28.9,11.398771213877961,2.5834083044982696,12.917041522491349,1.7296372922341916,11612.566216406267,null,null,1.3273985884261732,2.5320084423976132E-2,1.9288721305609977E-2,1.5329541530266527E-2,1.265219911992051E-2,1.1526756083081671E-2,"","","",0,0,0,0,0,"","","",2.0691048302660633,null,0,0,0,0,0,"","","",null,3.3828571603287845,0,0,0,0,0,"","","",2.1657091397232109,null,0,0,0,0,0,"","","",null,1.3227573346204873,2.0092633925920342]
[null,null,29,11.438213328804874,2.5879310344827591,12.939655172413795,1.7356221963595693,11592.271818787473,null,null,1.3320398422318591,2.5408616187696329E-2,1.9356164387098123E-2,1.53831413258269E-2,1.2696437578381773E-2,1.1567059426029508E-2,"","","",0,0,0,0,0,"","","",2.0646612376685378,null,0,0,0,0,0,"","","",null,3.3947268345755521,0,0,0,0,0,"","","",2.1520230814974988,null,0,0,0,0,0,"","","",null,1.3273985884261732,2.0691048302660633]
[null,null,29.1,11.477655443731789,2.5924570446735395,12.962285223367697,1.7416071004849474,11572.033589385012,null,null,1.336681096037545,2.5497147951416523E-2,1.9423607468586273E-2,1.5436741121387272E-2,1.2740676036843033E-2,1.1607362768977347E-2,"","","",0,0,0,0,0,"","","",2.1645228151015878,null,0,0,0,0,0,"","","",null,3.4065965088223198,0,0,0,0,0,"","","",2.0951541772047899,null,0,0,0,0,0,"","","",null,1.3320398422318591,2.0646612376685378]
[null,null,29.2,11.517097558658701,2.5969863013698631,12.984931506849316,1.747592004610325,11551.85146112459,null,null,1.341322349843231,2.5585679715136721E-2,1.9491050550074419E-2,1.5490340916947645E-2,1.2784914495304292E-2,1.1647666111925184E-2,"","","",0,0,0,0,0,"","","",2.117174833600667,null,0,0,0,0,0,"","","",null,3.4184661830690874,0,0,0,0,0,"","","",2.0836703975557391,null,0,0,0,0,0,"","","",null,1.336681096037545,2.1645228151015878]
[null,null,29.3,11.556539673585615,2.6015187713310581,13.007593856655291,1.7535769087357027,11531.725363892187,null,null,1.3459636036489169,2.5674211478856918E-2,1.9558493631562566E-2,1.5543940712508017E-2,1.2829152953765553E-2,1.1687969454873022E-2,"","","",0,0,0,0,0,"","","",2.0091767002570338,null,0,0,0,0,0,"","","",null,3.4303358573158551,0,0,0,0,0,"","","",2.0369149612704249,null,0,0,0,0,0,"","","",null,1.341322349843231,2.117174833600667]
[null,null,29.4,11.595981788512528,2.6060544217687074,13.030272108843537,1.7595618128610808,11511.655224620847,null,null,1.3506048574546028,2.5762743242577112E-2,1.9625936713050712E-2,1.5597540508068389E-2,1.2873391412226813E-2,1.1728272797820861E-2,"","","",0,0,0,0,0,"","","",2.0689686567732402,null,0,0,0,0,0,"","","",null,3.4422055315626228,0,0,0,0,0,"","","",2.1668634277669425,null,0,0,0,0,0,"","","",null,1.3459636036489169,2.0091767002570338]
[null,null,29.5,11.635423903439442,2.6105932203389832,13.052966101694917,1.7655467169864585,11491.640967375424,null,null,1.3552461112602887,2.585127500629731E-2,1.9693379794538859E-2,1.5651140303628762E-2,1.2917629870688074E-2,1.1768576140768698E-2,"","","",0,0,0,0,0,"","","",2.0607407894296386,null,0,0,0,0,0,"","","",null,3.4540752058093904,0,0,0,0,0,"","","",2.1241174217604097,null,0,0,0,0,0,"","","",null,1.3506048574546028,2.0689686567732402]
[null,null,29.6,11.674866018366355,2.6151351351351355,13.075675675675678,1.7715316211118366,11471.682513435302,null,null,1.3598873650659746,2.5939806770017504E-2,1.9760822876027005E-2,1.5704740099189134E-2,1.2961868329149334E-2,1.1808879483716537E-2,"","","",0,0,0,0,0,"","","",2.0737830467578067,null,0,0,0,0,0,"","","",null,3.4659448800561581,0,0,0,0,0,"","","",2.1205839695006823,null,0,0,0,0,0,"","","",null,1.3552461112602887,2.0607407894296386]
[null,null,29.7,11.714308133293269,2.6196801346801348,13.098400673400674,1.7775165252372143,11451.779781375113,null,null,1.3645286188716605,2.6028338533737701E-2,1.9828265957515152E-2,1.5758339894749507E-2,1.3006106787610595E-2,1.1849182826664374E-2,"","","",0,0,0,0,0,"","","",2.0032499036986975,null,0,0,0,0,0,"","","",null,3.4778145543029257,0,0,0,0,0,"","","",2.0242469633414992,null,0,0,0,0,0,"","","",null,1.3598873650659746,2.0737830467578067]
[null,null,29.8,11.753750248220182,2.6242281879194636,13.121140939597318,1.7835014293625924,11431.93268714355,null,null,1.3691698726773465,2.6116870297457899E-2,1.9895709039003298E-2,1.5811939690309879E-2,1.3050345246071857E-2,1.1889486169612213E-2,"","","",0,0,0,0,0,"","","",2.0291352780631273,null,0,0,0,0,0,"","","",null,3.4896842285496934,0,0,0,0,0,"","","",2.0913740199516293,null,0,0,0,0,0,"","","",null,1.3645286188716605,2.0032499036986975]
[null,null,29.9,11.793192363147094,2.6287792642140468,13.143896321070233,1.7894863334879696,11412.141144140305,null,null,1.3738111264830324,2.6205402061178093E-2,1.9963152120491445E-2,1.5865539485870252E-2,1.3094583704533118E-2,1.1929789512560051E-2,"","","",0,0,0,0,0,"","","",2.0098064873190387,null,0,0,0,0,0,"","","",null,3.5015539027964611,0,0,0,0,0,"","","",2.1656629010086443,null,0,0,0,0,0,"","","",null,1.3691698726773465,2.0291352780631273]
[null,null,30,11.832634478074009,2.6333333333333333,13.166666666666666,1.7954712376133477,11392.40506329114,null,null,1.3784523802887183,2.6293933824898291E-2,2.0030595201979591E-2,1.5919139281430624E-2,1.3138822162994376E-2,1.1970092855507888E-2,"","","",0,0,0,0,0,"","","",2.1027746973380852,null,0,0,0,0,0,"","","",null,3.5134235770432287,0,0,0,0,0,"","","",2.04640106020834,null,0,0,0,0,0,"","","",null,1.3738111264830324,2.0098064873190387]
[null,null,30.1,11.872076593000923,2.6378903654485049,13.189451827242525,1.8014561417387256,11372.724353121203,null,null,1.3830936340944042,2.6382465588618488E-2,2.0098038283467737E-2,1.5972739076990997E-2,1.3183060621455637E-2,1.2010396198455727E-2,"","","",0,0,0,0,0,"","","",2.1612505369266812,null,0,0,0,0,0,"","","",null,3.5252932512899964,0,0,0,0,0,"","","",2.0634025084590069,null,0,0,0,0,0,"","","",null,1.3784523802887183,2.1027746973380852]
[null,null,30.2,11.911518707927836,2.6424503311258278,13.212251655629139,1.8074410458641037,11353.098919826571,null,null,1.3877348879000901,2.6470997352338682E-2,2.0165481364955884E-2,1.6026338872551369E-2,1.3227299079916897E-2,1.2050699541403564E-2,"","","",0,0,0,0,0,"","","",2.1180535160401615,null,0,0,0,0,0,"","","",null,3.537162925536764,0,0,0,0,0,"","","",2.1256673590633239,null,0,0,0,0,0,"","","",null,1.3830936340944042,2.1612505369266812]
[null,null,30.3,11.95096082285475,2.6470132013201324,13.235066006600661,1.8134259499894811,11333.528667344101,null,null,1.3923761417057761,2.655952911605888E-2,2.023292444644403E-2,1.6079938668111741E-2,1.3271537538378158E-2,1.2091002884351403E-2,"","","",0,0,0,0,0,"","","",2.1158646016203271,null,0,0,0,0,0,"","","",null,3.5490325997835317,0,0,0,0,0,"","","",2.1052746634212842,null,0,0,0,0,0,"","","",null,1.3877348879000901,2.1180535160401615]
[null,null,30.4,11.990402937781662,2.6515789473684208,13.257894736842104,1.8194108541148588,11314.013497419612,null,null,1.397017395511462,2.6648060879779074E-2,2.030036752793218E-2,1.6133538463672114E-2,1.3315775996839418E-2,1.2131306227299242E-2,"","","",0,0,0,0,0,"","","",2.1041341281922339,null,0,0,0,0,0,"","","",null,3.5609022740302994,0,0,0,0,0,"","","",2.0689859204036725,null,0,0,0,0,0,"","","",null,1.3923761417057761,2.1158646016203271]
[null,null,30.5,12.029845052708575,2.6561475409836066,13.280737704918034,1.8253957582402369,11294.553309674433,null,null,1.4016586493171479,2.6736592643499271E-2,2.0367810609420327E-2,1.6187138259232486E-2,1.3360014455300681E-2,1.2171609570247079E-2,"","","",0,0,0,0,0,"","","",2.0124090424856442,null,0,0,0,0,0,"","","",null,3.572771948277067,0,0,0,0,0,"","","",2.1201811066307106,null,0,0,0,0,0,"","","",null,1.397017395511462,2.1041341281922339]
[null,null,30.6,12.069287167635489,2.6607189542483662,13.303594771241832,1.8313806623656146,11275.148001670392,null,null,1.4062999031228338,2.6825124407219469E-2,2.0435253690908473E-2,1.6240738054792859E-2,1.340425291376194E-2,1.2211912913194916E-2,"","","",0,0,0,0,0,"","","",2.0615806984353591,null,0,0,0,0,0,"","","",null,3.5846416225238347,0,0,0,0,0,"","","",2.060990499173756,null,0,0,0,0,0,"","","",null,1.4016586493171479,2.0124090424856442]
[null,null,30.7,12.108729282562402,2.6652931596091207,13.326465798045604,1.8373655664909927,11255.797468973229,null,null,1.4109411569285197,2.6913656170939663E-2,2.050269677239662E-2,1.6294337850353231E-2,1.34484913722232E-2,1.2252216256142754E-2,"","","",0,0,0,0,0,"","","",2.0836837060080584,null,0,0,0,0,0,"","","",null,3.5965112967706023,0,0,0,0,0,"","","",2.0072875979628901,null,0,0,0,0,0,"","","",null,1.4062999031228338,2.0615806984353591]
[null,null,30.8,12.148171397489318,2.6698701298701302,13.349350649350651,1.8433504706163706,11236.501605214513,null,null,1.4155824107342057,2.7002187934659857E-2,2.0570139853884766E-2,1.6347937645913604E-2,1.3492729830684461E-2,1.2292519599090591E-2,"","","",0,0,0,0,0,"","","",2.1438215008857471,null,0,0,0,0,0,"","","",null,3.60838097101737,0,0,0,0,0,"","","",2.1287304310712241,null,0,0,0,0,0,"","","",null,1.4109411569285197,2.0836837060080584]
[null,null,30.9,12.187613512416227,2.6744498381877024,13.372249190938511,1.849335374741748,11217.260302152092,null,null,1.4202236645398916,2.7090719698380058E-2,2.0637582935372913E-2,1.6401537441473976E-2,1.3536968289145721E-2,1.233282294203843E-2,"","","",0,0,0,0,0,"","","",2.1547598349564518,null,0,0,0,0,0,"","","",null,3.6202506452641376,0,0,0,0,0,"","","",2.0991218239228928,null,0,0,0,0,0,"","","",null,1.4155824107342057,2.1438215008857471]
[null,null,31,12.227055627343141,2.6790322580645158,13.39516129032258,1.8553202788671259,11198.07344972908,null,null,1.4248649183455775,2.7179251462100255E-2,2.0705026016861063E-2,1.6455137237034349E-2,1.3581206747606983E-2,1.2373126284986269E-2,"","","",0,0,0,0,0,"","","",2.0918071417805004,null,0,0,0,0,0,"","","",null,3.6321203195109053,0,0,0,0,0,"","","",2.1587396323296368,null,0,0,0,0,0,"","","",null,1.4202236645398916,2.1547598349564518]
[null,null,31.1,12.266497742270058,2.6836173633440517,13.418086816720258,1.861305182992504,11178.940936131463,null,null,1.4295061721512634,2.7267783225820449E-2,2.0772469098349206E-2,1.6508737032594721E-2,1.3625445206068242E-2,1.2413429627934106E-2,"","","",0,0,0,0,0,"","","",2.0296486487448751,null,0,0,0,0,0,"","","",null,3.643989993757673,0,0,0,0,0,"","","",2.0166831151575373,null,0,0,0,0,0,"","","",null,1.4248649183455775,2.0918071417805004]
[null,null,31.2,12.305939857196968,2.6882051282051282,13.441025641025641,1.8672900871178812,11159.862647844335,null,null,1.4341474259569493,2.7356314989540644E-2,2.0839912179837352E-2,1.6562336828155094E-2,1.3669683664529503E-2,1.2453732970881943E-2,"","","",0,0,0,0,0,"","","",2.1258051741878252,null,0,0,0,0,0,"","","",null,3.6558596680044406,0,0,0,0,0,"","","",2.0483145792367305,null,0,0,0,0,0,"","","",null,1.4295061721512634,2.0296486487448751]
[null,null,31.3,12.345381972123882,2.6927955271565498,13.463977635782749,1.8732749912432594,11140.838469706765,null,null,1.4387886797626352,2.7444846753260841E-2,2.0907355261325498E-2,1.6615936623715466E-2,1.3713922122990763E-2,1.2494036313829782E-2,"","","",0,0,0,0,0,"","","",2.1032157578659363,null,0,0,0,0,0,"","","",null,3.6677293422512083,0,0,0,0,0,"","","",2.1127018514664142,null,0,0,0,0,0,"","","",null,1.4341474259569493,2.1258051741878252]
[null,null,31.4,12.384824087050797,2.6973885350318474,13.486942675159238,1.8792598953686375,11121.868284965405,null,null,1.4434299335683212,2.7533378516981039E-2,2.0974798342813645E-2,1.6669536419275838E-2,1.3758160581452024E-2,1.253433965677762E-2,"","","",0,0,0,0,0,"","","",2.1468441665935294,null,0,0,0,0,0,"","","",null,3.6795990164979759,0,0,0,0,0,"","","",2.1339680803724499,null,0,0,0,0,0,"","","",null,1.4387886797626352,2.1032157578659363]
[null,null,31.5,12.42426620197771,2.7019841269841272,13.509920634920636,1.8852447994940156,11102.951975326772,null,null,1.4480711873740071,2.7621910280701233E-2,2.1042241424301795E-2,1.6723136214836211E-2,1.3802399039913284E-2,1.2574642999725459E-2,"","","",0,0,0,0,0,"","","",2.1635000975227507,null,0,0,0,0,0,"","","",null,3.6914686907447436,0,0,0,0,0,"","","",2.1138999360447124,null,0,0,0,0,0,"","","",null,1.4434299335683212,2.1468441665935294]
[null,null,31.6,12.463708316904622,2.7065822784810125,13.532911392405062,1.8912297036193928,11084.089421008326,null,null,1.452712441179693,2.771044204442143E-2,2.1109684505789938E-2,1.6776736010396583E-2,1.3846637498374545E-2,1.2614946342673296E-2,"","","",0,0,0,0,0,"","","",2.096013032594287,null,0,0,0,0,0,"","","",null,3.7033383649915113,0,0,0,0,0,"","","",2.0486356861524846,null,0,0,0,0,0,"","","",null,1.4480711873740071,2.1635000975227507]
[null,null,31.7,12.503150431831536,2.7111829652996846,13.555914826498423,1.8972146077447707,11065.2805007883,null,null,1.4573536949853789,2.7798973808141628E-2,2.1177127587278088E-2,1.6830335805956956E-2,1.3890875956835805E-2,1.2655249685621135E-2,"","","",0,0,0,0,0,"","","",2.0952042190511238,null,0,0,0,0,0,"","","",null,3.7152080392382789,0,0,0,0,0,"","","",2.0718108016774446,null,0,0,0,0,0,"","","",null,1.452712441179693,2.096013032594287]
[null,null,31.8,12.542592546758449,2.7157861635220124,13.578930817610061,1.9031995118701484,11046.525092054377,null,null,1.4619949487910648,2.7887505571861822E-2,2.1244570668766234E-2,1.6883935601517328E-2,1.3935114415297066E-2,1.2695553028568974E-2,"","","",0,0,0,0,0,"","","",2.0152603354974898,null,0,0,0,0,0,"","","",null,3.7270777134850466,0,0,0,0,0,"","","",2.1094849682754093,null,0,0,0,0,0,"","","",null,1.4573536949853789,2.0952042190511238]
[null,null,31.9,12.582034661685361,2.7203918495297805,13.601959247648903,1.9091844159955262,11027.823070851171,null,null,1.4666362025967508,2.7976037335582016E-2,2.1312013750254381E-2,1.6937535397077701E-2,1.3979352873758327E-2,1.2735856371516811E-2,"","","",0,0,0,0,0,"","","",2.0005904373114052,null,0,0,0,0,0,"","","",null,3.7389473877318142,0,0,0,0,0,"","","",2.0489168233740549,null,0,0,0,0,0,"","","",null,1.4619949487910648,2.0152603354974898]
[null,null,32,12.621476776612276,2.7250000000000001,13.625,1.9151693201209041,11009.174311926605,null,null,1.4712774564024367,2.8064569099302213E-2,2.1379456831742527E-2,1.6991135192638073E-2,1.4023591332219587E-2,1.2776159714464649E-2,"","","",0,0,0,0,0,"","","",2.0936026331024524,null,0,0,0,0,0,"","","",null,3.7508170619785819,0,0,0,0,0,"","","",2.0147705114298495,null,0,0,0,0,0,"","","",null,1.4666362025967508,2.0005904373114052]
[null,null,32.1,12.66091889153919,2.729610591900312,13.648052959501559,1.921154224246282,10990.578688777168,null,null,1.4759187102081226,2.8153100863022414E-2,2.1446899913230674E-2,1.7044734988198446E-2,1.4067829790680848E-2,1.2816463057412486E-2,"","","",0,0,0,0,0,"","","",2.0862218359753073,null,0,0,0,0,0,"","","",null,3.7626867362253495,0,0,0,0,0,"","","",2.0773017167116539,null,0,0,0,0,0,"","","",null,1.4712774564024367,2.0936026331024524]
[null,null,32.200000000000003,12.700361006466103,2.7342236024844722,13.671118012422362,1.9271391283716599,10972.036073692101,null,null,1.4805599640138085,2.8241632626742608E-2,2.151434299471882E-2,1.7098334783758818E-2,1.4112068249142108E-2,1.2856766400360325E-2,"","","",0,0,0,0,0,"","","",2.1066286083152397,null,0,0,0,0,0,"","","",null,3.7745564104721172,0,0,0,0,0,"","","",2.0860040937008231,null,0,0,0,0,0,"","","",null,1.4759187102081226,2.0862218359753073]
[null,null,32.299999999999997,{"$f":"(2*$C$43*$C397)/($C$15/1000000)*1000","v":12.739803121393015},{"$f":"$C$46+$C$47/C397+$C$48*C397","v":2.7388390092879256},{"$f":"E397*$C$15","v":13.694195046439628},{"$f":"D397*PI()*$C$14*$C$37/4*60/1000","v":1.9331240324970376},{"$f":"($C$13*1000)/F397","v":10953.546337796517},null,null,1.4852012178194944,2.8330164390462802E-2,2.1581786076206966E-2,1.715193457931919E-2,1.4156306707603369E-2,1.2897069743308162E-2,"","","",0,0,0,0,0,"","","",2.0891578794152279,null,0,0,0,0,0,"","","",null,3.7864260847188849,0,0,0,0,0,"","","",2.1455525379599614,null,0,0,0,0,0,"","","",null,1.4805599640138085,2.1066286083152397]
[null,null,32.4,12.779245236319928,2.743456790123457,13.717283950617285,1.9391089366224155,10935.10935109351,null,null,{"$f":"K397+1/($C$74*60)","v":1.4898424716251804},{"$f":"IF(Q$56=\"\",\"\",SQRT(($K398*$K398)/$Q$72))","v":2.8418696154183E-2},{"$f":"IF(R$56=\"\",\"\",SQRT(($K398*$K398)/$R$72))","v":2.1649229157695113E-2},{"$f":"IF(S$56=\"\",\"\",SQRT(($K398*$K398)/$S$72))","v":1.7205534374879563E-2},{"$f":"IF(T$56=\"\",\"\",SQRT(($K398*$K398)/$T$72))","v":1.4200545166064629E-2},{"$f":"IF(U$56=\"\",\"\",SQRT(($K398*$K398)/$U$72))","v":1.2937373086256001E-2},{"$f":"IF(V$56=\"\",\"\",SQRT(($K398*$K398)/$V$72))","v":""},{"$f":"IF(W$56=\"\",\"\",SQRT(($K398*$K398)/$W$72))","v":""},{"$f":"IF(X$56=\"\",\"\",SQRT(($K398*$K398)/$X$72))","v":""},{"$f":"IF(Q$56=\"\",\"\",IF(ABS(($K398-Q$60) / ( L398 / 2.2))>20,0,IF(Q$60<>\"\",Q$64 * ( POWER(POWER(Q$67, 2),0.5) + POWER(POWER(Q$67, 2),-0.5)  ) / ( POWER(POWER(Q$67, 2),0.5) * EXP( POWER(1 + POWER(Q$67, 2),-1) * ($K398-Q$60)/ ( L398 / 2.2) ) + POWER(POWER(Q$67, 2),-0.5) * EXP(- POWER(Q$67, 2) * POWER(1 + POWER(Q$67, 2),-1) * ($K398-Q$60) / ( L398 / 2.2) ) ),\"\")))","v":0},{"$f":"IF(R$56=\"\",\"\",IF(ABS(($K398-R$60) / ( M398 / 2.2))>20,0,IF(R$60<>\"\",R$64 * ( POWER(POWER(R$67, 2),0.5) + POWER(POWER(R$67, 2),-0.5)  ) / ( POWER(POWER(R$67, 2),0.5) * EXP( POWER(1 + POWER(R$67, 2),-1) * ($K398-R$60)/ ( M398 / 2.2) ) + POWER(POWER(R$67, 2),-0.5) * EXP(- POWER(R$67, 2) * POWER(1 + POWER(R$67, 2),-1) * ($K398-R$60) / ( M398 / 2.2) ) ),\"\")))","v":0},{"$f":"IF(S$56=\"\",\"\",IF(ABS(($K398-S$60) / ( N398 / 2.2))>20,0,IF(S$60<>\"\",S$64 * ( POWER(POWER(S$67, 2),0.5) + POWER(POWER(S$67, 2),-0.5)  ) / ( POWER(POWER(S$67, 2),0.5) * EXP( POWER(1 + POWER(S$67, 2),-1) * ($K398-S$60)/ ( N398 / 2.2) ) + POWER(POWER(S$67, 2),-0.5) * EXP(- POWER(S$67, 2) * POWER(1 + POWER(S$67, 2),-1) * ($K398-S$60) / ( N398 / 2.2) ) ),\"\")))","v":0},{"$f":"IF(T$56=\"\",\"\",IF(ABS(($K398-T$60) / ( O398 / 2.2))>20,0,IF(T$60<>\"\",T$64 * ( POWER(POWER(T$67, 2),0.5) + POWER(POWER(T$67, 2),-0.5)  ) / ( POWER(POWER(T$67, 2),0.5) * EXP( POWER(1 + POWER(T$67, 2),-1) * ($K398-T$60)/ ( O398 / 2.2) ) + POWER(POWER(T$67, 2),-0.5) * EXP(- POWER(T$67, 2) * POWER(1 + POWER(T$67, 2),-1) * ($K398-T$60) / ( O398 / 2.2) ) ),\"\")))","v":0},{"$f":"IF(U$56=\"\",\"\",IF(ABS(($K398-U$60) / ( P398 / 2.2))>20,0,IF(U$60<>\"\",U$64 * ( POWER(POWER(U$67, 2),0.5) + POWER(POWER(U$67, 2),-0.5)  ) / ( POWER(POWER(U$67, 2),0.5) * EXP( POWER(1 + POWER(U$67, 2),-1) * ($K398-U$60)/ ( P398 / 2.2) ) + POWER(POWER(U$67, 2),-0.5) * EXP(- POWER(U$67, 2) * POWER(1 + POWER(U$67, 2),-1) * ($K398-U$60) / ( P398 / 2.2) ) ),\"\")))","v":0},{"$f":"IF(V$56=\"\",\"\",IF(ABS(($K398-V$60) / ( Q398 / 2.2))>20,0,IF(V$60<>\"\",V$64 * ( POWER(POWER(V$67, 2),0.5) + POWER(POWER(V$67, 2),-0.5)  ) / ( POWER(POWER(V$67, 2),0.5) * EXP( POWER(1 + POWER(V$67, 2),-1) * ($K398-V$60)/ ( Q398 / 2.2) ) + POWER(POWER(V$67, 2),-0.5) * EXP(- POWER(V$67, 2) * POWER(1 + POWER(V$67, 2),-1) * ($K398-V$60) / ( Q398 / 2.2) ) ),\"\")))","v":""},{"$f":"IF(W$56=\"\",\"\",IF(ABS(($K398-W$60) / ( R398 / 2.2))>20,0,IF(W$60<>\"\",W$64 * ( POWER(POWER(W$67, 2),0.5) + POWER(POWER(W$67, 2),-0.5)  ) / ( POWER(POWER(W$67, 2),0.5) * EXP( POWER(1 + POWER(W$67, 2),-1) * ($K398-W$60)/ ( R398 / 2.2) ) + POWER(POWER(W$67, 2),-0.5) * EXP(- POWER(W$67, 2) * POWER(1 + POWER(W$67, 2),-1) * ($K398-W$60) / ( R398 / 2.2) ) ),\"\")))","v":""},{"$f":"IF(X$56=\"\",\"\",IF(ABS(($K398-X$60) / ( S398 / 2.2))>20,0,IF(X$60<>\"\",X$64 * ( POWER(POWER(X$67, 2),0.5) + POWER(POWER(X$67, 2),-0.5)  ) / ( POWER(POWER(X$67, 2),0.5) * EXP( POWER(1 + POWER(X$67, 2),-1) * ($K398-X$60)/ ( S398 / 2.2) ) + POWER(POWER(X$67, 2),-0.5) * EXP(- POWER(X$67, 2) * POWER(1 + POWER(X$67, 2),-1) * ($K398-X$60) / ( S398 / 2.2) ) ),\"\")))","v":""},{"$f":"SUM(T398:AA398)+RAND()*$C$69+$C$67","v":2.1488417273865519},null,{"$f":"IF(Q$56=\"\",\"\",($K398-$K397)*T398)","v":0},{"$f":"IF(R$56=\"\",\"\",($K398-$K397)*U398)","v":0},{"$f":"IF(S$56=\"\",\"\",($K398-$K397)*V398)","v":0},{"$f":"IF(T$56=\"\",\"\",($K398-$K397)*W398)","v":0},{"$f":"IF(U$56=\"\",\"\",($K398-$K397)*X398)","v":0},{"$f":"IF(V$56=\"\",\"\",($K398-$K397)*Y398)","v":""},{"$f":"IF(W$56=\"\",\"\",($K398-$K397)*Z398)","v":""},{"$f":"IF(X$56=\"\",\"\",($K398-$K397)*AA398)","v":""},null,3.7982957589656525,0,0,0,0,0,"","","",2.1530107713409472,null,0,0,0,0,0,"","","",null,{"$f":"IF($C$8=\"isocratic\",K397,AM398)","v":1.4852012178194944},{"$f":"IF($C$8=\"isocratic\",AB397,AV398)","v":2.0891578794152279}]
[null,null,32.5,12.818687351246842,2.7480769230769231,13.740384615384615,1.9450938407477933,10916.724982505249,null,null,1.4944837254308663,2.8507227917903194E-2,2.1716672239183259E-2,1.7259134170439935E-2,1.4244783624525888E-2,1.2977676429203838E-2,"","","",0,0,0,0,0,"","","",2.1167502659897912,null,0,0,0,0,0,"","","",null,{"$f":"AM398+MAX($AK$57:$AR$57)*1.2/3000","v":3.8101654332124202},0,0,0,0,0,"","","",{"$f":"SUM(AN399:AU399)+RAND()*$C$69+K399*$C$70+$C$67","v":2.0075080273783059},null,0,0,0,0,0,"","","",null,1.4898424716251804,2.1488417273865519]
[null,null,32.6,12.858129466173756,2.7526993865030676,13.763496932515338,1.9510787448731712,10898.393099913081,null,null,1.4991249792365522,2.8595759681623392E-2,2.1784115320671406E-2,1.7312733966000308E-2,1.428902208298715E-2,1.3017979772151677E-2,"","","",0,0,0,0,0,"","","",2.1496021050311853,null,0,0,0,0,0,"","","",null,3.8220351074591878,{"$f":"IF(AK$56=\"NOT ELUTED\",\"\",IF(AK$51=\"\",\"\",IF(ABS(($AM400-AK$57)/(AK$72/2.2))>20,0,AK$62*(POWER(POWER(AK$66,2),0.5)+POWER(POWER(AK$66,2),-0.5))/(POWER(POWER(AK$66,2),0.5)*EXP(POWER(1+POWER(AK$66,2),-1)*($AM400-AK$57)/(AK$72/2.2))+POWER(POWER(AK$66,2),-0.5)*EXP(-POWER(AK$66,2)*POWER(1+POWER(AK$66,2),-1)*($AM400-AK$57)/(AK$72/2.2))))))","v":0},{"$f":"IF(AL$56=\"NOT ELUTED\",\"\",IF(AL$51=\"\",\"\",IF(ABS(($AM400-AL$57)/(AL$72/2.2))>20,0,AL$62*(POWER(POWER(AL$66,2),0.5)+POWER(POWER(AL$66,2),-0.5))/(POWER(POWER(AL$66,2),0.5)*EXP(POWER(1+POWER(AL$66,2),-1)*($AM400-AL$57)/(AL$72/2.2))+POWER(POWER(AL$66,2),-0.5)*EXP(-POWER(AL$66,2)*POWER(1+POWER(AL$66,2),-1)*($AM400-AL$57)/(AL$72/2.2))))))","v":0},{"$f":"IF(AM$56=\"NOT ELUTED\",\"\",IF(AM$51=\"\",\"\",IF(ABS(($AM400-AM$57)/(AM$72/2.2))>20,0,AM$62*(POWER(POWER(AM$66,2),0.5)+POWER(POWER(AM$66,2),-0.5))/(POWER(POWER(AM$66,2),0.5)*EXP(POWER(1+POWER(AM$66,2),-1)*($AM400-AM$57)/(AM$72/2.2))+POWER(POWER(AM$66,2),-0.5)*EXP(-POWER(AM$66,2)*POWER(1+POWER(AM$66,2),-1)*($AM400-AM$57)/(AM$72/2.2))))))","v":0},{"$f":"IF(AN$56=\"NOT ELUTED\",\"\",IF(AN$51=\"\",\"\",IF(ABS(($AM400-AN$57)/(AN$72/2.2))>20,0,AN$62*(POWER(POWER(AN$66,2),0.5)+POWER(POWER(AN$66,2),-0.5))/(POWER(POWER(AN$66,2),0.5)*EXP(POWER(1+POWER(AN$66,2),-1)*($AM400-AN$57)/(AN$72/2.2))+POWER(POWER(AN$66,2),-0.5)*EXP(-POWER(AN$66,2)*POWER(1+POWER(AN$66,2),-1)*($AM400-AN$57)/(AN$72/2.2))))))","v":0},{"$f":"IF(AO$56=\"NOT ELUTED\",\"\",IF(AO$51=\"\",\"\",IF(ABS(($AM400-AO$57)/(AO$72/2.2))>20,0,AO$62*(POWER(POWER(AO$66,2),0.5)+POWER(POWER(AO$66,2),-0.5))/(POWER(POWER(AO$66,2),0.5)*EXP(POWER(1+POWER(AO$66,2),-1)*($AM400-AO$57)/(AO$72/2.2))+POWER(POWER(AO$66,2),-0.5)*EXP(-POWER(AO$66,2)*POWER(1+POWER(AO$66,2),-1)*($AM400-AO$57)/(AO$72/2.2))))))","v":0},{"$f":"IF(AP$56=\"NOT ELUTED\",\"\",IF(AP$51=\"\",\"\",IF(ABS(($AM400-AP$57)/(AP$72/2.2))>20,0,AP$62*(POWER(POWER(AP$66,2),0.5)+POWER(POWER(AP$66,2),-0.5))/(POWER(POWER(AP$66,2),0.5)*EXP(POWER(1+POWER(AP$66,2),-1)*($AM400-AP$57)/(AP$72/2.2))+POWER(POWER(AP$66,2),-0.5)*EXP(-POWER(AP$66,2)*POWER(1+POWER(AP$66,2),-1)*($AM400-AP$57)/(AP$72/2.2))))))","v":""},{"$f":"IF(AQ$56=\"NOT ELUTED\",\"\",IF(AQ$51=\"\",\"\",IF(ABS(($AM400-AQ$57)/(AQ$72/2.2))>20,0,AQ$62*(POWER(POWER(AQ$66,2),0.5)+POWER(POWER(AQ$66,2),-0.5))/(POWER(POWER(AQ$66,2),0.5)*EXP(POWER(1+POWER(AQ$66,2),-1)*($AM400-AQ$57)/(AQ$72/2.2))+POWER(POWER(AQ$66,2),-0.5)*EXP(-POWER(AQ$66,2)*POWER(1+POWER(AQ$66,2),-1)*($AM400-AQ$57)/(AQ$72/2.2))))))","v":""},{"$f":"IF(AR$56=\"NOT ELUTED\",\"\",IF(AR$51=\"\",\"\",IF(ABS(($AM400-AR$57)/(AR$72/2.2))>20,0,AR$62*(POWER(POWER(AR$66,2),0.5)+POWER(POWER(AR$66,2),-0.5))/(POWER(POWER(AR$66,2),0.5)*EXP(POWER(1+POWER(AR$66,2),-1)*($AM400-AR$57)/(AR$72/2.2))+POWER(POWER(AR$66,2),-0.5)*EXP(-POWER(AR$66,2)*POWER(1+POWER(AR$66,2),-1)*($AM400-AR$57)/(AR$72/2.2))))))","v":""},2.0998191427825663,null,0,0,0,0,0,"","","",null,1.4944837254308663,2.1167502659897912]
[null,null,32.700000000000003,12.897571581100669,2.7573241590214073,13.786620795107037,1.9570636489985491,10880.113570196694,null,null,1.5037662330422381,2.8684291445343589E-2,2.1851558402159556E-2,1.736633376156068E-2,1.4333260541448411E-2,1.3058283115099515E-2,"","","",0,0,0,0,0,"","","",2.0305461034887342,null,0,0,0,0,0,"","","",null,3.8339047817059555,0,0,0,0,0,"","","",2.1055835955559394,null,0,0,0,0,0,"","","",null,1.4991249792365522,2.1496021050311853]
[null,null,32.799999999999997,12.937013696027581,2.7619512195121949,13.809756097560975,1.9630485531239268,10861.886259272344,null,null,1.508407486847924,2.8772823209063783E-2,2.1919001483647699E-2,1.7419933557121053E-2,1.437749899990967E-2,1.3098586458047352E-2,"","","",0,0,0,0,0,"","","",2.1601960071493487,null,0,0,0,0,0,"","","",null,3.8457744559527232,0,0,0,0,0,"","","",2.0988954111026099,null,0,0,0,0,0,"","","",null,1.5037662330422381,2.0305461034887342]
[null,null,32.9,12.976455810954494,2.7665805471124623,13.83290273556231,1.9690334572493045,10843.711032130124,null,null,1.5130487406536099,2.8861354972783981E-2,2.1986444565135849E-2,1.7473533352681425E-2,1.4421737458370932E-2,1.3138889800995191E-2,"","","",0,0,0,0,0,"","","",2.0347412180943563,null,0,0,0,0,0,"","","",null,3.8576441301994908,0,0,0,0,0,"","","",2.0607039172798753,null,0,0,0,0,0,"","","",null,1.508407486847924,2.1601960071493487]
[null,null,33,13.01589792588141,2.7712121212121215,13.856060606060607,1.9750183613746826,10825.58775287042,null,null,1.5176899944592959,2.8949886736504178E-2,2.2053887646623995E-2,1.7527133148241798E-2,1.4465975916832192E-2,1.3179193143943028E-2,"","","",0,0,0,0,0,"","","",2.154563445975668,null,0,0,0,0,0,"","","",null,3.8695138044462585,0,0,0,0,0,"","","",2.1241702874159651,null,{"$f":"IF(AN404=\"\",\"\",($AM405-$AM404)*AN404)","v":0},{"$f":"IF(AO404=\"\",\"\",($AM405-$AM404)*AO404)","v":0},{"$f":"IF(AP404=\"\",\"\",($AM405-$AM404)*AP404)","v":0},{"$f":"IF(AQ404=\"\",\"\",($AM405-$AM404)*AQ404)","v":0},{"$f":"IF(AR404=\"\",\"\",($AM405-$AM404)*AR404)","v":0},{"$f":"IF(AS404=\"\",\"\",($AM405-$AM404)*AS404)","v":""},{"$f":"IF(AT404=\"\",\"\",($AM405-$AM404)*AT404)","v":""},{"$f":"IF(AU404=\"\",\"\",($AM405-$AM404)*AU404)","v":""},null,1.5130487406536099,2.0347412180943563]
[null,null,33.1,13.055340040808325,2.7758459214501512,13.879229607250757,1.9810032655000605,10807.516284739415,null,null,1.5223312482649818,2.9038418500224376E-2,2.2121330728112142E-2,1.758073294380217E-2,1.4510214375293453E-2,1.3219496486890867E-2,"","","",0,0,0,0,0,"","","",2.0421521119271326,null,0,0,0,0,0,"","","",null,3.8813834786930261,0,0,0,0,0,"","","",2.1546239413792803,null,0,0,0,0,0,"","","",null,1.5176899944592959,2.154563445975668]
[null,null,33.200000000000003,13.094782155735238,2.7804819277108432,13.902409638554216,1.9869881696254383,10789.496490163792,null,null,1.5269725020706677,2.912695026394457E-2,2.2188773809600288E-2,1.7634332739362543E-2,1.4554452833754712E-2,1.3259799829838704E-2,"","","",0,0,0,0,0,"","","",2.1650113178024606,null,0,0,0,0,0,"","","",null,3.8932531529397938,0,0,0,0,0,"","","",2.1355785438710111,null,0,0,0,0,0,"","","",null,1.5223312482649818,2.0421521119271326]
[null,null,33.299999999999997,13.134224270662148,2.7851201201201201,13.9256006006006,1.992973073750816,10771.528230784575,null,null,1.5316137558763536,2.9215482027664767E-2,2.2256216891088434E-2,1.7687932534922915E-2,1.4598691292215974E-2,1.3300103172786543E-2,"","","",0,0,0,0,0,"","","",2.0713564334201227,null,0,0,0,0,0,"","","",null,3.9051228271865615,0,0,0,0,0,"","","",2.0234991417842791,null,0,0,0,0,0,"","","",null,1.5269725020706677,2.1650113178024606]
[null,null,33.4,13.173666385589064,2.7897604790419162,13.948802395209581,1.9989579778761941,10753.611367490179,null,null,1.5362550096820395,2.9304013791384961E-2,2.2323659972576581E-2,1.7741532330483287E-2,1.4642929750677235E-2,1.3340406515734381E-2,"","","",0,0,0,0,0,"","","",2.1548512353469143,null,0,0,0,0,0,"","","",null,3.9169925014333291,0,0,0,0,0,"","","",2.0933256109641012,null,0,0,0,0,0,"","","",null,1.5316137558763536,2.0713564334201227]
[null,null,33.5,13.213108500515977,2.794402985074627,13.972014925373134,2.004942882001572,10735.745760448657,null,null,1.5408962634877255,2.9392545555105159E-2,2.2391103054064727E-2,1.779513212604366E-2,1.4687168209138495E-2,1.3380709858682218E-2,"","","",0,0,0,0,0,"","","",2.0526238733342681,null,0,0,0,0,0,"","","",null,3.9288621756800968,0,0,0,0,0,"","","",2.0468714065741223,null,0,0,0,0,0,"","","",null,1.5362550096820395,2.1548512353469143]
[null,null,33.6,13.252550615442891,2.7990476190476192,13.995238095238097,2.0109277861269499,10717.931269139162,null,null,1.5455375172934114,2.9481077318825356E-2,2.2458546135552874E-2,1.7848731921604032E-2,1.4731406667599756E-2,1.3421013201630057E-2,"","","",0,0,0,0,0,"","","",2.0053396318756116,null,0,0,0,0,0,"","","",null,3.9407318499268644,0,0,0,0,0,"","","",2.0758574095342852,null,0,0,0,0,0,"","","",null,1.5408962634877255,2.0526238733342681]
[null,null,33.700000000000003,13.291992730369804,2.8036943620178043,14.018471810089022,2.0169126902523273,10700.167752382666,null,null,1.5501787710990973,2.9569609082545554E-2,2.252598921704102E-2,1.7902331717164405E-2,1.4775645126061016E-2,1.3461316544577896E-2,"","","",0,0,0,0,0,"","","",2.1396171958598704,null,0,0,0,0,0,"","","",null,3.9526015241736321,0,0,0,0,0,"","","",2.1005002761837543,null,0,0,0,0,0,"","","",null,1.5455375172934114,2.0053396318756116]
[null,null,33.799999999999997,13.331434845296716,2.8083431952662723,14.041715976331361,2.0228975943777052,10682.455068371926,null,null,1.5548200249047832,2.9658140846265748E-2,2.2593432298529167E-2,1.7955931512724777E-2,1.4819883584522275E-2,1.3501619887525733E-2,"","","",0,0,0,0,0,"","","",2.0232139899402517,null,0,0,0,0,0,"","","",null,3.9644711984203997,0,0,0,0,0,"","","",2.1174374589589453,null,0,0,0,0,0,"","","",null,1.5501787710990973,2.1396171958598704]
[null,null,33.9,13.370876960223628,2.8129941002949854,14.064970501474928,2.0288824985030831,10664.793074700739,null,null,1.5594612787104691,2.9746672609985945E-2,2.2660875380017317E-2,1.800953130828515E-2,1.4864122042983536E-2,1.354192323047357E-2,"","","",0,0,0,0,0,"","","",2.1308615364479442,null,0,0,0,0,0,"","","",null,3.9763408726671674,0,0,0,0,0,"","","",2.0917343757076945,null,0,0,0,0,0,"","","",null,1.5548200249047832,2.0232139899402517]
[null,null,34,13.410319075150543,2.8176470588235296,14.088235294117649,2.034867402628461,10647.181628392484,null,null,1.5641025325161551,2.983520437370614E-2,2.2728318461505463E-2,1.8063131103845522E-2,1.4908360501444798E-2,1.3582226573421409E-2,"","","",0,0,0,0,0,"","","",2.0725811681245938,null,0,0,0,0,0,"","","",null,3.9882105469139351,0,0,0,0,0,"","","",2.1444677250812729,null,0,0,0,0,0,"","","",null,1.5594612787104691,2.1308615364479442]
[null,null,34.1,13.449761190077457,2.8223020527859237,14.111510263929619,2.0408523067538384,10629.620585927962,null,null,1.568743786321841,2.9923736137426337E-2,2.279576154299361E-2,1.8116730899405895E-2,1.4952598959906058E-2,1.3622529916369247E-2,"","","",0,0,0,0,0,"","","",2.0180470787490217,null,0,0,0,0,0,"","","",null,4.0000802211607027,0,0,0,0,0,"","","",2.0062313198715009,null,0,0,0,0,0,"","","",null,1.5641025325161551,2.0725811681245938]
[null,null,34.200000000000003,13.48920330500437,2.8269590643274856,14.134795321637428,2.0468372108792168,10612.109803272584,null,null,1.5733850401275269,3.0012267901146535E-2,2.2863204624481756E-2,1.8170330694966267E-2,1.4996837418367319E-2,1.3662833259317084E-2,"","","",0,0,0,0,0,"","","",2.0372113845607407,null,0,0,0,0,0,"","","",null,4.0119498954074704,0,0,0,0,0,"","","",2.1310365759965264,null,0,0,0,0,0,"","","",null,1.568743786321841,2.0180470787490217]
[null,null,34.299999999999997,13.528645419931282,2.8316180758017491,14.158090379008746,2.0528221150045942,10594.649135902888,null,null,1.5780262939332128,3.0100799664866729E-2,2.2930647705969903E-2,1.8223930490526639E-2,1.5041075876828579E-2,1.3703136602264923E-2,"","","",0,0,0,0,0,"","","",2.1037445744616781,null,0,0,0,0,0,"","","",null,4.023819569654238,0,0,0,0,0,"","","",2.1588628606218445,null,0,0,0,0,0,"","","",null,1.5733850401275269,2.0372113845607407]
[null,null,34.4,13.568087534858195,2.8362790697674418,14.18139534883721,2.0588070191299717,10577.238438832404,null,null,1.5826675477388987,3.0189331428586923E-2,2.2998090787458049E-2,1.8277530286087012E-2,1.5085314335289838E-2,1.374343994521276E-2,"","","",0,0,0,0,0,"","","",2.1424179237604437,null,0,0,0,0,0,"","","",null,4.0356892439010057,0,0,0,0,0,"","","",2.0023705669152116,null,0,0,0,0,0,"","","",null,1.5780262939332128,2.1037445744616781]
[null,null,34.5,13.607529649785109,2.8409420289855074,14.204710144927537,2.0647919232553495,10559.877566636907,null,null,1.5873088015445846,3.027786319230712E-2,2.3065533868946195E-2,1.8331130081647384E-2,1.5129552793751099E-2,1.3783743288160599E-2,"","","",0,0,0,0,0,"","","",2.0019259945444174,null,0,0,0,0,0,"","","",null,4.0475589181477734,0,0,0,0,0,"","","",2.1567730185736433,null,0,0,0,0,0,"","","",null,1.5826675477388987,2.1424179237604437]
[null,null,34.6,13.646971764712022,2.8456069364161851,14.228034682080926,2.0707768273807274,10542.566373479047,null,null,1.5919500553502706,3.0366394956027314E-2,2.3132976950434342E-2,1.8384729877207757E-2,1.5173791252212359E-2,1.3824046631108436E-2,"","","",0,0,0,0,0,"","","",2.119819605292411,null,0,0,0,0,0,"","","",null,4.059428592394541,0,0,0,0,0,"","","",2.1194153026661895,null,0,0,0,0,0,"","","",null,1.5873088015445846,2.0019259945444174]
[null,null,34.700000000000003,13.686413879638939,2.8502737752161389,14.251368876080694,2.0767617315061058,10525.304713132364,null,null,1.5965913091559565,3.0454926719747515E-2,2.3200420031922488E-2,1.8438329672768129E-2,1.521802971067362E-2,1.3864349974056275E-2,"","","",0,0,0,0,0,"","","",2.1503387486625205,null,0,0,0,0,0,"","","",null,4.0712982666413087,0,0,0,0,0,"","","",2.1541480704970741,null,0,0,0,0,0,"","","",null,1.5919500553502706,2.119819605292411]
[null,null,34.799999999999997,13.725855994565849,2.8549425287356325,14.274712643678162,2.0827466356314832,10508.092439004749,null,null,1.6012325629616424,3.0543458483467709E-2,2.3267863113410635E-2,1.8491929468328502E-2,1.526226816913488E-2,1.3904653317004112E-2,"","","",0,0,0,0,0,"","","",2.1311595753921599,null,0,0,0,0,0,"","","",null,4.0831679408880763,0,0,0,0,0,"","","",2.0548265827258554,null,0,0,0,0,0,"","","",null,1.5965913091559565,2.1503387486625205]
[null,null,34.9,13.765298109492765,2.8596131805157592,14.298065902578795,2.0887315397568615,10490.929404161303,null,null,1.6058738167673283,3.0631990247187907E-2,2.3335306194898785E-2,1.8545529263888874E-2,1.5306506627596141E-2,1.394495665995195E-2,"","","",0,0,0,0,0,"","","",2.1140474220705654,null,0,0,0,0,0,"","","",null,4.095037615134844,0,0,0,0,0,"","","",2.0416292924001391,null,0,0,0,0,0,"","","",null,1.6012325629616424,2.1311595753921599]
[null,null,35,13.804740224419678,2.8642857142857143,14.321428571428571,2.0947164438822394,10473.815461346634,null,null,1.6105150705730142,3.0720522010908101E-2,2.3402749276386928E-2,1.8599129059449247E-2,1.5350745086057401E-2,1.3985260002899787E-2,"","","",0,0,0,0,0,"","","",2.1244975335932761,null,0,0,0,0,0,"","","",null,4.1069072893816116,0,0,0,0,0,"","","",2.078289217600112,null,0,0,0,0,0,"","","",null,1.6058738167673283,2.1140474220705654]
[null,null,35.1,13.84418233934659,2.8689601139601137,14.344800569800569,2.1007013480076164,10456.75046300664,null,null,1.6151563243787002,3.0809053774628298E-2,2.3470192357875078E-2,1.8652728855009619E-2,1.5394983544518662E-2,1.4025563345847626E-2,"","","",0,0,0,0,0,"","","",2.0599313268802111,null,0,0,0,0,0,"","","",null,4.1187769636283793,0,0,0,0,0,"","","",2.0638033899211621,null,0,0,0,0,0,"","","",null,1.6105150705730142,2.1244975335932761]
[null,null,35.200000000000003,13.883624454273505,2.873636363636364,14.368181818181821,2.1066862521329948,10439.73426130971,null,null,1.6197975781843861,3.0897585538348496E-2,2.3537635439363224E-2,1.8706328650569991E-2,1.5439222002979924E-2,1.4065866688795465E-2,"","","",0,0,0,0,0,"","","",2.0935628373873021,null,0,0,0,0,0,"","","",null,4.130646637875147,0,0,0,0,0,"","","",2.0490625133152318,null,0,0,0,0,0,"","","",null,1.6151563243787002,2.0599313268802111]
[null,null,35.299999999999997,13.923066569200415,2.8783144475920679,14.391572237960339,2.1126711562583722,10422.766708167454,null,null,1.624438831990072,3.0986117302068693E-2,2.3605078520851371E-2,1.8759928446130364E-2,1.5483460461441185E-2,1.4106170031743304E-2,"","","",0,0,0,0,0,"","","",2.0783703883675981,null,0,0,0,0,0,"","","",null,4.1425163121219146,0,0,0,0,0,"","","",2.0188158090627546,null,0,0,0,0,0,"","","",null,1.6197975781843861,2.0935628373873021]
[null,null,35.4,13.96250868412733,2.8829943502824857,14.414971751412429,2.1186560603837501,10405.847655254856,null,null,1.6290800857957579,3.1074649065788888E-2,2.3672521602339517E-2,1.8813528241690736E-2,1.5527698919902445E-2,1.4146473374691141E-2,"","","",0,0,0,0,0,"","","",2.1626770197436485,null,0,0,0,0,0,"","","",null,4.1543859863686823,0,0,0,0,0,"","","",2.1334699208829271,null,0,0,0,0,0,"","","",null,1.624438831990072,2.0783703883675981]
[null,null,35.5,14.001950799054244,2.8876760563380284,14.438380281690142,2.124640964509128,10388.976954029995,null,null,1.6337213396014438,3.1163180829509082E-2,2.3739964683827663E-2,1.8867128037251109E-2,1.5571937378363704E-2,1.4186776717638978E-2,"","","",0,0,0,0,0,"","","",2.0299312182792728,null,0,0,0,0,0,"","","",null,4.1662556606154499,0,0,0,0,0,"","","",2.0367095468443881,null,0,0,0,0,0,"","","",null,1.6290800857957579,2.1626770197436485]
[null,null,35.6,14.041392913981158,2.8923595505617978,14.461797752808989,2.1306258686345059,10372.154455753243,null,null,1.6383625934071298,3.1251712593229279E-2,2.380740776531581E-2,1.8920727832811481E-2,1.5616175836824965E-2,1.4227080060586816E-2,"","","",0,0,0,0,0,"","","",2.0350491566234612,null,0,0,0,0,0,"","","",null,4.1781253348622176,0,0,0,0,0,"","","",2.0418871535015168,null,0,0,0,0,0,"","","",null,1.6337213396014438,2.0299312182792728]
[null,null,35.700000000000003,14.080835028908073,2.8970448179271711,14.485224089635855,2.1366107727598842,10355.380011505977,null,null,1.6430038472128157,3.1340244356949473E-2,2.387485084680396E-2,1.8974327628371854E-2,1.5660414295286227E-2,1.4267383403534655E-2,"","","",0,0,0,0,0,"","","",2.0560589722586817,null,0,0,0,0,0,"","","",null,4.1899950091089853,0,0,0,0,0,"","","",2.0672023641625938,null,0,0,0,0,0,"","","",null,1.6383625934071298,2.0350491566234612]
[null,null,35.799999999999997,14.120277143834983,2.9017318435754191,14.508659217877096,2.1425956768852612,10338.653472208853,null,null,1.6476451010185016,3.1428776120669674E-2,2.3942293928292103E-2,1.9027927423932226E-2,1.5704652753747488E-2,1.4307686746482494E-2,"","","",0,0,0,0,0,"","","",2.0328252938226847,null,0,0,0,0,0,"","","",null,4.2018646833557529,0,0,0,0,0,"","","",2.1188561128835328,null,0,0,0,0,0,"","","",null,1.6430038472128157,2.0560589722586817]
[null,null,35.9,14.159719258761896,2.9064206128133705,14.532103064066852,2.1485805810106395,10321.974688639599,null,null,1.6522863548241875,3.1517307884389868E-2,2.4009737009780249E-2,1.9081527219492599E-2,1.5748891212208748E-2,1.4347990089430329E-2,"","","",0,0,0,0,0,"","","",2.0904797471228265,null,0,0,0,0,0,"","","",null,4.2137343576025206,0,0,0,0,0,"","","",2.0035398978565442,null,0,0,0,0,0,"","","",null,1.6476451010185016,2.0328252938226847]
[null,null,36,14.19916137368881,2.9111111111111114,14.555555555555557,2.154565485136017,10305.343511450381,null,null,1.6569276086298734,3.1605839648110062E-2,2.4077180091268396E-2,1.9135127015052971E-2,1.5793129670670009E-2,1.438829343237817E-2,"","","",0,0,0,0,0,"","","",2.0469342930817649,null,0,0,0,0,0,"","","",null,4.2256040318492882,0,0,0,0,0,"","","",2.0190017510998257,null,0,0,0,0,0,"","","",null,1.6522863548241875,2.0904797471228265]
[null,null,36.1,14.238603488615723,2.9158033240997234,14.579016620498617,2.1605503892613953,10288.759791184726,null,null,1.6615688624355593,3.1694371411830256E-2,2.4144623172756542E-2,1.9188726810613344E-2,1.5837368129131266E-2,1.4428596775326007E-2,"","","",0,0,0,0,0,"","","",2.0109758279944887,null,0,0,0,0,0,"","","",null,4.2374737060960559,0,0,0,0,0,"","","",2.0159848749693636,null,0,0,0,0,0,"","","",null,1.6569276086298734,2.0469342930817649]
[null,null,36.200000000000003,14.278045603542637,2.920497237569061,14.602486187845304,2.1665352933867728,10272.223378294017,null,null,1.6662101162412453,3.1782903175550457E-2,2.4212066254244689E-2,1.9242326606173716E-2,1.5881606587592526E-2,1.4468900118273844E-2,"","","",0,0,0,0,0,"","","",2.0613160790335869,null,0,0,0,0,0,"","","",null,4.2493433803428236,0,0,0,0,0,"","","",2.0815272047391313,null,0,0,0,0,0,"","","",null,1.6615688624355593,2.0109758279944887]
[null,null,36.299999999999997,14.317487718469549,2.9251928374655645,14.625964187327822,2.1725201975121502,10255.734123153568,null,null,1.6708513700469312,3.1871434939270651E-2,2.4279509335732839E-2,1.9295926401734088E-2,1.592584504605379E-2,1.4509203461221682E-2,"","","",0,0,0,0,0,"","","",2.017955558185573,null,0,0,0,0,0,"","","",null,4.2612130545895912,0,0,0,0,0,"","","",2.1352521770416693,null,0,0,0,0,0,"","","",null,1.6662101162412453,2.0613160790335869]
[null,null,36.4,14.356929833396462,2.9298901098901098,14.649450549450549,2.1785051016375281,10239.291876078314,null,null,1.6754926238526171,3.1959966702990852E-2,2.4346952417220982E-2,1.9349526197294461E-2,1.5970083504515051E-2,1.4549506804169521E-2,"","","",0,0,0,0,0,"","","",2.0930627319727022,null,0,0,0,0,0,"","","",null,4.2730827288363589,0,0,0,0,0,"","","",2.1447333797846295,null,0,0,0,0,0,"","","",null,1.6708513700469312,2.017955558185573]
[null,null,36.5,14.396371948323377,2.9345890410958906,14.672945205479452,2.1844900057629064,10222.896487338079,null,null,1.680133877658303,3.2048498466711046E-2,2.4414395498709131E-2,1.9403125992854833E-2,1.6014321962976311E-2,1.4589810147117358E-2,"","","",0,0,0,0,0,"","","",2.001403723351745,null,0,0,0,0,0,"","","",null,4.2849524030831265,0,0,0,0,0,"","","",2.1608966951749373,null,0,0,0,0,0,"","","",null,1.6754926238526171,2.0930627319727022]
[null,null,36.6,14.435814063250293,2.939289617486339,14.696448087431694,2.1904749098882843,10206.54780717247,null,null,1.6847751314639889,3.2137030230431241E-2,2.4481838580197278E-2,1.9456725788415206E-2,1.6058560421437572E-2,1.4630113490065197E-2,"","","",0,0,0,0,0,"","","",2.0137770564482196,null,0,0,0,0,0,"","","",null,4.2968220773298942,0,0,0,0,0,"","","",2.060200143072771,null,0,0,0,0,0,"","","",null,1.680133877658303,2.001403723351745]
[null,null,36.700000000000003,14.475256178177206,2.9439918256130793,14.719959128065396,2.1964598140136622,10190.245685805385,null,null,1.6894163852696749,3.2225561994151435E-2,2.4549281661685424E-2,1.9510325583975578E-2,1.6102798879898829E-2,1.4670416833013034E-2,"","","",0,0,0,0,0,"","","",2.1033420038614614,null,0,0,0,0,0,"","","",null,4.3086917515766618,0,0,0,0,0,"","","",2.1466951898280873,null,0,0,0,0,0,"","","",null,1.6847751314639889,2.0137770564482196]
[null,null,36.799999999999997,14.514698293104116,2.9486956521739129,14.743478260869566,2.2024447181390396,10173.989973459156,null,null,1.6940576390753608,3.2314093757871636E-2,2.4616724743173571E-2,1.9563925379535951E-2,1.6147037338360093E-2,1.4710720175960873E-2,"","","",0,0,0,0,0,"","","",2.0998799591639425,null,0,0,0,0,0,"","","",null,4.3205614258234295,0,0,0,0,0,"","","",2.144800430673615,null,0,0,0,0,0,"","","",null,1.6894163852696749,2.1033420038614614]
[null,null,36.9,14.554140408031031,2.95340108401084,14.7670054200542,2.208429622264418,10157.780520368322,null,null,1.6986988928810467,3.240262552159183E-2,2.4684167824661717E-2,1.9617525175096323E-2,1.619127579682135E-2,1.475102351890871E-2,"","","",0,0,0,0,0,"","","",2.0096387317812705,null,0,0,0,0,0,"","","",null,4.3324311000701972,0,0,0,0,0,"","","",2.1256802574474687,null,0,0,0,0,0,"","","",null,1.6940576390753608,2.0998799591639425]
[null,null,37,14.593582522957945,2.9581081081081084,14.790540540540542,2.2144145263897954,10141.617176793055,null,null,1.7033401466867326,3.2491157285312024E-2,2.4751610906149867E-2,1.9671124970656696E-2,1.6235514255282614E-2,1.4791326861856548E-2,"","","",0,0,0,0,0,"","","",2.0300739216819568,null,0,0,0,0,0,"","","",null,4.3443007743169648,0,0,0,0,0,"","","",2.1057639537260751,null,0,0,0,0,0,"","","",null,1.6986988928810467,2.0096387317812705]
[null,null,37.1,14.633024637884857,2.962816711590297,14.814083557951484,2.2203994305151733,10125.499793032235,null,null,1.7079814004924185,3.2579689049032225E-2,2.4819053987638014E-2,1.9724724766217068E-2,1.6279752713743871E-2,1.4831630204804387E-2,"","","",0,0,0,0,0,"","","",2.0792417665906333,null,0,0,0,0,0,"","","",null,4.3561704485637325,0,0,0,0,0,"","","",2.0788687948208771,null,0,0,0,0,0,"","","",null,1.7033401466867326,2.0300739216819568]
[null,null,37.200000000000003,14.672466752811772,2.9675268817204303,14.837634408602153,2.2263843346405512,10109.428219436189,null,null,1.7126226542981045,3.2668220812752419E-2,2.488649706912616E-2,1.977832456177744E-2,1.6323991172205135E-2,1.4871933547752224E-2,"","","",0,0,0,0,0,"","","",2.1196699552437113,null,0,0,0,0,0,"","","",null,4.3680401228105001,0,0,0,0,0,"","","",2.0496216013093869,null,0,0,0,0,0,"","","",null,1.7079814004924185,2.0792417665906333]
[null,null,37.299999999999997,14.711908867738684,2.9722386058981236,14.861193029490618,2.2323692387659291,10093.402306419097,null,null,1.7172639081037904,3.2756752576472613E-2,2.4953940150614307E-2,1.9831924357337813E-2,1.6368229630666396E-2,1.4912236890700063E-2,"","","",0,0,0,0,0,"","","",2.0009356352656225,null,0,0,0,0,0,"","","",null,4.3799097970572678,0,0,0,0,0,"","","",2.149943362204664,null,0,0,0,0,0,"","","",null,1.7126226542981045,2.1196699552437113]
[null,null,37.4,14.751350982665596,2.9769518716577541,14.88475935828877,2.238354142891307,10077.42190447107,null,null,1.7219051619094763,3.2845284340192814E-2,2.5021383232102453E-2,1.9885524152898185E-2,1.6412468089127656E-2,1.49525402336479E-2,"","","",0,0,0,0,0,"","","",2.0224659601800359,null,0,0,0,0,0,"","","",null,4.3917794713040355,0,0,0,0,0,"","","",2.1072878279665805,null,0,0,0,0,0,"","","",null,1.7172639081037904,2.0009356352656225]
[null,null,37.5,14.790793097592511,2.9816666666666665,14.908333333333331,2.244339047016684,10061.486864169929,null,null,1.7265464157151622,3.2933816103913008E-2,2.50888263135906E-2,1.9939123948458558E-2,1.6456706547588917E-2,1.4992843576595737E-2,"","","",0,0,0,0,0,"","","",2.143581611445859,null,0,0,0,0,0,"","","",null,4.4036491455508031,0,0,0,0,0,"","","",2.0329981197707654,null,0,0,0,0,0,"","","",null,1.7219051619094763,2.0224659601800359]
[null,null,37.6,14.830235212519424,2.9863829787234044,14.931914893617023,2.2503239511420623,10045.597036192647,null,null,1.7311876695208481,3.3022347867633209E-2,2.5156269395078746E-2,1.999272374401893E-2,1.6500945006050177E-2,1.5033146919543577E-2,"","","",0,0,0,0,0,"","","",2.0167118315197508,null,0,0,0,0,0,"","","",null,4.4155188197975708,0,0,0,0,0,"","","",2.0577932560584431,null,0,0,0,0,0,"","","",null,1.7265464157151622,2.143581611445859]
[null,null,37.700000000000003,14.869677327446338,2.9911007957559681,14.955503978779841,2.2563088552674402,10029.752271326526,null,null,1.735828923326534,3.3110879631353403E-2,2.5223712476566892E-2,2.0046323539579303E-2,1.6545183464511438E-2,1.5073450262491414E-2,"","","",0,0,0,0,0,"","","",2.0766219748150001,null,0,0,0,0,0,"","","",null,4.4273884940443384,0,0,0,0,0,"","","",2.1320821151566833,null,0,0,0,0,0,"","","",null,1.7311876695208481,2.0167118315197508]
[null,null,37.799999999999997,14.90911944237325,2.9958201058201057,14.979100529100528,2.2622937593928181,10013.952420480035,null,null,1.74047017713222,3.3199411395073597E-2,2.5291155558055039E-2,2.0099923335139675E-2,1.6589421922972695E-2,1.5113753605439253E-2,"","","",0,0,0,0,0,"","","",2.0502858523650462,null,0,0,0,0,0,"","","",null,4.4392581682911061,0,0,0,0,0,"","","",2.1128554048097032,null,0,0,0,0,0,"","","",null,1.735828923326534,2.0766219748150001]
[null,null,37.9,14.948561557300163,3.0005408970976255,15.002704485488128,2.2682786635181955,9998.1973346933919,null,null,1.7451114309379059,3.3287943158793798E-2,2.5358598639543185E-2,2.0153523130700048E-2,1.6633660381433955E-2,1.515405694838709E-2,"","","",0,0,0,0,0,"","","",2.0754275858557252,null,0,0,0,0,0,"","","",null,4.4511278425378737,0,0,0,0,0,"","","",2.0658230888940499,null,0,0,0,0,0,"","","",null,1.74047017713222,2.0502858523650462]
[null,null,38,14.988003672227077,3.0052631578947366,15.026315789473683,2.2742635676435738,9982.4868651488632,null,null,1.7497526847435918,3.3376474922513992E-2,2.5426041721031332E-2,2.020712292626042E-2,1.6677898839895219E-2,1.5194360291334927E-2,"","","",0,0,0,0,0,"","","",2.1206062327158053,null,0,0,0,0,0,"","","",null,4.4629975167846414,0,0,0,0,0,"","","",2.1072210436777228,null,0,0,0,0,0,"","","",null,1.7451114309379059,2.0754275858557252]
[null,null,38.1,15.02744578715399,3.0099868766404203,15.049934383202102,2.2802484717689513,9966.8208631807483,null,null,1.7543939385492777,3.3465006686234186E-2,2.5493484802519482E-2,2.0260722721820792E-2,1.672213729835648E-2,1.5234663634282766E-2,"","","",0,0,0,0,0,"","","",2.1461616563385935,null,0,0,0,0,0,"","","",null,4.4748671910314091,0,0,0,0,0,"","","",2.061989857538419,null,0,0,0,0,0,"","","",null,1.7497526847435918,2.1206062327158053]
[null,null,38.200000000000003,15.066887902080907,3.0147120418848168,15.073560209424084,2.2862333758943296,9951.1991802851626,null,null,1.7590351923549636,3.355353844995438E-2,2.5560927884007625E-2,2.0314322517381165E-2,1.6766375756817737E-2,1.5274966977230603E-2,"","","",0,0,0,0,0,"","","",2.0914152624857811,null,0,0,0,0,0,"","","",null,4.4867368652781767,0,0,0,0,0,"","","",2.0564369391236439,null,0,0,0,0,0,"","","",null,1.7543939385492777,2.1461616563385935]
[null,null,38.299999999999997,15.106330017007819,3.0194386422976502,15.097193211488252,2.2922182800197075,9935.6216681294827,null,null,1.7636764461606496,3.3642070213674581E-2,2.5628370965495771E-2,2.0367922312941537E-2,1.6810614215278998E-2,1.5315270320178442E-2,"","","",0,0,0,0,0,"","","",2.0838023543949085,null,0,0,0,0,0,"","","",null,4.4986065395249444,0,0,0,0,0,"","","",2.0094241537277298,null,0,0,0,0,0,"","","",null,1.7590351923549636,2.0914152624857811]
[null,null,38.4,15.145772131934732,3.0241666666666669,15.120833333333334,2.2982031841450854,9920.0881785615875,null,null,1.7683176999663355,3.3730601977394775E-2,2.5695814046983921E-2,2.042152210850191E-2,1.6854852673740258E-2,1.535557366312628E-2,"","","",0,0,0,0,0,"","","",2.1311235842728027,null,0,0,0,0,0,"","","",null,4.510476213771712,0,0,0,0,0,"","","",2.1282244374238255,null,0,0,0,0,0,"","","",null,1.7636764461606496,2.0838023543949085]
[null,null,38.5,15.185214246861644,3.0288961038961038,15.144480519480519,2.3041880882704628,9904.5985636188234,null,null,1.7729589537720214,3.3819133741114969E-2,2.5763257128472068E-2,2.0475121904062282E-2,1.6899091132201522E-2,1.5395877006074119E-2,"","","",0,0,0,0,0,"","","",2.01055509282333,null,0,0,0,0,0,"","","",null,4.5223458880184797,0,0,0,0,0,"","","",2.1416526053471783,null,0,0,0,0,0,"","","",null,1.7683176999663355,2.1311235842728027]
[null,null,38.6,15.22465636178856,3.0336269430051814,15.168134715025907,2.3101729923958412,9889.1526755367304,null,null,1.7776002075777073,3.390766550483517E-2,2.5830700209960214E-2,2.0528721699622655E-2,1.6943329590662779E-2,1.5436180349021956E-2,"","","",0,0,0,0,0,"","","",2.0719993801722723,null,0,0,0,0,0,"","","",null,4.5342155622652474,0,0,0,0,0,"","","",2.0126083772677963,null,0,0,0,0,0,"","","",null,1.7729589537720214,2.01055509282333]
[null,null,38.700000000000003,{"$f":"(2*$C$43*$C461)/($C$15/1000000)*1000","v":15.264098476715473},{"$f":"$C$46+$C$47/C461+$C$48*C461","v":3.0383591731266151},{"$f":"E461*$C$15","v":15.191795865633075},{"$f":"D461*PI()*$C$14*$C$37/4*60/1000","v":2.3161578965212191},{"$f":"($C$13*1000)/F461","v":9873.7503667575238},null,null,1.7822414613833932,3.3996197268555364E-2,2.589814329144836E-2,2.0582321495183027E-2,1.6987568049124043E-2,1.5476483691969795E-2,"","","",0,0,0,0,0,"","","",2.1279031632056467,null,0,0,0,0,0,"","","",null,4.546085236512015,0,0,0,0,0,"","","",2.0071703251112041,null,0,0,0,0,0,"","","",null,1.7776002075777073,2.0719993801722723]
[null,null,38.799999999999997,15.303540591642383,3.0430927835051547,15.215463917525774,2.3221428006465961,9858.3914899383417,null,null,{"$f":"K461+1/($C$74*60)","v":1.7868827151890792},{"$f":"IF(Q$56=\"\",\"\",SQRT(($K462*$K462)/$Q$72))","v":3.4084729032275558E-2},{"$f":"IF(R$56=\"\",\"\",SQRT(($K462*$K462)/$R$72))","v":2.5965586372936507E-2},{"$f":"IF(S$56=\"\",\"\",SQRT(($K462*$K462)/$S$72))","v":2.06359212907434E-2},{"$f":"IF(T$56=\"\",\"\",SQRT(($K462*$K462)/$T$72))","v":1.70318065075853E-2},{"$f":"IF(U$56=\"\",\"\",SQRT(($K462*$K462)/$U$72))","v":1.5516787034917632E-2},{"$f":"IF(V$56=\"\",\"\",SQRT(($K462*$K462)/$V$72))","v":""},{"$f":"IF(W$56=\"\",\"\",SQRT(($K462*$K462)/$W$72))","v":""},{"$f":"IF(X$56=\"\",\"\",SQRT(($K462*$K462)/$X$72))","v":""},{"$f":"IF(Q$56=\"\",\"\",IF(ABS(($K462-Q$60) / ( L462 / 2.2))>20,0,IF(Q$60<>\"\",Q$64 * ( POWER(POWER(Q$67, 2),0.5) + POWER(POWER(Q$67, 2),-0.5)  ) / ( POWER(POWER(Q$67, 2),0.5) * EXP( POWER(1 + POWER(Q$67, 2),-1) * ($K462-Q$60)/ ( L462 / 2.2) ) + POWER(POWER(Q$67, 2),-0.5) * EXP(- POWER(Q$67, 2) * POWER(1 + POWER(Q$67, 2),-1) * ($K462-Q$60) / ( L462 / 2.2) ) ),\"\")))","v":0},{"$f":"IF(R$56=\"\",\"\",IF(ABS(($K462-R$60) / ( M462 / 2.2))>20,0,IF(R$60<>\"\",R$64 * ( POWER(POWER(R$67, 2),0.5) + POWER(POWER(R$67, 2),-0.5)  ) / ( POWER(POWER(R$67, 2),0.5) * EXP( POWER(1 + POWER(R$67, 2),-1) * ($K462-R$60)/ ( M462 / 2.2) ) + POWER(POWER(R$67, 2),-0.5) * EXP(- POWER(R$67, 2) * POWER(1 + POWER(R$67, 2),-1) * ($K462-R$60) / ( M462 / 2.2) ) ),\"\")))","v":0},{"$f":"IF(S$56=\"\",\"\",IF(ABS(($K462-S$60) / ( N462 / 2.2))>20,0,IF(S$60<>\"\",S$64 * ( POWER(POWER(S$67, 2),0.5) + POWER(POWER(S$67, 2),-0.5)  ) / ( POWER(POWER(S$67, 2),0.5) * EXP( POWER(1 + POWER(S$67, 2),-1) * ($K462-S$60)/ ( N462 / 2.2) ) + POWER(POWER(S$67, 2),-0.5) * EXP(- POWER(S$67, 2) * POWER(1 + POWER(S$67, 2),-1) * ($K462-S$60) / ( N462 / 2.2) ) ),\"\")))","v":0},{"$f":"IF(T$56=\"\",\"\",IF(ABS(($K462-T$60) / ( O462 / 2.2))>20,0,IF(T$60<>\"\",T$64 * ( POWER(POWER(T$67, 2),0.5) + POWER(POWER(T$67, 2),-0.5)  ) / ( POWER(POWER(T$67, 2),0.5) * EXP( POWER(1 + POWER(T$67, 2),-1) * ($K462-T$60)/ ( O462 / 2.2) ) + POWER(POWER(T$67, 2),-0.5) * EXP(- POWER(T$67, 2) * POWER(1 + POWER(T$67, 2),-1) * ($K462-T$60) / ( O462 / 2.2) ) ),\"\")))","v":0},{"$f":"IF(U$56=\"\",\"\",IF(ABS(($K462-U$60) / ( P462 / 2.2))>20,0,IF(U$60<>\"\",U$64 * ( POWER(POWER(U$67, 2),0.5) + POWER(POWER(U$67, 2),-0.5)  ) / ( POWER(POWER(U$67, 2),0.5) * EXP( POWER(1 + POWER(U$67, 2),-1) * ($K462-U$60)/ ( P462 / 2.2) ) + POWER(POWER(U$67, 2),-0.5) * EXP(- POWER(U$67, 2) * POWER(1 + POWER(U$67, 2),-1) * ($K462-U$60) / ( P462 / 2.2) ) ),\"\")))","v":0},{"$f":"IF(V$56=\"\",\"\",IF(ABS(($K462-V$60) / ( Q462 / 2.2))>20,0,IF(V$60<>\"\",V$64 * ( POWER(POWER(V$67, 2),0.5) + POWER(POWER(V$67, 2),-0.5)  ) / ( POWER(POWER(V$67, 2),0.5) * EXP( POWER(1 + POWER(V$67, 2),-1) * ($K462-V$60)/ ( Q462 / 2.2) ) + POWER(POWER(V$67, 2),-0.5) * EXP(- POWER(V$67, 2) * POWER(1 + POWER(V$67, 2),-1) * ($K462-V$60) / ( Q462 / 2.2) ) ),\"\")))","v":""},{"$f":"IF(W$56=\"\",\"\",IF(ABS(($K462-W$60) / ( R462 / 2.2))>20,0,IF(W$60<>\"\",W$64 * ( POWER(POWER(W$67, 2),0.5) + POWER(POWER(W$67, 2),-0.5)  ) / ( POWER(POWER(W$67, 2),0.5) * EXP( POWER(1 + POWER(W$67, 2),-1) * ($K462-W$60)/ ( R462 / 2.2) ) + POWER(POWER(W$67, 2),-0.5) * EXP(- POWER(W$67, 2) * POWER(1 + POWER(W$67, 2),-1) * ($K462-W$60) / ( R462 / 2.2) ) ),\"\")))","v":""},{"$f":"IF(X$56=\"\",\"\",IF(ABS(($K462-X$60) / ( S462 / 2.2))>20,0,IF(X$60<>\"\",X$64 * ( POWER(POWER(X$67, 2),0.5) + POWER(POWER(X$67, 2),-0.5)  ) / ( POWER(POWER(X$67, 2),0.5) * EXP( POWER(1 + POWER(X$67, 2),-1) * ($K462-X$60)/ ( S462 / 2.2) ) + POWER(POWER(X$67, 2),-0.5) * EXP(- POWER(X$67, 2) * POWER(1 + POWER(X$67, 2),-1) * ($K462-X$60) / ( S462 / 2.2) ) ),\"\")))","v":""},{"$f":"SUM(T462:AA462)+RAND()*$C$69+$C$67","v":2.0300161506782124},null,{"$f":"IF(Q$56=\"\",\"\",($K462-$K461)*T462)","v":0},{"$f":"IF(R$56=\"\",\"\",($K462-$K461)*U462)","v":0},{"$f":"IF(S$56=\"\",\"\",($K462-$K461)*V462)","v":0},{"$f":"IF(T$56=\"\",\"\",($K462-$K461)*W462)","v":0},{"$f":"IF(U$56=\"\",\"\",($K462-$K461)*X462)","v":0},{"$f":"IF(V$56=\"\",\"\",($K462-$K461)*Y462)","v":""},{"$f":"IF(W$56=\"\",\"\",($K462-$K461)*Z462)","v":""},{"$f":"IF(X$56=\"\",\"\",($K462-$K461)*AA462)","v":""},null,4.5579549107587827,0,0,0,0,0,"","","",2.0950742658977775,null,0,0,0,0,0,"","","",null,{"$f":"IF($C$8=\"isocratic\",K461,AM462)","v":1.7822414613833932},{"$f":"IF($C$8=\"isocratic\",AB461,AV462)","v":2.1279031632056467}]
[null,null,38.9,15.342982706569298,3.0478277634961439,15.23913881748072,2.3281277047719739,9843.0758979592702,null,null,1.7915239689947651,3.4173260795995759E-2,2.6033029454424653E-2,2.0689521086303772E-2,1.7076044966046564E-2,1.5557090377865471E-2,"","","",0,0,0,0,0,"","","",2.0629995778129766,null,0,0,0,0,0,"","","",null,{"$f":"AM462+MAX($AK$57:$AR$57)*1.2/3000","v":4.5698245850055503},0,0,0,0,0,"","","",{"$f":"SUM(AN463:AU463)+RAND()*$C$69+K463*$C$70+$C$67","v":2.1493069736866812},null,0,0,0,0,0,"","","",null,1.7868827151890792,2.0300161506782124]
[null,null,39,15.382424821496212,3.0525641025641028,15.262820512820515,2.3341126088973523,9827.8034439311195,null,null,1.796165222800451,3.4261792559715953E-2,2.61004725359128E-2,2.0743120881864145E-2,1.7120283424507821E-2,1.5597393720813309E-2,"","","",0,0,0,0,0,"","","",2.154601998650993,null,0,0,0,0,0,"","","",null,4.581694259252318,{"$f":"IF(AK$56=\"NOT ELUTED\",\"\",IF(AK$51=\"\",\"\",IF(ABS(($AM464-AK$57)/(AK$72/2.2))>20,0,AK$62*(POWER(POWER(AK$66,2),0.5)+POWER(POWER(AK$66,2),-0.5))/(POWER(POWER(AK$66,2),0.5)*EXP(POWER(1+POWER(AK$66,2),-1)*($AM464-AK$57)/(AK$72/2.2))+POWER(POWER(AK$66,2),-0.5)*EXP(-POWER(AK$66,2)*POWER(1+POWER(AK$66,2),-1)*($AM464-AK$57)/(AK$72/2.2))))))","v":0},{"$f":"IF(AL$56=\"NOT ELUTED\",\"\",IF(AL$51=\"\",\"\",IF(ABS(($AM464-AL$57)/(AL$72/2.2))>20,0,AL$62*(POWER(POWER(AL$66,2),0.5)+POWER(POWER(AL$66,2),-0.5))/(POWER(POWER(AL$66,2),0.5)*EXP(POWER(1+POWER(AL$66,2),-1)*($AM464-AL$57)/(AL$72/2.2))+POWER(POWER(AL$66,2),-0.5)*EXP(-POWER(AL$66,2)*POWER(1+POWER(AL$66,2),-1)*($AM464-AL$57)/(AL$72/2.2))))))","v":0},{"$f":"IF(AM$56=\"NOT ELUTED\",\"\",IF(AM$51=\"\",\"\",IF(ABS(($AM464-AM$57)/(AM$72/2.2))>20,0,AM$62*(POWER(POWER(AM$66,2),0.5)+POWER(POWER(AM$66,2),-0.5))/(POWER(POWER(AM$66,2),0.5)*EXP(POWER(1+POWER(AM$66,2),-1)*($AM464-AM$57)/(AM$72/2.2))+POWER(POWER(AM$66,2),-0.5)*EXP(-POWER(AM$66,2)*POWER(1+POWER(AM$66,2),-1)*($AM464-AM$57)/(AM$72/2.2))))))","v":0},{"$f":"IF(AN$56=\"NOT ELUTED\",\"\",IF(AN$51=\"\",\"\",IF(ABS(($AM464-AN$57)/(AN$72/2.2))>20,0,AN$62*(POWER(POWER(AN$66,2),0.5)+POWER(POWER(AN$66,2),-0.5))/(POWER(POWER(AN$66,2),0.5)*EXP(POWER(1+POWER(AN$66,2),-1)*($AM464-AN$57)/(AN$72/2.2))+POWER(POWER(AN$66,2),-0.5)*EXP(-POWER(AN$66,2)*POWER(1+POWER(AN$66,2),-1)*($AM464-AN$57)/(AN$72/2.2))))))","v":0},{"$f":"IF(AO$56=\"NOT ELUTED\",\"\",IF(AO$51=\"\",\"\",IF(ABS(($AM464-AO$57)/(AO$72/2.2))>20,0,AO$62*(POWER(POWER(AO$66,2),0.5)+POWER(POWER(AO$66,2),-0.5))/(POWER(POWER(AO$66,2),0.5)*EXP(POWER(1+POWER(AO$66,2),-1)*($AM464-AO$57)/(AO$72/2.2))+POWER(POWER(AO$66,2),-0.5)*EXP(-POWER(AO$66,2)*POWER(1+POWER(AO$66,2),-1)*($AM464-AO$57)/(AO$72/2.2))))))","v":0},{"$f":"IF(AP$56=\"NOT ELUTED\",\"\",IF(AP$51=\"\",\"\",IF(ABS(($AM464-AP$57)/(AP$72/2.2))>20,0,AP$62*(POWER(POWER(AP$66,2),0.5)+POWER(POWER(AP$66,2),-0.5))/(POWER(POWER(AP$66,2),0.5)*EXP(POWER(1+POWER(AP$66,2),-1)*($AM464-AP$57)/(AP$72/2.2))+POWER(POWER(AP$66,2),-0.5)*EXP(-POWER(AP$66,2)*POWER(1+POWER(AP$66,2),-1)*($AM464-AP$57)/(AP$72/2.2))))))","v":""},{"$f":"IF(AQ$56=\"NOT ELUTED\",\"\",IF(AQ$51=\"\",\"\",IF(ABS(($AM464-AQ$57)/(AQ$72/2.2))>20,0,AQ$62*(POWER(POWER(AQ$66,2),0.5)+POWER(POWER(AQ$66,2),-0.5))/(POWER(POWER(AQ$66,2),0.5)*EXP(POWER(1+POWER(AQ$66,2),-1)*($AM464-AQ$57)/(AQ$72/2.2))+POWER(POWER(AQ$66,2),-0.5)*EXP(-POWER(AQ$66,2)*POWER(1+POWER(AQ$66,2),-1)*($AM464-AQ$57)/(AQ$72/2.2))))))","v":""},{"$f":"IF(AR$56=\"NOT ELUTED\",\"\",IF(AR$51=\"\",\"\",IF(ABS(($AM464-AR$57)/(AR$72/2.2))>20,0,AR$62*(POWER(POWER(AR$66,2),0.5)+POWER(POWER(AR$66,2),-0.5))/(POWER(POWER(AR$66,2),0.5)*EXP(POWER(1+POWER(AR$66,2),-1)*($AM464-AR$57)/(AR$72/2.2))+POWER(POWER(AR$66,2),-0.5)*EXP(-POWER(AR$66,2)*POWER(1+POWER(AR$66,2),-1)*($AM464-AR$57)/(AR$72/2.2))))))","v":""},2.0202434164430758,null,0,0,0,0,0,"","","",null,1.7915239689947651,2.0629995778129766]
[null,null,39.1,15.421866936423125,3.05730179028133,15.286508951406649,2.3400975130227297,9812.5739812030242,null,null,1.8008064766061369,3.4350324323436147E-2,2.6167915617400946E-2,2.0796720677424517E-2,1.7164521882969082E-2,1.5637697063761148E-2,"","","",0,0,0,0,0,"","","",2.1015533517492768,null,0,0,0,0,0,"","","",null,4.5935639334990856,0,0,0,0,0,"","","",2.0470290955280084,null,0,0,0,0,0,"","","",null,1.796165222800451,2.154601998650993]
[null,null,39.200000000000003,15.461309051350039,3.0620408163265305,15.310204081632651,2.3460824171481081,9797.3873633697694,null,null,1.8054477304118228,3.4438856087156348E-2,2.6235358698889093E-2,2.0850320472984889E-2,1.7208760341430346E-2,1.5678000406708983E-2,"","","",0,0,0,0,0,"","","",2.0686260320977135,null,0,0,0,0,0,"","","",null,4.6054336077458533,0,0,0,0,0,"","","",2.1448647705863331,null,0,0,0,0,0,"","","",null,1.8008064766061369,2.1015533517492768]
[null,null,39.299999999999997,15.500751166276951,3.0667811704834604,15.333905852417303,2.3520673212734855,9782.2434442789636,null,null,1.8100889842175087,3.4527387850876542E-2,2.6302801780377239E-2,2.0903920268545262E-2,1.7252998799891603E-2,1.5718303749656822E-2,"","","",0,0,0,0,0,"","","",2.0510102837617263,null,0,0,0,0,0,"","","",null,4.617303281992621,0,0,0,0,0,"","","",2.0129669872629172,null,0,0,0,0,0,"","","",null,1.8054477304118228,2.0686260320977135]
[null,null,39.4,15.540193281203862,3.071522842639594,15.357614213197969,2.3580522253988634,9767.1420780379776,null,null,1.8147302380231947,3.4615919614596737E-2,2.6370244861865389E-2,2.0957520064105638E-2,1.7297237258352863E-2,1.5758607092604661E-2,"","","",0,0,0,0,0,"","","",2.0568618892784234,null,0,0,0,0,0,"","","",null,4.6291729562393886,0,0,0,0,0,"","","",2.0089557950320605,null,{"$f":"IF(AN468=\"\",\"\",($AM469-$AM468)*AN468)","v":0},{"$f":"IF(AO468=\"\",\"\",($AM469-$AM468)*AO468)","v":0},{"$f":"IF(AP468=\"\",\"\",($AM469-$AM468)*AP468)","v":0},{"$f":"IF(AQ468=\"\",\"\",($AM469-$AM468)*AQ468)","v":0},{"$f":"IF(AR468=\"\",\"\",($AM469-$AM468)*AR468)","v":0},{"$f":"IF(AS468=\"\",\"\",($AM469-$AM468)*AS468)","v":""},{"$f":"IF(AT468=\"\",\"\",($AM469-$AM468)*AT468)","v":""},{"$f":"IF(AU468=\"\",\"\",($AM469-$AM468)*AU468)","v":""},null,1.8100889842175087,2.0510102837617263]
[null,null,39.5,15.579635396130778,3.0762658227848103,15.381329113924052,2.3640371295242413,9752.0831190206754,null,null,1.8193714918288806,3.4704451378316931E-2,2.6437687943353536E-2,2.1011119859666007E-2,1.7341475716814124E-2,1.5798910435552496E-2,"","","",0,0,0,0,0,"","","",2.0477197199174162,null,0,0,0,0,0,"","","",null,4.6410426304861563,0,0,0,0,0,"","","",2.1592191411185331,null,0,0,0,0,0,"","","",null,1.8147302380231947,2.0568618892784234]
[null,null,39.6,15.619077511057691,3.0810101010101012,15.405050505050506,2.3700220336496192,9737.0664218739748,null,null,1.8240127456345665,3.4792983142037132E-2,2.6505131024841682E-2,2.1064719655226379E-2,1.7385714175275385E-2,1.5839213778500335E-2,"","","",0,0,0,0,0,"","","",2.0373795656958067,null,0,0,0,0,0,"","","",null,4.6529123047329239,0,0,0,0,0,"","","",2.1353025106658832,null,0,0,0,0,0,"","","",null,1.8193714918288806,2.0477197199174162]
[null,null,39.700000000000003,15.658519625984603,3.0857556675062976,15.428778337531488,2.3760069377749971,9722.0918415241867,null,null,1.8286539994402524,3.4881514905757326E-2,2.6572574106329828E-2,2.1118319450786752E-2,1.7429952633736645E-2,1.5879517121448174E-2,"","","",0,0,0,0,0,"","","",2.122136714634864,null,0,0,0,0,0,"","","",null,4.6647819789796916,0,0,0,0,0,"","","",2.0649373588094364,null,0,0,0,0,0,"","","",null,1.8240127456345665,2.0373795656958067]
[null,null,39.799999999999997,15.697961740911516,3.0905025125628143,15.452512562814071,2.3819918419003749,9707.1592331831998,null,null,1.8332952532459383,3.497004666947752E-2,2.6640017187817975E-2,2.1171919246347124E-2,1.7474191092197906E-2,1.5919820464396012E-2,"","","",0,0,0,0,0,"","","",2.0216987539043227,null,0,0,0,0,0,"","","",null,4.6766516532264593,0,0,0,0,0,"","","",2.143595324604147,null,0,0,0,0,0,"","","",null,1.8286539994402524,2.122136714634864]
[null,null,39.9,15.737403855838428,3.0952506265664161,15.476253132832081,2.3879767460257524,9692.2684523544431,null,null,1.8379365070516243,3.5058578433197721E-2,2.6707460269306121E-2,2.1225519041907497E-2,1.751842955065917E-2,1.5960123807343851E-2,"","","",0,0,0,0,0,"","","",2.0046028332684571,null,0,0,0,0,0,"","","",null,4.6885213274732269,0,0,0,0,0,"","","",2.0278561663072021,null,0,0,0,0,0,"","","",null,1.8332952532459383,2.0216987539043227]
[null,null,40,15.776845970765343,3.1,15.5,2.3939616501511298,9677.4193548387102,null,null,1.8425777608573102,3.5147110196917915E-2,2.6774903350794268E-2,2.1279118837467869E-2,1.7562668009120427E-2,1.6000427150291686E-2,"","","",0,0,0,0,0,"","","",2.1159269332434825,null,0,0,0,0,0,"","","",null,4.7003910017199946,0,0,0,0,0,"","","",2.0718248048113228,null,0,0,0,0,0,"","","",null,1.8379365070516243,2.0046028332684571]
[null,null,40.1,15.816288085692261,3.1047506234413969,15.523753117206985,2.3999465542765082,9662.6117967397713,null,null,1.8472190146629961,3.5235641960638109E-2,2.6842346432282414E-2,2.1332718633028241E-2,1.7606906467581687E-2,1.6040730493239529E-2,"","","",0,0,0,0,0,"","","",2.1583068502609781,null,0,0,0,0,0,"","","",null,4.7122606759667622,0,0,0,0,0,"","","",2.1669483657338011,null,0,0,0,0,0,"","","",null,1.8425777608573102,2.1159269332434825]
[null,null,40.200000000000003,15.855730200619172,3.1095024875621893,15.547512437810946,2.405931458401886,9647.8456344698479,null,null,1.851860268468682,3.5324173724358303E-2,2.6909789513770561E-2,2.1386318428588614E-2,1.7651144926042948E-2,1.6081033836187364E-2,"","","",0,0,0,0,0,"","","",2.0689811488678158,null,0,0,0,0,0,"","","",null,4.7241303502135299,0,0,0,0,0,"","","",2.1629088931273781,null,0,0,0,0,0,"","","",null,1.8472190146629961,2.1583068502609781]
[null,null,40.299999999999997,15.895172315546084,3.114255583126551,15.571277915632756,2.4119163625272639,9633.1207247548882,null,null,1.8565015222743679,3.5412705488078504E-2,2.6977232595258707E-2,2.143991822414899E-2,1.7695383384504212E-2,1.6121337179135203E-2,"","","",0,0,0,0,0,"","","",2.1258860355893399,null,0,0,0,0,0,"","","",null,4.7360000244602976,0,0,0,0,0,"","","",2.0986018753817421,null,0,0,0,0,0,"","","",null,1.851860268468682,2.0689811488678158]
[null,null,40.4,15.934614430472998,3.1190099009900991,15.595049504950495,2.4179012666526414,9618.4369246397055,null,null,1.8611427760800539,3.5501237251798698E-2,2.7044675676746854E-2,2.1493518019709359E-2,1.7739621842965469E-2,1.6161640522083038E-2,"","","",0,0,0,0,0,"","","",2.1024742174962028,null,0,0,0,0,0,"","","",null,4.7478696987070652,0,0,0,0,0,"","","",2.0823659993769579,null,0,0,0,0,0,"","","",null,1.8565015222743679,2.1258860355893399]
[null,null,40.5,15.974056545399913,3.1237654320987653,15.618827160493826,2.4238861707780197,9603.7940914929368,null,null,1.8657840298857398,3.5589769015518892E-2,2.7112118758235E-2,2.1547117815269731E-2,1.7783860301426729E-2,1.6201943865030877E-2,"","","",0,0,0,0,0,"","","",2.1535746950285652,null,0,0,0,0,0,"","","",null,4.7597393729538329,0,0,0,0,0,"","","",2.0078917132467597,null,0,0,0,0,0,"","","",null,1.8611427760800539,2.1024742174962028]
[null,null,40.6,16.013498660326825,3.1285221674876849,15.642610837438424,2.4298710749033972,9589.1920830118561,null,null,1.8704252836914257,3.5678300779239093E-2,2.7179561839723147E-2,2.1600717610830104E-2,1.782809875988799E-2,1.6242247207978715E-2,"","","",0,0,0,0,0,"","","",2.1533007288150103,null,0,0,0,0,0,"","","",null,4.7716090472006005,0,0,0,0,0,"","","",2.0601667633924232,null,0,0,0,0,0,"","","",null,1.8657840298857398,2.1535746950285652]
[null,null,40.700000000000003,16.052940775253742,3.1332800982800983,15.666400491400491,2.4358559790287755,9574.6307572270434,null,null,1.8750665374971116,3.5766832542959287E-2,2.7247004921211293E-2,2.1654317406390476E-2,1.787233721834925E-2,1.6282550550926554E-2,"","","",0,0,0,0,0,"","","",2.0785452392875983,null,0,0,0,0,0,"","","",null,4.7834787214473682,0,0,0,0,0,"","","",2.0378085628873723,null,0,0,0,0,0,"","","",null,1.8704252836914257,2.1533007288150103]
[null,null,40.799999999999997,16.092382890180652,3.1380392156862746,15.690196078431374,2.4418408831541534,9560.1099725068725,null,null,1.8797077913027975,3.5855364306679488E-2,2.7314448002699439E-2,2.1707917201950849E-2,1.7916575676810514E-2,1.6322853893874393E-2,"","","",0,0,0,0,0,"","","",2.0022712451749389,null,0,0,0,0,0,"","","",null,4.7953483956941358,0,0,0,0,0,"","","",2.0042602643163518,null,0,0,0,0,0,"","","",null,1.8750665374971116,2.0785452392875983]
[null,null,40.9,16.131825005107565,3.1427995110024449,15.713997555012224,2.4478257872795313,9545.629587561898,null,null,1.8843490451084834,3.5943896070399682E-2,2.7381891084187589E-2,2.1761516997511221E-2,1.7960814135271772E-2,1.6363157236822232E-2,"","","",0,0,0,0,0,"","","",2.0941528018707136,null,0,0,0,0,0,"","","",null,4.8072180699409035,0,0,0,0,0,"","","",2.1097172340470092,null,0,0,0,0,0,"","","",null,1.8797077913027975,2.0022712451749389]
[null,null,41,16.171267120034479,3.1475609756097565,15.737804878048783,2.4538106914049087,9531.1894614490502,null,null,1.8889902989141694,3.6032427834119876E-2,2.7449334165675736E-2,2.1815116793071593E-2,1.8005052593733032E-2,1.6403460579770067E-2,"","","",0,0,0,0,0,"","","",2.063036282105668,null,0,0,0,0,0,"","","",null,4.8190877441876712,0,0,0,0,0,"","","",2.0476976735775723,null,0,0,0,0,0,"","","",null,1.8843490451084834,2.0941528018707136]
[null,null,41.1,16.210709234961392,3.1523236009732361,15.761618004866181,2.459795595530287,9516.7894535757423,null,null,1.8936315527198553,3.612095959784007E-2,2.7516777247163882E-2,2.1868716588631966E-2,1.8049291052194293E-2,1.6443763922717906E-2,"","","",0,0,0,0,0,"","","",2.031398826539454,null,0,0,0,0,0,"","","",null,4.8309574184344388,0,0,0,0,0,"","","",2.0628689578862174,null,0,0,0,0,0,"","","",null,1.8889902989141694,2.063036282105668]
[null,null,41.2,16.250151349888306,3.1570873786407767,15.785436893203883,2.4657804996556645,9502.4294237037957,null,null,1.8982728065255412,3.6209491361560271E-2,2.7584220328652029E-2,2.1922316384192338E-2,1.8093529510655553E-2,1.6484067265665744E-2,"","","",0,0,0,0,0,"","","",2.1521166228679265,null,0,0,0,0,0,"","","",null,4.8428270926812065,0,0,0,0,0,"","","",2.0820356587714093,null,0,0,0,0,0,"","","",null,1.8936315527198553,2.031398826539454]
[null,null,41.3,16.289593464815216,3.1618523002421308,15.809261501210655,2.4717654037810415,9488.1092319532563,null,null,1.9029140603312271,3.6298023125280465E-2,2.7651663410140175E-2,2.1975916179752711E-2,1.8137767969116814E-2,1.6524370608613583E-2,"","","",0,0,0,0,0,"","","",2.1196423954084591,null,0,0,0,0,0,"","","",null,4.8546967669279741,0,0,0,0,0,"","","",2.08659633618994,null,0,0,0,0,0,"","","",null,1.8982728065255412,2.1521166228679265]
[null,null,41.4,16.329035579742133,3.1666183574879225,15.833091787439614,2.4777503079064198,9473.8287388060835,null,null,1.907555314136913,3.6386554889000659E-2,2.7719106491628322E-2,2.2029515975313083E-2,1.8182006427578074E-2,1.6564673951561422E-2,"","","",0,0,0,0,0,"","","",2.1417805806133052,null,0,0,0,0,0,"","","",null,4.8665664411747418,0,0,0,0,0,"","","",2.1280392395131824,null,0,0,0,0,0,"","","",null,1.9029140603312271,2.1196423954084591]
[null,null,41.5,16.368477694669043,3.1713855421686752,15.856927710843376,2.4837352120317973,9459.5878051096952,null,null,1.912196567942599,3.647508665272086E-2,2.7786549573116468E-2,2.2083115770873456E-2,1.8226244886039335E-2,1.6604977294509257E-2,"","","",0,0,0,0,0,"","","",2.0205006483581043,null,0,0,0,0,0,"","","",null,4.8784361154215095,0,0,0,0,0,"","","",2.0628618524197382,null,0,0,0,0,0,"","","",null,1.907555314136913,2.1417805806133052]
[null,null,41.6,16.40791980959596,3.1761538461538463,15.880769230769232,2.489720116157176,9445.3862920804058,null,null,1.9168378217482849,3.6563618416441054E-2,2.7853992654604615E-2,2.2136715566433828E-2,1.8270483344500595E-2,1.6645280637457096E-2,"","","",0,0,0,0,0,"","","",2.0209298166790028,null,0,0,0,0,0,"","","",null,4.8903057896682771,0,0,0,0,0,"","","",2.1360832765423359,null,0,0,0,0,0,"","","",null,1.912196567942599,2.0205006483581043]
[null,null,41.7,16.447361924522873,3.1809232613908875,15.904616306954438,2.4957050202825539,9431.2240613067243,null,null,1.9214790755539708,3.6652150180161248E-2,2.7921435736092761E-2,2.2190315361994201E-2,1.8314721802961856E-2,1.6685583980404935E-2,"","","",0,0,0,0,0,"","","",2.0561593931429991,null,0,0,0,0,0,"","","",null,4.9021754639150448,0,0,0,0,0,"","","",2.0626230582666647,null,0,0,0,0,0,"","","",null,1.9168378217482849,2.0209298166790028]
[null,null,41.8,16.486804039449783,3.1856937799043061,15.92846889952153,2.5016899244079309,9417.1009747525586,null,null,1.9261203293596567,3.6740681943881442E-2,2.7988878817580908E-2,2.2243915157554573E-2,1.8358960261423116E-2,1.6725887323352773E-2,"","","",0,0,0,0,0,"","","",2.1389505096316754,null,0,0,0,0,0,"","","",null,4.9140451381618124,0,0,0,0,0,"","","",2.0045711830432023,null,0,0,0,0,0,"","","",null,1.9214790755539708,2.0561593931429991]
[null,null,41.9,16.5262461543767,3.1904653937947494,15.952326968973747,2.5076748285333097,9403.0168947602688,null,null,1.9307615831653426,3.6829213707601643E-2,2.8056321899069057E-2,2.2297514953114946E-2,1.8403198719884377E-2,1.6766190666300609E-2,"","","",0,0,0,0,0,"","","",2.0148087516102557,null,0,0,0,0,0,"","","",null,4.9259148124085801,0,0,0,0,0,"","","",2.0810372669573471,null,0,0,0,0,0,"","","",null,1.9261203293596567,2.1389505096316754]
[null,null,42,16.565688269303614,3.1952380952380954,15.976190476190478,2.5136597326586871,9388.9716840536494,null,null,1.9354028369710286,3.6917745471321838E-2,2.8123764980557204E-2,2.2351114748675318E-2,1.8447437178345637E-2,1.6806494009248447E-2,"","","",0,0,0,0,0,"","","",2.1550050470355253,null,0,0,0,0,0,"","","",null,4.9377844866553477,0,0,0,0,0,"","","",2.0343880796374929,null,0,0,0,0,0,"","","",null,1.9307615831653426,2.0148087516102557]
[null,null,42.1,16.605130384230527,3.2000118764845604,16.000059382422801,2.5196446367840655,9374.9652057407748,null,null,1.9400440907767145,3.7006277235042032E-2,2.8191208062045347E-2,2.240471454423569E-2,1.8491675636806898E-2,1.6846797352196286E-2,"","","",0,0,0,0,0,"","","",2.0283714485265962,null,0,0,0,0,0,"","","",null,4.9496541609021154,0,0,0,0,0,"","","",2.0073505483046592,null,0,0,0,0,0,"","","",null,1.9354028369710286,2.1550050470355253]
[null,null,42.2,16.644572499157441,3.2047867298578203,16.023933649289102,2.5256295409094429,9360.9973233167202,null,null,1.9446853445824004,3.7094808998762233E-2,2.8258651143533497E-2,2.2458314339796063E-2,1.8535914095268159E-2,1.6887100695144121E-2,"","","",0,0,0,0,0,"","","",2.0344783514726656,null,0,0,0,0,0,"","","",null,4.9615238351488831,0,0,0,0,0,"","","",2.1146756194955807,null,0,0,0,0,0,"","","",null,1.9400440907767145,2.0283714485265962]
[null,null,42.3,16.684014614084354,3.2095626477541366,16.047813238770683,2.5316144450348212,9347.0679006662285,null,null,1.9493265983880863,3.7183340762482427E-2,2.8326094225021643E-2,2.2511914135356435E-2,1.8580152553729419E-2,1.692740403809196E-2,"","","",0,0,0,0,0,"","","",2.0630496380487999,null,0,0,0,0,0,"","","",null,4.9733935093956507,0,0,0,0,0,"","","",2.0030108125999004,null,0,0,0,0,0,"","","",null,1.9446853445824004,2.0344783514726656]
[null,null,42.4,16.723456729011264,3.2143396226415097,16.07169811320755,2.5375993491601987,9333.1768020662112,null,null,1.9539678521937722,3.7271872526202621E-2,2.839353730650979E-2,2.2565513930916808E-2,1.862439101219068E-2,1.6967707381039799E-2,"","","",0,0,0,0,0,"","","",2.1095893501998777,null,0,0,0,0,0,"","","",null,4.9852631836424184,0,0,0,0,0,"","","",2.0598264011139436,null,0,0,0,0,0,"","","",null,1.9493265983880863,2.0630496380487999]
[null,null,42.5,16.762898843938178,3.2191176470588236,16.09558823529412,2.5435842532855757,9319.323892188213,null,null,1.9586091059994581,3.7360404289922822E-2,2.8460980387997936E-2,2.261911372647718E-2,1.866862947065194E-2,1.7008010723987638E-2,"","","",0,0,0,0,0,"","","",2.0394871823065559,null,0,0,0,0,0,"","","",null,4.997132857889186,0,0,0,0,0,"","","",2.05712737360688,null,0,0,0,0,0,"","","",null,1.9539678521937722,2.1095893501998777]
[null,null,42.6,16.802340958865095,3.2238967136150238,16.119483568075118,2.5495691574109545,9305.5090361007151,null,null,1.9632503598051441,3.7448936053643016E-2,2.8528423469486083E-2,2.2672713522037553E-2,1.8712867929113201E-2,1.7048314066935476E-2,"","","",0,0,0,0,0,"","","",2.0879403569432973,null,0,0,0,0,0,"","","",null,5.0090025321359537,0,0,0,0,0,"","","",2.0549888670839773,null,0,0,0,0,0,"","","",null,1.9586091059994581,2.0394871823065559]
[null,null,42.8,16.881225188718918,3.2334579439252336,16.167289719626169,2.5615389656617098,9277.9929475692243,null,null,1.9725328674165159,3.7625999581083404E-2,2.8663309632462376E-2,2.2779913113158298E-2,1.8801344846035722E-2,1.7128920752831154E-2,"","","",0,0,0,0,0,"","","",2.0126060428691428,null,0,0,0,0,0,"","","",null,5.032741880629489,0,0,0,0,0,"","","",2.1348647340487625,null,0,0,0,0,0,"","","",null,1.96789161361083,2.0517466369211395]
[null,null,43.2,17.038993648426572,3.2525925925925927,16.262962962962963,2.5854785821632209,9223.4115235709414,null,null,1.9910978826392596,3.7980126635964194E-2,2.8933081958414965E-2,2.2994312295399787E-2,1.8978298679880764E-2,1.7290134124622505E-2,"","","",0,0,0,0,0,"","","",2.0258596380482587,null,0,0,0,0,0,"","","",null,5.0802205776165597,0,0,0,0,0,"","","",2.16368171591713,null,0,0,0,0,0,"","","",null,1.9864566288335737,2.1554177201781566]
[null,null,43.7,17.23620422306114,3.2765331807780322,16.38266590389016,2.6154031027901099,9156.0189825015968,null,null,2.0143041516676901,3.8422785454565192E-2,2.9270297365855708E-2,2.326231127320166E-2,1.9199490972187074E-2,1.7491650839361703E-2,"","","",0,0,0,0,0,"","","",2.0217715423873046,null,0,0,0,0,0,"","","",null,5.1395689488503979,0,0,0,0,0,"","","",2.1558574667208994,null,0,0,0,0,0,"","","",null,2.0096628978620039,2.027512313803173]
[null,null,44.3,17.472856912622618,3.3052934537246048,16.526467268623023,2.6513125275423768,9076.3499277784813,null,null,2.0421516745018069,3.8953976036886398E-2,2.9674955854784611E-2,2.3583910046563912E-2,1.9464921722954651E-2,1.7733470897048742E-2,"","","",0,0,0,0,0,"","","",2.1638537107117504,null,0,0,0,0,0,"","","",null,5.2107869943310039,0,0,0,0,0,"","","",2.0298242161255509,null,0,0,0,0,0,"","","",null,2.0375104206961208,2.161915923032494]
[null,null,44.8,17.670067487257185,3.3292857142857137,16.646428571428569,2.6812370481692662,9010.9418579703943,null,null,2.0653579435302376,3.9396634855487396E-2,3.001217126222536E-2,2.3851909024365785E-2,1.9686114015260964E-2,1.7934987611787939E-2,"","","",0,0,0,0,0,"","","",2.0200170815960337,null,0,0,0,0,0,"","","",null,5.2701353655648422,0,0,0,0,0,"","","",2.0251123340467232,null,0,0,0,0,0,"","","",null,2.0607166897245515,2.0975235659396612]
[null,null,45.3,17.867278061891753,3.353300220750552,16.766501103752759,2.7111615687961552,8946.4104091715526,null,null,2.0885642125586683,3.9839293674088401E-2,3.0349386669666113E-2,2.4119908002167661E-2,1.9907306307567277E-2,1.813650432652714E-2,"","","",0,0,0,0,0,"","","",2.0926751150162115,null,0,0,0,0,0,"","","",null,{"$f":"AM526+MAX($AK$57:$AR$57)*1.2/3000","v":5.3294837367986805},0,0,0,0,0,"","","",{"$f":"SUM(AN527:AU527)+RAND()*$C$69+K527*$C$70+$C$67","v":2.0810971869273107},null,0,0,0,0,0,"","","",null,2.0839229587529822,2.0960397002912123]
[null,null,45.9,18.103930751453234,3.3821459694989109,16.910729847494554,2.7470709935484225,8870.1079937258637,null,null,2.1164117353927852,4.03704842564096E-2,3.0754045158595009E-2,2.4441506775529913E-2,2.0172737058334854E-2,1.8378324384214179E-2,"","","",0,0,0,0,0,"","","",2.0590252723059841,null,0,0,0,0,0,"","","",null,5.4007017822792864,0,0,0,0,0,"","","",2.0972752331109268,null,0,0,0,0,0,"","","",null,2.111770481587099,2.0271436658516504]
[null,null,46.4,18.301141326087798,3.406206896551724,17.031034482758621,2.7769955141753111,8807.4509009921039,null,null,2.1396180044212159,4.0813143075010605E-2,3.1091260566035762E-2,2.4709505753331789E-2,2.0393929350641167E-2,1.857984109895338E-2,"","","",0,0,0,0,0,"","","",2.1253023982748545,null,0,0,0,0,0,"","","",null,5.4600501535131247,0,0,0,0,0,"","","",2.0113024925175731,null,0,0,0,0,0,"","","",null,2.1349767506155297,2.0520225085906811]
[null,null,47,18.537794015649279,3.4351063829787236,17.175531914893618,2.812904938927578,8733.3539795602355,null,null,2.1674655272553327,4.1344333657331804E-2,3.1495919054964662E-2,2.5031104526694038E-2,2.0659360101408744E-2,1.8821661156640419E-2,"","","",0,8.2459530318795791E-3,0,0,0,"","","",2.0256445157093079,null,0,3.8271560890720269E-5,0,0,0,"","","",null,5.5312681989937307,0,0,0,0,0,"","","",2.0944387228283454,null,0,0,0,0,0,"","","",null,2.1628242734496466,2.1717265803722077]
[null,null,47.5,18.73500459028385,3.4592105263157897,17.296052631578949,2.8428294595544679,8672.4990490680866,null,null,2.1906717962837634,4.1786992475932809E-2,3.1833134462405412E-2,2.529910350449591E-2,2.0880552393715057E-2,1.902317787137962E-2,"","","",0,2.1613375306238202E-2,0,0,0,"","","",2.1129707316064592,null,0,1.0031316039380092E-4,0,0,0,"","","",null,5.590616570227569,0,0,0,0,0,"","","",2.1324907162374611,null,0,0,0,0,0,"","","",null,2.1860305424780773,2.0761586123980194]
[null,null,47.9,18.892773049991497,3.4785073068893526,17.392536534446762,2.8667690760559785,8624.3889557407419,null,null,2.209236811506508,4.2141119530813613E-2,3.2102906788358011E-2,2.551350268673741E-2,2.1057506227560106E-2,1.9184391243170978E-2,"","","",0,4.6044521941713143E-2,0,0,0,"","","",2.0504835173541922,null,0,2.1370431269297514E-4,0,0,0,"","","",null,5.6380952672146396,0,0,0,0,0,"","","",2.0955672690758682,null,0,0,0,0,0,"","","",null,2.2045955577008218,2.1261586623287982]
[null,null,48,18.932215164918414,3.4833333333333334,17.416666666666668,2.8727539801813569,8612.440191387559,null,null,2.2138780653121941,4.2229651294533814E-2,3.2170349869846161E-2,2.5567102482297786E-2,2.110174468602137E-2,1.9224694586118817E-2,"","","",0,5.5517648577120687E-2,0,0,0,"","","",2.1118188333607666,null,0,2.5767149774130716E-4,0,0,0,"","","",null,5.6499649414614073,0,0,0,0,0,"","","",2.096223744346339,null,0,0,0,0,0,"","","",null,2.209236811506508,2.0504835173541922]
[null,null,48.5,19.129425739552978,3.5074742268041241,17.537371134020621,2.9026785008082459,8553.1633477845535,null,null,2.2370843343406248,4.2672310113134812E-2,3.2507565277286911E-2,2.5835101460099662E-2,2.132293697832768E-2,1.9426211300858018E-2,"","","",0,0.13984243645212371,0,0,0,"","","",2.1969893718232414,null,0,6.4904424037984145E-4,0,0,0,"","","",null,5.7093133126952456,0,0,0,0,0,"","","",2.1389399978760175,null,0,0,0,0,0,"","","",null,2.2324430805349387,2.1709545656642453]
[null,null,49,19.326636314187549,3.5316326530612248,17.658163265306122,2.9326030214351348,8494.6547240681884,null,null,2.2602906033690555,4.3114968931735817E-2,3.284478068472766E-2,2.6103100437901539E-2,2.1544129270633997E-2,1.9627728015597218E-2,"","","",0,0.34562610450023878,0,0,0,"","","",2.3718016642907314,null,0,1.604138472856209E-3,0,0,0,"","","",null,5.7686616839290838,0,0,0,0,0,"","","",2.0241818119506743,null,0,0,0,0,0,"","","",null,2.2556493495633694,2.3282135088518823]
[null,null,49.6,19.563289003749031,3.5606451612903229,17.803225806451614,2.9685124461874022,8425.439391194057,null,null,2.2881381262031724,4.3646159514057023E-2,3.324943917365656E-2,2.6424699211263787E-2,2.180956002140157E-2,1.9869548073284258E-2,"","","",0,0.99914814272144226,0,0,0,"","","",3.0700851780803506,null,0,4.6373001198501329E-3,0,0,0,"","","",null,5.8398797294096898,0,0,0,0,0,"","","",2.0517512845751678,null,0,0,0,0,0,"","","",null,2.2834968723974862,2.8784020865394453]
[null,null,50.1,19.760499578383595,3.5848403193612777,17.924201596806387,2.9984369668142907,8368.5735841492642,null,null,2.3113443952316031,4.4088818332658021E-2,3.358665458109731E-2,2.6692698189065663E-2,2.2030752313707883E-2,2.0071064788023459E-2,"","","",0,2.3727739551169993,0,0,0,"","","",4.4527842928113257,null,0,1.101264614921973E-2,0,0,0,"","","",null,5.8992281006435281,0,0,0,0,0,"","","",2.0276174670586897,null,0,0,0,0,0,"","","",null,2.3067031414259169,4.1062092288558638]
[null,null,50.7,19.997152267945076,3.6138954635108482,18.069477317554242,3.0343463915665585,8301.2915849135898,null,null,2.3391919180657199,4.462000891497922E-2,3.3991313070026209E-2,2.7014296962427912E-2,2.229618306447546E-2,2.0312884845710498E-2,"","","",0,6.540974215214673,0,0,0,"","","",8.6285996873016551,null,0,3.035832146926002E-2,0,0,0,"","","",null,5.970446146124134,0,0,0,0,0,"","","",2.1001843287386492,null,0,0,0,0,0,"","","",null,2.3345506642600338,7.663929081914187]
[null,null,51.2,20.194362842579643,3.6381250000000005,18.190625000000004,3.0642709121934475,8246.0058409208013,null,null,2.3623981870941506,4.5062667733580225E-2,3.4328528477466959E-2,2.7282295940229788E-2,2.2517375356781773E-2,2.0514401560449695E-2,"","","",0,14.875226709672761,0,0,0,"","","",16.907398940465562,null,0,6.9039702576712839E-2,0,0,0,"","","",null,6.0297945173579723,0,0,0,0,0,"","","",2.1312091799001451,null,0,0,0,0,0,"","","",null,2.3577569332884645,14.70752108565342]
[null,null,51.7,20.391573417214211,3.6623694390715671,18.311847195357835,3.0941954328203365,8191.4182878298543,null,null,2.3856044561225813,4.550532655218123E-2,3.4665743884907708E-2,2.7550294918031664E-2,2.2738567649088087E-2,2.0715918275188896E-2,"","","",0,32.566090546539876,0,0,0,"","","",34.585253836323368,null,0,0.15114749168544764,0,0,0,"","","",null,{"$f":"AM590+MAX($AK$57:$AR$57)*1.2/3000","v":6.0891428885918106},0,0,0,0,0,"","","",{"$f":"SUM(AN591:AU591)+RAND()*$C$69+K591*$C$70+$C$67","v":2.0777547422390965},null,0,0,0,0,0,"","","",null,2.3809632023168952,30.038553395851618]
[null,null,52.3,20.628226106775685,3.691481835564054,18.457409177820271,3.130104857572602,8126.8177215386559,null,null,2.4134519789566982,4.6036517134502429E-2,3.5070402373836608E-2,2.7871893691393913E-2,2.300399839985566E-2,2.0957738332875935E-2,"","","",0,71.789743618071228,0,0,0,"","","",73.915291833655871,null,0,0.33319442077660544,0,0,0,"","","",null,6.1603609340724166,0,0,0,0,0,"","","",2.0680330646209213,null,0,0,0,0,0,"","","",null,2.408810725151012,66.423981791452718]
[null,null,52.6,20.746552451556429,3.706045627376426,18.53022813688213,3.148059569948737,8094.8814494865028,null,null,2.4273757403737566,4.6302112425663032E-2,3.5272731618301058E-2,2.8032693078075037E-2,2.3136713775239449E-2,2.1078648361719455E-2,"","","",0,91.455172612623571,0,0,0,"","","",93.455324503865072,null,0,0.42446666793802207,0,0,0,"","","",null,6.1959699568127196,0,0,0,0,0,"","","",2.0683964070234087,null,0,0,0,0,0,"","","",null,2.4227344865680704,87.831267194572789]
[null,null,53.3,21.022647256044824,3.7400469043151969,18.700234521575986,3.1899538988263814,8021.2897772449196,null,null,2.4598645170135596,4.6921834771704439E-2,3.5744833188718107E-2,2.8407891646997661E-2,2.344638298446829E-2,2.1360771762354333E-2,"","","",0,82.492293616608862,0,0,0,"","","",84.520995988847773,null,0,0.3828676716878644,0,0,0,"","","",null,6.2790576765400932,0,0,0,0,0,"","","",2.0204201036663201,null,0,0,0,0,0,"","","",null,2.4552232632078734,90.423501661331912]
[null,null,53.8,21.219857830679388,3.7643494423791823,18.821747211895911,3.2198784194532699,7969.5045476540818,null,null,2.4830707860419903,4.7364493590305437E-2,3.6082048596158857E-2,2.8675890624799538E-2,2.3667575276774603E-2,2.1562288477093534E-2,"","","",0,50.567553904620631,0,0,0,"","","",52.712234833597286,null,0,0.23469685200405957,0,0,0,"","","",null,6.3384060477739315,0,0,0,0,0,"","","",2.0636852204909633,null,0,0,0,0,0,"","","",null,2.4784295322363041,58.619329882250881]
[null,null,54.3,21.417068405313955,3.7886648250460402,18.943324125230202,3.2498029400801598,7918.3568315878765,null,null,2.506277055070421,4.7807152408906442E-2,3.6419264003599607E-2,2.8943889602601414E-2,2.3888767569080913E-2,2.1763805191832734E-2,"","","",0,27.821759774799979,0,0,0,"","","",29.909295931706044,null,0,0.12912784843567598,0,0,0,"","","",null,6.3977544190077698,0,0,0,0,0,"","","",2.1436376683310456,null,0,0,0,0,0,"","","",null,2.5016358012647348,33.49919823818545]
[null,null,54.4,21.456510520240869,3.7935294117647063,18.96764705882353,3.2557878442055372,7908.2028221429673,null,null,2.5109183088761071,4.7895684172626643E-2,3.6486707085087756E-2,2.899748939816179E-2,2.3933006027542177E-2,2.1804108534780573E-2,"","","",0,24.59377839683965,0,0,0,"","","",26.756056909689001,null,0,0.11414596758053362,0,0,0,"","","",null,6.4096240932545374,0,0,0,0,0,"","","",2.0726619147593577,null,0,0,0,0,0,"","","",null,2.506277055070421,29.909295931706044]
[null,null,54.9,21.653721094875436,3.8178597449908924,19.08929872495446,3.2857123648324267,7857.8056827154523,null,null,2.5341245779045378,4.8338342991227641E-2,3.6823922492528506E-2,2.9265488375963662E-2,2.415419831984849E-2,2.2005625249519774E-2,"","","",0,13.239392394479905,0,0,0,"","","",15.28274525247269,null,0,6.1447380335852009E-2,0,0,0,"","","",null,6.4689724644883757,0,0,0,0,0,"","","",2.0762042423886373,null,0,0,0,0,0,"","","",null,2.5294833240988517,17.089628838452054]
[null,null,55.4,21.85093166951,3.8422021660649817,19.211010830324909,3.3156368854593148,7808.0222495748339,null,null,2.5573308469329685,4.8781001809828646E-2,3.7161137899969256E-2,2.9533487353765538E-2,2.4375390612154803E-2,2.2207141964258974E-2,"","","",0,7.1621776751277695,0,0,0,"","","",9.2570767614132752,null,0,3.3241484391687073E-2,0,0,0,"","","",null,6.528320835722214,0,0,0,0,0,"","","",2.1333847324344983,null,0,0,0,0,0,"","","",null,2.5526895931272824,10.093216674693926]
[null,null,56,22.087584359071485,3.8714285714285719,19.357142857142861,3.3515463102115826,7749.0774907749064,null,null,2.5851783697670854,4.9312192392149852E-2,3.7565796388898155E-2,2.9855086127127787E-2,2.464082136292238E-2,2.2448962021946014E-2,"","","",0,3.4698024691699501,0,0,0,"","","",5.5577234304731347,null,0,1.6104233915014199E-2,0,0,0,"","","",null,6.59953888120282,0,0,0,0,0,"","","",2.0767134816691839,null,0,0,0,0,0,"","","",null,2.5805371159613992,5.9139988959949452]
[null,null,56.5,22.284794933706049,3.8957964601769914,19.478982300884958,3.3814708308384716,7700.6076438185009,null,null,2.6083846387955161,4.975485121075085E-2,3.7903011796338905E-2,3.0123085104929663E-2,2.4862013655228693E-2,2.2650478736685214E-2,"","","",0,1.9185726791922153,0,0,0,"","","",3.9752190438196928,null,0,8.904582748786324E-3,0,0,0,"","","",null,6.6588872524366582,0,0,0,0,0,"","","",2.0322866276056262,null,0,0,0,0,0,"","","",null,2.6037433849898299,4.3148790477500842]
[null,null,57.1,22.52144762326753,3.9250525394045539,19.625262697022769,3.4173802555907389,7643.2097911614501,null,null,2.6362321616296329,5.0286041793072056E-2,3.8307670285267804E-2,3.0444683878291915E-2,2.5127444405996267E-2,2.289229879437225E-2,"","","",0,0.95525431955647722,0,0,0,"","","",3.0428129685797725,null,0,4.4335777460396244E-3,0,0,0,"","","",null,6.7301052979172642,0,0,0,0,0,"","","",2.0303673800104858,null,0,0,0,0,0,"","","",null,2.6315909078239468,3.1553863423219752]
[null,null,57.6,22.718658197902098,3.9494444444444445,19.747222222222224,3.4473047762176279,7596.0050640033751,null,null,2.6594384306580636,5.0728700611673054E-2,3.8644885692708554E-2,3.0712682856093788E-2,2.534863669830258E-2,2.3093815509111451E-2,"","","",0,0.54022073162326278,0,0,0,"","","",2.613707501554388,null,0,2.5073015265570197E-3,0,0,0,"","","",null,6.7894536691511025,0,0,0,0,0,"","","",2.1476569020208451,null,0,0,0,0,0,"","","",null,2.6547971768523775,2.6299722037309117]
[null,null,57.9,{"$f":"(2*$C$43*$C653)/($C$15/1000000)*1000","v":22.836984542682838},{"$f":"$C$46+$C$47/C653+$C$48*C653","v":3.964084628670121},{"$f":"E653*$C$15","v":19.820423143350606},{"$f":"D653*PI()*$C$14*$C$37/4*60/1000","v":3.4652594885937615},{"$f":"($C$13*1000)/F653","v":7567.9514466028086},null,null,2.673362192075122,5.0994295902833657E-2,3.8847214937173011E-2,3.0873482242774912E-2,2.5481352073686368E-2,2.3214725537954971E-2,"","","",0,0.38557087670568568,0,0,0,"","","",2.462278579924897,null,0,1.7895322988720054E-3,0,0,0,"","","",null,6.8250626918914055,0,0,0,0,0,"","","",2.0602611614668578,null,0,0,0,0,0,"","","",null,2.6687209382694359,2.5603762536051247]
[null,null,58.6,23.113079347171229,3.9982593856655289,19.991296928327642,3.5071538174714054,7503.2650726852135,null,null,2.705850968714925,5.1614018248875057E-2,3.931931650759006E-2,3.124868081169754E-2,2.5791021282915206E-2,2.3496848938589849E-2,"","","",0,0.17791344190000807,0,0,0,"","","",2.2440703124611976,null,0,8.2574143930113253E-4,0,0,0,"","","",null,6.9081504116187791,0,0,0,0,0,"","","",2.0904176009957895,null,{"$f":"IF(AN660=\"\",\"\",($AM661-$AM660)*AN660)","v":0},{"$f":"IF(AO660=\"\",\"\",($AM661-$AM660)*AO660)","v":0},{"$f":"IF(AP660=\"\",\"\",($AM661-$AM660)*AP660)","v":0},{"$f":"IF(AQ660=\"\",\"\",($AM661-$AM660)*AQ660)","v":0},{"$f":"IF(AR660=\"\",\"\",($AM661-$AM660)*AR660)","v":0},{"$f":"IF(AS660=\"\",\"\",($AM661-$AM660)*AS660)","v":""},{"$f":"IF(AT660=\"\",\"\",($AM661-$AM660)*AT660)","v":""},{"$f":"IF(AU660=\"\",\"\",($AM661-$AM660)*AU660)","v":""},null,2.7012097149092389,2.2410178103789131]
[null,null,59.1,23.310289921805797,4.0226818950930632,20.113409475465318,3.5370783380982953,7457.7112439824077,null,null,2.7290572377433557,5.2056677067476062E-2,3.9656531915030803E-2,3.1516679789499416E-2,2.6012213575221519E-2,2.369836565332905E-2,"","","",0,0.10355702641151508,0,0,0,"","","",2.1379707237195298,null,0,4.806344429379846E-4,0,0,0,"","","",null,6.9674987828526174,0,0,0,0,0,"","","",2.0099550771839927,null,0,0,0,0,0,"","","",null,2.7244159839376696,2.1496280108852384]
[null,null,59.6,23.507500496440365,4.0471140939597321,20.23557046979866,3.5670028587251847,7412.6894630360512,null,null,2.7522635067717864,5.2499335886077067E-2,3.999374732247156E-2,3.1784678767301289E-2,2.6233405867527832E-2,2.389988236806825E-2,"","","",0,6.0829425418237514E-2,0,0,0,"","","",2.1858546924415032,null,0,2.823248022200961E-4,0,0,0,"","","",null,7.0268471540864557,0,0,0,0,0,"","","",2.0687664874558158,null,0,0,0,0,0,"","","",null,2.7476222529661003,2.1620598688546329]
[null,null,60.2,23.744153186001846,4.0764451827242532,20.382225913621266,3.6029122834774512,7359.3532245050965,null,null,2.7801110296059033,5.3030526468398273E-2,4.0398405811400459E-2,3.2106277540663537E-2,2.6498836618295409E-2,2.414170242575529E-2,"","","",0,3.2503235772369167E-2,0,0,0,"","","",2.0701266032671062,null,0,1.5085576672562231E-4,0,0,0,"","","",null,7.0980651995670616,0,0,0,0,0,"","","",2.0137175733092287,null,0,0,0,0,0,"","","",null,2.7754697758002171,2.101115097992901]
[null,null,60.7,23.941363760636417,4.1008978583196045,20.504489291598023,3.6328368041043406,7315.4711569170568,null,null,2.803317298634334,5.3473185286999271E-2,4.0735621218841209E-2,3.2374276518465417E-2,2.6720028910601722E-2,2.4343219140494487E-2,"","","",0,1.9464124370386974E-2,0,0,0,"","","",2.0202759234602499,null,0,9.0337941308406898E-5,0,0,0,"","","",null,7.1574135708008999,0,0,0,0,0,"","","",2.086687494136465,null,0,0,0,0,0,"","","",null,2.7986760448286478,2.1017638283629094]
[null,null,60.8,23.980805875563323,4.1057894736842107,20.528947368421054,3.6388217082297176,7306.7555441610048,null,null,2.8079585524400201,5.3561717050719472E-2,4.0803064300329359E-2,3.2427876314025793E-2,2.6764267369062986E-2,2.4383522483442329E-2,"","","",0,1.7584832175274918E-2,0,0,0,"","","",2.1555471810984033,null,0,8.161566925584681E-5,0,0,0,"","","",null,7.1692832450476676,0,0,0,0,0,"","","",2.0908732075019123,null,0,0,0,0,0,"","","",null,2.803317298634334,2.0202759234602499]
[null,null,61.3,24.178016450197894,4.1302528548123982,20.65126427406199,3.6687462288566079,7263.4778195347662,null,null,2.8311648214684508,5.400437586932047E-2,4.1140279707770101E-2,3.2695875291827665E-2,2.6985459661369296E-2,2.458503919818153E-2,"","","",0,0,0,0,0,"","","",2.0902868079629653,null,0,0,0,0,0,"","","",null,7.2286316162815059,0,0,0,0,0,"","","",2.1065817457423943,null,0,0,0,0,0,"","","",null,2.8265235676627647,2.0894095820846297]
[null,null,61.8,24.375227024832455,4.1547249190938516,20.773624595469258,3.6986707494834961,7220.6946510776506,null,null,2.8543710904968815,5.4447034687921475E-2,4.1477495115210858E-2,3.2963874269629538E-2,2.7206651953675613E-2,2.4786555912920727E-2,"","","",0,0,0,0,0,"","","",2.0115151942649727,null,0,0,0,0,0,"","","",null,7.2879799875153441,0,0,0,0,0,"","","",2.0440439627080229,null,0,0,0,0,0,"","","",null,2.8497298366911954,2.0441514674231476]
[null,null,62.4,24.611879714393936,4.184102564102564,20.920512820512819,3.7345801742357625,7169.9963230788089,null,null,2.8822186133309984,5.4978225270242681E-2,4.1882153604139757E-2,3.3285473042991787E-2,2.747208270444319E-2,2.502837597060777E-2,"","","",0,0,0,0,0,"","","",2.1403849888416628,null,0,0,0,0,0,"","","",null,7.3591980329959501,0,0,0,0,0,"","","",2.0632430950196214,null,0,0,0,0,0,"","","",null,2.8775773595253122,2.1440571374832351]
[null,null,63,24.848532403955421,4.2134920634920636,21.067460317460316,3.7704895989880312,7119.9849312488232,null,null,2.9100661361651152,5.5509415852563887E-2,4.2286812093068657E-2,3.3607071816354042E-2,2.7737513455210763E-2,2.5270196028294809E-2,"","","",0,0,0,0,0,"","","",2.0311889776621204,null,0,0,0,0,0,"","","",null,7.4304160784765561,0,0,0,0,0,"","","",2.0226265078399139,null,0,0,0,0,0,"","","",null,2.9054248823594291,2.0118169306216975]
[null,null,63.4,25.006300863663071,4.2330914826498418,21.165457413249207,3.7944292154895414,7087.0190552131708,null,null,2.9286311513878598,5.5863542907444684E-2,4.2556584419021257E-2,3.3821470998595539E-2,2.7914467289055812E-2,2.5431409400086168E-2,"","","",0,0,0,0,0,"","","",2.1174215030223187,null,0,0,0,0,0,"","","",null,7.4778947754636267,0,0,0,0,0,"","","",2.0520111894924162,null,0,0,0,0,0,"","","",null,2.9239898975821736,2.0534073025437478]
[null,null,63.9,25.203511438297639,4.2575978090766826,21.287989045383412,3.8243537361164308,7046.226850277787,null,null,2.9518374204162905,5.6306201726045682E-2,4.2893799826462006E-2,3.4089469976397412E-2,2.8135659581362125E-2,2.5632926114825365E-2,"","","",0,0,0,0,0,"","","",2.0886080729686176,null,0,0,0,0,0,"","","",null,7.537243146697465,0,0,0,0,0,"","","",2.1577005204992825,null,0,0,0,0,0,"","","",null,2.9471961666106044,2.0836841032895448]
[null,null,64.400000000000006,25.400722012932206,4.2821118012422366,21.410559006211184,3.8542782567433198,7005.8890081517784,null,null,{"$f":"K717+1/($C$74*60)","v":2.9750436894447212},{"$f":"IF(Q$56=\"\",\"\",SQRT(($K718*$K718)/$Q$72))","v":5.6748860544646687E-2},{"$f":"IF(R$56=\"\",\"\",SQRT(($K718*$K718)/$R$72))","v":4.3231015233902756E-2},{"$f":"IF(S$56=\"\",\"\",SQRT(($K718*$K718)/$S$72))","v":3.4357468954199291E-2},{"$f":"IF(T$56=\"\",\"\",SQRT(($K718*$K718)/$T$72))","v":2.8356851873668439E-2},{"$f":"IF(U$56=\"\",\"\",SQRT(($K718*$K718)/$U$72))","v":2.5834442829564565E-2},{"$f":"IF(V$56=\"\",\"\",SQRT(($K718*$K718)/$V$72))","v":""},{"$f":"IF(W$56=\"\",\"\",SQRT(($K718*$K718)/$W$72))","v":""},{"$f":"IF(X$56=\"\",\"\",SQRT(($K718*$K718)/$X$72))","v":""},{"$f":"IF(Q$56=\"\",\"\",IF(ABS(($K718-Q$60) / ( L718 / 2.2))>20,0,IF(Q$60<>\"\",Q$64 * ( POWER(POWER(Q$67, 2),0.5) + POWER(POWER(Q$67, 2),-0.5)  ) / ( POWER(POWER(Q$67, 2),0.5) * EXP( POWER(1 + POWER(Q$67, 2),-1) * ($K718-Q$60)/ ( L718 / 2.2) ) + POWER(POWER(Q$67, 2),-0.5) * EXP(- POWER(Q$67, 2) * POWER(1 + POWER(Q$67, 2),-1) * ($K718-Q$60) / ( L718 / 2.2) ) ),\"\")))","v":0},{"$f":"IF(R$56=\"\",\"\",IF(ABS(($K718-R$60) / ( M718 / 2.2))>20,0,IF(R$60<>\"\",R$64 * ( POWER(POWER(R$67, 2),0.5) + POWER(POWER(R$67, 2),-0.5)  ) / ( POWER(POWER(R$67, 2),0.5) * EXP( POWER(1 + POWER(R$67, 2),-1) * ($K718-R$60)/ ( M718 / 2.2) ) + POWER(POWER(R$67, 2),-0.5) * EXP(- POWER(R$67, 2) * POWER(1 + POWER(R$67, 2),-1) * ($K718-R$60) / ( M718 / 2.2) ) ),\"\")))","v":0},{"$f":"IF(S$56=\"\",\"\",IF(ABS(($K718-S$60) / ( N718 / 2.2))>20,0,IF(S$60<>\"\",S$64 * ( POWER(POWER(S$67, 2),0.5) + POWER(POWER(S$67, 2),-0.5)  ) / ( POWER(POWER(S$67, 2),0.5) * EXP( POWER(1 + POWER(S$67, 2),-1) * ($K718-S$60)/ ( N718 / 2.2) ) + POWER(POWER(S$67, 2),-0.5) * EXP(- POWER(S$67, 2) * POWER(1 + POWER(S$67, 2),-1) * ($K718-S$60) / ( N718 / 2.2) ) ),\"\")))","v":0},{"$f":"IF(T$56=\"\",\"\",IF(ABS(($K718-T$60) / ( O718 / 2.2))>20,0,IF(T$60<>\"\",T$64 * ( POWER(POWER(T$67, 2),0.5) + POWER(POWER(T$67, 2),-0.5)  ) / ( POWER(POWER(T$67, 2),0.5) * EXP( POWER(1 + POWER(T$67, 2),-1) * ($K718-T$60)/ ( O718 / 2.2) ) + POWER(POWER(T$67, 2),-0.5) * EXP(- POWER(T$67, 2) * POWER(1 + POWER(T$67, 2),-1) * ($K718-T$60) / ( O718 / 2.2) ) ),\"\")))","v":0},{"$f":"IF(U$56=\"\",\"\",IF(ABS(($K718-U$60) / ( P718 / 2.2))>20,0,IF(U$60<>\"\",U$64 * ( POWER(POWER(U$67, 2),0.5) + POWER(POWER(U$67, 2),-0.5)  ) / ( POWER(POWER(U$67, 2),0.5) * EXP( POWER(1 + POWER(U$67, 2),-1) * ($K718-U$60)/ ( P718 / 2.2) ) + POWER(POWER(U$67, 2),-0.5) * EXP(- POWER(U$67, 2) * POWER(1 + POWER(U$67, 2),-1) * ($K718-U$60) / ( P718 / 2.2) ) ),\"\")))","v":0},{"$f":"IF(V$56=\"\",\"\",IF(ABS(($K718-V$60) / ( Q718 / 2.2))>20,0,IF(V$60<>\"\",V$64 * ( POWER(POWER(V$67, 2),0.5) + POWER(POWER(V$67, 2),-0.5)  ) / ( POWER(POWER(V$67, 2),0.5) * EXP( POWER(1 + POWER(V$67, 2),-1) * ($K718-V$60)/ ( Q718 / 2.2) ) + POWER(POWER(V$67, 2),-0.5) * EXP(- POWER(V$67, 2) * POWER(1 + POWER(V$67, 2),-1) * ($K718-V$60) / ( Q718 / 2.2) ) ),\"\")))","v":""},{"$f":"IF(W$56=\"\",\"\",IF(ABS(($K718-W$60) / ( R718 / 2.2))>20,0,IF(W$60<>\"\",W$64 * ( POWER(POWER(W$67, 2),0.5) + POWER(POWER(W$67, 2),-0.5)  ) / ( POWER(POWER(W$67, 2),0.5) * EXP( POWER(1 + POWER(W$67, 2),-1) * ($K718-W$60)/ ( R718 / 2.2) ) + POWER(POWER(W$67, 2),-0.5) * EXP(- POWER(W$67, 2) * POWER(1 + POWER(W$67, 2),-1) * ($K718-W$60) / ( R718 / 2.2) ) ),\"\")))","v":""},{"$f":"IF(X$56=\"\",\"\",IF(ABS(($K718-X$60) / ( S718 / 2.2))>20,0,IF(X$60<>\"\",X$64 * ( POWER(POWER(X$67, 2),0.5) + POWER(POWER(X$67, 2),-0.5)  ) / ( POWER(POWER(X$67, 2),0.5) * EXP( POWER(1 + POWER(X$67, 2),-1) * ($K718-X$60)/ ( S718 / 2.2) ) + POWER(POWER(X$67, 2),-0.5) * EXP(- POWER(X$67, 2) * POWER(1 + POWER(X$67, 2),-1) * ($K718-X$60) / ( S718 / 2.2) ) ),\"\")))","v":""},{"$f":"SUM(T718:AA718)+RAND()*$C$69+$C$67","v":2.1450330438657281},null,{"$f":"IF(Q$56=\"\",\"\",($K718-$K717)*T718)","v":0},{"$f":"IF(R$56=\"\",\"\",($K718-$K717)*U718)","v":0},{"$f":"IF(S$56=\"\",\"\",($K718-$K717)*V718)","v":0},{"$f":"IF(T$56=\"\",\"\",($K718-$K717)*W718)","v":0},{"$f":"IF(U$56=\"\",\"\",($K718-$K717)*X718)","v":0},{"$f":"IF(V$56=\"\",\"\",($K718-$K717)*Y718)","v":""},{"$f":"IF(W$56=\"\",\"\",($K718-$K717)*Z718)","v":""},{"$f":"IF(X$56=\"\",\"\",($K718-$K717)*AA718)","v":""},null,7.5965915179313033,0,0,0,0,0,"","","",2.0203740869720237,null,0,0,0,0,0,"","","",null,{"$f":"IF($C$8=\"isocratic\",K717,AM718)","v":2.9704024356390351},{"$f":"IF($C$8=\"isocratic\",AB717,AV718)","v":2.0854148776256354}]
[null,null,65,25.637374702493684,4.3115384615384613,21.557692307692307,3.8901876814955867,6958.0731489741302,null,null,3.002891212278838,5.7280051126967893E-2,4.3635673722831655E-2,3.467906772756154E-2,2.8622282624436016E-2,2.6076262887251608E-2,"","","",0,0,0,0,0,"","","",2.1413504916260639,null,0,0,0,0,0,"","","",null,7.6678095634119092,0,0,0,0,0,"","","",2.0589091008771123,null,{"$f":"IF(AN724=\"\",\"\",($AM725-$AM724)*AN724)","v":0},{"$f":"IF(AO724=\"\",\"\",($AM725-$AM724)*AO724)","v":0},{"$f":"IF(AP724=\"\",\"\",($AM725-$AM724)*AP724)","v":0},{"$f":"IF(AQ724=\"\",\"\",($AM725-$AM724)*AQ724)","v":0},{"$f":"IF(AR724=\"\",\"\",($AM725-$AM724)*AR724)","v":0},{"$f":"IF(AS724=\"\",\"\",($AM725-$AM724)*AS724)","v":""},{"$f":"IF(AT724=\"\",\"\",($AM725-$AM724)*AT724)","v":""},{"$f":"IF(AU724=\"\",\"\",($AM725-$AM724)*AU724)","v":""},null,2.9982499584731519,2.0609965267719836]
[null,null,65.5,25.834585277128252,4.3360687022900768,21.680343511450385,3.9201122021224766,6918.7095638396186,null,null,3.0260974813072687,5.7722709945568891E-2,4.3972889130272405E-2,3.4947066705363412E-2,2.8843474916742329E-2,2.6277779601990806E-2,"","","",0,0,0,0,0,"","","",2.1082698139113916,null,0,0,0,0,0,"","","",null,7.7271579346457475,0,0,0,0,0,"","","",2.0331014165154704,null,0,0,0,0,0,"","","",null,3.0214562275015826,2.1269283071377751]
[null,null,66,26.031795851762819,4.3606060606060613,21.803030303030305,3.9500367227493651,6879.7776233495479,null,null,3.0493037503356994,5.8165368764169896E-2,4.4310104537713155E-2,3.5215065683165292E-2,2.9064667209048642E-2,2.6479296316730006E-2,"","","",0,0,0,0,0,"","","",2.0667464370386366,null,0,0,0,0,0,"","","",null,7.7865063058795858,0,0,0,0,0,"","","",2.1223257741653656,null,0,0,0,0,0,"","","",null,3.0446624965300133,2.0926573500844441]
[null,null,66.599999999999994,26.268448541324297,4.3900600600600601,21.950300300300299,3.985946147501632,6833.6194925746813,null,null,3.0771512731698163,5.8696559346491102E-2,4.4714763026642054E-2,3.5536664456527541E-2,2.9330097959816219E-2,2.6721116374417046E-2,"","","",0,0,0,0,0,"","","",2.1205720493213653,null,0,0,0,0,0,"","","",null,7.8577243513601918,0,0,0,0,0,"","","",2.1006072648999621,null,0,0,0,0,0,"","","",null,3.0725100193641302,2.1146623227957759]
[null,null,67.099999999999994,26.465659115958864,4.4146125186289122,22.073062593144563,4.0158706681285219,6795.6134028536171,null,null,3.100357542198247,5.91392181650921E-2,4.5051978434082811E-2,3.580466343432942E-2,2.9551290252122532E-2,2.6922633089156246E-2,"","","",0,0,0,0,0,"","","",2.1249097354880351,null,0,0,0,0,0,"","","",null,7.9170727225940301,0,0,0,0,0,"","","",2.0646471586380057,null,0,0,0,0,0,"","","",null,3.0957162883925609,2.0668862785451956]
[null,null,67.2,26.505101230885781,4.4195238095238096,22.097619047619048,4.0218555722538998,6788.0616312897318,null,null,3.1049987960039331,5.9227749928812301E-2,4.5119421515570954E-2,3.5858263229889789E-2,2.9595528710583793E-2,2.6962936432104085E-2,"","","",0,0,0,0,0,"","","",2.1216125360486244,null,0,0,0,0,0,"","","",null,7.9289423968407977,0,0,0,0,0,"","","",2.1267938385216607,null,0,0,0,0,0,"","","",null,3.100357542198247,2.1249097354880351]
[null,null,67.7,26.702311805520353,4.4440841949778438,22.220420974889219,4.0517800928807892,6750.5471732291444,null,null,3.1282050650323638,5.9670408747413306E-2,4.5456636923011703E-2,3.6126262207691662E-2,2.9816721002890106E-2,2.7164453146843282E-2,"","","",0,0,0,0,0,"","","",2.0620273874470221,null,0,0,0,0,0,"","","",null,7.988290768074636,0,0,0,0,0,"","","",2.0702435494862246,null,0,0,0,0,0,"","","",null,3.1235638112266777,2.0879948159111663]
[null,null,68.3,26.938964495081827,4.4735651537335288,22.367825768667643,4.0876895176330557,6706.0608192914615,null,null,3.1560525878664807,6.0201599329734512E-2,4.5861295411940603E-2,3.6447860981053917E-2,3.0082151753657683E-2,2.7406273204530325E-2,"","","",0,0,0,0,0,"","","",2.0265268635855715,null,0,0,0,0,0,"","","",null,8.059508813555242,0,0,0,0,0,"","","",2.142765229783806,null,0,0,0,0,0,"","","",null,3.1514113340607945,2.0952026281883112]
[null,null,68.7,27.096732954789481,4.4932241630276568,22.466120815138282,4.1116291341345672,6676.7200815071701,null,null,3.1746176030892252,6.0555726384615309E-2,4.6131067737893203E-2,3.6662260163295414E-2,3.0259105587502732E-2,2.7567486576321684E-2,"","","",0,0,0,0,0,"","","",2.0825332688248674,null,0,0,0,0,0,"","","",null,8.1069875105423126,0,0,0,0,0,"","","",2.164820092463879,null,0,0,0,0,0,"","","",null,3.1699763492835391,2.0705435546066933]
[null,null,69.2,27.293943529424045,4.5178034682080934,22.589017341040467,4.1415536547614549,6640.3950971109789,null,null,3.197823872117656,6.0998385203216314E-2,4.6468283145333959E-2,3.6930259141097294E-2,3.0480297879809045E-2,2.7769003291060884E-2,"","","",0,0,0,0,0,"","","",2.132244102665958,null,0,0,0,0,0,"","","",null,8.1663358817761509,0,0,0,0,0,"","","",2.1581158572479784,null,0,0,0,0,0,"","","",null,3.1931826183119698,2.1161957581381348]
[null,null,69.8,27.530596218985529,4.5473065902578798,22.736532951289398,4.1774630795137231,6597.3119262008431,null,null,3.2256713949517728,6.1529575785537513E-2,4.6872941634262859E-2,3.7251857914459542E-2,3.0745728630576622E-2,2.801082334874792E-2,"","","",0,0,0,0,0,"","","",2.0711849831400482,null,0,0,0,0,0,"","","",null,8.2375539272567568,0,0,0,0,0,"","","",2.0731479833795716,null,0,0,0,0,0,"","","",null,3.2210301411460867,2.0129145323582902]
[null,null,70.3,27.72780679362009,4.5718990042674257,22.859495021337128,4.2073876001406116,6561.8247410972772,null,null,3.2488776639802035,6.1972234604138518E-2,4.7210157041703601E-2,3.7519856892261415E-2,3.0966920922882935E-2,2.8212340063487121E-2,"","","",0,0,0,0,0,"","","",2.1356420978749893,null,0,0,0,0,0,"","","",null,8.2969022984905951,0,0,0,0,0,"","","",2.1542762492554561,null,0,0,0,0,0,"","","",null,3.2442364101745174,2.1008851939322275]
[null,null,70.8,27.925017368254661,4.5964971751412431,22.982485875706217,4.2373121207675002,6526.7091128100483,null,null,{"$f":"K781+1/($C$74*60)","v":3.2720839330086342},{"$f":"IF(Q$56=\"\",\"\",SQRT(($K782*$K782)/$Q$72))","v":6.2414893422739516E-2},{"$f":"IF(R$56=\"\",\"\",SQRT(($K782*$K782)/$R$72))","v":4.7547372449144351E-2},{"$f":"IF(S$56=\"\",\"\",SQRT(($K782*$K782)/$S$72))","v":3.7787855870063294E-2},{"$f":"IF(T$56=\"\",\"\",SQRT(($K782*$K782)/$T$72))","v":3.1188113215189248E-2},{"$f":"IF(U$56=\"\",\"\",SQRT(($K782*$K782)/$U$72))","v":2.8413856778226321E-2},{"$f":"IF(V$56=\"\",\"\",SQRT(($K782*$K782)/$V$72))","v":""},{"$f":"IF(W$56=\"\",\"\",SQRT(($K782*$K782)/$W$72))","v":""},{"$f":"IF(X$56=\"\",\"\",SQRT(($K782*$K782)/$X$72))","v":""},{"$f":"IF(Q$56=\"\",\"\",IF(ABS(($K782-Q$60) / ( L782 / 2.2))>20,0,IF(Q$60<>\"\",Q$64 * ( POWER(POWER(Q$67, 2),0.5) + POWER(POWER(Q$67, 2),-0.5)  ) / ( POWER(POWER(Q$67, 2),0.5) * EXP( POWER(1 + POWER(Q$67, 2),-1) * ($K782-Q$60)/ ( L782 / 2.2) ) + POWER(POWER(Q$67, 2),-0.5) * EXP(- POWER(Q$67, 2) * POWER(1 + POWER(Q$67, 2),-1) * ($K782-Q$60) / ( L782 / 2.2) ) ),\"\")))","v":0},{"$f":"IF(R$56=\"\",\"\",IF(ABS(($K782-R$60) / ( M782 / 2.2))>20,0,IF(R$60<>\"\",R$64 * ( POWER(POWER(R$67, 2),0.5) + POWER(POWER(R$67, 2),-0.5)  ) / ( POWER(POWER(R$67, 2),0.5) * EXP( POWER(1 + POWER(R$67, 2),-1) * ($K782-R$60)/ ( M782 / 2.2) ) + POWER(POWER(R$67, 2),-0.5) * EXP(- POWER(R$67, 2) * POWER(1 + POWER(R$67, 2),-1) * ($K782-R$60) / ( M782 / 2.2) ) ),\"\")))","v":0},{"$f":"IF(S$56=\"\",\"\",IF(ABS(($K782-S$60) / ( N782 / 2.2))>20,0,IF(S$60<>\"\",S$64 * ( POWER(POWER(S$67, 2),0.5) + POWER(POWER(S$67, 2),-0.5)  ) / ( POWER(POWER(S$67, 2),0.5) * EXP( POWER(1 + POWER(S$67, 2),-1) * ($K782-S$60)/ ( N782 / 2.2) ) + POWER(POWER(S$67, 2),-0.5) * EXP(- POWER(S$67, 2) * POWER(1 + POWER(S$67, 2),-1) * ($K782-S$60) / ( N782 / 2.2) ) ),\"\")))","v":0},{"$f":"IF(T$56=\"\",\"\",IF(ABS(($K782-T$60) / ( O782 / 2.2))>20,0,IF(T$60<>\"\",T$64 * ( POWER(POWER(T$67, 2),0.5) + POWER(POWER(T$67, 2),-0.5)  ) / ( POWER(POWER(T$67, 2),0.5) * EXP( POWER(1 + POWER(T$67, 2),-1) * ($K782-T$60)/ ( O782 / 2.2) ) + POWER(POWER(T$67, 2),-0.5) * EXP(- POWER(T$67, 2) * POWER(1 + POWER(T$67, 2),-1) * ($K782-T$60) / ( O782 / 2.2) ) ),\"\")))","v":0},{"$f":"IF(U$56=\"\",\"\",IF(ABS(($K782-U$60) / ( P782 / 2.2))>20,0,IF(U$60<>\"\",U$64 * ( POWER(POWER(U$67, 2),0.5) + POWER(POWER(U$67, 2),-0.5)  ) / ( POWER(POWER(U$67, 2),0.5) * EXP( POWER(1 + POWER(U$67, 2),-1) * ($K782-U$60)/ ( P782 / 2.2) ) + POWER(POWER(U$67, 2),-0.5) * EXP(- POWER(U$67, 2) * POWER(1 + POWER(U$67, 2),-1) * ($K782-U$60) / ( P782 / 2.2) ) ),\"\")))","v":0},{"$f":"IF(V$56=\"\",\"\",IF(ABS(($K782-V$60) / ( Q782 / 2.2))>20,0,IF(V$60<>\"\",V$64 * ( POWER(POWER(V$67, 2),0.5) + POWER(POWER(V$67, 2),-0.5)  ) / ( POWER(POWER(V$67, 2),0.5) * EXP( POWER(1 + POWER(V$67, 2),-1) * ($K782-V$60)/ ( Q782 / 2.2) ) + POWER(POWER(V$67, 2),-0.5) * EXP(- POWER(V$67, 2) * POWER(1 + POWER(V$67, 2),-1) * ($K782-V$60) / ( Q782 / 2.2) ) ),\"\")))","v":""},{"$f":"IF(W$56=\"\",\"\",IF(ABS(($K782-W$60) / ( R782 / 2.2))>20,0,IF(W$60<>\"\",W$64 * ( POWER(POWER(W$67, 2),0.5) + POWER(POWER(W$67, 2),-0.5)  ) / ( POWER(POWER(W$67, 2),0.5) * EXP( POWER(1 + POWER(W$67, 2),-1) * ($K782-W$60)/ ( R782 / 2.2) ) + POWER(POWER(W$67, 2),-0.5) * EXP(- POWER(W$67, 2) * POWER(1 + POWER(W$67, 2),-1) * ($K782-W$60) / ( R782 / 2.2) ) ),\"\")))","v":""},{"$f":"IF(X$56=\"\",\"\",IF(ABS(($K782-X$60) / ( S782 / 2.2))>20,0,IF(X$60<>\"\",X$64 * ( POWER(POWER(X$67, 2),0.5) + POWER(POWER(X$67, 2),-0.5)  ) / ( POWER(POWER(X$67, 2),0.5) * EXP( POWER(1 + POWER(X$67, 2),-1) * ($K782-X$60)/ ( S782 / 2.2) ) + POWER(POWER(X$67, 2),-0.5) * EXP(- POWER(X$67, 2) * POWER(1 + POWER(X$67, 2),-1) * ($K782-X$60) / ( S782 / 2.2) ) ),\"\")))","v":""},{"$f":"SUM(T782:AA782)+RAND()*$C$69+$C$67","v":2.1457675025943224},null,{"$f":"IF(Q$56=\"\",\"\",($K782-$K781)*T782)","v":0},{"$f":"IF(R$56=\"\",\"\",($K782-$K781)*U782)","v":0},{"$f":"IF(S$56=\"\",\"\",($K782-$K781)*V782)","v":0},{"$f":"IF(T$56=\"\",\"\",($K782-$K781)*W782)","v":0},{"$f":"IF(U$56=\"\",\"\",($K782-$K781)*X782)","v":0},{"$f":"IF(V$56=\"\",\"\",($K782-$K781)*Y782)","v":""},{"$f":"IF(W$56=\"\",\"\",($K782-$K781)*Z782)","v":""},{"$f":"IF(X$56=\"\",\"\",($K782-$K781)*AA782)","v":""},null,8.3562506697244334,0,0,0,0,0,"","","",2.0075036518560232,null,0,0,0,0,0,"","","",null,{"$f":"IF($C$8=\"isocratic\",K781,AM782)","v":3.2674426792029481},{"$f":"IF($C$8=\"isocratic\",AB781,AV782)","v":2.1437833849963615}]
[null,null,71.400000000000006,28.161670057816146,4.6260224089635855,23.130112044817928,4.2732215455197684,6485.0528916311932,null,null,3.299931455842751,6.2946084005060715E-2,4.7952030938073251E-2,3.8109454643425543E-2,3.1453543965956822E-2,2.8655676835913361E-2,"","","",0,0,8.5913838982111176E-3,0,0,"","","",2.0266203500435997,null,0,0,3.9874793213682981E-5,0,0,"","","",null,8.4274687152050394,0,0,0,0,0,"","","",2.0665079766055507,null,{"$f":"IF(AN788=\"\",\"\",($AM789-$AM788)*AN788)","v":0},{"$f":"IF(AO788=\"\",\"\",($AM789-$AM788)*AO788)","v":0},{"$f":"IF(AP788=\"\",\"\",($AM789-$AM788)*AP788)","v":0},{"$f":"IF(AQ788=\"\",\"\",($AM789-$AM788)*AQ788)","v":0},{"$f":"IF(AR788=\"\",\"\",($AM789-$AM788)*AR788)","v":0},{"$f":"IF(AS788=\"\",\"\",($AM789-$AM788)*AS788)","v":""},{"$f":"IF(AT788=\"\",\"\",($AM789-$AM788)*AT788)","v":""},{"$f":"IF(AU788=\"\",\"\",($AM789-$AM788)*AU788)","v":""},null,3.2952902020370649,2.099340449257558]
[null,null,71.900000000000006,28.35888063245071,4.6506328233657861,23.25316411682893,4.303146066146657,6450.7350159474008,null,null,3.3231377248711818,6.338874282366172E-2,4.8289246345514E-2,3.8377453621227416E-2,3.1674736258263135E-2,2.8857193550652561E-2,"","","",0,0,1.8863283637057058E-2,0,0,"","","",2.0276409872955035,null,0,0,8.7549286968228177E-5,0,0,"","","",null,8.4868170864388777,0,0,0,0,0,"","","",2.0259176917308643,null,0,0,0,0,0,"","","",null,3.3184964710654956,2.1681714410082376]
[null,null,72.400000000000006,28.556091207085274,4.675248618784531,23.376243093922653,4.3330705867735455,6416.7710524449903,null,null,3.3463439938996125,6.3831401642262725E-2,4.862646175295475E-2,3.8645452599029288E-2,3.1895928550569448E-2,2.9058710265391759E-2,"","","",0,0,4.0967003068838458E-2,0,0,"","","",2.1551271333785218,null,0,0,1.9013825890080229E-4,0,0,"","","",null,8.546165457672716,0,0,0,0,0,"","","",2.1497428621506303,null,0,0,0,0,0,"","","",null,3.3417027400939263,2.1964564820487862]
[null,null,73,28.792743896646755,4.7047945205479458,23.523972602739729,4.3689800115258128,6376.4740136846694,null,null,3.3741915167337293,6.4362592224583931E-2,4.9031120241883656E-2,3.8967051372391544E-2,3.2161359301337025E-2,2.9300530323078802E-2,"","","",0,0,0.1024468707399175,0,0,"","","",2.1237940045486057,null,0,0,4.754819287022782E-4,0,0,"","","",null,8.6173835031533219,0,0,0,0,0,"","","",2.0067817059447584,null,0,0,0,0,0,"","","",null,3.3695502629280432,2.1197464506203438]
[null,null,73.400000000000006,28.950512356354412,4.7244959128065398,23.622479564032698,4.3929196280273244,6349.8837873221482,null,null,3.3927565319564739,6.4716719279464735E-2,4.9300892567836256E-2,3.918145055463304E-2,3.2338313135182081E-2,2.946174369487016E-2,"","","",0,0,0.18717339385738216,0,0,"","","",2.2980304657837602,null,0,0,8.6871922656376591E-4,0,0,"","","",null,8.6648622001403925,0,0,0,0,0,"","","",2.1053181255397502,null,0,0,0,0,0,"","","",null,3.3881152781507877,2.2884873799286063]
[null,null,73.5,28.989954471281322,4.7294217687074838,23.647108843537417,4.3989045321527023,6343.2701643352866,null,null,3.39739778576216,6.4805251043184936E-2,4.9368335649324406E-2,3.9235050350193416E-2,3.2382551593643338E-2,2.9502047037817999E-2,"","","",0,0,0.21738687321228489,0,0,"","","",2.2262121405335611,null,0,0,1.0089476526027278E-3,0,0,"","","",null,8.6767318743871602,0,0,0,0,0,"","","",2.0086185119476787,null,0,0,0,0,0,"","","",null,3.3927565319564739,2.2980304657837602]
[null,null,74,29.18716504591589,4.7540540540540537,23.770270270270267,4.4288290527795908,6310.4036384309275,null,null,3.4206040547905907,6.5247909861785941E-2,4.9705551056765156E-2,3.9503049327995289E-2,3.2603743885949651E-2,2.9703563752557199E-2,"","","",0,0,0.45659494374549475,0,0,"","","",2.5690045885376542,null,0,0,2.1191730203158269E-3,0,0,"","","",null,8.7360802456209985,0,0,0,0,0,"","","",2.0170584531942635,null,0,0,0,0,0,"","","",null,3.4159628009849046,2.4801161456400225]
[null,null,74.5,29.38437562055045,4.7786912751677857,23.89345637583893,4.4587535734064794,6277.8694568308683,null,null,3.4438103238190214,6.5690568680386932E-2,5.0042766464205905E-2,3.9771048305797169E-2,3.2824936178255965E-2,2.9905080467296397E-2,"","","",0,0,0.94944904565723154,0,0,"","","",3.1035831512631757,null,0,0,4.4066339964617006E-3,0,0,"","","",null,8.7954286168548368,0,0,0,0,0,"","","",2.0094056901142787,null,0,0,0,0,0,"","","",null,3.4391690700133353,2.9153593296721056]
[null,null,75.099999999999994,29.621028310111932,4.8082623169107856,24.041311584553927,4.4946629981587467,6239.2602613399877,null,null,3.4716578466531383,6.6221759262708138E-2,5.0447424953134805E-2,4.0092647079159417E-2,3.3090366929023542E-2,3.0146900524983439E-2,"","","",0,0,2.2558660200229039,0,0,"","","",4.4023396771754157,null,0,0,1.047004675054935E-2,0,0,"","","",null,8.8666466623354427,0,0,0,0,0,"","","",2.0761601285209021,null,0,0,0,0,0,"","","",null,3.4670165928474521,4.0035263912854901]
[null,null,75.599999999999994,29.818238884746499,4.8329100529100533,24.164550264550265,4.5245875187856361,6207.4401699108839,null,null,3.494864115681569,6.6664418081309143E-2,5.0784640360575554E-2,4.036064605696129E-2,3.3311559221329855E-2,3.0348417239722637E-2,"","","",0,0,4.5886402145048599,0,0,"","","",6.6736119334984476,null,0,0,2.1297043858495152E-2,0,0,"","","",null,8.925995033569281,0,0,0,0,0,"","","",2.1109890983354145,null,0,0,0,0,0,"","","",null,3.4902228618758828,6.043439628224065]
[null,null,76.099999999999994,30.015449459381067,4.8575624178712218,24.287812089356109,4.5545120394125256,6175.9371098616166,null,null,3.5180703847099997,6.7107076899910148E-2,5.1121855768016304E-2,4.0628645034763163E-2,3.3532751513636168E-2,3.0549933954461837E-2,"","","",0,0,9.2276812395142471,0,0,"","","",11.234868259445024,null,0,0,4.2828010670554105E-2,0,0,"","","",null,8.9853434048031193,0,0,0,0,0,"","","",2.1372071086906361,null,0,0,0,0,0,"","","",null,3.5134291309043135,10.10497482888877]
[null,null,76.7,30.252102148942548,4.8871512385919171,24.435756192959587,4.590421464164792,6138.5454501800068,null,null,3.5459179075441165,6.7638267482231354E-2,5.1526514256945204E-2,4.0950243808125418E-2,3.3798182264403745E-2,3.0791754012148877E-2,"","","",0,0,20.857852262379843,0,0,"","","",22.937659278804038,null,0,0,9.6806586191209729E-2,0,0,"","","",null,9.0565614502837253,0,0,0,0,0,"","","",2.0162733267699462,null,0,0,0,0,0,"","","",null,3.5412766537384304,20.277913994067692]
[null,null,77.2,30.449312723577119,4.9118134715025912,24.559067357512955,4.6203459847916823,6107.7237916411732,null,null,{"$f":"K845+1/($C$74*60)","v":3.5691241765725472},{"$f":"IF(Q$56=\"\",\"\",SQRT(($K846*$K846)/$Q$72))","v":6.8080926300832345E-2},{"$f":"IF(R$56=\"\",\"\",SQRT(($K846*$K846)/$R$72))","v":5.1863729664385953E-2},{"$f":"IF(S$56=\"\",\"\",SQRT(($K846*$K846)/$S$72))","v":4.1218242785927291E-2},{"$f":"IF(T$56=\"\",\"\",SQRT(($K846*$K846)/$T$72))","v":3.4019374556710051E-2},{"$f":"IF(U$56=\"\",\"\",SQRT(($K846*$K846)/$U$72))","v":3.0993270726888074E-2},{"$f":"IF(V$56=\"\",\"\",SQRT(($K846*$K846)/$V$72))","v":""},{"$f":"IF(W$56=\"\",\"\",SQRT(($K846*$K846)/$W$72))","v":""},{"$f":"IF(X$56=\"\",\"\",SQRT(($K846*$K846)/$X$72))","v":""},{"$f":"IF(Q$56=\"\",\"\",IF(ABS(($K846-Q$60) / ( L846 / 2.2))>20,0,IF(Q$60<>\"\",Q$64 * ( POWER(POWER(Q$67, 2),0.5) + POWER(POWER(Q$67, 2),-0.5)  ) / ( POWER(POWER(Q$67, 2),0.5) * EXP( POWER(1 + POWER(Q$67, 2),-1) * ($K846-Q$60)/ ( L846 / 2.2) ) + POWER(POWER(Q$67, 2),-0.5) * EXP(- POWER(Q$67, 2) * POWER(1 + POWER(Q$67, 2),-1) * ($K846-Q$60) / ( L846 / 2.2) ) ),\"\")))","v":0},{"$f":"IF(R$56=\"\",\"\",IF(ABS(($K846-R$60) / ( M846 / 2.2))>20,0,IF(R$60<>\"\",R$64 * ( POWER(POWER(R$67, 2),0.5) + POWER(POWER(R$67, 2),-0.5)  ) / ( POWER(POWER(R$67, 2),0.5) * EXP( POWER(1 + POWER(R$67, 2),-1) * ($K846-R$60)/ ( M846 / 2.2) ) + POWER(POWER(R$67, 2),-0.5) * EXP(- POWER(R$67, 2) * POWER(1 + POWER(R$67, 2),-1) * ($K846-R$60) / ( M846 / 2.2) ) ),\"\")))","v":0},{"$f":"IF(S$56=\"\",\"\",IF(ABS(($K846-S$60) / ( N846 / 2.2))>20,0,IF(S$60<>\"\",S$64 * ( POWER(POWER(S$67, 2),0.5) + POWER(POWER(S$67, 2),-0.5)  ) / ( POWER(POWER(S$67, 2),0.5) * EXP( POWER(1 + POWER(S$67, 2),-1) * ($K846-S$60)/ ( N846 / 2.2) ) + POWER(POWER(S$67, 2),-0.5) * EXP(- POWER(S$67, 2) * POWER(1 + POWER(S$67, 2),-1) * ($K846-S$60) / ( N846 / 2.2) ) ),\"\")))","v":39.442886218721753},{"$f":"IF(T$56=\"\",\"\",IF(ABS(($K846-T$60) / ( O846 / 2.2))>20,0,IF(T$60<>\"\",T$64 * ( POWER(POWER(T$67, 2),0.5) + POWER(POWER(T$67, 2),-0.5)  ) / ( POWER(POWER(T$67, 2),0.5) * EXP( POWER(1 + POWER(T$67, 2),-1) * ($K846-T$60)/ ( O846 / 2.2) ) + POWER(POWER(T$67, 2),-0.5) * EXP(- POWER(T$67, 2) * POWER(1 + POWER(T$67, 2),-1) * ($K846-T$60) / ( O846 / 2.2) ) ),\"\")))","v":0},{"$f":"IF(U$56=\"\",\"\",IF(ABS(($K846-U$60) / ( P846 / 2.2))>20,0,IF(U$60<>\"\",U$64 * ( POWER(POWER(U$67, 2),0.5) + POWER(POWER(U$67, 2),-0.5)  ) / ( POWER(POWER(U$67, 2),0.5) * EXP( POWER(1 + POWER(U$67, 2),-1) * ($K846-U$60)/ ( P846 / 2.2) ) + POWER(POWER(U$67, 2),-0.5) * EXP(- POWER(U$67, 2) * POWER(1 + POWER(U$67, 2),-1) * ($K846-U$60) / ( P846 / 2.2) ) ),\"\")))","v":0},{"$f":"IF(V$56=\"\",\"\",IF(ABS(($K846-V$60) / ( Q846 / 2.2))>20,0,IF(V$60<>\"\",V$64 * ( POWER(POWER(V$67, 2),0.5) + POWER(POWER(V$67, 2),-0.5)  ) / ( POWER(POWER(V$67, 2),0.5) * EXP( POWER(1 + POWER(V$67, 2),-1) * ($K846-V$60)/ ( Q846 / 2.2) ) + POWER(POWER(V$67, 2),-0.5) * EXP(- POWER(V$67, 2) * POWER(1 + POWER(V$67, 2),-1) * ($K846-V$60) / ( Q846 / 2.2) ) ),\"\")))","v":""},{"$f":"IF(W$56=\"\",\"\",IF(ABS(($K846-W$60) / ( R846 / 2.2))>20,0,IF(W$60<>\"\",W$64 * ( POWER(POWER(W$67, 2),0.5) + POWER(POWER(W$67, 2),-0.5)  ) / ( POWER(POWER(W$67, 2),0.5) * EXP( POWER(1 + POWER(W$67, 2),-1) * ($K846-W$60)/ ( R846 / 2.2) ) + POWER(POWER(W$67, 2),-0.5) * EXP(- POWER(W$67, 2) * POWER(1 + POWER(W$67, 2),-1) * ($K846-W$60) / ( R846 / 2.2) ) ),\"\")))","v":""},{"$f":"IF(X$56=\"\",\"\",IF(ABS(($K846-X$60) / ( S846 / 2.2))>20,0,IF(X$60<>\"\",X$64 * ( POWER(POWER(X$67, 2),0.5) + POWER(POWER(X$67, 2),-0.5)  ) / ( POWER(POWER(X$67, 2),0.5) * EXP( POWER(1 + POWER(X$67, 2),-1) * ($K846-X$60)/ ( S846 / 2.2) ) + POWER(POWER(X$67, 2),-0.5) * EXP(- POWER(X$67, 2) * POWER(1 + POWER(X$67, 2),-1) * ($K846-X$60) / ( S846 / 2.2) ) ),\"\")))","v":""},{"$f":"SUM(T846:AA846)+RAND()*$C$69+$C$67","v":41.574498816383077},null,{"$f":"IF(Q$56=\"\",\"\",($K846-$K845)*T846)","v":0},{"$f":"IF(R$56=\"\",\"\",($K846-$K845)*U846)","v":0},{"$f":"IF(S$56=\"\",\"\",($K846-$K845)*V846)","v":0.18306444576988778},{"$f":"IF(T$56=\"\",\"\",($K846-$K845)*W846)","v":0},{"$f":"IF(U$56=\"\",\"\",($K846-$K845)*X846)","v":0},{"$f":"IF(V$56=\"\",\"\",($K846-$K845)*Y846)","v":""},{"$f":"IF(W$56=\"\",\"\",($K846-$K845)*Z846)","v":""},{"$f":"IF(X$56=\"\",\"\",($K846-$K845)*AA846)","v":""},null,9.1159098215175636,0,0,0,0,0,"","","",2.1604513685985629,null,0,0,0,0,0,"","","",null,{"$f":"IF($C$8=\"isocratic\",K845,AM846)","v":3.5644829227668611},{"$f":"IF($C$8=\"isocratic\",AB845,AV846)","v":37.046410758033346}]
[null,null,77.8,30.685965413138597,4.9414138817480726,24.707069408740363,4.6562554095439479,6071.136868500319,null,null,3.5969716994066641,6.8612116883153551E-2,5.2268388153314853E-2,4.1539841559289539E-2,3.4284805307477635E-2,3.1235090784575117E-2,"","","",0,0,73.020347657083576,0,0,"","","",75.154731262167985,null,0,0,0.33890596645596421,0,0,"","","",null,9.1871278669981695,0,0,0,0,0,"","","",2.046909706522817,null,{"$f":"IF(AN852=\"\",\"\",($AM853-$AM852)*AN852)","v":0},{"$f":"IF(AO852=\"\",\"\",($AM853-$AM852)*AO852)","v":0},{"$f":"IF(AP852=\"\",\"\",($AM853-$AM852)*AP852)","v":0},{"$f":"IF(AQ852=\"\",\"\",($AM853-$AM852)*AQ852)","v":0},{"$f":"IF(AR852=\"\",\"\",($AM853-$AM852)*AR852)","v":0},{"$f":"IF(AS852=\"\",\"\",($AM853-$AM852)*AS852)","v":""},{"$f":"IF(AT852=\"\",\"\",($AM853-$AM852)*AT852)","v":""},{"$f":"IF(AU852=\"\",\"\",($AM853-$AM852)*AU852)","v":""},null,3.5923304456009779,69.268204588732829]
[null,null,78.099999999999994,30.804291757919334,4.9562163892445579,24.781081946222791,4.6742101219200816,6053.0044783966123,null,null,3.6108954608237225,6.8877712174314154E-2,5.2470717397779303E-2,4.1700640945970667E-2,3.441752068286142E-2,3.1356000813418633E-2,"","","",0,0,87.386354232699816,0,0,"","","",89.457878449706797,null,0,0,0.4055822491475552,0,0,"","","",null,9.2227368897384725,0,0,0,0,0,"","","",2.0870153092442463,null,0,0,0,0,0,"","","",null,3.6062542070180363,85.493969350511577]
[null,null,78.7,31.040944447480822,4.9858259212198224,24.92912960609911,4.7101195466723489,6017.0572486935644,null,null,3.6387429836578393,6.940890275663536E-2,5.2875375886708202E-2,4.2022239719332916E-2,3.4682951433628997E-2,3.1597820871105672E-2,"","","",0,0,85.477510493463015,0,0,"","","",87.54706680037178,null,0,0,0.39672282087836225,0,0,"","","",null,9.2939549352190785,0,0,0,0,0,"","","",2.1594628776031777,null,0,0,0,0,0,"","","",null,3.6341017298521532,90.992066429969739]
[null,null,79.3,31.277597137042299,5.0154413619167713,25.077206809583856,4.7460289714246162,5981.5274140768306,null,null,3.6665905064919562,6.9940093338956552E-2,5.3280034375637102E-2,4.2343838492695171E-2,3.4948382184396568E-2,3.1839640928792719E-2,"","","",0,0,55.78118070779859,0,0,"","","",57.878446255627168,null,0,0,0.25889461724573654,0,0,"","","",null,9.3651729806996844,0,0,0,0,0,"","","",2.1543625482084514,null,0,0,0,0,0,"","","",null,3.66194925268627,62.97680694605355]
[null,null,79.8,31.474807711676856,5.040125313283208,25.200626566416041,4.7759534920515048,5952.2329575685844,null,null,3.6897967755203869,7.0382752157557557E-2,5.3617249783077851E-2,4.2611837470497044E-2,3.5169574476702888E-2,3.2041157643531916E-2,"","","",0,0,34.279595443518069,0,0,"","","",36.357956460158427,null,0,0,0.15910030280960952,0,0,"","","",null,9.4245213519335227,0,0,0,0,0,"","","",2.0233181392729671,null,0,0,0,0,0,"","","",null,3.6851555217147007,40.02582595992277]
[null,null,79.900000000000006,31.51424982660378,5.0450625782227787,25.225312891113894,4.7819383961768835,5946.4079057207809,null,null,3.694438029326073,7.0471283921277758E-2,5.3684692864566001E-2,4.266543726605742E-2,3.5213812935164145E-2,3.2081460986479751E-2,"","","",0,0,30.931063515163284,0,0,"","","",32.96687562625484,null,0,0,0.14355891625367134,0,0,"","","",null,9.4363910261802904,0,0,0,0,0,"","","",2.0309751855410605,null,0,0,0,0,0,"","","",null,3.6897967755203869,36.357956460158427]
[null,null,80.400000000000006,31.711460401238345,5.069751243781095,25.348756218905475,4.8118629168037721,5917.4500991148352,null,null,3.7176442983545037,7.0913942739878763E-2,5.4021908272006751E-2,4.2933436243859292E-2,3.5435005227470458E-2,3.2282977701218955E-2,"","","",0,0,18.326708655338681,0,0,"","","",20.409198669141844,null,0,0,8.5058906292291792E-2,0,0,"","","",null,9.4957393974141286,0,0,0,0,0,"","","",2.0519275957381389,null,0,0,0,0,0,"","","",null,3.7130030445488176,22.431912481826288]
[null,null,80.900000000000006,31.908670975872909,5.0944437577255881,25.472218788627941,4.8417874374306615,5888.7685146206195,null,null,3.7408505673829344,7.1356601558479768E-2,5.4359123679447507E-2,4.3201435221661165E-2,3.5656197519776771E-2,3.2484494415958153E-2,"","","",0,0,10.81961204527205,0,0,"","","",12.918504477029272,null,0,0,5.0216565581166515E-2,0,0,"","","",null,9.5550877686479669,0,0,0,0,0,"","","",2.1609795405785199,null,0,0,0,0,0,"","","",null,3.7362093135772483,14.084540591488231]
[null,null,81.5,32.145323665434383,5.1240797546012269,25.620398773006134,4.8776968621829271,5854.7098087341737,null,null,3.7686980902170513,7.1887792140800974E-2,5.4763782168376407E-2,4.352303399502342E-2,3.5921628270544348E-2,3.2726314473645192E-2,"","","",0,0,5.7754149995329005,0,0,"","","",7.7922330320290083,null,0,0,2.6805166845998894E-2,0,0,"","","",null,9.6263058141285729,0,0,0,0,0,"","","",2.0901246656877799,null,0,0,0,0,0,"","","",null,3.7640568364113651,8.4198441019282448]
[null,null,82,32.342534240068957,5.1487804878048786,25.743902439024392,4.9076213828098174,5826.6224538133583,null,null,3.791904359245482,7.2330450959401965E-2,5.5100997575817157E-2,4.3791032972825293E-2,3.6142820562850661E-2,3.2927831188384396E-2,"","","",0,0,3.4438045291277493,0,0,"","","",5.4827523188621132,null,0,0,1.5983570876853335E-2,0,0,"","","",null,9.6856541853624112,0,0,0,0,0,"","","",2.1513468393312754,null,0,0,0,0,0,"","","",null,3.7872631054397958,5.9022482264737839]
[null,null,82.5,32.539744814703525,5.1734848484848488,25.867424242424242,4.9375459034367069,5798.7992385415146,null,null,3.8151106282739127,7.277310977800297E-2,5.5438212983257899E-2,4.4059031950627166E-2,3.6364012855156974E-2,3.3129347903123593E-2,"","","",0,0,2.0659400315660572,0,0,"","","",4.0735289335513869,null,0,0,9.5885520338253091E-3,0,0,"","","",null,9.7450025565962495,0,0,0,0,0,"","","",2.0871577179408716,null,0,0,0,0,0,"","","",null,3.8104693744682265,4.3754169430687568]
[null,null,83.1,32.776397504265006,5.203134777376655,26.015673886883274,4.9734553281889742,5765.7549311312605,null,null,3.8429581511080295,7.3304300360324176E-2,5.5842871472186806E-2,4.4380630723989421E-2,3.6629443605924551E-2,3.3371167960810633E-2,"","","",0,0,1.1279954468031919,0,0,"","","",3.1695840628786263,null,0,0,5.2353131602719529E-3,0,0,"","","",null,9.8162206020768554,0,0,0,0,0,"","","",2.0188130021799355,null,0,0,0,0,0,"","","",null,3.8383168973023434,3.2509030186853982]
[null,null,83.4,32.894723849045747,5.2179616306954442,26.089808153477222,4.9914100405651078,5749.3715215383127,null,null,3.8568819125250879,7.3569895651484779E-2,5.6045200716651256E-2,4.4541430110670542E-2,3.6762158981308343E-2,3.3492077989654152E-2,"","","",0,0,0.83621756796912505,0,0,"","","",2.9476710607986858,null,0,0,3.8810979697183109E-3,0,0,"","","",null,9.8518296248171584,0,0,0,0,0,"","","",2.0429876430312106,null,0,0,0,0,0,"","","",null,3.8522406587194018,3.0866780805599952]
[null,null,84.1,33.170818653534134,5.2525624256837098,26.262812128418549,5.0333043694427504,5711.4980401389503,null,null,3.8893706891648909,7.4189617997526186E-2,5.6517302287068298E-2,4.4916628679593167E-2,3.7071828190537177E-2,3.3774201390289027E-2,"","","",0,0,0.41939993187648644,0,0,"","","",2.4889518520890839,null,0,0,1.9465415299262509E-3,0,0,"","","",null,9.934917344544532,0,0,0,0,0,"","","",2.0337757537062884,null,0,0,0,0,0,"","","",null,3.8847294353592048,2.4965665324471953]
[null,null,84.6,33.368029228168709,5.2772813238770677,26.38640661938534,5.0632288900696425,5684.7452615923567,null,null,3.9125769581933216,7.4632276816127177E-2,5.6854517694509048E-2,4.5184627657395046E-2,3.7293020482843491E-2,3.3975718105028231E-2,"","","",0,0,0.25799371638495827,0,0,"","","",2.3141894925520727,null,0,0,1.1974143180147985E-3,0,0,"","","",null,9.9942657157783703,0,0,0,0,0,"","","",2.1333473282074515,null,0,0,0,0,0,"","","",null,3.9079357043876355,2.3688358098138602]
[null,null,85.1,33.565239802803262,5.3020035252643947,26.510017626321975,5.0931534106965284,5658.2384106400586,null,null,3.9357832272217523,7.5074935634728182E-2,5.7191733101949804E-2,4.5452626635196919E-2,3.7514212775149804E-2,3.4177234819767428E-2,"","","",0,0,0.15961657707996396,0,0,"","","",2.2256799394258886,null,0,0,7.4082104582297791E-4,0,0,"","","",null,10.053614087012209,0,0,0,0,0,"","","",2.1450320395063969,null,0,0,0,0,0,"","","",null,3.9311419734160662,2.3102511949434574]
[null,null,85.7,33.80189249236475,5.3316744457409566,26.658372228704785,5.1290628354487966,5626.7501523774717,null,null,3.9636307500558692,7.5606126217049388E-2,5.7596391590878697E-2,4.5774225408559167E-2,3.7779643525917381E-2,3.4419054877454468E-2,"","","",0,0,9.0378198689030992E-2,0,0,"","","",2.232338269372355,null,0,0,4.1946815861652328E-4,0,0,"","","",null,10.124832132492815,0,0,0,0,0,"","","",2.0298932651497159,null,0,0,0,0,0,"","","",null,3.958989496250183,2.1732839114579323]
[null,null,86.2,33.999103066999318,5.3564037122969843,26.782018561484922,5.158987356075686,5600.7727593660247,null,null,3.9868370190842999,7.6048785035650393E-2,5.7933606998319453E-2,4.604222438636104E-2,3.8000835818223694E-2,3.4620571592193672E-2,"","","",0,0,5.6604942116106963E-2,0,0,"","","",2.2071826399111112,null,0,0,2.6271790301702513E-4,0,0,"","","",null,10.184180503726653,0,0,0,0,0,"","","",2.1063790291492679,null,0,0,0,0,0,"","","",null,3.9821957652786137,2.1253705894270771]
[null,null,86.7,34.196313641633886,5.3811361014994237,26.905680507497117,5.1889118767025755,5575.0308920156594,null,null,4.0100432881127306,7.6491443854251398E-2,5.8270822405760203E-2,4.631022336416292E-2,3.822202811053E-2,3.4822088306932869E-2,"","","",0,0,3.564486449344622E-2,0,0,"","","",2.097326467713855,null,0,0,1.6543686298337406E-4,0,0,"","","",null,10.243528874960491,0,0,0,0,0,"","","",2.0242343880010667,null,0,0,0,0,0,"","","",null,4.0054020343070444,2.1381868310779009]
[null,null,86.8,34.235755756560792,5.3860829493087561,26.930414746543782,5.1948967808279525,5569.9105049709951,null,null,4.0146845419184167,7.6579975617971599E-2,5.8338265487248353E-2,4.6363823159723296E-2,3.8266266568991271E-2,3.4862391649880711E-2,"","","",0,0,3.2516525754728395E-2,0,0,"","","",2.1561087193312991,null,0,0,1.5091744890682459E-4,0,0,"","","",null,10.255398549207259,0,0,0,0,0,"","","",2.0850572106483578,null,0,0,0,0,0,"","","",null,4.0100432881127306,2.097326467713855]
[null,null,87.3,34.432966331195367,5.4108190148911799,27.054095074455901,5.2248213014548419,5544.4471377506134,null,null,4.0378908109468474,7.702263443657259E-2,5.8675480894689096E-2,4.6631822137525168E-2,3.8487458861297577E-2,3.5063908364619908E-2,"","","",0,0,2.0607039093168963E-2,0,0,"","","",2.093799794782917,null,0,0,9.5642498615093526E-5,0,0,"","","",null,10.314746920441097,0,0,0,0,0,"","","",2.0676236327201241,null,0,0,0,0,0,"","","",null,4.0332495571411613,2.1518838560182956]
[null,null,87.9,34.669619020756848,5.4405062571103535,27.202531285551768,5.2607307262071092,5514.192720721926,null,null,4.0657383337809643,7.7553825018893796E-2,5.9080139383618002E-2,4.6953420910887417E-2,3.8752889612065161E-2,3.5305728422306948E-2,"","","",0,0,0,0,0,"","","",2.1231320701614136,null,0,0,0,0,0,"","","",null,10.385964965921703,0,0,0,0,0,"","","",2.0560214368034382,null,0,0,0,0,0,"","","",null,4.0610970799752781,2.1657240944027603]
[null,null,88.5,34.906271710318322,5.4701977401129938,27.350988700564969,5.2966401509593748,5484.2624389991997,null,null,4.0935858566150811,7.8085015601215002E-2,5.9484797872546902E-2,4.7275019684249665E-2,3.9018320362832731E-2,3.5547548479993987E-2,"","","",0,0,0,0,0,"","","",2.1106953972089171,null,0,0,0,0,0,"","","",null,10.457183011402309,0,0,0,0,0,"","","",2.0366380131154092,null,0,0,0,0,0,"","","",null,4.088944602809395,2.1277913236014263]
[null,null,88.8,35.024598055099062,5.4850450450450454,27.425225225225226,5.3145948633355093,5469.4172524801261,null,null,4.1075096180321395,7.8350610892375605E-2,5.9687127117011352E-2,4.7435819070930793E-2,3.9151035738216523E-2,3.5668458508837507E-2,"","","",0,0,0,0,0,"","","",2.0072549961024788,null,0,0,0,0,0,"","","",null,10.492792034142612,0,0,0,0,0,"","","",2.1538809862462491,null,0,0,0,0,0,"","","",null,4.1028683642264534,2.1120071884496756]
[null,null,89.4,35.261250744660551,5.5147427293064881,27.57371364653244,5.3505042880877784,5439.9636524427096,null,null,4.1353571408662564,7.8881801474696811E-2,6.0091785605940251E-2,4.7757417844293042E-2,3.9416466488984093E-2,3.5910278566524546E-2,"","","",0,0,0,0,0,"","","",2.0681978982435036,null,0,0,0,0,0,"","","",null,10.564010079623218,0,0,0,0,0,"","","",2.1074767351439112,null,0,0,0,0,0,"","","",null,4.1307158870605702,2.0240321518255522]
[null,null,89.9,{"$f":"(2*$C$43*$C973)/($C$15/1000000)*1000","v":35.458461319295118},{"$f":"$C$46+$C$47/C973+$C$48*C973","v":5.5394938820912127},{"$f":"E973*$C$15","v":27.697469410456065},{"$f":"D973*PI()*$C$14*$C$37/4*60/1000","v":5.3804288087146661},{"$f":"($C$13*1000)/F973","v":5415.6572131955681},null,null,4.1585634098946871,7.9324460293297816E-2,6.0429001013381001E-2,4.8025416822094921E-2,3.9637658781290414E-2,3.611179528126375E-2,"","","",0,0,0,0,0,"","","",2.0459022907288253,null,0,0,0,0,0,"","","",null,10.623358450857056,0,0,0,0,0,"","","",2.0999544092014988,null,0,0,0,0,0,"","","",null,4.1539221560890009,2.1394239858866579]
[null,null,90.5,35.695114008856599,5.5691988950276246,27.845994475138124,5.4163382334669334,5386.7711614295276,null,null,4.1864109327288039,7.9855650875619008E-2,6.08336595023099E-2,4.834701559545717E-2,3.9903089532057984E-2,3.6353615338950783E-2,"","","",0,0,0,0,0,"","","",2.082557828833,null,0,0,0,0,0,"","","",null,10.694576496337662,0,0,0,0,0,"","","",2.036825927623791,null,0,0,0,0,0,"","","",null,4.1817696789231178,2.0168946340318343]
[null,null,91,35.89232458349116,5.5939560439560436,27.969780219780219,5.446262754093822,5362.9309498084667,null,null,4.2096172017572346,8.0298309694220013E-2,6.117087490975065E-2,4.8615014573259042E-2,4.0124281824364297E-2,3.6555132053689987E-2,"","","",0,0,0,0,0,"","","",2.0202518193226351,null,0,0,0,0,0,"","","",null,10.7539248675715,0,0,0,0,0,"","","",2.1430954375020792,null,0,0,0,0,0,"","","",null,4.2049759479515485,2.0979352488725551]
[null,null,91.5,36.089535158125727,5.6187158469945357,28.09357923497268,5.4761872747207105,5339.298305332004,null,null,4.2328234707856653,8.0740968512821018E-2,6.1508090317191406E-2,4.8883013551060922E-2,4.034547411667061E-2,3.6756648768429184E-2,"","","",0,0,0,0,0,"","","",2.0910813006759912,null,0,0,0,0,0,"","","",null,10.813273238805339,0,0,0,0,0,"","","",2.1413272796279421,null,0,0,0,0,0,"","","",null,4.2281822169799792,2.0369448935800016]
[null,null,92.1,36.326187847687201,5.6484310532030397,28.2421552660152,5.5120966994729761,5311.2093814065383,null,null,4.2606709936197822,8.1272159095142224E-2,6.1912748806120299E-2,4.9204612324423171E-2,4.0610904867438187E-2,3.6998468826116224E-2,"","","",0,0,0,0,0,"","","",2.0051442821483292,null,0,0,0,0,0,"","","",null,10.884491284285945,0,0,0,0,0,"","","",2.1574579977982982,null,0,0,0,0,0,"","","",null,4.256029739814096,2.0514751669734324]
[null,null,92.6,36.523398422321776,5.6731965442764576,28.365982721382288,5.5420212200998664,5288.0240911565506,null,null,4.2838772626482129,8.1714817913743229E-2,6.2249964213561056E-2,4.947261130222505E-2,4.0832097159744507E-2,3.7199985540855428E-2,"","","",0,0,0,0,0,"","","",2.109083984947397,null,0,0,0,0,0,"","","",null,10.943839655519783,0,0,0,0,0,"","","",2.0850090627188229,null,0,0,0,0,0,"","","",null,4.2792360088425268,2.0642648365216778]
[null,null,93.1,36.720608996956337,5.6979645542427502,28.489822771213753,5.571945740726755,5265.0380174200554,null,null,4.3070835316766436,8.215747673234422E-2,6.2587179621001798E-2,4.9740610280026923E-2,4.1053289452050813E-2,3.7401502255594625E-2,"","","",0,0,0,0,0,"","","",2.0455387375194363,null,0,0,0,0,0,"","","",null,11.003188026753621,0,0,0,0,0,"","","",2.0172588597561547,null,0,0,0,0,0,"","","",null,4.3024422778709575,2.0648442270618954]
[null,null,93.2,36.760051111883257,5.702918454935622,28.514592274678108,5.5779306448521346,5260.4644862204432,null,null,4.3117247854823297,8.2246008496064421E-2,6.2654622702489948E-2,4.9794210075587292E-2,4.1097527910512077E-2,3.7441805598542467E-2,"","","",0,0,0,0,0,"","","",2.002001203047572,null,0,0,0,0,0,"","","",null,11.015057701000389,0,0,0,0,0,"","","",2.0296963922515276,null,0,0,0,0,0,"","","",null,4.3070835316766436,2.0455387375194363]
[null,null,93.8,36.996703801444731,5.7326439232409383,28.663219616204692,5.6138400696044002,5233.1874091073078,null,null,4.3395723083164466,8.2777199078385627E-2,6.3059281191418848E-2,5.0115808848949547E-2,4.1362958661279654E-2,3.76836256562295E-2,"","","",0,0,0,0,0,"","","",2.01241152537603,null,0,0,0,0,0,"","","",null,11.086275746480995,0,0,0,0,0,"","","",2.00468251107637,null,0,0,0,0,0,"","","",null,4.3349310545107604,2.1494522909490725]
[null,null,94.2,37.154472261152392,5.7524628450106157,28.762314225053078,5.6377796861059126,5215.1575435242357,null,null,4.3581373235391911,8.3131326133266431E-2,6.3329053517371448E-2,5.0330208031191044E-2,4.1539912495124703E-2,3.7844839028020862E-2,"","","",0,0,0,0,0,"","","",2.1516561088168564,null,0,0,0,0,0,"","","",null,11.133754443468066,0,0,0,0,0,"","","",2.0727131181706868,null,0,0,0,0,0,"","","",null,4.353496069733505,2.0609155850563714]
[null,null,94.7,37.35168283578696,5.7772386483632525,28.886193241816262,5.6677042067328012,5192.7922362181262,null,null,4.3813435925676218,8.3573984951867422E-2,6.3666268924812197E-2,5.0598207008992917E-2,4.1761104787431017E-2,3.8046355742760059E-2,"","","",0,0,0,0,0,"","","",2.1428626084861468,null,0,0,0,0,0,"","","",null,11.193102814701904,0,0,0,0,0,"","","",2.1441701340665174,null,0,0,0,0,0,"","","",null,4.3767023387619357,2.0114066150642502]
[null,null,95.2,37.54889341042152,5.8020168067226896,29.010084033613449,5.6976287273596897,5170.6158391750178,null,null,4.4045498615960526,8.4016643770468441E-2,6.4003484332252947E-2,5.0866205986794796E-2,4.198229707973733E-2,3.8247872457499263E-2,"","","",0,0,0,0,0,"","","",2.0848293426896563,null,0,0,0,0,0,"","","",null,11.252451185935742,0,0,0,0,0,"","","",2.0227333429815433,null,0,0,0,0,0,"","","",null,4.3999086077903664,2.0053524464743346]
[null,null,95.8,37.785546099982994,5.831753653444677,29.158768267223387,5.7335381521119571,5144.2502174761303,null,null,4.4323973844301694,8.4547834352789647E-2,6.4408142821181846E-2,5.1187804760157045E-2,4.2247727830504907E-2,3.8489692515186302E-2,"","","",0,0,0,0,0,"","","",2.144852471254985,null,0,0,0,0,0,"","","",null,11.323669231416348,0,0,0,0,0,"","","",2.0283077043994187,null,0,0,0,0,0,"","","",null,4.4277561306244833,2.006620041338254]
[null,null,null,null,null,null,null,null,null,null,4.4556036534586001,8.4990493171390638E-2,6.474535822862261E-2,5.1455803737958924E-2,4.246892012281122E-2,3.8691209229925506E-2,"","","",0,0,0,0,0,"","","",2.0284043468951789,null,0,0,0,0,0,"","","",null,11.383017602650186,0,0,0,0,0,"","","",2.1542065289125625,null,0,0,0,0,0,"","","",null,4.450962399652914,2.0786002756194391]
[null,null,null,null,null,null,null,null,null,null,4.4834511762927169,8.5521683753711844E-2,6.5150016717551495E-2,5.1777402511321166E-2,4.2734350873578797E-2,3.8933029287612539E-2,"","","",0,0,0,0,0,"","","",2.0199878707905383,null,0,0,0,0,0,"","","",null,11.454235648130792,0,0,0,0,0,"","","",2.0692482413102113,null,0,0,0,0,0,"","","",null,4.4788099224870308,2.0636441362385298]
[null,null,null,null,null,null,null,null,null,null,4.5066574453211476,8.5964342572312835E-2,6.5487232124992245E-2,5.2045401489123046E-2,4.295554316588511E-2,3.9134546002351736E-2,"","","",0,0,0,0,0,"","","",2.0698590070439042,null,0,0,0,0,0,"","","",null,11.513584019364631,0,0,0,0,0,"","","",2.0759853169967597,null,0,0,0,0,0,"","","",null,4.5020161915154615,2.034159441471254]
[null,null,null,null,null,null,null,null,null,null,4.5298637143495784,8.640700139091384E-2,6.5824447532432995E-2,5.2313400466924918E-2,4.3176735458191423E-2,3.933606271709094E-2,"","","",0,0,0,0,0,"","","",2.0575090448320421,null,0,0,0,0,0,"","","",null,11.572932390598469,0,0,0,0,0,"","","",2.0160160809066596,null,0,0,0,0,0,"","","",null,4.5252224605438922,2.1609041678970677]
[null,null,null,null,null,null,null,null,null,null,4.5577112371836952,8.6938191973235046E-2,6.6229106021361894E-2,5.2634999240287174E-2,4.3442166208958993E-2,3.957788277477798E-2,"","","",0,0,0,0,0,"","","",2.0174866412454628,null,0,0,0,0,0,"","","",null,11.644150436079075,0,0,0,0,0,"","","",2.0934281081281538,null,0,0,0,0,0,"","","",null,4.5530699833780091,2.0802355683981082]
[null,null,null,null,null,null,null,null,null,null,4.5762762524064398,8.729231902811585E-2,6.6498878347314494E-2,5.2849398422528671E-2,4.3619120042804042E-2,3.9739096146569335E-2,"","","",0,0,0,0,0,"","","",2.0491920862431776,null,0,0,0,0,0,"","","",null,11.691629133066145,0,0,0,0,0,"","","",2.123994216475793,null,0,0,0,0,0,"","","",null,4.5716349986007536,2.0464872218298575]
[null,null,null,null,null,null,null,null,null,null,4.5994825214348705,8.7734977846716855E-2,6.6836093754755257E-2,5.3117397400330543E-2,4.3840312335110362E-2,3.9940612861308539E-2,"","","",0,0,0,0,0,"","","",2.0290856974738443,null,0,0,0,0,0,"","","",null,11.750977504299984,0,0,0,0,0,"","","",2.0995383641457201,null,0,0,0,0,0,"","","",null,4.5948412676291843,2.0846703347222295]
[null,null,null,null,null,null,null,null,null,null,4.6041237752405566,8.7823509610437056E-2,6.6903536836243394E-2,5.3170997195890919E-2,4.3884550793571626E-2,3.9980916204256381E-2,"","","",0,0,0,0,0,"","","",2.047955224948828,null,0,0,0,0,0,"","","",null,11.762847178546751,0,0,0,0,0,"","","",2.0332320721407533,null,0,0,0,0,0,"","","",null,4.5994825214348705,2.0290856974738443]
[null,null,null,null,null,null,null,null,null,null,4.6273300442689873,8.8266168429038061E-2,6.7240752243684143E-2,5.3438996173692792E-2,4.4105743085877933E-2,4.0182432918995578E-2,"","","",0,0,0,0,0,"","","",2.1491958571804379,null,0,0,0,0,0,"","","",null,11.82219554978059,0,0,0,0,0,"","","",2.1199698639008284,null,0,0,0,0,0,"","","",null,4.6226887904633012,2.1518520078491039]
[null,null,null,null,null,null,null,null,null,null,4.6551775671031042,8.8797359011359253E-2,6.7645410732613043E-2,5.3760594947055047E-2,4.4371173836645517E-2,4.0424252976682618E-2,"","","",0,0,0,0,0,"","","",2.0226547809657931,null,0,0,0,0,0,"","","",null,11.893413595261196,0,0,0,0,0,"","","",2.0505741640552304,null,0,0,0,0,0,"","","",null,4.650536313297418,2.0502948170346809]
[null,null,null,null,null,null,null,null,null,null,4.6783838361315349,8.9240017829960258E-2,6.7982626140053792E-2,5.402859392485692E-2,4.4592366128951823E-2,4.0625769691421815E-2,"","","",0,0,0,0,0,"","","",2.0027205305415352,null,0,0,0,0,0,"","","",null,11.952761966495034,0,0,0,0,0,"","","",2.0289229879204833,null,0,0,0,0,0,"","","",null,4.6737425823258487,2.0974238274980497]
[null,null,null,null,null,null,null,null,null,null,4.7015901051599656,8.9682676648561263E-2,6.8319841547494542E-2,5.42965929026588E-2,4.4813558421258136E-2,4.0827286406161019E-2,"","","",0,0,0,0,0,"","","",2.0746985456302092,null,0,0,0,0,0,"","","",null,12.012110337728872,0,0,0,0,0,"","","",2.1075997684426167,null,0,0,0,0,0,"","","",null,4.6969488513542794,2.1469183993639209]
[null,null,null,null,null,null,null,null,null,null,4.7294376279940824,9.0213867230882469E-2,6.8724500036423455E-2,5.4618191676021048E-2,4.5078989172025713E-2,4.1069106463848058E-2,"","","",0,0,0,0,0,"","","",2.0420535186621036,null,0,0,0,0,0,"","","",null,12.083328383209478,0,0,0,0,0,"","","",2.1477552473710775,null,0,0,0,0,0,"","","",null,4.7247963741883963,2.1031789081132088]
[null,null,null,null,null,null,null,null,null,null,4.7526438970225131,9.0656526049483474E-2,6.9061715443864205E-2,5.4886190653822921E-2,4.5300181464332026E-2,4.1270623178587255E-2,"","","",0,0,0,0,0,"","","",2.1463397547488725,null,0,0,0,0,0,"","","",null,12.142676754443317,0,0,0,0,0,"","","",2.1454947108082307,null,0,0,0,0,0,"","","",null,4.748002643216827,2.0657744713664363]
[null,null,null,null,null,null,null,null,null,null,4.7758501660509438,9.1099184868084479E-2,6.9398930851304955E-2,5.51541896316248E-2,4.5521373756638339E-2,4.147213989332646E-2,"","","",0,0,0,0,0,"","","",2.1287076330181685,null,0,0,0,0,0,"","","",null,12.202025125677155,0,0,0,0,0,"","","",2.021303432506202,null,0,0,0,0,0,"","","",null,4.7712089122452577,2.1358212640400991]
[null,null,null,null,null,null,null,null,null,null,4.8036976888850607,9.1630375450405671E-2,6.9803589340233854E-2,5.5475788404987049E-2,4.5786804507405916E-2,4.1713959951013499E-2,"","","",0,0,0,0,0,"","","",2.0309670116988183,null,0,0,0,0,0,"","","",null,12.273243171157761,0,0,0,0,0,"","","",2.0139966411461945,null,0,0,0,0,0,"","","",null,4.7990564350793745,2.1649347138957546]
[null,null,null,null,null,null,null,null,null,null,4.8222627041078052,9.1984502505286475E-2,7.0073361666186454E-2,5.5690187587228546E-2,4.5963758341250965E-2,4.1875173322804854E-2,"","","",0,0,0,0,0,"","","",2.0687236223801793,null,0,0,0,0,0,"","","",null,12.320721868144831,0,0,0,0,0,"","","",2.0795992646517498,null,0,0,0,0,0,"","","",null,4.8176214503021191,2.0960889517111152]
[null,null,null,null,null,null,null,null,null,null,4.8501102269419221,9.2515693087607681E-2,7.0478020155115353E-2,5.6011786360590801E-2,4.6229189092018542E-2,4.21169933804919E-2,"","","",0,0,0,0,0,"","","",2.1563122975740177,null,0,0,0,0,0,"","","",null,12.391939913625437,0,0,0,0,0,"","","",2.0693412305270251,null,0,0,0,0,0,"","","",null,4.8454689731362359,2.0048667112740621]
[null,null,null,null,null,null,null,null,null,null,4.8733164959703528,9.2958351906208686E-2,7.0815235562556103E-2,5.6279785338392674E-2,4.6450381384324856E-2,4.2318510095231097E-2,"","","",0,0,0,0,0,"","","",2.0127643893651164,null,0,0,0,0,0,"","","",null,12.451288284859276,0,0,0,0,0,"","","",2.07292970846889,null,0,0,0,0,0,"","","",null,4.8686752421646666,2.1507738808371748]
[null,null,null,null,null,null,null,null,null,null,4.8965227649987835,9.3401010724809691E-2,7.1152450969996853E-2,5.6547784316194546E-2,4.6671573676631169E-2,4.2520026809970295E-2,"","","",0,0,0,0,0,"","","",2.0728331897948142,null,0,0,0,0,0,"","","",null,12.510636656093114,0,0,0,0,0,"","","",2.1077142803406499,null,0,0,0,0,0,"","","",null,4.8918815111930973,2.1480351460416425]
[null,null,null,null,null,null,null,null,null,null,4.9011640188044696,9.3489542488529878E-2,7.1219894051485003E-2,5.6601384111754929E-2,4.6715812135092433E-2,4.2560330152918137E-2,"","","",0,0,0,0,0,"","","",2.0084805679512945,null,0,0,0,0,0,"","","",null,12.522506330339882,0,0,0,0,0,"","","",2.1530342773132762,null,0,0,0,0,0,"","","",null,4.8965227649987835,2.0728331897948142]
[null,null,null,null,null,null,null,null,null,null,4.9243702878329003,9.3932201307130883E-2,7.1557109458925752E-2,5.6869383089556802E-2,4.6937004427398746E-2,4.2761846867657334E-2,"","","",0,0,0,0,0,"","","",2.04472072307601,null,0,0,0,0,0,"","","",null,12.58185470157372,0,0,0,0,0,"","","",2.0761625781567266,null,0,0,0,0,0,"","","",null,4.9197290340272142,2.0172481431303639]
[null,null,null,null,null,null,null,null,null,null,4.9522178106670172,9.4463391889452089E-2,7.1961767947854652E-2,5.7190981862919051E-2,4.7202435178166323E-2,4.3003666925344373E-2,"","","",0,0,0,0,0,"","","",2.0755162038800354,null,0,0,0,0,0,"","","",null,12.653072747054326,0,0,0,0,0,"","","",2.0340788946016444,null,0,0,0,0,0,"","","",null,4.947576556861331,2.0591456223976197]
[null,null,null,null,null,null,null,null,null,null,4.9754240796954479,9.490605070805308E-2,7.2298983355295401E-2,5.7458980840720923E-2,4.7423627470472636E-2,4.3205183640083571E-2,"","","",0,0,0,0,0,"","","",2.1587919310711978,null,0,0,0,0,0,"","","",null,12.712421118288164,0,0,0,0,0,"","","",2.1102595218838305,null,0,0,0,0,0,"","","",null,4.9707828258897617,2.1512281146252676]
[null,null,null,null,null,null,null,null,null,null,4.9986303487238786,9.5348709526654099E-2,7.2636198762736151E-2,5.7726979818522803E-2,4.7644819762778949E-2,4.3406700354822775E-2,"","","",0,0,0,0,0,"","","",2.1029755022624692,null,0,0,0,0,0,"","","",null,12.771769489522002,0,0,0,0,0,"","","",2.0763847661035353,null,0,0,0,0,0,"","","",null,4.9939890949181924,2.1183120229517041]
[null,null,null,null,null,null,null,null,null,null,5.0264778715579954,9.5879900108975291E-2,7.3040857251665037E-2,5.8048578591885044E-2,4.7910250513546519E-2,4.3648520412509814E-2,"","","",0,0,0,0,0,"","","",2.0553397939450653,null,0,0,0,0,0,"","","",null,12.842987535002608,0,0,0,0,0,"","","",2.0370627020120056,null,0,0,0,0,0,"","","",null,5.0218366177523093,2.0269194418880319]
[null,null,null,null,null,null,null,null,null,null,5.0404016329750538,9.6145495400135908E-2,7.32431864961295E-2,5.8209377978566172E-2,4.8042965888930311E-2,4.3769430441353334E-2,"","","",0,0,0,0,0,"","","",2.0523627712087675,null,0,0,0,0,0,"","","",null,12.878596557742911,0,0,0,0,0,"","","",2.1698505538254791,null,0,0,0,0,0,"","","",null,5.0357603791693677,2.0860001701662552]
[null,null,null,null,null,null,null,null,null,null,5.0682491558091707,9.66766859824571E-2,7.36478449850584E-2,5.8530976751928421E-2,4.8308396639697888E-2,4.4011250499040373E-2,"","","",0,0,0,0,0,"","","",2.1380469100858628,null,0,0,0,0,0,"","","",null,12.949814603223517,0,0,0,0,0,"","","",2.0605255396491371,null,0,0,0,0,0,"","","",null,5.0636079020034845,2.0649967596352958]
[null,null,null,null,null,null,null,null,null,null,5.0960966786432875,9.7207876564778306E-2,7.4052503473987299E-2,5.8852575525290676E-2,4.8573827390465465E-2,4.4253070556727413E-2,"","","",0,0,0,0,0,"","","",2.0476318381305676,null,0,0,0,0,0,"","","",null,13.021032648704123,0,0,0,0,0,"","","",2.1175959147188235,null,0,0,0,0,0,"","","",null,5.0914554248376014,2.115572003010231]
[null,null,null,null,null,null,null,null,null,null,5.1193029476717182,9.7650535383379297E-2,7.4389718881428049E-2,5.9120574503092549E-2,4.8795019682771779E-2,4.445458727146661E-2,"","","",0,0,0,0,0,"","","",2.0075262696547465,null,0,0,0,0,0,"","","",null,13.080381019937962,0,0,0,0,0,"","","",2.0536866918812069,null,0,0,0,0,0,"","","",null,5.1146616938660321,2.0208895282248873]
[null,null,null,null,null,null,null,null,null,null,5.1471504705058351,9.8181725965700503E-2,7.4794377370356949E-2,5.9442173276454797E-2,4.9060450433539349E-2,4.4696407329153649E-2,"","","",0,0,0,0,0,"","","",2.0415704851741392,null,0,0,0,0,0,"","","",null,13.151599065418567,0,0,0,0,0,"","","",2.009598537483662,null,0,0,0,0,0,"","","",null,5.1425092167001489,2.1088235352233906]
[null,null,null,null,null,null,null,null,null,null,5.1703567395342658,9.8624384784301508E-2,7.5131592777797698E-2,5.9710172254256677E-2,4.9281642725845662E-2,4.4897924043892853E-2,"","","",0,0,0,0,0,"","","",2.1588149125926446,null,0,0,0,0,0,"","","",null,13.210947436652406,0,0,0,0,0,"","","",2.1253843023919985,null,0,0,0,0,0,"","","",null,5.1657154857285796,2.0089080149397396]
[null,null,null,null,null,null,null,null,null,null,5.1935630085626965,9.9067043602902513E-2,7.5468808185238448E-2,5.997817123205855E-2,4.9502835018151975E-2,4.5099440758632051E-2,"","","",0,0,0,0,0,"","","",2.0898612960084169,null,0,0,0,0,0,"","","",null,13.270295807886244,0,0,0,0,0,"","","",2.1194148884412103,null,0,0,0,0,0,"","","",null,5.1889217547570103,2.0845256885037036]
[null,null,null,null,null,null,null,null,null,null,5.1982042623683826,9.9155575366622714E-2,7.5536251266726598E-2,6.0031771027618926E-2,4.9547073476613239E-2,4.5139744101579893E-2,"","","",0,0,0,0,0,"","","",2.0768418043759165,null,0,0,0,0,0,"","","",null,13.282165482133012,0,0,0,0,0,"","","",2.0611506020866708,null,0,0,0,0,0,"","","",null,5.1935630085626965,2.0898612960084169]
[null,null,null,null,null,null,null,null,null,null,5.2214105313968133,9.9598234185223719E-2,7.5873466674167347E-2,6.0299770005420798E-2,4.9768265768919552E-2,4.534126081631909E-2,"","","",0,0,0,0,0,"","","",2.0917929201784498,null,0,0,0,0,0,"","","",null,13.34151385336685,0,0,0,0,0,"","","",2.1571679426417183,null,0,0,0,0,0,"","","",null,5.2167692775911272,2.0812452195647144]
[null,null,null,null,null,null,null,null,null,null,5.2492580542309302,0.10012942476754491,7.6278125163096247E-2,6.0621368778783047E-2,5.0033696519687129E-2,4.5583080874006129E-2,"","","",0,0,0,0,0,"","","",2.0085721894765265,null,0,0,0,0,0,"","","",null,13.412731898847456,0,0,0,0,0,"","","",2.1401086767272579,null,0,0,0,0,0,"","","",null,5.244616800425244,2.1109905566072285]
[null,null,null,null,null,null,null,null,null,null,5.277105577065047,0.10066061534986612,7.6682783652025147E-2,6.0942967552145302E-2,5.0299127270454706E-2,4.5824900931693169E-2,"","","",0,0,0,0,0,"","","",2.1356182690296199,null,0,0,0,0,0,"","","",null,13.483949944328062,0,0,0,0,0,"","","",2.083829064239906,null,0,0,0,0,0,"","","",null,5.2724643232593609,2.0961452473251261]
[null,null,null,null,null,null,null,null,null,null,5.2910293384821054,0.10092621064102672,7.6885112896489596E-2,6.1103766938826423E-2,5.0431842645838491E-2,4.5945810960536689E-2,"","","",0,0,0,0,0,"","","",2.0986701350622123,null,0,0,0,0,0,"","","",null,13.519558967068365,0,0,0,0,0,"","","",2.0134530749933308,null,0,0,0,0,0,"","","",null,5.2863880846764193,2.1397116689663624]
[null,null,null,null,null,null,null,null,null,null,5.3188768613162223,0.10145740122334793,7.7289771385418496E-2,6.1425365712188672E-2,5.0697273396606068E-2,4.6187631018223728E-2,"","","",0,0,0,0,0,"","","",2.1327657070913775,null,0,0,0,0,0,"","","",null,13.590777012548971,0,0,0,0,0,"","","",2.0594253462676821,null,0,0,0,0,0,"","","",null,5.3142356075105361,2.0000123177600155]
[null,null,null,null,null,null,null,null,null,null,5.342083130344653,0.10190006004194893,7.7626986792859246E-2,6.1693364689990551E-2,5.0918465688912382E-2,4.6389147732962925E-2,"","","",0,0,0,0,0,"","","",2.065777131513892,null,0,0,0,0,0,"","","",null,13.650125383782809,0,0,0,0,0,"","","",2.0215558194914509,null,0,0,0,0,0,"","","",null,5.3374418765389668,2.0532591966909592]
[null,null,null,null,null,null,null,null,null,null,5.3652893993730837,0.10234271886054992,7.7964202200299995E-2,6.1961363667792424E-2,5.1139657981218695E-2,4.6590664447702122E-2,"","","",0,0,0,0,0,"","","",2.0663547944701501,null,0,0,0,0,0,"","","",null,13.709473755016647,0,0,0,0,0,"","","",2.041750569381326,null,0,0,0,0,0,"","","",null,5.3606481455673975,2.0166855908314352]
[null,null,null,null,null,null,null,null,null,null,5.3931369222072005,0.10287390944287114,7.8368860689228895E-2,6.2282962441154673E-2,5.1405088731986272E-2,4.6832484505389169E-2,"","","",0,0,0,0,0,"","","",2.0522175561041922,null,0,0,0,0,0,"","","",null,13.780691800497253,0,0,0,0,0,"","","",2.1169441096451131,null,0,0,0,0,0,"","","",null,5.3884956684015144,2.0397516205371886]
[null,null,null,null,null,null,null,null,null,null,5.4163431912356312,0.10331656826147213,7.8706076096669644E-2,6.2550961418956552E-2,5.1626281024292585E-2,4.7034001220128366E-2,"","","",0,0,0,0,0,"","","",2.0923117437435077,null,0,0,0,0,0,"","","",null,13.840040171731092,0,0,0,0,0,"","","",2.0449244124243622,null,0,0,0,0,0,"","","",null,5.4117019374299451,2.1046872391582494]
[null,null,null,null,null,null,null,null,null,null,5.4441907140697481,0.10384775884379334,7.9110734585598544E-2,6.2872560192318808E-2,5.1891711775060162E-2,4.7275821277815405E-2,"","","",0,0,0,0,0,"","","",2.1348271784738828,null,0,0,0,0,0,"","","",null,13.911258217211698,0,0,0,0,0,"","","",2.023335312366227,null,0,0,0,0,0,"","","",null,5.4395494602640619,2.031343570308966]
[null,null,null,null,null,null,null,null,null,null,5.4673969830981788,0.10429041766239434,7.9447949993039294E-2,6.314055917012068E-2,5.2112904067366468E-2,4.7477337992554602E-2,"","","",0,0,0,0,0,"","","",2.1534347523009809,null,0,0,0,0,0,"","","",null,13.970606588445536,0,0,0,0,0,"","","",2.1614449955204083,null,0,0,0,0,0,"","","",null,5.4627557292924926,2.1114398344321703]
[null,null,null,null,null,null,null,null,null,null,5.4906032521266095,0.10473307648099535,7.9785165400480043E-2,6.3408558147922553E-2,5.2334096359672781E-2,4.76788547072938E-2,"","","",0,0,0,0,0,"","","",2.1275555043817316,null,0,0,0,0,0,"","","",null,14.029954959679374,0,0,0,0,0,"","","",2.0359707868310313,null,0,0,0,0,0,"","","",null,5.4859619983209233,2.0397938105345128]
[null,null,null,null,null,null,null,null,null,null,5.4952445059322956,0.10482160824471555,7.9852608481968193E-2,6.3462157943482922E-2,5.2378334818134045E-2,4.7719158050241642E-2,"","","",0,0,0,0,0,"","","",2.0612825162925255,null,0,0,0,0,0,"","","",null,14.041824633926142,0,0,0,0,0,"","","",2.0958856353199362,null,0,0,0,0,0,"","","",null,5.4906032521266095,2.1275555043817316]
[null,null,null,null,null,null,null,null,null,null,5.5230920287664125,0.10535279882703676,8.0257266970897093E-2,6.3783756716845177E-2,5.2643765568901622E-2,4.7960978107928681E-2,"","","",0,0,0,0,0,"","","",2.0239110189672882,null,0,0,0,0,0,"","","",null,14.113042679406748,0,0,0,0,0,"","","",2.1487641876186183,null,0,0,0,0,0,"","","",null,5.5184507749607263,2.1585283752024056]
[null,null,null,null,null,null,null,null,null,null,5.5370157901834709,0.10561839411819735,8.0459596215361542E-2,6.3944556103526298E-2,5.2776480944285414E-2,4.8081888136772201E-2,"","","",0,0,0,0,0,"","","",2.0232477743439983,null,0,0,0,0,0,"","","",null,14.148651702147051,0,0,0,0,0,"","","",2.0368320127732122,null,{"$f":"IF(AN1270=\"\",\"\",($AM1271-$AM1270)*AN1270)","v":0},{"$f":"IF(AO1270=\"\",\"\",($AM1271-$AM1270)*AO1270)","v":0},{"$f":"IF(AP1270=\"\",\"\",($AM1271-$AM1270)*AP1270)","v":0},{"$f":"IF(AQ1270=\"\",\"\",($AM1271-$AM1270)*AQ1270)","v":0},{"$f":"IF(AR1270=\"\",\"\",($AM1271-$AM1270)*AR1270)","v":0},{"$f":"IF(AS1270=\"\",\"\",($AM1271-$AM1270)*AS1270)","v":""},{"$f":"IF(AT1270=\"\",\"\",($AM1271-$AM1270)*AT1270)","v":""},{"$f":"IF(AU1270=\"\",\"\",($AM1271-$AM1270)*AU1270)","v":""},null,5.5323745363777848,2.0234115457733952]
[null,null,null,null,null,null,null,null,null,null,5.5648633130175877,0.10614958470051855,8.0864254704290442E-2,6.426615487688854E-2,5.3041911695052985E-2,4.832370819445924E-2,"","","",0,0,0,0,0,"","","",2.0686741680283376,null,0,0,0,0,0,"","","",null,14.219869747627657,0,0,0,0,0,"","","",2.0574586454649642,null,0,0,0,0,0,"","","",null,5.5602220592119016,2.0719428554195756]
[null,null,null,null,null,null,null,null,null,null,5.5880695820460184,0.10659224351911956,8.1201470111731192E-2,6.4534153854690426E-2,5.3263103987359298E-2,4.8525224909198444E-2,"","","",0,0,0,0,0,"","","",2.1155479480316361,null,0,0,0,0,0,"","","",null,14.279218118861495,0,0,0,0,0,"","","",2.1457523699546242,null,0,0,0,0,0,"","","",null,5.5834283282403323,2.1413723952768029]
[null,null,null,null,null,null,null,null,null,null,5.6159171048801353,0.10712343410144076,8.1606128600660091E-2,6.4855752628052682E-2,5.3528534738126875E-2,4.8767044966885484E-2,"","","",0,0,0,0,0,"","","",2.0812423671189073,null,0,0,0,0,0,"","","",null,14.350436164342101,0,0,0,0,0,"","","",2.1048022786713947,null,0,0,0,0,0,"","","",null,5.6112758510744492,2.0793251264322743]
[null,null,null,null,null,null,null,null,null,null,5.639123373908566,0.10756609292004175,8.1943344008100841E-2,6.5123751605854555E-2,5.3749727030433188E-2,4.8968561681624681E-2,"","","",0,0,0,0,0,"","","",2.1364655719975429,null,0,0,0,0,0,"","","",null,14.409784535575939,0,0,0,0,0,"","","",2.0903469364828577,null,0,0,0,0,0,"","","",null,5.6344821201028799,2.1542661853654357]
[null,null,null,null,null,null,null,null,null,null,5.6623296429369967,0.10800875173864277,8.228055941554159E-2,6.5391750583656427E-2,5.3970919322739501E-2,4.9170078396363878E-2,"","","",0,0,0,0,0,"","","",2.0190885220916646,null,0,0,0,0,0,"","","",null,14.469132906809778,0,0,0,0,0,"","","",2.0696035649475713,null,0,0,0,0,0,"","","",null,5.6576883891313106,2.0678707920853552]
[null,null,null,null,null,null,null,null,null,null,5.6901771657711135,0.10853994232096396,8.2685217904470504E-2,6.5713349357018683E-2,5.4236350073507078E-2,4.9411898454050925E-2,"","","",0,0,0,0,0,"","","",2.0967565864167841,null,0,0,0,0,0,"","","",null,14.540350952290384,0,0,0,0,0,"","","",2.110934956069384,null,0,0,0,0,0,"","","",null,5.6855359119654274,2.1492554219618092]
[null,null,null,null,null,null,null,null,null,null,5.7133834347995442,0.10898260113956497,8.3022433311911253E-2,6.5981348334820555E-2,5.4457542365813391E-2,4.9613415168790122E-2,"","","",0,0,0,0,0,"","","",2.1059804053006181,null,0,0,0,0,0,"","","",null,14.599699323524222,0,0,0,0,0,"","","",2.0422929383602888,null,0,0,0,0,0,"","","",null,5.7087421809938581,2.0188801846125828]
[null,null,null,null,null,null,null,null,null,null,5.7412309576336611,0.10951379172188616,8.3427091800840139E-2,6.6302947108182797E-2,5.4722973116580961E-2,4.9855235226477154E-2,"","","",0,0,0,4.8564385429234747E-3,0,"","","",2.0177469919198581,null,0,0,0,2.2539963869424432E-5,0,"","","",null,14.670917369004828,0,0,0,0,0,"","","",2.0858984233280702,null,0,0,0,0,0,"","","",null,5.736589703827975,2.0508126142808543]
[null,null,null,null,null,null,null,null,null,null,5.7597959728564057,0.10986791877676697,8.3696864126792739E-2,6.6517346290424301E-2,5.4899926950426017E-2,5.0016448598268523E-2,"","","",0,0,0,7.416082184986135E-3,0,"","","",2.0881077646542208,null,0,0,0,3.4419919664348091E-5,0,"","","",null,14.718396065991898,0,0,0,0,0,"","","",2.0409431390054058,null,0,0,0,0,0,"","","",null,5.7551547190507195,2.0779663351961744]
[null,null,null,null,null,null,null,null,null,null,5.7830022418848364,0.11031057759536797,8.4034079534233488E-2,6.6785345268226173E-2,5.512111924273233E-2,5.021796531300772E-2,"","","",0,0,0,1.2541090591004809E-2,0,"","","",2.0296302394994421,null,0,0,0,5.8206384432955723E-5,0,"","","",null,14.777744437225737,0,0,0,0,0,"","","",2.0080827456161323,null,0,0,0,0,0,"","","",null,5.7783609880791502,2.1716515062530521]
[null,null,null,null,null,null,null,null,null,null,5.7876434956905225,0.11039910935908817,8.4101522615721638E-2,6.6838945063786556E-2,5.5165357701193594E-2,5.0258268655955562E-2,"","","",0,0,0,1.3923483263247048E-2,0,"","","",2.0902800117157541,null,0,0,0,6.4622419683952649E-5,0,"","","",null,14.789614111472504,0,0,0,0,0,"","","",2.1064498283711033,null,0,0,0,0,0,"","","",null,5.7830022418848364,2.0296302394994421]
[null,null,null,null,null,null,null,null,null,null,5.8108497647189532,0.11084176817768918,8.4438738023162388E-2,6.7106944041588429E-2,5.5386549993499908E-2,5.045978537069476E-2,"","","",0,0,0,2.3427324237849215E-2,0,"","","",2.1039328800121577,null,0,0,0,1.0873215777596084E-4,0,"","","",null,14.848962482706343,0,0,0,0,0,"","","",2.1459505156050911,null,0,0,0,0,0,"","","",null,5.8062085109132671,2.0509147849874449]
[null,null,null,null,null,null,null,null,null,null,5.8340560337473839,0.11128442699629017,8.4775953430603138E-2,6.7374943019390302E-2,5.5607742285806214E-2,5.0661302085433957E-2,"","","",0,0,0,3.9255428216737401E-2,0,"","","",2.1235973885233008,null,0,0,0,1.8219440560477158E-4,0,"","","",null,14.908310853940181,0,0,0,0,0,"","","",2.0983336585459775,null,{"$f":"IF(AN1334=\"\",\"\",($AM1335-$AM1334)*AN1334)","v":0},{"$f":"IF(AO1334=\"\",\"\",($AM1335-$AM1334)*AO1334)","v":0},{"$f":"IF(AP1334=\"\",\"\",($AM1335-$AM1334)*AP1334)","v":0},{"$f":"IF(AQ1334=\"\",\"\",($AM1335-$AM1334)*AQ1334)","v":0},{"$f":"IF(AR1334=\"\",\"\",($AM1335-$AM1334)*AR1334)","v":0},{"$f":"IF(AS1334=\"\",\"\",($AM1335-$AM1334)*AS1334)","v":""},{"$f":"IF(AT1334=\"\",\"\",($AM1335-$AM1334)*AT1334)","v":""},{"$f":"IF(AU1334=\"\",\"\",($AM1335-$AM1334)*AU1334)","v":""},null,5.8294147799416978,2.0833593808560966]
[null,null,null,null,null,null,null,null,null,null,5.8619035565815008,0.11181561757861139,8.5180611919532037E-2,6.7696541792752557E-2,5.5873173036573798E-2,5.0903122143120996E-2,"","","",0,0,0,7.2538588974581056E-2,0,"","","",2.0950886725071474,null,0,0,0,3.3667000213737704E-4,0,"","","",null,14.979528899420787,0,0,0,0,0,"","","",2.0117868162709409,null,0,0,0,0,0,"","","",null,5.8572623027758146,2.1305346072695741]
[null,null,null,null,null,null,null,null,null,null,5.8851098256099315,0.11225827639721238,8.5517827326972787E-2,6.796454077055443E-2,5.6094365328880104E-2,5.11046388578602E-2,"","","",0,0,0,0.12046628590248433,0,"","","",2.2548889618537205,null,0,0,0,5.5911460790178012E-4,0,"","","",null,15.038877270654625,0,0,0,0,0,"","","",2.1385225856682939,null,0,0,0,0,0,"","","",null,5.8804685718042453,2.1218871255464178]
[null,null,null,null,null,null,null,null,null,null,5.9129573484440483,0.11278946697953358,8.59224858159017E-2,6.8286139543916685E-2,5.6359796079647688E-2,5.134645891554724E-2,"","","",0,0,0,0.22026110699499102,0,"","","",2.3665126928484383,null,0,0,0,1.0222877010851443E-3,0,"","","",null,15.110095316135231,0,0,0,0,0,"","","",2.0502714010918184,null,0,0,0,0,0,"","","",null,5.9083160946383622,2.3594739517635146]
[null,null,null,null,null,null,null,null,null,null,5.936163617472479,0.11323212579813459,8.625970122334245E-2,6.8554138521718558E-2,5.6580988371954001E-2,5.1547975630286437E-2,"","","",0,0,0,0.36261943007549247,0,"","","",2.4323848431666337,null,0,0,0,1.6830088098536188E-3,0,"","","",null,15.169443687369069,0,0,0,0,0,"","","",2.1692636480262166,null,0,0,0,0,0,"","","",null,5.9315223636667929,2.3865391288342837]
[null,null,null,null,null,null,null,null,null,null,5.9593698865009097,0.11367478461673559,8.6596916630783199E-2,6.882213749952043E-2,5.6802180664260314E-2,5.1749492345025641E-2,"","","",0,0,0,0.59466603086078729,0,"","","",2.6231776515366381,null,0,0,0,2.7599959788449009E-3,0,"","","",null,15.228792058602908,0,0,0,0,0,"","","",2.0383550355481761,null,0,0,0,0,0,"","","",null,5.9547286326952236,2.6677845129748881]
[null,null,null,null,null,null,null,null,null,null,5.9872174093350266,0.11420597519905679,8.7001575119712085E-2,6.9143736272882672E-2,5.7067611415027884E-2,5.1991312402712674E-2,"","","",0,0,0,1.071133467883171,0,"","","",3.1544523583051687,null,0,0,0,4.9714022842105611E-3,0,"","","",null,15.300010104083514,0,0,0,0,0,"","","",2.1688372681868167,null,0,0,0,0,0,"","","",null,5.9825761555293404,3.0444780923507979]
[null,null,null,null,null,null,null,null,null,null,6.0057824245577711,0.11456010225393759,8.7271347445664685E-2,6.9358135455124176E-2,5.7244565248872933E-2,5.2152525774504035E-2,"","","",0,0,0,1.5808131339601776,0,"","","",3.7187087096614277,null,0,0,0,7.3369549740713094E-3,0,"","","",null,15.347488801070584,0,0,0,0,0,"","","",2.072879301345421,null,0,0,0,0,0,"","","",null,6.001141170752085,3.4902461811325649]
[null,null,null,null,null,null,null,null,null,null,6.0289886935862018,0.11500276107253861,8.7608562853105448E-2,6.9626134432926048E-2,5.7465757541179253E-2,5.235404248924324E-2,"","","",0,0,0,2.562353116324505,0,"","","",4.6613047098551323,null,0,0,0,1.1892531152652852E-2,0,"","","",null,15.406837172304423,0,0,0,0,0,"","","",2.0773367775748355,null,0,0,0,0,0,"","","",null,6.0243474397805157,4.4155122077245679]
[null,null,null,null,null,null,null,null,null,null,6.0568362164203187,0.1155339516548598,8.8013221342034334E-2,6.9947733206288304E-2,5.7731188291946824E-2,5.2595862546930272E-2,"","","",0,0,0,4.5493885269677445,0,"","","",6.6055891689517221,null,0,0,0,2.1114866814333909E-2,0,"","","",null,15.478055217785029,0,0,0,0,0,"","","",2.1364050249564381,null,0,0,0,0,0,"","","",null,6.0521949626146325,6.236754989303658]
[null,null,null,null,null,null,null,null,null,null,6.0800424854487494,0.11597661047346081,8.8350436749475098E-2,7.0215732184090177E-2,5.7952380584253137E-2,5.2797379261669476E-2,"","","",0,0,0,7.3009093161714249,0,"","","",9.3014647385661817,null,0,0,0,3.3885373148650026E-2,0,"","","",null,15.537403589018867,0,3.4402926695446326E-3,0,0,0,"","","",2.1094303284704718,null,0,4.0835153301037484E-5,0,0,0,"","","",null,6.0754012316430632,8.6971718399299931]
[null,null,null,null,null,null,null,null,null,null,6.0846837392544355,0.11606514223718101,8.8417879830963247E-2,7.0269331979650546E-2,5.7996619042714401E-2,5.2837682604617311E-2,"","","",0,0,0,8.0195221701775363,0,"","","",10.134025443362468,null,0,0,0,3.722063779212087E-2,0,"","","",null,15.549273263265635,0,4.2475542723537322E-3,0,0,0,"","","",2.0751848281798777,null,0,5.0417085558305038E-5,0,0,0,"","","",null,6.0800424854487494,9.3014647385661817]
[null,null,null,null,null,null,null,null,null,null,6.1078900082828662,0.116507801055782,8.8755095238403983E-2,7.0537330957452432E-2,5.8217811335020714E-2,5.3039199319356516E-2,"","","",0,0,0,12.760959000026904,0,"","","",14.844852519986505,null,0,0,0,5.9226849523079682E-2,0,"","","",null,15.608621634499473,0,1.2185873309639866E-2,0,0,0,"","","",2.0342483842294654,null,0,1.4464234659780569E-4,0,0,0,"","","",null,6.1032487544771801,13.732404377433257]
[null,null,null,null,null,null,null,null,null,null,6.1310962773112969,0.116950459874383,8.9092310645844747E-2,7.0805329935254305E-2,5.8439003627327034E-2,5.3240716034095713E-2,"","","",0,0,0,20.054490364092725,0,"","","",22.105256442662043,null,0,0,0,9.3077979723441395E-2,0,"","","",null,15.667970005733311,0,3.4960230422030072E-2,0,0,0,"","","",2.0718229381579527,null,{"$f":"IF(AN1398=\"\",\"\",($AM1399-$AM1398)*AN1398)","v":0},{"$f":"IF(AO1398=\"\",\"\",($AM1399-$AM1398)*AO1398)","v":4.1496654670143359E-4},{"$f":"IF(AP1398=\"\",\"\",($AM1399-$AM1398)*AP1398)","v":0},{"$f":"IF(AQ1398=\"\",\"\",($AM1399-$AM1398)*AQ1398)","v":0},{"$f":"IF(AR1398=\"\",\"\",($AM1399-$AM1398)*AR1398)","v":0},{"$f":"IF(AS1398=\"\",\"\",($AM1399-$AM1398)*AS1398)","v":""},{"$f":"IF(AT1398=\"\",\"\",($AM1399-$AM1398)*AT1398)","v":""},{"$f":"IF(AU1398=\"\",\"\",($AM1399-$AM1398)*AU1398)","v":""},null,6.1264550235056108,20.372871903099337]
[null,null,null,null,null,null,null,null,null,null,6.1589438001454138,0.11748165045670422,8.9496969134773646E-2,7.112692870861656E-2,5.8704434378094604E-2,5.3482536091782752E-2,"","","",0,0,0,33.3585614289034,0,"","","",35.47656052723719,null,0,0,0,0.15482555018411281,0,"","","",null,15.739188051213917,0,0.12383241406035024,0,0,0,"","","",2.2129765136916166,null,0,1.4698504160872085E-3,0,0,0,"","","",null,6.1543025463397276,32.793988489155026]
[null,null,null,null,null,null,null,null,null,null,6.1821500691738445,0.11792430927530521,8.9834184542214396E-2,7.1394927686418433E-2,5.8925626670400917E-2,5.3684052806521956E-2,"","","",0,0,0,48.063332721267493,0,"","","",50.200388539561274,null,0,0,0,0.22307412590654196,0,"","","",null,15.798536422447755,0,0.35525782190678806,0,0,0,"","","",2.4448833836123729,null,0,4.2167946196497736E-3,0,0,0,"","","",null,6.1775088153681583,47.039108707726442]
[null,null,null,null,null,null,null,null,null,null,6.2099975920079613,0.11845549985762642,9.0238843031143295E-2,7.1716526459780675E-2,5.9191057421168494E-2,5.3925872864208996E-2,"","","",0,0,0,64.704590415669713,0,"","","",66.765664388807153,null,0,0,0,0.30031042651209006,0,"","","",null,15.869754467928361,0,1.258085355022182,0,0,0,"","","",3.334365014110678,null,0,1.493306333874234E-2,0,0,0,"","","",null,6.2053563382022752,64.633103986291843]
[null,null,null,null,null,null,null,null,null,null,6.2239213534250197,0.11872109514878702,9.0441172275607731E-2,7.1877325846461809E-2,5.9323772796552279E-2,5.4046782893052508E-2,"","","",0,0,0,68.938264856110706,0,"","","",70.993234057145614,null,0,0,0,0.31995998412082294,0,"","","",null,15.905363490668664,0,2.3664830922060673,0,0,0,"","","",4.4745147069319575,null,0,2.808938341496945E-2,0,0,0,"","","",null,6.2192800996193336,70.018856206018711]
[null,null,null,null,null,null,null,null,null,null,6.2517688762591366,0.11925228573110822,9.0845830764536631E-2,7.2198924619824051E-2,5.9589203547319856E-2,5.4288602950739548E-2,"","","",0,0,0,64.395981571099384,0,"","","",66.545659832727068,null,0,0,0,0.2988780945377596,0,"","","",null,15.97658153614927,{"$f":"IF(AK$56=\"NOT ELUTED\",\"\",IF(AK$51=\"\",\"\",IF(ABS(($AM1424-AK$57)/(AK$72/2.2))>20,0,AK$62*(POWER(POWER(AK$66,2),0.5)+POWER(POWER(AK$66,2),-0.5))/(POWER(POWER(AK$66,2),0.5)*EXP(POWER(1+POWER(AK$66,2),-1)*($AM1424-AK$57)/(AK$72/2.2))+POWER(POWER(AK$66,2),-0.5)*EXP(-POWER(AK$66,2)*POWER(1+POWER(AK$66,2),-1)*($AM1424-AK$57)/(AK$72/2.2))))))","v":0},{"$f":"IF(AL$56=\"NOT ELUTED\",\"\",IF(AL$51=\"\",\"\",IF(ABS(($AM1424-AL$57)/(AL$72/2.2))>20,0,AL$62*(POWER(POWER(AL$66,2),0.5)+POWER(POWER(AL$66,2),-0.5))/(POWER(POWER(AL$66,2),0.5)*EXP(POWER(1+POWER(AL$66,2),-1)*($AM1424-AL$57)/(AL$72/2.2))+POWER(POWER(AL$66,2),-0.5)*EXP(-POWER(AL$66,2)*POWER(1+POWER(AL$66,2),-1)*($AM1424-AL$57)/(AL$72/2.2))))))","v":8.3188780510402296},{"$f":"IF(AM$56=\"NOT ELUTED\",\"\",IF(AM$51=\"\",\"\",IF(ABS(($AM1424-AM$57)/(AM$72/2.2))>20,0,AM$62*(POWER(POWER(AM$66,2),0.5)+POWER(POWER(AM$66,2),-0.5))/(POWER(POWER(AM$66,2),0.5)*EXP(POWER(1+POWER(AM$66,2),-1)*($AM1424-AM$57)/(AM$72/2.2))+POWER(POWER(AM$66,2),-0.5)*EXP(-POWER(AM$66,2)*POWER(1+POWER(AM$66,2),-1)*($AM1424-AM$57)/(AM$72/2.2))))))","v":0},{"$f":"IF(AN$56=\"NOT ELUTED\",\"\",IF(AN$51=\"\",\"\",IF(ABS(($AM1424-AN$57)/(AN$72/2.2))>20,0,AN$62*(POWER(POWER(AN$66,2),0.5)+POWER(POWER(AN$66,2),-0.5))/(POWER(POWER(AN$66,2),0.5)*EXP(POWER(1+POWER(AN$66,2),-1)*($AM1424-AN$57)/(AN$72/2.2))+POWER(POWER(AN$66,2),-0.5)*EXP(-POWER(AN$66,2)*POWER(1+POWER(AN$66,2),-1)*($AM1424-AN$57)/(AN$72/2.2))))))","v":0},{"$f":"IF(AO$56=\"NOT ELUTED\",\"\",IF(AO$51=\"\",\"\",IF(ABS(($AM1424-AO$57)/(AO$72/2.2))>20,0,AO$62*(POWER(POWER(AO$66,2),0.5)+POWER(POWER(AO$66,2),-0.5))/(POWER(POWER(AO$66,2),0.5)*EXP(POWER(1+POWER(AO$66,2),-1)*($AM1424-AO$57)/(AO$72/2.2))+POWER(POWER(AO$66,2),-0.5)*EXP(-POWER(AO$66,2)*POWER(1+POWER(AO$66,2),-1)*($AM1424-AO$57)/(AO$72/2.2))))))","v":0},{"$f":"IF(AP$56=\"NOT ELUTED\",\"\",IF(AP$51=\"\",\"\",IF(ABS(($AM1424-AP$57)/(AP$72/2.2))>20,0,AP$62*(POWER(POWER(AP$66,2),0.5)+POWER(POWER(AP$66,2),-0.5))/(POWER(POWER(AP$66,2),0.5)*EXP(POWER(1+POWER(AP$66,2),-1)*($AM1424-AP$57)/(AP$72/2.2))+POWER(POWER(AP$66,2),-0.5)*EXP(-POWER(AP$66,2)*POWER(1+POWER(AP$66,2),-1)*($AM1424-AP$57)/(AP$72/2.2))))))","v":""},{"$f":"IF(AQ$56=\"NOT ELUTED\",\"\",IF(AQ$51=\"\",\"\",IF(ABS(($AM1424-AQ$57)/(AQ$72/2.2))>20,0,AQ$62*(POWER(POWER(AQ$66,2),0.5)+POWER(POWER(AQ$66,2),-0.5))/(POWER(POWER(AQ$66,2),0.5)*EXP(POWER(1+POWER(AQ$66,2),-1)*($AM1424-AQ$57)/(AQ$72/2.2))+POWER(POWER(AQ$66,2),-0.5)*EXP(-POWER(AQ$66,2)*POWER(1+POWER(AQ$66,2),-1)*($AM1424-AQ$57)/(AQ$72/2.2))))))","v":""},{"$f":"IF(AR$56=\"NOT ELUTED\",\"\",IF(AR$51=\"\",\"\",IF(ABS(($AM1424-AR$57)/(AR$72/2.2))>20,0,AR$62*(POWER(POWER(AR$66,2),0.5)+POWER(POWER(AR$66,2),-0.5))/(POWER(POWER(AR$66,2),0.5)*EXP(POWER(1+POWER(AR$66,2),-1)*($AM1424-AR$57)/(AR$72/2.2))+POWER(POWER(AR$66,2),-0.5)*EXP(-POWER(AR$66,2)*POWER(1+POWER(AR$66,2),-1)*($AM1424-AR$57)/(AR$72/2.2))))))","v":""},10.469072806950079,null,0,9.874237256443294E-2,0,0,0,"","","",null,6.2471276224534504,68.254556183283015]
[null,null,null,null,null,null,null,null,null,null,6.2796163990932534,0.11978347631342944,9.1250489253465544E-2,7.2520523393186306E-2,5.9854634298087434E-2,5.4530423008426594E-2,"","","",0,0,0,48.716728161007339,0,"","","",50.799577566529024,null,0,0,0,0.22610669997785249,0,"","","",null,16.047799581629878,0,27.260307059612675,0,0,0,"","","",29.267027833996277,null,0,0.32357096466446317,0,0,0,"","","",null,6.2749751452875673,53.672592706060215]
[null,null,null,null,null,null,null,null,null,null,6.3028226681216841,0.12022613513203043,9.1587704660906294E-2,7.2788522370988179E-2,6.0075826590393747E-2,5.4731939723165791E-2,"","","",0,0,0,35.211636964556583,0,"","","",37.360423696315124,null,0,0,0,0.16342614406618702,0,"","","",null,16.107147952863716,0,51.71413442574962,0,0,0,"","","",53.813763355640233,null,0,0.61382992958720106,0,0,0,"","","",null,6.298181414315998,39.835797993578865]
[null,null,null,null,null,null,null,null,null,null,6.3260289371501148,0.12066879395063143,9.1924920068347044E-2,7.3056521348790052E-2,6.029701888270006E-2,5.4933456437904989E-2,"","","",0,0,0,24.480658694511305,0,"","","",26.636688222255952,null,0,0,0,0.1136209503316041,0,"","","",null,16.166496324097555,0,43.128551686326965,0,0,0,"","","",45.300016124773222,null,0,0.51192185925158307,0,0,0,"","","",null,6.3213876833444287,28.441825389815619]
[null,null,null,null,null,null,null,null,null,null,6.3538764599842317,0.12119998453295262,9.2329578557275943E-2,7.3378120122152307E-2,6.056244963346763E-2,5.5175276495592028E-2,"","","",0,0,0,15.504383048798998,0,"","","",17.524616446024432,null,0,0,0,7.1959776830054042E-2,0,"","","",null,16.237714369578161,0,17.008326197966852,0,0,0,"","","",19.079238238361032,null,0,0.20188329145263084,0,0,0,"","","",null,6.3492352061785455,18.812521370712364]
[null,null,null,null,null,null,null,null,null,null,6.3770827290126624,0.12164264335155364,9.2666793964716693E-2,7.364611909995418E-2,6.078364192577395E-2,5.5376793210331232E-2,"","","",0,0,0,10.538997922422583,0,"","","",12.703161449692882,null,0,0,0,4.8914164215562141E-2,0,"","","",null,16.297062740811999,0,6.8909464636971505,0,0,0,"","","",8.9706127306022196,null,0,8.1793289776000741E-2,0,0,0,"","","",null,6.3724414752069762,13.511821125620447]
[null,null,null,null,null,null,null,null,null,null,6.3817239828183485,0.12173117511527384,9.2734237046204843E-2,7.3699718895514549E-2,6.0827880384235214E-2,5.5417096553279074E-2,"","","",0,0,0,9.7547485111560626,0,"","","",11.796830054255331,null,0,0,0,4.527426365091429E-2,0,"","","",null,16.308932415058766,0,5.7373880973355593,0,0,0,"","","",7.7596017201064518,null,0,6.8100927742655179E-2,0,0,0,"","","",null,6.3770827290126624,12.703161449692882]
[null,null,null,null,null,null,null,null,null,null,6.4049302518467792,0.12217383393387483,9.3071452453645592E-2,7.3967717873316421E-2,6.104907267654152E-2,5.5618613268018265E-2,"","","",0,0,0,6.6296459061576023,0,"","","",8.7426943132318016,null,0,0,0,3.0769869292305515E-2,0,"","","",null,16.368280786292605,0,2.2888940350629401,0,0,0,"","","",4.3938531244017991,null,0,2.716842658156669E-2,0,0,0,"","","",null,6.4002889980410931,9.2488724700704346]
[null,null,null,null,null,null,null,null,null,null,6.4281365208752099,0.12261649275247584,9.3408667861086342E-2,7.4235716851118308E-2,6.1270264968847833E-2,5.5820129982757469E-2,"","","",0,0,0,4.513034642905116,0,"","","",6.6728502695142167,null,0,0,0,2.0946139211576762E-2,0,"","","",null,16.427629157526443,0,0.91187338884667102,0,0,0,"","","",2.9740755586593366,null,{"$f":"IF(AN1462=\"\",\"\",($AM1463-$AM1462)*AN1462)","v":0},{"$f":"IF(AO1462=\"\",\"\",($AM1463-$AM1462)*AO1462)","v":1.0823640079906082E-2},{"$f":"IF(AP1462=\"\",\"\",($AM1463-$AM1462)*AP1462)","v":0},{"$f":"IF(AQ1462=\"\",\"\",($AM1463-$AM1462)*AQ1462)","v":0},{"$f":"IF(AR1462=\"\",\"\",($AM1463-$AM1462)*AR1462)","v":0},{"$f":"IF(AS1462=\"\",\"\",($AM1463-$AM1462)*AS1462)","v":""},{"$f":"IF(AT1462=\"\",\"\",($AM1463-$AM1462)*AT1462)","v":""},{"$f":"IF(AU1462=\"\",\"\",($AM1463-$AM1462)*AU1462)","v":""},null,6.4234952670695238,6.9479720787966119]
[null,null,null,null,null,null,null,null,null,null,6.4606252975150129,0.12323621509851725,9.3880769431503391E-2,7.4610915420040932E-2,6.1579934178076674E-2,5.610225338339235E-2,"","","",0,0,0,2.6443049573993584,0,"","","",4.7996290653553002,null,0,0,0,1.2272890446924501E-2,0,"","","",null,16.510716877253817,0,0.25133066293661288,0,0,0,"","","",2.3949896805276394,null,0,2.9832130972817566E-3,0,0,0,"","","",null,6.4559840437093268,4.8776878643385482]
[null,null,null,null,null,null,null,null,null,null,6.4745490589320713,0.12350181038967784,9.4083098675967841E-2,7.4771714806722053E-2,6.1712649553460459E-2,5.6223163412235863E-2,"","","",0,0,0,2.1060843995448728,0,"","","",4.1318837729827651,null,0,0,0,9.7748722344838512E-3,0,"","","",null,16.54632589999412,0,0.14466821530017707,0,0,0,"","","",2.2919409088026379,null,0,1.7171645894743506E-3,0,0,0,"","","",null,6.4699078051263852,4.3327992754594185]
[null,null,null,null,null,null,null,null,null,null,6.5023965817661882,0.12403300097199904,9.4487757164896741E-2,7.5093313580084295E-2,6.1978080304228036E-2,5.6464983469922909E-2,"","","",0,0,0,1.3397832499991074,0,"","","",3.4458841367091644,null,0,0,0,6.218274107852903E-3,0,"","","",null,16.617543945474726,0,4.7932195266392932E-2,0,0,0,"","","",2.2196434835029,null,0,5.6893954374454285E-4,0,0,0,"","","",null,6.497755327960502,3.4498333430048467]
[null,null,null,null,null,null,null,null,null,null,6.5256028507946189,0.12447565979060005,9.482497257233749E-2,7.5361312557886181E-2,6.2199272596534357E-2,5.6666500184662107E-2,"","","",0,0,0,0.92171123442467284,0,"","","",3.0191974351886373,null,0,0,0,4.2778957745171833E-3,0,"","","",null,16.676892316708564,0,1.9091451386993714E-2,0,0,0,"","","",2.149015605138763,null,0,2.2660930886161598E-4,0,0,0,"","","",null,6.5209615969889327,3.0801300534279168]
[null,null,null,null,null,null,null,null,null,null,6.5488091198230496,0.12491831860920105,9.516218797977824E-2,7.5629311535688054E-2,6.2420464888840663E-2,5.6868016899401311E-2,"","","",0,0,0,0.63576856918359959,0,"","","",2.6666817833401173,null,0,0,0,2.9507632912590142E-3,0,"","","",null,16.736240687942402,{"$f":"IF(AK$56=\"NOT ELUTED\",\"\",IF(AK$51=\"\",\"\",IF(ABS(($AM1488-AK$57)/(AK$72/2.2))>20,0,AK$62*(POWER(POWER(AK$66,2),0.5)+POWER(POWER(AK$66,2),-0.5))/(POWER(POWER(AK$66,2),0.5)*EXP(POWER(1+POWER(AK$66,2),-1)*($AM1488-AK$57)/(AK$72/2.2))+POWER(POWER(AK$66,2),-0.5)*EXP(-POWER(AK$66,2)*POWER(1+POWER(AK$66,2),-1)*($AM1488-AK$57)/(AK$72/2.2))))))","v":0},{"$f":"IF(AL$56=\"NOT ELUTED\",\"\",IF(AL$51=\"\",\"\",IF(ABS(($AM1488-AL$57)/(AL$72/2.2))>20,0,AL$62*(POWER(POWER(AL$66,2),0.5)+POWER(POWER(AL$66,2),-0.5))/(POWER(POWER(AL$66,2),0.5)*EXP(POWER(1+POWER(AL$66,2),-1)*($AM1488-AL$57)/(AL$72/2.2))+POWER(POWER(AL$66,2),-0.5)*EXP(-POWER(AL$66,2)*POWER(1+POWER(AL$66,2),-1)*($AM1488-AL$57)/(AL$72/2.2))))))","v":0},{"$f":"IF(AM$56=\"NOT ELUTED\",\"\",IF(AM$51=\"\",\"\",IF(ABS(($AM1488-AM$57)/(AM$72/2.2))>20,0,AM$62*(POWER(POWER(AM$66,2),0.5)+POWER(POWER(AM$66,2),-0.5))/(POWER(POWER(AM$66,2),0.5)*EXP(POWER(1+POWER(AM$66,2),-1)*($AM1488-AM$57)/(AM$72/2.2))+POWER(POWER(AM$66,2),-0.5)*EXP(-POWER(AM$66,2)*POWER(1+POWER(AM$66,2),-1)*($AM1488-AM$57)/(AM$72/2.2))))))","v":0},{"$f":"IF(AN$56=\"NOT ELUTED\",\"\",IF(AN$51=\"\",\"\",IF(ABS(($AM1488-AN$57)/(AN$72/2.2))>20,0,AN$62*(POWER(POWER(AN$66,2),0.5)+POWER(POWER(AN$66,2),-0.5))/(POWER(POWER(AN$66,2),0.5)*EXP(POWER(1+POWER(AN$66,2),-1)*($AM1488-AN$57)/(AN$72/2.2))+POWER(POWER(AN$66,2),-0.5)*EXP(-POWER(AN$66,2)*POWER(1+POWER(AN$66,2),-1)*($AM1488-AN$57)/(AN$72/2.2))))))","v":0},{"$f":"IF(AO$56=\"NOT ELUTED\",\"\",IF(AO$51=\"\",\"\",IF(ABS(($AM1488-AO$57)/(AO$72/2.2))>20,0,AO$62*(POWER(POWER(AO$66,2),0.5)+POWER(POWER(AO$66,2),-0.5))/(POWER(POWER(AO$66,2),0.5)*EXP(POWER(1+POWER(AO$66,2),-1)*($AM1488-AO$57)/(AO$72/2.2))+POWER(POWER(AO$66,2),-0.5)*EXP(-POWER(AO$66,2)*POWER(1+POWER(AO$66,2),-1)*($AM1488-AO$57)/(AO$72/2.2))))))","v":0},{"$f":"IF(AP$56=\"NOT ELUTED\",\"\",IF(AP$51=\"\",\"\",IF(ABS(($AM1488-AP$57)/(AP$72/2.2))>20,0,AP$62*(POWER(POWER(AP$66,2),0.5)+POWER(POWER(AP$66,2),-0.5))/(POWER(POWER(AP$66,2),0.5)*EXP(POWER(1+POWER(AP$66,2),-1)*($AM1488-AP$57)/(AP$72/2.2))+POWER(POWER(AP$66,2),-0.5)*EXP(-POWER(AP$66,2)*POWER(1+POWER(AP$66,2),-1)*($AM1488-AP$57)/(AP$72/2.2))))))","v":""},{"$f":"IF(AQ$56=\"NOT ELUTED\",\"\",IF(AQ$51=\"\",\"\",IF(ABS(($AM1488-AQ$57)/(AQ$72/2.2))>20,0,AQ$62*(POWER(POWER(AQ$66,2),0.5)+POWER(POWER(AQ$66,2),-0.5))/(POWER(POWER(AQ$66,2),0.5)*EXP(POWER(1+POWER(AQ$66,2),-1)*($AM1488-AQ$57)/(AQ$72/2.2))+POWER(POWER(AQ$66,2),-0.5)*EXP(-POWER(AQ$66,2)*POWER(1+POWER(AQ$66,2),-1)*($AM1488-AQ$57)/(AQ$72/2.2))))))","v":""},{"$f":"IF(AR$56=\"NOT ELUTED\",\"\",IF(AR$51=\"\",\"\",IF(ABS(($AM1488-AR$57)/(AR$72/2.2))>20,0,AR$62*(POWER(POWER(AR$66,2),0.5)+POWER(POWER(AR$66,2),-0.5))/(POWER(POWER(AR$66,2),0.5)*EXP(POWER(1+POWER(AR$66,2),-1)*($AM1488-AR$57)/(AR$72/2.2))+POWER(POWER(AR$66,2),-0.5)*EXP(-POWER(AR$66,2)*POWER(1+POWER(AR$66,2),-1)*($AM1488-AR$57)/(AR$72/2.2))))))","v":""},2.1051858861541159,null,0,0,0,0,0,"","","",null,6.5441678660173634,2.7286539715740346]
[null,null,null,null,null,null,null,null,null,null,6.5766566426571664,0.12544950919152226,9.556684646870714E-2,7.595091030905031E-2,6.2685895639608247E-2,5.7109836957088343E-2,"","","",0,0,0,0.40854733447522756,0,"","","",2.4780835000216226,null,0,0,0,1.8961718709360786E-3,0,"","","",null,16.807458733423008,0,0,0,0,0,"","","",2.1636782771729757,null,0,0,0,0,0,"","","",null,6.5720153888514803,2.4963482912692303]
[null,null,null,null,null,null,null,null,null,null,6.5998629116855971,0.12589216801012326,9.5904061876147889E-2,7.6218909286852182E-2,6.290708793191456E-2,5.7311353671827547E-2,"","","",0,0,0,0.28342078399865589,0,"","","",2.3122481798839423,null,0,0,0,1.3154277923443113E-3,0,"","","",null,16.866807104656846,0,0,0,0,0,"","","",2.1672472606021804,null,0,0,0,0,0,"","","",null,6.595221657879911,2.3975163069930918]
[null,null,null,null,null,null,null,null,null,null,6.6230691807140278,0.12633482682872427,9.6241277283588653E-2,7.6486908264654055E-2,6.3128280224220873E-2,5.7512870386566745E-2,"","","",0,0,0,0.19712119183452959,0,"","","",2.2525206188459279,null,0,0,0,9.1488948178339823E-4,0,"","","",null,16.926155475890685,0,0,0,0,0,"","","",2.1507047806362167,null,0,0,0,0,0,"","","",null,6.6184279269083417,2.2926529899559078]
[null,null,null,null,null,null,null,null,null,null,6.6509167035481447,0.12686601741104547,9.6645935772517538E-2,7.6808507038016297E-2,6.3393710974988443E-2,5.7754690444253784E-2,"","","",0,0,0,0.12792267960097964,0,"","","",2.2644971540014467,null,0,0,0,5.9372162353161563E-4,0,"","","",null,16.997373521371291,0,0,0,0,0,"","","",2.0350270336692988,null,0,0,0,0,0,"","","",null,6.6462754497424585,2.1814441208223996]
[null,null,null,null,null,null,null,null,null,null,6.6741229725765754,0.12730867622964648,9.6983151179958288E-2,7.7076506015818183E-2,6.3614903267294756E-2,5.7956207158992988E-2,"","","",0,0,0,8.9465653795686134E-2,0,"","","",2.1322976656819463,null,0,0,0,4.1523280615742697E-4,0,"","","",null,17.056721892605129,0,0,0,0,0,"","","",2.1030053911722484,null,0,0,0,0,0,"","","",null,6.6694817187708892,2.2065881472695539]
[null,null,null,null,null,null,null,null,null,null,6.6787642263822615,0.12739720799336665,9.7050594261446438E-2,7.7130105811378552E-2,6.3659141725756013E-2,5.7996510501940823E-2,"","","",0,0,0,8.3315842538259105E-2,0,"","","",2.1229813376063724,null,0,0,0,3.8668997125464232E-4,0,"","","",null,17.068591566851897,0,0,0,0,0,"","","",2.1151449393824344,null,0,0,0,0,0,"","","",null,6.6741229725765754,2.1322976656819463]
[null,null,null,null,null,null,null,null,null,null,6.7066117492163784,0.12792839857568786,9.7455252750375337E-2,7.7451704584740808E-2,6.3924572476523597E-2,5.8238330559627863E-2,"","","",0,0,0,5.4457040204124139E-2,0,"","","",2.0748059305860433,null,0,0,0,2.5274894509379431E-4,0,"","","",null,17.139809612332503,0,0,0,0,0,"","","",2.1451014700223645,null,0,0,0,0,0,"","","",null,6.7019704954106922,2.0873830137896912]
[null,null,null,null,null,null,null,null,null,null,6.7205355106334368,0.12819399386684846,9.7657581994839787E-2,7.7612503971421928E-2,6.4057287851907382E-2,5.8359240588471382E-2,"","","",0,0,0,4.4085031998872273E-2,0,"","","",2.1563142950074887,null,0,0,0,2.0460982253856123E-4,0,"","","",null,17.175418635072806,0,0,0,0,0,"","","",2.1130103825533428,null,0,0,0,0,0,"","","",null,6.7158942568277507,2.1441462246732699]
[null,null,null,null,null,null,null,null,null,null,6.7483830334675536,0.12872518444916967,9.8062240483768687E-2,7.7934102744784184E-2,6.4322718602674953E-2,5.8601060646158422E-2,"","","",0,0,0,2.8966858371934887E-2,0,"","","",2.092676796813647,null,0,0,0,1.3444254165751425E-4,0,"","","",null,17.246636680553411,0,0,0,0,0,"","","",2.1288707379628349,null,0,0,0,0,0,"","","",null,6.7437417796618675,2.080529997263139]
[null,null,null,null,null,null,null,null,null,null,6.7715893024959843,0.12916784326777067,9.839945589120945E-2,7.8202101722586057E-2,6.454391089498128E-2,5.8802577360897626E-2,"","","",0,0,0,2.0467078085679387E-2,0,"","","",2.0341409195924949,null,0,0,0,9.4992904056434872E-5,0,"","","",null,17.30598505178725,0,0,0,0,0,"","","",2.0989289889698761,null,0,0,0,0,0,"","","",null,6.7669480486902982,2.1162389965193067]
[null,null,null,null,null,null,null,null,null,null,6.794795571524415,0.12961050208637168,9.8736671298650186E-2,7.8470100700387929E-2,6.4765103187287579E-2,5.9004094075636823E-2,"","","",0,0,0,1.4495749009222106E-2,0,"","","",2.1212353880024954,null,0,0,0,6.7278450255323208E-5,0,"","","",null,17.365333423021088,0,0,0,0,0,"","","",2.0426664949146485,null,0,0,0,0,0,"","","",null,6.7901543177187289,2.1437174027799299]
[null,null,null,null,null,null,null,null,null,null,6.8226430943585319,0.13014169266869288,9.9141329787579086E-2,7.8791699473750185E-2,6.5030533938055163E-2,5.9245914133323863E-2,"","","",0,0,0,0,0,"","","",2.1489783997928176,null,0,0,0,0,0,"","","",null,17.436551468501694,0,0,0,0,0,"","","",2.058864082041985,null,0,0,0,0,0,"","","",null,6.8180018405528457,2.0645510848655713]
[null,null,null,null,null,null,null,null,null,null,6.8458493633869626,0.13058435148729389,9.9478545195019835E-2,7.9059698451552057E-2,6.5251726230361476E-2,5.9447430848063067E-2,"","","",0,0,0,0,0,"","","",2.0222483203727575,null,0,0,0,0,0,"","","",null,17.495899839735532,{"$f":"IF(AK$56=\"NOT ELUTED\",\"\",IF(AK$51=\"\",\"\",IF(ABS(($AM1552-AK$57)/(AK$72/2.2))>20,0,AK$62*(POWER(POWER(AK$66,2),0.5)+POWER(POWER(AK$66,2),-0.5))/(POWER(POWER(AK$66,2),0.5)*EXP(POWER(1+POWER(AK$66,2),-1)*($AM1552-AK$57)/(AK$72/2.2))+POWER(POWER(AK$66,2),-0.5)*EXP(-POWER(AK$66,2)*POWER(1+POWER(AK$66,2),-1)*($AM1552-AK$57)/(AK$72/2.2))))))","v":0},{"$f":"IF(AL$56=\"NOT ELUTED\",\"\",IF(AL$51=\"\",\"\",IF(ABS(($AM1552-AL$57)/(AL$72/2.2))>20,0,AL$62*(POWER(POWER(AL$66,2),0.5)+POWER(POWER(AL$66,2),-0.5))/(POWER(POWER(AL$66,2),0.5)*EXP(POWER(1+POWER(AL$66,2),-1)*($AM1552-AL$57)/(AL$72/2.2))+POWER(POWER(AL$66,2),-0.5)*EXP(-POWER(AL$66,2)*POWER(1+POWER(AL$66,2),-1)*($AM1552-AL$57)/(AL$72/2.2))))))","v":0},{"$f":"IF(AM$56=\"NOT ELUTED\",\"\",IF(AM$51=\"\",\"\",IF(ABS(($AM1552-AM$57)/(AM$72/2.2))>20,0,AM$62*(POWER(POWER(AM$66,2),0.5)+POWER(POWER(AM$66,2),-0.5))/(POWER(POWER(AM$66,2),0.5)*EXP(POWER(1+POWER(AM$66,2),-1)*($AM1552-AM$57)/(AM$72/2.2))+POWER(POWER(AM$66,2),-0.5)*EXP(-POWER(AM$66,2)*POWER(1+POWER(AM$66,2),-1)*($AM1552-AM$57)/(AM$72/2.2))))))","v":0},{"$f":"IF(AN$56=\"NOT ELUTED\",\"\",IF(AN$51=\"\",\"\",IF(ABS(($AM1552-AN$57)/(AN$72/2.2))>20,0,AN$62*(POWER(POWER(AN$66,2),0.5)+POWER(POWER(AN$66,2),-0.5))/(POWER(POWER(AN$66,2),0.5)*EXP(POWER(1+POWER(AN$66,2),-1)*($AM1552-AN$57)/(AN$72/2.2))+POWER(POWER(AN$66,2),-0.5)*EXP(-POWER(AN$66,2)*POWER(1+POWER(AN$66,2),-1)*($AM1552-AN$57)/(AN$72/2.2))))))","v":0},{"$f":"IF(AO$56=\"NOT ELUTED\",\"\",IF(AO$51=\"\",\"\",IF(ABS(($AM1552-AO$57)/(AO$72/2.2))>20,0,AO$62*(POWER(POWER(AO$66,2),0.5)+POWER(POWER(AO$66,2),-0.5))/(POWER(POWER(AO$66,2),0.5)*EXP(POWER(1+POWER(AO$66,2),-1)*($AM1552-AO$57)/(AO$72/2.2))+POWER(POWER(AO$66,2),-0.5)*EXP(-POWER(AO$66,2)*POWER(1+POWER(AO$66,2),-1)*($AM1552-AO$57)/(AO$72/2.2))))))","v":0},{"$f":"IF(AP$56=\"NOT ELUTED\",\"\",IF(AP$51=\"\",\"\",IF(ABS(($AM1552-AP$57)/(AP$72/2.2))>20,0,AP$62*(POWER(POWER(AP$66,2),0.5)+POWER(POWER(AP$66,2),-0.5))/(POWER(POWER(AP$66,2),0.5)*EXP(POWER(1+POWER(AP$66,2),-1)*($AM1552-AP$57)/(AP$72/2.2))+POWER(POWER(AP$66,2),-0.5)*EXP(-POWER(AP$66,2)*POWER(1+POWER(AP$66,2),-1)*($AM1552-AP$57)/(AP$72/2.2))))))","v":""},{"$f":"IF(AQ$56=\"NOT ELUTED\",\"\",IF(AQ$51=\"\",\"\",IF(ABS(($AM1552-AQ$57)/(AQ$72/2.2))>20,0,AQ$62*(POWER(POWER(AQ$66,2),0.5)+POWER(POWER(AQ$66,2),-0.5))/(POWER(POWER(AQ$66,2),0.5)*EXP(POWER(1+POWER(AQ$66,2),-1)*($AM1552-AQ$57)/(AQ$72/2.2))+POWER(POWER(AQ$66,2),-0.5)*EXP(-POWER(AQ$66,2)*POWER(1+POWER(AQ$66,2),-1)*($AM1552-AQ$57)/(AQ$72/2.2))))))","v":""},{"$f":"IF(AR$56=\"NOT ELUTED\",\"\",IF(AR$51=\"\",\"\",IF(ABS(($AM1552-AR$57)/(AR$72/2.2))>20,0,AR$62*(POWER(POWER(AR$66,2),0.5)+POWER(POWER(AR$66,2),-0.5))/(POWER(POWER(AR$66,2),0.5)*EXP(POWER(1+POWER(AR$66,2),-1)*($AM1552-AR$57)/(AR$72/2.2))+POWER(POWER(AR$66,2),-0.5)*EXP(-POWER(AR$66,2)*POWER(1+POWER(AR$66,2),-1)*($AM1552-AR$57)/(AR$72/2.2))))))","v":""},2.1262372193426211,null,0,0,0,0,0,"","","",null,6.8412081095812765,2.0210207489233278]
[null,null,null,null,null,null,null,null,null,null,6.8736968862210794,0.13111554206961509,9.9883203683948749E-2,7.9381297224914313E-2,6.5517156981129046E-2,5.9689250905750106E-2,"","","",0,0,0,0,0,"","","",2.0242796838304082,null,0,0,0,0,0,"","","",null,17.567117885216138,0,0,0,0,0,"","","",2.0393059139764707,null,0,0,0,0,0,"","","",null,6.8690556324153933,2.1337801502535045]
[null,null,null,null,null,null,null,null,null,null,6.8969031552495101,0.1315582008882161,0.10022041909138948,7.9649296202716185E-2,6.5738349273435359E-2,5.9890767620489303E-2,"","","",0,0,0,0,0,"","","",2.0968987978573148,null,0,0,0,0,0,"","","",null,17.626466256449977,0,0,0,0,0,"","","",2.1290448443592536,null,0,0,0,0,0,"","","",null,6.892261901443824,2.1178841695251904]
[null,null,null,null,null,null,null,null,null,null,6.9201094242779408,0.13200085970681708,0.10055763449883023,7.9917295180518058E-2,6.5959541565741672E-2,6.00922843352285E-2,"","","",0,0,0,0,0,"","","",2.1093987595387849,null,0,0,0,0,0,"","","",null,17.685814627683815,0,0,0,0,0,"","","",2.0295865204618315,null,0,0,0,0,0,"","","",null,6.9154681704722547,2.1260442442278586]
[null,null,null,null,null,null,null,null,null,null,6.9433156933063715,0.13244351852541808,0.100894849906271,8.0185294158319931E-2,6.6180733858047999E-2,6.0293801049967705E-2,"","","",0,0,0,0,0,"","","",2.0881468236562832,null,0,0,0,0,0,"","","",null,17.745162998917653,0,0,0,0,0,"","","",2.1348912273771123,null,0,0,0,0,0,"","","",null,6.9386744395006854,2.0082709967882604]
[null,null,null,null,null,null,null,null,null,null,6.9665219623348023,0.13288617734401909,0.10123206531371173,8.0453293136121803E-2,6.6401926150354298E-2,6.0495317764706895E-2,"","","",0,0,0,0,0,"","","",2.1070633470748672,null,0,0,0,0,0,"","","",null,17.804511370151491,0,0,0,0,0,"","","",2.1206210257945988,null,0,0,0,0,0,"","","",null,6.9618807085291161,2.1077017044300126]
[null,null,null,null,null,null,null,null,null,null,6.9711632161404884,0.13297470910773929,0.10129950839519988,8.0506892931682186E-2,6.6446164608815569E-2,6.0535621107654744E-2,"","","",0,0,0,0,0,"","","",2.1543333019726219,null,0,0,0,0,0,"","","",null,17.816381044398259,0,0,0,0,0,"","","",2.1213994394007303,null,0,0,0,0,0,"","","",null,6.9665219623348023,2.1070633470748672]
[null,null,null,null,null,null,null,null,null,null,6.9943694851689191,0.13341736792634029,0.10163672380264063,8.0774891909484045E-2,6.6667356901121883E-2,6.0737137822393941E-2,"","","",0,0,0,0,0,"","","",2.0368662479707247,null,0,0,0,0,0,"","","",null,17.875729415632097,0,0,0,0,0,"","","",2.1393890337539063,null,0,0,0,0,0,"","","",null,6.989728231363233,2.0358715796716425]
[null,null,null,null,null,null,null,null,null,null,7.0175757541973498,0.1338600267449413,0.1019739392100814,8.1042890887285932E-2,6.6888549193428196E-2,6.0938654537133138E-2,"","","",0,0,0,0,0,"","","",2.0151628016490708,null,0,0,0,0,0,"","","",null,17.935077786865936,0,0,0,0,0,"","","",2.0736918394279447,null,0,0,0,0,0,"","","",null,7.0129345003916637,2.12637095142167]
[null,null,null,null,null,null,null,null,null,null,7.0454232770314666,0.1343912173272625,0.1023785976990103,8.1364489660648173E-2,6.7153979944195766E-2,6.1180474594820178E-2,"","","",0,0,0,0,0,"","","",2.102356045346307,null,0,0,0,0,0,"","","",null,18.006295832346542,0,0,0,0,0,"","","",2.155113703951498,null,0,0,0,0,0,"","","",null,7.0407820232257805,2.127249191671404]
[null,null,null,null,null,null,null,null,null,null,7.0686295460598974,0.13483387614586351,0.10271581310645103,8.163248863845006E-2,6.7375172236502079E-2,6.1381991309559382E-2,"","","",0,0,0,0,0,"","","",2.1321008053502828,null,0,0,0,0,0,"","","",null,18.06564420358038,0,0,0,0,0,"","","",2.1529254973756609,null,0,0,0,0,0,"","","",null,7.0639882922542112,2.0950466200863929]
[null,null,null,null,null,null,null,null,null,null,7.0918358150883281,0.13527653496446451,0.1030530285138918,8.1900487616251932E-2,6.7596364528808392E-2,6.1583508024298579E-2,"","","",0,0,0,0,0,"","","",2.1275614213471137,null,0,0,0,0,0,"","","",null,18.124992574814218,0,0,0,0,0,"","","",2.012506704368644,null,0,0,0,0,0,"","","",null,7.0871945612826419,2.1511374530131371]
[null,null,null,null,null,null,null,null,null,null,7.1196833379224449,0.13580772554678572,0.10345768700282069,8.2222086389614188E-2,6.7861795279575976E-2,6.1825328081985619E-2,"","","",0,0,0,0,0,"","","",2.1003356557566959,null,0,0,0,0,0,"","","",null,18.196210620294824,0,0,0,0,0,"","","",2.0170568327027047,null,0,0,0,0,0,"","","",null,7.1150420841167588,2.0594424737828336]
[null,null,null,null,null,null,null,null,null,null,7.1428896069508756,0.1362503843653867,0.10379490241026143,8.2490085367416061E-2,6.8082987571882275E-2,6.2026844796724816E-2,"","","",0,0,0,0,0,"","","",2.0696487110904696,null,0,0,0,0,0,"","","",null,18.255558991528662,{"$f":"IF(AK$56=\"NOT ELUTED\",\"\",IF(AK$51=\"\",\"\",IF(ABS(($AM1616-AK$57)/(AK$72/2.2))>20,0,AK$62*(POWER(POWER(AK$66,2),0.5)+POWER(POWER(AK$66,2),-0.5))/(POWER(POWER(AK$66,2),0.5)*EXP(POWER(1+POWER(AK$66,2),-1)*($AM1616-AK$57)/(AK$72/2.2))+POWER(POWER(AK$66,2),-0.5)*EXP(-POWER(AK$66,2)*POWER(1+POWER(AK$66,2),-1)*($AM1616-AK$57)/(AK$72/2.2))))))","v":0},{"$f":"IF(AL$56=\"NOT ELUTED\",\"\",IF(AL$51=\"\",\"\",IF(ABS(($AM1616-AL$57)/(AL$72/2.2))>20,0,AL$62*(POWER(POWER(AL$66,2),0.5)+POWER(POWER(AL$66,2),-0.5))/(POWER(POWER(AL$66,2),0.5)*EXP(POWER(1+POWER(AL$66,2),-1)*($AM1616-AL$57)/(AL$72/2.2))+POWER(POWER(AL$66,2),-0.5)*EXP(-POWER(AL$66,2)*POWER(1+POWER(AL$66,2),-1)*($AM1616-AL$57)/(AL$72/2.2))))))","v":0},{"$f":"IF(AM$56=\"NOT ELUTED\",\"\",IF(AM$51=\"\",\"\",IF(ABS(($AM1616-AM$57)/(AM$72/2.2))>20,0,AM$62*(POWER(POWER(AM$66,2),0.5)+POWER(POWER(AM$66,2),-0.5))/(POWER(POWER(AM$66,2),0.5)*EXP(POWER(1+POWER(AM$66,2),-1)*($AM1616-AM$57)/(AM$72/2.2))+POWER(POWER(AM$66,2),-0.5)*EXP(-POWER(AM$66,2)*POWER(1+POWER(AM$66,2),-1)*($AM1616-AM$57)/(AM$72/2.2))))))","v":0},{"$f":"IF(AN$56=\"NOT ELUTED\",\"\",IF(AN$51=\"\",\"\",IF(ABS(($AM1616-AN$57)/(AN$72/2.2))>20,0,AN$62*(POWER(POWER(AN$66,2),0.5)+POWER(POWER(AN$66,2),-0.5))/(POWER(POWER(AN$66,2),0.5)*EXP(POWER(1+POWER(AN$66,2),-1)*($AM1616-AN$57)/(AN$72/2.2))+POWER(POWER(AN$66,2),-0.5)*EXP(-POWER(AN$66,2)*POWER(1+POWER(AN$66,2),-1)*($AM1616-AN$57)/(AN$72/2.2))))))","v":0},{"$f":"IF(AO$56=\"NOT ELUTED\",\"\",IF(AO$51=\"\",\"\",IF(ABS(($AM1616-AO$57)/(AO$72/2.2))>20,0,AO$62*(POWER(POWER(AO$66,2),0.5)+POWER(POWER(AO$66,2),-0.5))/(POWER(POWER(AO$66,2),0.5)*EXP(POWER(1+POWER(AO$66,2),-1)*($AM1616-AO$57)/(AO$72/2.2))+POWER(POWER(AO$66,2),-0.5)*EXP(-POWER(AO$66,2)*POWER(1+POWER(AO$66,2),-1)*($AM1616-AO$57)/(AO$72/2.2))))))","v":0},{"$f":"IF(AP$56=\"NOT ELUTED\",\"\",IF(AP$51=\"\",\"\",IF(ABS(($AM1616-AP$57)/(AP$72/2.2))>20,0,AP$62*(POWER(POWER(AP$66,2),0.5)+POWER(POWER(AP$66,2),-0.5))/(POWER(POWER(AP$66,2),0.5)*EXP(POWER(1+POWER(AP$66,2),-1)*($AM1616-AP$57)/(AP$72/2.2))+POWER(POWER(AP$66,2),-0.5)*EXP(-POWER(AP$66,2)*POWER(1+POWER(AP$66,2),-1)*($AM1616-AP$57)/(AP$72/2.2))))))","v":""},{"$f":"IF(AQ$56=\"NOT ELUTED\",\"\",IF(AQ$51=\"\",\"\",IF(ABS(($AM1616-AQ$57)/(AQ$72/2.2))>20,0,AQ$62*(POWER(POWER(AQ$66,2),0.5)+POWER(POWER(AQ$66,2),-0.5))/(POWER(POWER(AQ$66,2),0.5)*EXP(POWER(1+POWER(AQ$66,2),-1)*($AM1616-AQ$57)/(AQ$72/2.2))+POWER(POWER(AQ$66,2),-0.5)*EXP(-POWER(AQ$66,2)*POWER(1+POWER(AQ$66,2),-1)*($AM1616-AQ$57)/(AQ$72/2.2))))))","v":""},{"$f":"IF(AR$56=\"NOT ELUTED\",\"\",IF(AR$51=\"\",\"\",IF(ABS(($AM1616-AR$57)/(AR$72/2.2))>20,0,AR$62*(POWER(POWER(AR$66,2),0.5)+POWER(POWER(AR$66,2),-0.5))/(POWER(POWER(AR$66,2),0.5)*EXP(POWER(1+POWER(AR$66,2),-1)*($AM1616-AR$57)/(AR$72/2.2))+POWER(POWER(AR$66,2),-0.5)*EXP(-POWER(AR$66,2)*POWER(1+POWER(AR$66,2),-1)*($AM1616-AR$57)/(AR$72/2.2))))))","v":""},2.0329378971968173,null,0,0,0,0,0,"","","",null,7.1382483531451895,2.0266518469816992]
[null,null,null,null,null,null,null,null,null,null,7.1707371297849924,0.1367815749477079,0.10419956089919033,8.2811684140778302E-2,6.8348418322649859E-2,6.2268664854411855E-2,"","","",0,0,0,0,0,"","","",2.0213253416546419,null,0,0,0,0,0,"","","",null,18.326777037009268,0,0,0,0,0,"","","",2.1279205076108298,null,0,0,0,0,0,"","","",null,7.1660958759793063,2.152592181441499]
[null,null,null,null,null,null,null,null,null,null,7.189302145007737,0.13713570200258871,0.10446933322514294,8.3026083323019806E-2,6.8525372156494901E-2,6.2429878226203217E-2,"","","",0,0,0,0,0,"","","",2.0526579732910624,null,0,0,0,0,0,"","","",null,18.374255733996339,0,0,0,0,0,"","","",2.0876710715524718,null,0,0,0,0,0,"","","",null,7.1846608912020509,2.1449967181346876]
[null,null,null,null,null,null,null,null,null,null,7.2125084140361677,0.13757836082118971,0.10480654863258369,8.3294082300821679E-2,6.8746564448801228E-2,6.2631394940942414E-2,"","","",0,0,0,0,0,"","","",2.0970159103871522,null,0,0,0,0,0,"","","",null,18.433604105230177,0,0,0,0,0,"","","",2.1274092048464825,null,0,0,0,0,0,"","","",null,7.2078671602304816,2.1285016011989373]
[null,null,null,null,null,null,null,null,null,null,7.2403559368702846,0.13810955140351092,0.10521120712151259,8.3615681074183934E-2,6.9011995199568799E-2,6.2873214998629454E-2,"","","",0,0,0,0,0,"","","",2.0986248820812676,null,0,0,0,0,0,"","","",null,18.504822150710783,0,0,0,0,0,"","","",2.1420065183246226,null,0,0,0,0,0,"","","",null,7.2357146830645984,2.1329036482597195]
[null,null,null,null,null,null,null,null,null,null,7.2635622058987153,0.13855221022211192,0.10554842252895334,8.3883680051985807E-2,6.9233187491875112E-2,6.3074731713368651E-2,"","","",0,0,0,0,0,"","","",2.1163031103916907,null,0,0,0,0,0,"","","",null,18.564170521944622,0,0,0,0,0,"","","",2.0846977950653995,null,0,0,0,0,0,"","","",null,7.2589209520930291,2.1202458211361175]
[null,null,null,null,null,null,null,null,null,null,7.286768474927146,0.13899486904071293,0.10588563793639409,8.4151679029787679E-2,6.9454379784181425E-2,6.3276248428107862E-2,"","","",0,0,0,0,0,"","","",2.1094898709172267,null,0,0,0,0,0,"","","",null,18.62351889317846,0,0,0,0,0,"","","",2.0246393730803316,null,0,0,0,0,0,"","","",null,7.2821272211214598,2.1283275623439324]
[null,null,null,null,null,null,null,null,null,null,7.2914097287328321,0.13908340080443313,0.10595308101788223,8.4205278825348062E-2,6.9498618242642682E-2,6.331655177105569E-2,"","","",0,0,0,0,0,"","","",2.0529878048396464,null,0,0,0,0,0,"","","",null,18.635388567425228,0,0,0,0,0,"","","",2.124310854748467,null,0,0,0,0,0,"","","",null,7.286768474927146,2.1094898709172267]
[null,null,null,null,null,null,null,null,null,null,7.3146159977612628,0.13952605962303413,0.10629029642532299,8.4473277803149935E-2,6.9719810534949009E-2,6.3518068485794901E-2,"","","",0,0,0,0,0,"","","",2.1329696451230102,null,0,0,0,0,0,"","","",null,18.694736938659066,0,0,0,0,0,"","","",2.134152328397267,null,0,0,0,0,0,"","","",null,7.3099747439555767,2.008525921562236]
[null,null,null,null,null,null,null,null,null,null,7.3424635205953797,0.14005725020535534,0.10669495491425189,8.479487657651219E-2,6.9985241285716579E-2,6.3759888543481941E-2,"","","",0,0,0,0,0,"","","",2.0071322666780409,null,0,0,0,0,0,"","","",null,18.765954984139672,0,0,0,0,0,"","","",2.0898731283808494,null,0,0,0,0,0,"","","",null,7.3378222667896935,2.0484420065335942]
[null,null,null,null,null,null,null,null,null,null,7.3656697896238104,0.14049990902395634,0.10703217032169264,8.5062875554314063E-2,7.0206433578022892E-2,6.3961405258221138E-2,"","","",0,0,0,0,0,"","","",2.0147341199100008,null,0,0,0,0,0,"","","",null,18.82530335537351,0,0,0,0,0,"","","",2.1291293400682871,null,0,0,0,0,0,"","","",null,7.3610285358181242,2.0660307317376021]
[null,null,null,null,null,null,null,null,null,null,7.3888760586522411,0.14094256784255732,0.10736938572913338,8.5330874532115936E-2,7.0427625870329205E-2,6.4162921972960335E-2,"","","",0,0,0,0,0,"","","",2.0937444660446043,null,0,0,0,0,0,"","","",null,18.884651726607348,0,0,0,0,0,"","","",2.0334506593726429,null,0,0,0,0,0,"","","",null,7.3842348048465549,2.1021764592436849]
[null,null,null,null,null,null,null,null,null,null,7.4074410738749856,0.14129669489743812,0.10763915805508598,8.5545273714357425E-2,7.0604579704174247E-2,6.432413534475169E-2,"","","",0,0,0,0,0,"","","",2.0354702390514854,null,0,0,0,0,0,"","","",null,18.932130423594419,0,0,0,0,0,"","","",2.1069021128915417,null,0,0,0,0,0,"","","",null,7.4027998200692995,2.0359321520703784]
[null,null,null,null,null,null,null,null,null,null,7.4352885967091025,0.14182788547975933,0.10804381654401489,8.5866872487719681E-2,7.0870010454941831E-2,6.4565955402438729E-2,"","","",0,0,0,0,0,"","","",2.1233808921539223,null,0,0,0,0,0,"","","",null,{"$f":"AM1678+MAX($AK$57:$AR$57)*1.2/3000","v":19.003348469075025},0,0,0,0,0,"","","",{"$f":"SUM(AN1679:AU1679)+RAND()*$C$69+K1679*$C$70+$C$67","v":2.112089473635248},null,0,0,0,0,0,"","","",null,7.4306473429034163,2.0531071179042186]
[null,null,null,null,null,null,null,null,null,null,7.4631361195432193,0.14235907606208054,0.10844847503294379,8.6188471261081936E-2,7.1135441205709402E-2,6.4807775460125769E-2,"","","",0,0,0,0,0,"","","",2.0707490946492735,null,0,0,0,0,0,"","","",null,19.074566514555631,0,0,0,0,0,"","","",2.051679397882697,null,0,0,0,0,0,"","","",null,7.4584948657375332,2.159912267051447]
[null,null,null,null,null,null,null,null,null,null,7.48634238857165,0.14280173488068154,0.10878569044038454,8.6456470238883809E-2,7.1356633498015715E-2,6.5009292174864966E-2,"","","",0,0,0,0,0,"","","",2.0868711719213437,null,0,0,0,0,0,"","","",null,19.133914885789469,0,0,0,0,0,"","","",2.0078225239233745,null,0,0,0,0,0,"","","",null,7.4817011347659639,2.0283325965054106]
[null,null,null,null,null,null,null,null,null,null,7.5095486576000807,0.14324439369928255,0.10912290584782529,8.6724469216685682E-2,7.1577825790322028E-2,6.5210808889604163E-2,"","","",0,0,0,0,0,"","","",2.0685503420121529,null,0,0,0,0,0,"","","",null,19.193263257023307,0,0,0,0,0,"","","",2.1404752210415423,null,0,0,0,0,0,"","","",null,7.5049074037943946,2.1608289461343477]
[null,null,null,null,null,null,null,null,null,null,7.5373961804341976,0.14377558428160375,0.10952756433675419,8.7046067990047937E-2,7.1843256541089598E-2,6.5452628947291216E-2,"","","",0,0,0,0,0,"","","",2.0137055673222291,null,0,0,0,0,0,"","","",null,19.264481302503913,0,0,0,0,0,"","","",2.1078431181070503,null,0,0,0,0,0,"","","",null,7.5327549266285114,2.1326616246185108]
[null,null,null,null,null,null,null,null,null,null,7.5606024494626283,0.14421824310020476,0.10986477974419494,8.731406696784981E-2,7.2064448833395925E-2,6.5654145662030414E-2,"","","",0,0,0,0,0,"","","",2.0781248306220874,null,0,0,0,0,0,"","","",null,19.323829673737752,0,0,0,0,0,"","","",2.1243176810465902,null,0,0,0,0,0,"","","",null,7.5559611956569421,2.1405358608104805]
[null,null,null,null,null,null,null,null,null,null,7.583808718491059,0.14466090191880576,0.11020199515163569,8.7582065945651683E-2,7.2285641125702224E-2,6.5855662376769611E-2,"","","",0,0,0,0,0,"","","",2.1602916229926943,null,0,0,0,0,0,"","","",null,19.38317804497159,0,0,0,0,0,"","","",2.0564839703947144,null,0,0,0,0,0,"","","",null,7.5791674646853728,2.1168655592562158]
[null,null,null,null,null,null,null,null,null,null,7.5884499722967451,0.14474943368252596,0.11026943823312384,8.7635665741212065E-2,7.2329879584163495E-2,6.5895965719717453E-2,"","","",0,0,0,0,0,"","","",2.0029294015943604,null,0,0,0,0,0,"","","",null,19.395047719218358,0,0,0,0,0,"","","",2.0998489675575427,null,0,0,0,0,0,"","","",null,7.583808718491059,2.1602916229926943]
[null,null,null,null,null,null,null,null,null,null,7.6116562413251758,0.14519209250112697,0.11060665364056459,8.7903664719013938E-2,7.2551071876469808E-2,6.609748243445665E-2,"","","",0,0,0,0,0,"","","",2.0197232864930599,null,0,0,0,0,0,"","","",null,19.454396090452196,0,0,0,0,0,"","","",2.1689514896331561,null,0,0,0,0,0,"","","",null,7.6070149875194897,2.0901279448318917]
[null,null,null,null,null,null,null,null,null,null,7.6395037641592927,0.14572328308344817,0.11101131212949349,8.8225263492376194E-2,7.2816502627237378E-2,6.633930249214369E-2,"","","",0,0,0,0,0,"","","",2.0416428912746221,null,0,0,0,0,0,"","","",null,19.525614135932802,0,0,0,0,0,"","","",2.1028279184243637,null,0,0,0,0,0,"","","",null,7.6348625103536065,2.0136796695334716]
[null,null,null,null,null,null,null,null,null,null,7.6719925407990957,0.14634300542948958,0.11148341369991054,8.8600462061298804E-2,7.3126171836466219E-2,6.6621425892778571E-2,"","","",0,0,0,0,0,"","","",2.0083162445739942,null,0,0,0,0,0,"","","",null,19.608701855660176,0,0,0,0,0,"","","",2.0733373487876041,null,0,0,0,0,0,"","","",null,7.6673512869934095,2.1597107345526729]
[null,null,null,null,null,null,null,null,null,null,7.6812750484104679,0.14652006895692998,0.11161829986288684,8.8707661652419556E-2,7.3214648753388747E-2,6.6702032578674242E-2,"","","",0,0,0,0,0,"","","",2.1399550641736274,null,0,0,0,0,0,"","","",null,19.632441204153711,0,0,0,0,0,"","","",2.0288778536046039,null,0,0,0,0,0,"","","",null,7.6766337946047818,2.0146894775058319]
[null,null,null,null,null,null,null,null,null,null,7.7091225712445848,0.14705125953925116,0.11202295835181574,8.9029260425781812E-2,7.3480079504156318E-2,6.6943852636361295E-2,"","","",0,0,0,0,0,"","","",2.0316845806649617,null,0,0,0,0,0,"","","",null,19.703659249634317,0,0,0,0,0,"","","",2.0181358298302494,null,0,0,0,0,0,"","","",null,7.7044813174388986,2.0560726344178275]
[null,null,null,null,null,null,null,null,null,null,7.7323288402730155,0.14749391835785217,0.11236017375925648,8.9297259403583684E-2,7.3701271796462631E-2,6.7145369351100492E-2,"","","",0,0,0,0,0,"","","",2.0693670593459048,null,0,0,0,0,0,"","","",null,{"$f":"AM1742+MAX($AK$57:$AR$57)*1.2/3000","v":19.763007620868155},0,0,0,0,0,"","","",{"$f":"SUM(AN1743:AU1743)+RAND()*$C$69+K1743*$C$70+$C$67","v":2.0618677953649116},null,0,0,0,0,0,"","","",null,7.7276875864673293,2.0345887389982291]
[null,null,null,null,null,null,null,null,null,null,7.7601763631071323,0.14802510894017337,0.11276483224818538,8.961885817694594E-2,7.3966702547230215E-2,6.7387189408787532E-2,"","","",0,0,0,0,0,"","","",2.0041543999098566,null,0,0,0,0,0,"","","",null,19.834225666348761,0,0,0,0,0,"","","",2.1122179370024914,null,0,0,0,0,0,"","","",null,7.7555351093014462,2.098687157095056]
[null,null,null,null,null,null,null,null,null,null,7.783382632135563,0.14846776775877438,0.11310204765562613,8.9886857154747812E-2,7.4187894839536528E-2,6.7588706123526729E-2,"","","",0,0,0,0,0,"","","",2.0528469985211313,null,0,0,0,0,0,"","","",null,19.893574037582599,0,0,0,0,0,"","","",2.07928834019522,null,0,0,0,0,0,"","","",null,7.7787413783298769,2.0439622152582797]
[null,null,null,null,null,null,null,null,null,null,7.8065889011639937,0.14891042657737538,0.11343926306306688,9.0154856132549685E-2,7.4409087131842841E-2,6.7790222838265926E-2,"","","",0,0,0,0,0,"","","",2.0204795803537881,null,0,0,0,0,0,"","","",null,19.952922408816438,0,0,0,0,0,"","","",2.0308857928374553,null,0,0,0,0,0,"","","",null,7.8019476473583076,2.0528890918659246]
[null,null,null,null,null,null,null,null,null,null,7.8344364239981106,0.14944161715969659,0.11384392155199578,9.0476454905911941E-2,7.4674517882610411E-2,6.8032042895952965E-2,"","","",0,0,0,0,0,"","","",2.1211431703203076,null,0,0,0,0,0,"","","",null,20.024140454297044,0,0,0,0,0,"","","",2.0188441166217745,null,0,0,0,0,0,"","","",null,7.8297951701924244,2.1585884728058122]
[null,null,null,null,null,null,null,null,null,null,7.8576426930265413,0.14988427597829759,0.11418113695943653,9.0744453883713813E-2,7.4895710174916724E-2,6.8233559610692163E-2,"","","",0,0,0,0,0,"","","",2.0222890683726549,null,0,0,0,0,0,"","","",null,20.083488825530882,0,0,0,0,0,"","","",2.0651962087866731,null,0,0,0,0,0,"","","",null,7.8530014392208551,2.0329141031550639]
[null,null,null,null,null,null,null,null,null,null,7.880848962054972,0.15032693479689857,0.11451835236687728,9.1012452861515686E-2,7.5116902467223037E-2,6.843507632543136E-2,"","","",0,0,0,0,0,"","","",2.0759404728298771,null,0,0,0,0,0,"","","",null,20.14283719676472,0,0,6.367536194952424E-3,0,0,"","","",2.1187007311181629,null,0,0,7.5580580388587713E-5,0,0,"","","",null,7.8762077082492858,2.1237911360515098]
[null,null,null,null,null,null,null,null,null,null,7.8901314696663443,0.150503998324339,0.11465323852985358,9.1119652452636438E-2,7.5205379384145565E-2,6.8515683011327044E-2,"","","",0,0,0,0,0,"","","",2.0026932683508951,null,0,0,0,0,0,"","","",null,20.166576545258255,0,0,9.6450039950101724E-3,0,0,"","","",2.1629963917846888,null,0,0,1.1448305552954343E-4,0,0,"","","",null,7.8854902158606581,2.0106577989268679]
[null,null,null,null,null,null,null,null,null,null,7.9040552310834027,0.1507695936154996,0.11485556777431803,9.1280451839317558E-2,7.533809475952935E-2,6.8636593040170571E-2,"","","",0,0,0,0,0,"","","",2.1033845190871161,null,0,0,0,0,0,"","","",null,20.202185567998558,0,0,1.7980380591063428E-2,0,0,"","","",2.188149136067274,null,0,0,2.1342126044882661E-4,0,0,"","","",null,7.8994139772777165,2.1139595532966431]
[null,null,null,null,null,null,null,null,null,null,7.9319027539175195,0.15130078419782078,0.11526022626324693,9.1602050612679814E-2,7.5603525510296934E-2,6.887841309785761E-2,"","","",0,0,0,0,0,"","","",2.0276819890577706,null,0,0,0,0,0,"","","",null,20.273403613479164,0,0,6.2487266966419597E-2,0,0,"","","",2.0965463608245702,null,0,0,7.4170350346220609E-4,0,0,"","","",null,7.9272615001118334,2.0202320511829859]
[null,null,null,null,null,null,null,null,null,null,7.9551090229459502,0.15174344301642179,0.11559744167068768,9.1870049590481687E-2,7.5824717802603248E-2,6.9079929812596808E-2,"","","",0,0,0,0,0,"","","",2.1591527263392289,null,0,0,0,0,0,"","","",null,20.332751984713003,0,0,0.17644803188316188,0,0,"","","",2.2959779198037147,null,0,0,2.0943806599364053E-3,0,0,"","","",null,7.9504677691402641,2.1255941015994844]
[null,null,null,null,null,null,null,null,null,null,7.9783152919743809,0.15218610183502279,0.11593465707812843,9.2138048568283559E-2,7.6045910094909547E-2,6.9281446527336005E-2,"","","",0,0,0,0,0,"","","",2.1146491896661357,null,0,0,0,0,0,"","","",null,20.392100355946841,0,0,0.49822919570312796,0,0,"","","",2.6117687583899682,null,0,0,5.9138182532251816E-3,0,0,"","","",null,7.9736740381686948,2.0247657969980781]
[null,null,null,null,null,null,null,null,null,null,8.006162814808496,0.15271729241734397,0.11633931556705732,9.2459647341645787E-2,7.6311340845677117E-2,6.952326658502303E-2,"","","",0,0,0,0,0,"","","",2.0836107678503191,null,0,0,0,0,0,"","","",null,20.463318401427447,0,0,1.7308555532182475,0,0,"","","",3.8709317169266031,null,0,0,2.054469158490942E-2,0,0,"","","",null,8.0015215610028108,2.0135824463090408]
[null,null,null,null,null,null,null,null,null,null,8.0293690838369223,0.15315995123594489,0.116676530974498,9.2727646319447618E-2,7.6532533137983375E-2,6.9724783299762186E-2,"","","",0,0,0,0,0,"","","",2.1522909593555473,null,0,0,0,0,0,"","","",null,{"$f":"AM1806+MAX($AK$57:$AR$57)*1.2/3000","v":20.522666772661285},0,0,4.8757083776225763,0,0,"","","",{"$f":"SUM(AN1807:AU1807)+RAND()*$C$69+K1807*$C$70+$C$67","v":7.0047968482619378},null,0,0,5.7873070164616014E-2,0,0,"","","",null,8.024727830031237,2.0834125684999165]
[null,null,null,null,null,null,null,null,null,null,8.0525753528653485,0.15360261005454579,0.11701374638193868,9.2995645297249435E-2,7.675372543028966E-2,6.9926300014501341E-2,"","","",0,0,0,0,0,"","","",2.0163037834616993,null,0,0,0,0,0,"","","",null,20.582015143895124,0,0,13.54282552395825,0,0,"","","",15.689815999682949,null,0,0,0.16074892735019497,0,0,"","","",null,8.0479340990596633,2.0332605705612661]
[null,null,null,null,null,null,null,null,null,null,8.0804228756994601,0.15413380063686691,0.11741840487086751,9.3317244070611621E-2,7.7019156181057188E-2,7.0168120072188353E-2,"","","",0,0,0,0,0,"","","",2.1321928425520236,null,0,0,0,0,0,"","","",null,20.653233189375729,0,0,40.081702368174035,0,0,"","","",42.253072535219076,null,0,0,0.47575675036612164,0,0,"","","",null,8.0757816218937748,2.0853524643206796]
[null,null,null,null,null,null,null,null,null,null,8.1036291447278863,0.1545764594554678,0.11775562027830819,9.3585243048413438E-2,7.7240348473363446E-2,7.0369636786927495E-2,"","","",0,0,0,0,0,"","","",2.0755021058531069,null,0,0,0,0,0,"","","",null,20.712581560609568,0,0,57.522162367212267,0,0,"","","",59.634828071652358,null,0,0,0.68276932926848721,0,0,"","","",null,8.0989878909222011,2.0674162194812951]
[null,null,null,null,null,null,null,null,null,null,8.1268354137563126,0.15501911827406872,0.11809283568574887,9.3853242026215269E-2,7.7461540765669717E-2,7.0571153501666664E-2,"","","",0,0,0,0,0,"","","",2.0742849008627928,null,0,0,0,0,0,"","","",null,20.771929931843406,0,0,37.072086171717935,0,0,"","","",39.23485495811881,null,0,0,0.44003358650639179,0,0,"","","",null,8.1221941599506273,2.0774973311528191]
[null,null,null,null,null,null,null,null,null,null,8.1500416827847388,0.15546177709266965,0.11843005109318956,9.41212410040171E-2,7.7682733057976003E-2,7.0772670216405834E-2,"","","",0,0,0,0,0,"","","",2.0626980942963171,null,0,0,0,0,0,"","","",null,20.831278303077244,0,0,16.598655551188994,0,0,"","","",18.762218525048105,null,0,0,0.19702063432691502,0,0,"","","",null,8.1454004289790536,2.0385727027224814]
[null,null,null,null,null,null,null,null,null,null,8.1732479518131651,0.15590443591127057,0.11876726650063024,9.4389239981818918E-2,7.790392535028226E-2,7.0974186931144989E-2,"","","",0,0,0,0,0,"","","",2.0423948893370683,null,0,0,0,0,0,"","","",null,20.890626674311083,0,0,6.907181213521385,0,0,"","","",8.9979996123710606,null,0,0,8.1985990967892164E-2,0,0,"","","",null,8.1686066980074798,2.0520322573223755]
[null,null,null,null,null,null,null,null,null,null,8.1778892056188504,0.15599296767499077,0.11883470958211838,9.4442839777379287E-2,7.7948163808743517E-2,7.1014490274092817E-2,"","","",0,0,0,0,0,"","","",2.0832560769757258,null,0,0,0,0,0,"","","",null,20.90249634855785,0,0,5.7851310806668623,0,0,"","","",7.8238208779902099,null,0,0,6.866762140236661E-2,0,0,"","","",null,8.1732479518131651,2.0423948893370683]
[null,null,null,null,null,null,null,null,null,null,8.2010954746472766,0.15643562649359169,0.11917192498955907,9.4710838755181118E-2,7.8169356101049789E-2,7.1216006988831987E-2,"","","",0,0,0,0,0,"","","",2.1268005366645788,null,0,0,0,0,0,"","","",null,20.961844719791689,0,0,2.3788853985551519,0,0,"","","",4.5061022895489291,null,0,0,2.8236594751241705E-2,0,0,"","","",null,8.1964542208415914,2.0437938640220672]
[null,null,null,null,null,null,null,null,null,null,8.2289429974813881,0.15696681707591278,0.1195765834784879,9.5032437528543304E-2,7.8434786851817317E-2,7.1457827046518971E-2,"","","",0,0,0,0,0,"","","",2.0481343164758101,null,0,0,0,0,0,"","","",null,21.033062765272295,0,0,0.81779989249786167,0,0,"","","",2.8928463734115182,null,0,0,9.7070183229912288E-3,0,0,"","","",null,8.2243017436757029,2.1187108580987593]
[null,null,null,null,null,null,null,null,null,null,8.2521492665098144,0.15740947589451371,0.11991379888592858,9.5300436506345121E-2,7.8655979144123589E-2,7.165934376125814E-2,"","","",0,0,0,0,0,"","","",2.0458173457017743,null,0,0,0,0,0,"","","",null,21.092411136506133,0,0,0.33584847344570307,0,0,"","","",2.3835854315035143,null,0,0,3.9864119760746938E-3,0,0,"","","",null,8.2475080127041291,2.0186666724724591]
[null,null,null,null,null,null,null,null,null,null,8.2753555355382407,0.15785213471311463,0.12025101429336926,9.5568435484146952E-2,7.887717143642986E-2,7.1860860475997296E-2,"","","",0,0,0,0,0,"","","",2.0661553579469407,null,0,0,0,0,0,"","","",null,21.151759507739971,0,0,0.13792172127904853,0,0,"","","",2.219661664577004,null,0,0,1.6370859031357894E-3,0,0,"","","",null,8.2707142817325554,2.0836869454100135]
[null,null,null,null,null,null,null,null,null,null,8.3032030583723522,0.15838332529543572,0.12065567278229808,9.5890034257509138E-2,7.9142602187197375E-2,7.2102680533684294E-2,"","","",0,0,0,0,0,"","","",2.0881977906802325,null,0,0,0,0,0,"","","",null,21.222977553220577,0,0,4.7404390016305205E-2,0,0,"","","",2.1198984193600237,null,0,0,5.6267466736026784E-4,0,0,"","","",null,8.2985618045666669,2.0770946685308367]
[null,null,null,null,null,null,null,null,null,null,8.3264093274007784,0.15882598411403664,0.12099288818973877,9.6158033235310955E-2,7.9363794479503647E-2,7.2304197248423449E-2,"","","",0,0,0,0,0,"","","",2.0112311063302513,null,0,0,0,0,0,"","","",null,{"$f":"AM1870+MAX($AK$57:$AR$57)*1.2/3000","v":21.282325924454415},0,0,1.9467342590518973E-2,0,0,"","","",{"$f":"SUM(AN1871:AU1871)+RAND()*$C$69+K1871*$C$70+$C$67","v":2.0554112432334031},null,0,0,2.3107101499968624E-4,0,0,"","","",null,8.3217680735950932,2.1584800195405482]
[null,null,null,null,null,null,null,null,null,null,8.3496155964292047,0.15926864293263754,0.12133010359717945,9.6426032213112786E-2,7.9584986771809918E-2,7.2505713963162605E-2,"","","",0,0,0,0,0,"","","",2.0952226373562035,null,0,0,0,0,0,"","","",null,21.341674295688254,0,0,0,0,0,"","","",2.0931956626812322,null,0,0,0,0,0,"","","",null,8.3449743426235194,2.0035625495187448]
[null,null,null,null,null,null,null,null,null,null,8.372821865457631,0.15971130175123846,0.12166731900462015,9.6694031190914603E-2,7.9806179064116203E-2,7.2707230677901774E-2,"","","",0,0,0,0,0,"","","",2.0078080248528001,null,0,0,0,0,0,"","","",null,21.401022666922092,0,0,0,0,0,"","","",2.1065089704268702,null,0,0,0,0,0,"","","",null,8.3681806116519457,2.0645615168894929]
[null,null,null,null,null,null,null,null,null,null,8.3960281344860572,0.16015396056983938,0.12200453441206083,9.6962030168716434E-2,8.0027371356422461E-2,7.290874739264093E-2,"","","",0,0,0,0,0,"","","",2.0308343902905071,null,0,0,0,0,0,"","","",null,21.46037103815593,0,0,0,0,0,"","","",2.0713661247683999,null,0,0,0,0,0,"","","",null,8.391386880680372,2.1581849980383407]
[null,null,null,null,null,null,null,null,null,null,8.4238756573201687,0.16068515115216048,0.12240919290098964,9.728362894207862E-2,8.0292802107189989E-2,7.3150567450327927E-2,"","","",0,0,0,0,0,"","","",2.0211606067132912,null,0,0,0,0,0,"","","",null,21.531589083636536,0,0,0,0,0,"","","",2.0515933900983407,null,0,0,0,0,0,"","","",null,8.4192344035144835,2.020848765744073]
[null,null,null,null,null,null,null,null,null,null,8.447081926348595,0.1611278099707614,0.12274640830843032,9.7551627919880438E-2,8.0513994399496261E-2,7.3352084165067083E-2,"","","",0,0,0,0,0,"","","",2.1490024852108465,null,0,0,0,0,0,"","","",null,21.590937454870375,0,0,0,0,0,"","","",2.145771285282049,null,0,0,0,0,0,"","","",null,8.4424406725429098,2.0378907989511963]
[null,null,null,null,null,null,null,null,null,null,8.4702881953770213,0.16157046878936232,0.12308362371587102,9.7819626897682255E-2,8.0735186691802532E-2,7.3553600879806252E-2,"","","",0,0,0,0,0,"","","",2.0136447201275551,null,0,0,0,0,0,"","","",null,21.650285826104213,0,0,0,0,0,"","","",2.08758166088972,null,0,0,0,0,0,"","","",null,8.465646941571336,2.1390723563407934]
[null,null,null,null,null,null,null,null,null,null,8.4749294491827065,0.16165900055308249,0.12315106679735915,9.7873226693242624E-2,8.0779425150263776E-2,7.3593904222754081E-2,"","","",0,0,0,0,0,"","","",2.1258794230275315,null,0,0,0,0,0,"","","",null,21.66215550035098,0,0,0,0,0,"","","",2.0872582060981633,null,0,0,0,0,0,"","","",null,8.4702881953770213,2.0136447201275551]
[null,null,null,null,null,null,null,null,null,null,8.4981357182111328,0.16210165937168342,0.12348828220479983,9.8141225671044455E-2,8.1000617442570047E-2,7.379542093749325E-2,"","","",0,0,0,0,0,"","","",2.1259527576698751,null,0,0,0,0,0,"","","",null,21.721503871584819,0,0,0,0,0,"","","",2.0309151309531592,null,0,0,0,0,0,"","","",null,8.4934944644054475,2.1565592350844311]
[null,null,null,null,null,null,null,null,null,null,8.5259832410452443,0.16263284995400451,0.12389294069372866,9.8462824444406641E-2,8.1266048193337576E-2,7.4037240995180234E-2,"","","",0,0,0,0,0,"","","",2.1157757977157639,null,0,0,0,0,0,"","","",null,21.792721917065425,0,0,0,0,0,"","","",2.1544204454748082,null,0,0,0,0,0,"","","",null,8.521341987239559,2.1127593343515012]
[null,null,null,null,null,null,null,null,null,null,8.5491895100736706,0.16307550877260543,0.12423015610116935,9.8730823422208472E-2,8.1487240485643861E-2,7.4238757709919403E-2,"","","",0,0,0,0,0,"","","",2.1399043298186591,null,0,0,0,0,0,"","","",null,21.852070288299263,0,0,0,0,0,"","","",2.0129477706145389,null,0,0,0,0,0,"","","",null,8.5445482562679853,2.0445689357834329]
[null,null,null,null,null,null,null,null,null,null,8.5723957791020968,0.16351816759120635,0.12456737150861004,9.8998822400010289E-2,8.1708432777950118E-2,7.4440274424658559E-2,"","","",0,0,0,0,0,"","","",2.0000360743828076,null,0,0,0,0,0,"","","",null,21.911418659533101,0,0,0,0,0,"","","",2.109465901460017,null,0,0,0,0,0,"","","",null,8.5677545252964116,2.0861767189344218]
[null,null,null,null,null,null,null,null,null,null,8.5909607943248378,0.1638722946460871,0.12483714383456258,9.9213221582251751E-2,8.1885386611795133E-2,7.4601487796449886E-2,"","","",0,0,0,0,0,"","","",2.014779801315612,null,0,0,0,0,0,"","","",null,21.958897356520172,0,0,0,0,0,"","","",2.0800801530319615,null,0,0,0,0,0,"","","",null,8.5863195405191526,2.1366526277688167]
[null,null,null,null,null,null,null,null,null,null,{"$f":"K1933+1/($C$74*60)","v":8.6188083171589494},{"$f":"IF(Q$56=\"\",\"\",SQRT(($K1934*$K1934)/$Q$72))","v":0.16440348522840817},{"$f":"IF(R$56=\"\",\"\",SQRT(($K1934*$K1934)/$R$72))","v":0.12524180232349139},{"$f":"IF(S$56=\"\",\"\",SQRT(($K1934*$K1934)/$S$72))","v":9.9534820355613923E-2},{"$f":"IF(T$56=\"\",\"\",SQRT(($K1934*$K1934)/$T$72))","v":8.2150817362562661E-2},{"$f":"IF(U$56=\"\",\"\",SQRT(($K1934*$K1934)/$U$72))","v":7.4843307854136884E-2},{"$f":"IF(V$56=\"\",\"\",SQRT(($K1934*$K1934)/$V$72))","v":""},{"$f":"IF(W$56=\"\",\"\",SQRT(($K1934*$K1934)/$W$72))","v":""},{"$f":"IF(X$56=\"\",\"\",SQRT(($K1934*$K1934)/$X$72))","v":""},{"$f":"IF(Q$56=\"\",\"\",IF(ABS(($K1934-Q$60) / ( L1934 / 2.2))>20,0,IF(Q$60<>\"\",Q$64 * ( POWER(POWER(Q$67, 2),0.5) + POWER(POWER(Q$67, 2),-0.5)  ) / ( POWER(POWER(Q$67, 2),0.5) * EXP( POWER(1 + POWER(Q$67, 2),-1) * ($K1934-Q$60)/ ( L1934 / 2.2) ) + POWER(POWER(Q$67, 2),-0.5) * EXP(- POWER(Q$67, 2) * POWER(1 + POWER(Q$67, 2),-1) * ($K1934-Q$60) / ( L1934 / 2.2) ) ),\"\")))","v":0},{"$f":"IF(R$56=\"\",\"\",IF(ABS(($K1934-R$60) / ( M1934 / 2.2))>20,0,IF(R$60<>\"\",R$64 * ( POWER(POWER(R$67, 2),0.5) + POWER(POWER(R$67, 2),-0.5)  ) / ( POWER(POWER(R$67, 2),0.5) * EXP( POWER(1 + POWER(R$67, 2),-1) * ($K1934-R$60)/ ( M1934 / 2.2) ) + POWER(POWER(R$67, 2),-0.5) * EXP(- POWER(R$67, 2) * POWER(1 + POWER(R$67, 2),-1) * ($K1934-R$60) / ( M1934 / 2.2) ) ),\"\")))","v":0},{"$f":"IF(S$56=\"\",\"\",IF(ABS(($K1934-S$60) / ( N1934 / 2.2))>20,0,IF(S$60<>\"\",S$64 * ( POWER(POWER(S$67, 2),0.5) + POWER(POWER(S$67, 2),-0.5)  ) / ( POWER(POWER(S$67, 2),0.5) * EXP( POWER(1 + POWER(S$67, 2),-1) * ($K1934-S$60)/ ( N1934 / 2.2) ) + POWER(POWER(S$67, 2),-0.5) * EXP(- POWER(S$67, 2) * POWER(1 + POWER(S$67, 2),-1) * ($K1934-S$60) / ( N1934 / 2.2) ) ),\"\")))","v":0},{"$f":"IF(T$56=\"\",\"\",IF(ABS(($K1934-T$60) / ( O1934 / 2.2))>20,0,IF(T$60<>\"\",T$64 * ( POWER(POWER(T$67, 2),0.5) + POWER(POWER(T$67, 2),-0.5)  ) / ( POWER(POWER(T$67, 2),0.5) * EXP( POWER(1 + POWER(T$67, 2),-1) * ($K1934-T$60)/ ( O1934 / 2.2) ) + POWER(POWER(T$67, 2),-0.5) * EXP(- POWER(T$67, 2) * POWER(1 + POWER(T$67, 2),-1) * ($K1934-T$60) / ( O1934 / 2.2) ) ),\"\")))","v":0},{"$f":"IF(U$56=\"\",\"\",IF(ABS(($K1934-U$60) / ( P1934 / 2.2))>20,0,IF(U$60<>\"\",U$64 * ( POWER(POWER(U$67, 2),0.5) + POWER(POWER(U$67, 2),-0.5)  ) / ( POWER(POWER(U$67, 2),0.5) * EXP( POWER(1 + POWER(U$67, 2),-1) * ($K1934-U$60)/ ( P1934 / 2.2) ) + POWER(POWER(U$67, 2),-0.5) * EXP(- POWER(U$67, 2) * POWER(1 + POWER(U$67, 2),-1) * ($K1934-U$60) / ( P1934 / 2.2) ) ),\"\")))","v":0},{"$f":"IF(V$56=\"\",\"\",IF(ABS(($K1934-V$60) / ( Q1934 / 2.2))>20,0,IF(V$60<>\"\",V$64 * ( POWER(POWER(V$67, 2),0.5) + POWER(POWER(V$67, 2),-0.5)  ) / ( POWER(POWER(V$67, 2),0.5) * EXP( POWER(1 + POWER(V$67, 2),-1) * ($K1934-V$60)/ ( Q1934 / 2.2) ) + POWER(POWER(V$67, 2),-0.5) * EXP(- POWER(V$67, 2) * POWER(1 + POWER(V$67, 2),-1) * ($K1934-V$60) / ( Q1934 / 2.2) ) ),\"\")))","v":""},{"$f":"IF(W$56=\"\",\"\",IF(ABS(($K1934-W$60) / ( R1934 / 2.2))>20,0,IF(W$60<>\"\",W$64 * ( POWER(POWER(W$67, 2),0.5) + POWER(POWER(W$67, 2),-0.5)  ) / ( POWER(POWER(W$67, 2),0.5) * EXP( POWER(1 + POWER(W$67, 2),-1) * ($K1934-W$60)/ ( R1934 / 2.2) ) + POWER(POWER(W$67, 2),-0.5) * EXP(- POWER(W$67, 2) * POWER(1 + POWER(W$67, 2),-1) * ($K1934-W$60) / ( R1934 / 2.2) ) ),\"\")))","v":""},{"$f":"IF(X$56=\"\",\"\",IF(ABS(($K1934-X$60) / ( S1934 / 2.2))>20,0,IF(X$60<>\"\",X$64 * ( POWER(POWER(X$67, 2),0.5) + POWER(POWER(X$67, 2),-0.5)  ) / ( POWER(POWER(X$67, 2),0.5) * EXP( POWER(1 + POWER(X$67, 2),-1) * ($K1934-X$60)/ ( S1934 / 2.2) ) + POWER(POWER(X$67, 2),-0.5) * EXP(- POWER(X$67, 2) * POWER(1 + POWER(X$67, 2),-1) * ($K1934-X$60) / ( S1934 / 2.2) ) ),\"\")))","v":""},{"$f":"SUM(T1934:AA1934)+RAND()*$C$69+$C$67","v":2.115575564139422},null,{"$f":"IF(Q$56=\"\",\"\",($K1934-$K1933)*T1934)","v":0},{"$f":"IF(R$56=\"\",\"\",($K1934-$K1933)*U1934)","v":0},{"$f":"IF(S$56=\"\",\"\",($K1934-$K1933)*V1934)","v":0},{"$f":"IF(T$56=\"\",\"\",($K1934-$K1933)*W1934)","v":0},{"$f":"IF(U$56=\"\",\"\",($K1934-$K1933)*X1934)","v":0},{"$f":"IF(V$56=\"\",\"\",($K1934-$K1933)*Y1934)","v":""},{"$f":"IF(W$56=\"\",\"\",($K1934-$K1933)*Z1934)","v":""},{"$f":"IF(X$56=\"\",\"\",($K1934-$K1933)*AA1934)","v":""},null,22.030115402000778,0,0,0,0,0,"","","",2.1304115051238379,null,0,0,0,0,0,"","","",null,{"$f":"IF($C$8=\"isocratic\",K1933,AM1934)","v":8.6141670633532641},{"$f":"IF($C$8=\"isocratic\",AB1933,AV1934)","v":2.0078472396459381}]
[null,null,null,null,null,null,null,null,null,null,8.6420145861873756,0.16484614404700909,0.12557901773093208,9.9802819333415754E-2,8.2372009654868933E-2,7.504482456887604E-2,"","","",0,0,0,0,0,"","","",2.0950683743421568,null,0,0,0,0,0,"","","",null,22.089463773234616,0,0,0,0,0,"","","",2.0576742598290441,null,0,0,0,0,0,"","","",null,8.6373733323816904,2.0074876273581976]
[null,null,null,null,null,null,null,null,null,null,8.6698621090214871,0.16537733462933021,0.12598367621986092,0.10012441810677795,8.2637440405636461E-2,7.5286644626563037E-2,"","","",0,0,0,0,0,"","","",2.0529191871328214,null,0,0,0,0,0,"","","",null,22.160681818715222,0,0,0,0,0,"","","",2.0973873037935373,null,0,0,0,0,0,"","","",null,8.6652208552158019,2.0623484950438686]
[null,null,null,null,null,null,null,null,null,null,8.6930683780499134,0.16581999344793111,0.12632089162730159,0.10039241708457977,8.2858632697942733E-2,7.5488161341302193E-2,"","","",0,0,0,0,0,"","","",2.0145970018706172,null,0,0,0,0,0,"","","",null,22.22003018994906,0,0,0,0,0,"","","",2.050718100926856,null,0,0,0,0,0,"","","",null,8.6884271242442281,2.1141474086144685]
[null,null,null,null,null,null,null,null,null,null,8.7209159008840249,0.16635118403025223,0.12672555011623041,0.10071401585794196,8.3124063448710261E-2,7.5729981398989191E-2,"","","",0,0,0,0,0,"","","",2.114637869233416,null,0,0,0,0,0,"","","",null,22.291248235429666,0,0,0,0,0,"","","",2.0268365341729937,null,0,0,0,0,0,"","","",null,8.7162746470783397,2.0460594531763179]
[null,null,null,null,null,null,null,null,null,null,8.7441221699124512,0.16679384284885315,0.1270627655236711,0.10098201483574379,8.3345255741016533E-2,7.593149811372836E-2,"","","",0,0,0,0,0,"","","",2.148303349287163,null,0,0,0,0,0,"","","",null,22.350596606663505,0,0,0,0,0,"","","",2.1399743761630083,null,0,0,0,0,0,"","","",null,8.7394809161067659,2.1320544854300461]
[null,null,null,null,null,null,null,null,null,null,8.7673284389408774,0.16723650166745407,0.12739998093111179,0.10125001381354561,8.356644803332279E-2,7.6133014828467516E-2,"","","",0,0,0,0,0,"","","",2.1027447602601987,null,0,0,0,0,0,"","","",null,22.409944977897343,0,0,0,0,0,"","","",2.115438766365684,null,0,0,0,0,0,"","","",null,8.7626871851351922,2.1101704289984444]
[null,null,null,null,null,null,null,null,null,null,8.7719696927465627,0.16732503343117425,0.12746742401259992,0.10130361360910597,8.3610686491784048E-2,7.6173318171415344E-2,"","","",0,0,0,0,0,"","","",2.1368298144885056,null,0,0,0,0,0,"","","",null,22.421814652144111,0,0,0,0,0,"","","",2.122100326766668,null,0,0,0,0,0,"","","",null,8.7673284389408774,2.1027447602601987]
[null,null,null,null,null,null,null,null,null,null,8.7951759617749889,0.16776769224977517,0.12780463942004061,0.10157161258690781,8.3831878784090319E-2,7.63748348861545E-2,"","","",0,0,0,0,0,"","","",2.1517144516501849,null,0,0,0,0,0,"","","",null,22.481163023377949,0,0,0,0,0,"","","",2.1707256370646797,null,0,0,0,0,0,"","","",null,8.7905347079693037,2.012186815221245]
[null,null,null,null,null,null,null,null,null,null,8.8183822308034152,0.16821035106837609,0.12814185482748131,0.10183961156470962,8.405307107639659E-2,7.6576351600893669E-2,"","","",0,0,0,0,0,"","","",2.0634602777633009,null,0,0,0,0,0,"","","",null,22.540511394611787,0,0,0,0,0,"","","",2.136333778903396,null,0,0,0,0,0,"","","",null,8.81374097699773,2.1172979130762437]
[null,null,null,null,null,null,null,null,null,null,8.8555122612488972,0.16891860517813756,0.12868139947938639,0.10226840992919255,8.4406978744086619E-2,7.6898778344476323E-2,"","","",0,0,0,0,0,"","","",2.1455366087857564,null,0,0,0,0,0,"","","",null,22.635468788585928,0,0,0,0,0,"","","",2.1113143833617105,null,0,0,0,0,0,"","","",null,8.850871007443212,2.1649536574646531]
[null,null,null,null,null,null,null,null,null,null,8.8647947688602677,0.16909566870557791,0.12881628564236267,0.10237560952031327,8.4495455661009133E-2,7.6979385030371994E-2,"","","",0,0,0,0,0,"","","",2.1483720307643162,null,0,0,0,0,0,"","","",null,22.659208137079464,0,0,0,0,0,"","","",2.09147639252304,null,0,0,0,0,0,"","","",null,8.8601535150545825,2.0632447206101072]
[null,null,null,null,null,null,null,null,null,null,8.8926422916943793,0.16962685928789903,0.12922094413129148,0.10269720829367546,8.4760886411776662E-2,7.7221205088058978E-2,"","","",0,0,0,0,0,"","","",2.151364292080034,null,0,0,0,0,0,"","","",null,22.73042618256007,0,0,0,0,0,"","","",2.1272183629880628,null,0,0,0,0,0,"","","",null,8.888001037888694,2.0629823555531543]
[null,null,null,null,null,null,null,null,null,null,{"$f":"K1997+1/($C$74*60)","v":8.9158485607228055},{"$f":"IF(Q$56=\"\",\"\",SQRT(($K1998*$K1998)/$Q$72))","v":0.17006951810649995},{"$f":"IF(R$56=\"\",\"\",SQRT(($K1998*$K1998)/$R$72))","v":0.12955815953873218},{"$f":"IF(S$56=\"\",\"\",SQRT(($K1998*$K1998)/$S$72))","v":0.10296520727147729},{"$f":"IF(T$56=\"\",\"\",SQRT(($K1998*$K1998)/$T$72))","v":8.4982078704082933E-2},{"$f":"IF(U$56=\"\",\"\",SQRT(($K1998*$K1998)/$U$72))","v":7.7422721802798147E-2},{"$f":"IF(V$56=\"\",\"\",SQRT(($K1998*$K1998)/$V$72))","v":""},{"$f":"IF(W$56=\"\",\"\",SQRT(($K1998*$K1998)/$W$72))","v":""},{"$f":"IF(X$56=\"\",\"\",SQRT(($K1998*$K1998)/$X$72))","v":""},{"$f":"IF(Q$56=\"\",\"\",IF(ABS(($K1998-Q$60) / ( L1998 / 2.2))>20,0,IF(Q$60<>\"\",Q$64 * ( POWER(POWER(Q$67, 2),0.5) + POWER(POWER(Q$67, 2),-0.5)  ) / ( POWER(POWER(Q$67, 2),0.5) * EXP( POWER(1 + POWER(Q$67, 2),-1) * ($K1998-Q$60)/ ( L1998 / 2.2) ) + POWER(POWER(Q$67, 2),-0.5) * EXP(- POWER(Q$67, 2) * POWER(1 + POWER(Q$67, 2),-1) * ($K1998-Q$60) / ( L1998 / 2.2) ) ),\"\")))","v":0},{"$f":"IF(R$56=\"\",\"\",IF(ABS(($K1998-R$60) / ( M1998 / 2.2))>20,0,IF(R$60<>\"\",R$64 * ( POWER(POWER(R$67, 2),0.5) + POWER(POWER(R$67, 2),-0.5)  ) / ( POWER(POWER(R$67, 2),0.5) * EXP( POWER(1 + POWER(R$67, 2),-1) * ($K1998-R$60)/ ( M1998 / 2.2) ) + POWER(POWER(R$67, 2),-0.5) * EXP(- POWER(R$67, 2) * POWER(1 + POWER(R$67, 2),-1) * ($K1998-R$60) / ( M1998 / 2.2) ) ),\"\")))","v":0},{"$f":"IF(S$56=\"\",\"\",IF(ABS(($K1998-S$60) / ( N1998 / 2.2))>20,0,IF(S$60<>\"\",S$64 * ( POWER(POWER(S$67, 2),0.5) + POWER(POWER(S$67, 2),-0.5)  ) / ( POWER(POWER(S$67, 2),0.5) * EXP( POWER(1 + POWER(S$67, 2),-1) * ($K1998-S$60)/ ( N1998 / 2.2) ) + POWER(POWER(S$67, 2),-0.5) * EXP(- POWER(S$67, 2) * POWER(1 + POWER(S$67, 2),-1) * ($K1998-S$60) / ( N1998 / 2.2) ) ),\"\")))","v":0},{"$f":"IF(T$56=\"\",\"\",IF(ABS(($K1998-T$60) / ( O1998 / 2.2))>20,0,IF(T$60<>\"\",T$64 * ( POWER(POWER(T$67, 2),0.5) + POWER(POWER(T$67, 2),-0.5)  ) / ( POWER(POWER(T$67, 2),0.5) * EXP( POWER(1 + POWER(T$67, 2),-1) * ($K1998-T$60)/ ( O1998 / 2.2) ) + POWER(POWER(T$67, 2),-0.5) * EXP(- POWER(T$67, 2) * POWER(1 + POWER(T$67, 2),-1) * ($K1998-T$60) / ( O1998 / 2.2) ) ),\"\")))","v":0},{"$f":"IF(U$56=\"\",\"\",IF(ABS(($K1998-U$60) / ( P1998 / 2.2))>20,0,IF(U$60<>\"\",U$64 * ( POWER(POWER(U$67, 2),0.5) + POWER(POWER(U$67, 2),-0.5)  ) / ( POWER(POWER(U$67, 2),0.5) * EXP( POWER(1 + POWER(U$67, 2),-1) * ($K1998-U$60)/ ( P1998 / 2.2) ) + POWER(POWER(U$67, 2),-0.5) * EXP(- POWER(U$67, 2) * POWER(1 + POWER(U$67, 2),-1) * ($K1998-U$60) / ( P1998 / 2.2) ) ),\"\")))","v":0},{"$f":"IF(V$56=\"\",\"\",IF(ABS(($K1998-V$60) / ( Q1998 / 2.2))>20,0,IF(V$60<>\"\",V$64 * ( POWER(POWER(V$67, 2),0.5) + POWER(POWER(V$67, 2),-0.5)  ) / ( POWER(POWER(V$67, 2),0.5) * EXP( POWER(1 + POWER(V$67, 2),-1) * ($K1998-V$60)/ ( Q1998 / 2.2) ) + POWER(POWER(V$67, 2),-0.5) * EXP(- POWER(V$67, 2) * POWER(1 + POWER(V$67, 2),-1) * ($K1998-V$60) / ( Q1998 / 2.2) ) ),\"\")))","v":""},{"$f":"IF(W$56=\"\",\"\",IF(ABS(($K1998-W$60) / ( R1998 / 2.2))>20,0,IF(W$60<>\"\",W$64 * ( POWER(POWER(W$67, 2),0.5) + POWER(POWER(W$67, 2),-0.5)  ) / ( POWER(POWER(W$67, 2),0.5) * EXP( POWER(1 + POWER(W$67, 2),-1) * ($K1998-W$60)/ ( R1998 / 2.2) ) + POWER(POWER(W$67, 2),-0.5) * EXP(- POWER(W$67, 2) * POWER(1 + POWER(W$67, 2),-1) * ($K1998-W$60) / ( R1998 / 2.2) ) ),\"\")))","v":""},{"$f":"IF(X$56=\"\",\"\",IF(ABS(($K1998-X$60) / ( S1998 / 2.2))>20,0,IF(X$60<>\"\",X$64 * ( POWER(POWER(X$67, 2),0.5) + POWER(POWER(X$67, 2),-0.5)  ) / ( POWER(POWER(X$67, 2),0.5) * EXP( POWER(1 + POWER(X$67, 2),-1) * ($K1998-X$60)/ ( S1998 / 2.2) ) + POWER(POWER(X$67, 2),-0.5) * EXP(- POWER(X$67, 2) * POWER(1 + POWER(X$67, 2),-1) * ($K1998-X$60) / ( S1998 / 2.2) ) ),\"\")))","v":""},{"$f":"SUM(T1998:AA1998)+RAND()*$C$69+$C$67","v":2.01742431815082},null,{"$f":"IF(Q$56=\"\",\"\",($K1998-$K1997)*T1998)","v":0},{"$f":"IF(R$56=\"\",\"\",($K1998-$K1997)*U1998)","v":0},{"$f":"IF(S$56=\"\",\"\",($K1998-$K1997)*V1998)","v":0},{"$f":"IF(T$56=\"\",\"\",($K1998-$K1997)*W1998)","v":0},{"$f":"IF(U$56=\"\",\"\",($K1998-$K1997)*X1998)","v":0},{"$f":"IF(V$56=\"\",\"\",($K1998-$K1997)*Y1998)","v":""},{"$f":"IF(W$56=\"\",\"\",($K1998-$K1997)*Z1998)","v":""},{"$f":"IF(X$56=\"\",\"\",($K1998-$K1997)*AA1998)","v":""},null,22.789774553793908,0,0,0,0,0,"","","",2.0176817443894444,null,0,0,0,0,0,"","","",null,{"$f":"IF($C$8=\"isocratic\",K1997,AM1998)","v":8.9112073069171203},{"$f":"IF($C$8=\"isocratic\",AB1997,AV1998)","v":2.029769719850806}]
[null,null,null,null,null,null,null,null,null,null,8.9390548297512318,0.17051217692510084,0.12989537494617287,0.10323320624927911,8.5203270996389205E-2,7.7624238517537303E-2,"","","",0,0,0,0,0,"","","",2.0635916167745783,null,0,0,0,0,0,"","","",null,22.849122925027746,0,0,0,0,0,"","","",2.1223993950829563,null,0,0,0,0,0,"","","",null,8.9344135759455465,2.1618623222840654]
[null,null,null,null,null,null,null,null,null,null,8.9669023525853433,0.17104336750742197,0.13030003343510169,0.10355480502264131,8.5468701747156733E-2,7.7866058575224301E-2,"","","",0,0,0,0,0,"","","",2.0692883048755775,null,0,0,0,0,0,"","","",null,22.920340970508352,0,0,0,0,0,"","","",2.0151907443888026,null,0,0,0,0,0,"","","",null,8.962261098779658,2.0132190140863808]
[null,null,null,null,null,null,null,null,null,null,8.9901086216137696,0.17148602632602286,0.13063724884254238,0.10382280400044312,8.5689894039462991E-2,7.8067575289963456E-2,"","","",0,0,0,0,0,"","","",2.1067748136634026,null,0,0,0,0,0,"","","",null,22.979689341742191,0,0,0,0,0,"","","",2.0686354107554812,null,0,0,0,0,0,"","","",null,8.9854673678080843,2.152384726949466]
[null,null,null,null,null,null,null,null,null,null,9.0179561444478811,0.17201721690834398,0.1310419073314712,0.10414440277380531,8.595532479023052E-2,7.8309395347650454E-2,"","","",0,0,0,0,0,"","","",2.0054559969964809,null,0,0,0,0,0,"","","",null,23.050907387222797,0,0,0,0,0,"","","",2.0231420459001686,null,0,0,0,0,0,"","","",null,9.0133148906421958,2.1516381593281761]
[null,null,null,null,null,null,null,null,null,null,9.0411624134763073,0.17245987572694488,0.13137912273891186,0.10441240175160713,8.6176517082536791E-2,7.851091206238961E-2,"","","",0,0,0,0,0,"","","",2.1652389438646922,null,0,0,0,0,0,"","","",null,23.110255758456635,0,0,0,0,0,"","","",2.056815379575502,null,0,0,0,0,0,"","","",null,9.0365211596706221,2.1138330310960232]
[null,null,null,null,null,null,null,null,null,null,9.0643686825047336,0.1729025345455458,0.13171633814635256,0.10468040072940896,8.6397709374843062E-2,7.8712428777128779E-2,"","","",0,0,0,0,0,"","","",2.0114294045776351,null,0,0,0,0,0,"","","",null,23.169604129690473,0,0,0,0,0,"","","",2.0754454865338645,null,0,0,0,0,0,"","","",null,9.0597274286990483,2.1649376611501436]
[null,null,null,null,null,null,null,null,null,null,9.0736511901161041,0.17307959807298617,0.13185122430932883,0.10478760032052968,8.6486186291765563E-2,7.8793035463024436E-2,"","","",0,0,0,0,0,"","","",2.0672816378254897,null,0,0,0,0,0,"","","",null,23.193343478184008,0,0,0,0,0,"","","",2.01272415007542,null,0,0,0,0,0,"","","",null,9.0690099363104189,2.0111874566105401]
[null,null,null,null,null,null,null,null,null,null,9.0875749515331599,0.17334519336414672,0.13205355355379325,0.10494839970721077,8.6618901667149334E-2,7.8913945491867921E-2,"","","",0,0,0,0,0,"","","",2.0048285142520399,null,0,0,0,0,0,"","","",null,23.228952500924311,0,0,0,0,0,"","","",2.0323731474437903,null,0,0,0,0,0,"","","",null,9.0829336977274746,2.10028402451122]
[null,null,null,null,null,null,null,null,null,null,9.1107812205615861,0.17378785218274764,0.13239076896123395,0.1052163986850126,8.6840093959455605E-2,7.911546220660709E-2,"","","",0,0,0,0,0,"","","",2.1631317284017668,null,0,0,0,0,0,"","","",null,23.28830087215815,0,0,0,0,0,"","","",2.137642845366388,null,0,0,0,0,0,"","","",null,9.1061399667559009,2.0326391086290245]
[null,null,null,null,null,null,null,null,null,null,9.1386287433956976,0.17431904276506874,0.13279542745016276,0.10553799745837479,8.7105524710223134E-2,7.9357282264294088E-2,"","","",0,0,0,0,0,"","","",2.0839910348120152,null,0,0,0,0,0,"","","",null,23.359518917638756,0,0,0,0,0,"","","",2.0459221138231571,null,0,0,0,0,0,"","","",null,9.1339874895900124,2.1568042515038957]
[null,null,null,null,null,null,null,null,null,null,9.1618350124241239,0.17476170158366966,0.13313264285760343,0.10580599643617661,8.7326717002529392E-2,7.9558798979033243E-2,"","","",0,0,0,0,0,"","","",2.0891818751407016,null,0,0,0,0,0,"","","",null,23.418867288872594,0,0,0,0,0,"","","",2.0883849902900997,null,0,0,0,0,0,"","","",null,9.1571937586184387,2.0208912195613498]
[null,null,null,null,null,null,null,null,null,null,9.1896825352582354,0.17529289216599075,0.13353730134653224,0.10612759520953881,8.7592147753296934E-2,7.9800619036720241E-2,"","","",0,0,0,0,0,"","","",2.1400187461929461,null,0,0,0,0,0,"","","",null,23.4900853343532,0,0,0,0,0,"","","",2.0961215127547601,null,0,0,0,0,0,"","","",null,9.1850412814525502,2.0122386313791956]
[null,null,null,null,null,null,null,null,null,null,{"$f":"K2061+1/($C$74*60)","v":9.2128888042866617},{"$f":"IF(Q$56=\"\",\"\",SQRT(($K2062*$K2062)/$Q$72))","v":0.17573555098459168},{"$f":"IF(R$56=\"\",\"\",SQRT(($K2062*$K2062)/$R$72))","v":0.13387451675397294},{"$f":"IF(S$56=\"\",\"\",SQRT(($K2062*$K2062)/$S$72))","v":0.10639559418734063},{"$f":"IF(T$56=\"\",\"\",SQRT(($K2062*$K2062)/$T$72))","v":8.7813340045603192E-2},{"$f":"IF(U$56=\"\",\"\",SQRT(($K2062*$K2062)/$U$72))","v":8.0002135751459397E-2},{"$f":"IF(V$56=\"\",\"\",SQRT(($K2062*$K2062)/$V$72))","v":""},{"$f":"IF(W$56=\"\",\"\",SQRT(($K2062*$K2062)/$W$72))","v":""},{"$f":"IF(X$56=\"\",\"\",SQRT(($K2062*$K2062)/$X$72))","v":""},{"$f":"IF(Q$56=\"\",\"\",IF(ABS(($K2062-Q$60) / ( L2062 / 2.2))>20,0,IF(Q$60<>\"\",Q$64 * ( POWER(POWER(Q$67, 2),0.5) + POWER(POWER(Q$67, 2),-0.5)  ) / ( POWER(POWER(Q$67, 2),0.5) * EXP( POWER(1 + POWER(Q$67, 2),-1) * ($K2062-Q$60)/ ( L2062 / 2.2) ) + POWER(POWER(Q$67, 2),-0.5) * EXP(- POWER(Q$67, 2) * POWER(1 + POWER(Q$67, 2),-1) * ($K2062-Q$60) / ( L2062 / 2.2) ) ),\"\")))","v":0},{"$f":"IF(R$56=\"\",\"\",IF(ABS(($K2062-R$60) / ( M2062 / 2.2))>20,0,IF(R$60<>\"\",R$64 * ( POWER(POWER(R$67, 2),0.5) + POWER(POWER(R$67, 2),-0.5)  ) / ( POWER(POWER(R$67, 2),0.5) * EXP( POWER(1 + POWER(R$67, 2),-1) * ($K2062-R$60)/ ( M2062 / 2.2) ) + POWER(POWER(R$67, 2),-0.5) * EXP(- POWER(R$67, 2) * POWER(1 + POWER(R$67, 2),-1) * ($K2062-R$60) / ( M2062 / 2.2) ) ),\"\")))","v":0},{"$f":"IF(S$56=\"\",\"\",IF(ABS(($K2062-S$60) / ( N2062 / 2.2))>20,0,IF(S$60<>\"\",S$64 * ( POWER(POWER(S$67, 2),0.5) + POWER(POWER(S$67, 2),-0.5)  ) / ( POWER(POWER(S$67, 2),0.5) * EXP( POWER(1 + POWER(S$67, 2),-1) * ($K2062-S$60)/ ( N2062 / 2.2) ) + POWER(POWER(S$67, 2),-0.5) * EXP(- POWER(S$67, 2) * POWER(1 + POWER(S$67, 2),-1) * ($K2062-S$60) / ( N2062 / 2.2) ) ),\"\")))","v":0},{"$f":"IF(T$56=\"\",\"\",IF(ABS(($K2062-T$60) / ( O2062 / 2.2))>20,0,IF(T$60<>\"\",T$64 * ( POWER(POWER(T$67, 2),0.5) + POWER(POWER(T$67, 2),-0.5)  ) / ( POWER(POWER(T$67, 2),0.5) * EXP( POWER(1 + POWER(T$67, 2),-1) * ($K2062-T$60)/ ( O2062 / 2.2) ) + POWER(POWER(T$67, 2),-0.5) * EXP(- POWER(T$67, 2) * POWER(1 + POWER(T$67, 2),-1) * ($K2062-T$60) / ( O2062 / 2.2) ) ),\"\")))","v":0},{"$f":"IF(U$56=\"\",\"\",IF(ABS(($K2062-U$60) / ( P2062 / 2.2))>20,0,IF(U$60<>\"\",U$64 * ( POWER(POWER(U$67, 2),0.5) + POWER(POWER(U$67, 2),-0.5)  ) / ( POWER(POWER(U$67, 2),0.5) * EXP( POWER(1 + POWER(U$67, 2),-1) * ($K2062-U$60)/ ( P2062 / 2.2) ) + POWER(POWER(U$67, 2),-0.5) * EXP(- POWER(U$67, 2) * POWER(1 + POWER(U$67, 2),-1) * ($K2062-U$60) / ( P2062 / 2.2) ) ),\"\")))","v":0},{"$f":"IF(V$56=\"\",\"\",IF(ABS(($K2062-V$60) / ( Q2062 / 2.2))>20,0,IF(V$60<>\"\",V$64 * ( POWER(POWER(V$67, 2),0.5) + POWER(POWER(V$67, 2),-0.5)  ) / ( POWER(POWER(V$67, 2),0.5) * EXP( POWER(1 + POWER(V$67, 2),-1) * ($K2062-V$60)/ ( Q2062 / 2.2) ) + POWER(POWER(V$67, 2),-0.5) * EXP(- POWER(V$67, 2) * POWER(1 + POWER(V$67, 2),-1) * ($K2062-V$60) / ( Q2062 / 2.2) ) ),\"\")))","v":""},{"$f":"IF(W$56=\"\",\"\",IF(ABS(($K2062-W$60) / ( R2062 / 2.2))>20,0,IF(W$60<>\"\",W$64 * ( POWER(POWER(W$67, 2),0.5) + POWER(POWER(W$67, 2),-0.5)  ) / ( POWER(POWER(W$67, 2),0.5) * EXP( POWER(1 + POWER(W$67, 2),-1) * ($K2062-W$60)/ ( R2062 / 2.2) ) + POWER(POWER(W$67, 2),-0.5) * EXP(- POWER(W$67, 2) * POWER(1 + POWER(W$67, 2),-1) * ($K2062-W$60) / ( R2062 / 2.2) ) ),\"\")))","v":""},{"$f":"IF(X$56=\"\",\"\",IF(ABS(($K2062-X$60) / ( S2062 / 2.2))>20,0,IF(X$60<>\"\",X$64 * ( POWER(POWER(X$67, 2),0.5) + POWER(POWER(X$67, 2),-0.5)  ) / ( POWER(POWER(X$67, 2),0.5) * EXP( POWER(1 + POWER(X$67, 2),-1) * ($K2062-X$60)/ ( S2062 / 2.2) ) + POWER(POWER(X$67, 2),-0.5) * EXP(- POWER(X$67, 2) * POWER(1 + POWER(X$67, 2),-1) * ($K2062-X$60) / ( S2062 / 2.2) ) ),\"\")))","v":""},{"$f":"SUM(T2062:AA2062)+RAND()*$C$69+$C$67","v":2.1501917234876222},null,{"$f":"IF(Q$56=\"\",\"\",($K2062-$K2061)*T2062)","v":0},{"$f":"IF(R$56=\"\",\"\",($K2062-$K2061)*U2062)","v":0},{"$f":"IF(S$56=\"\",\"\",($K2062-$K2061)*V2062)","v":0},{"$f":"IF(T$56=\"\",\"\",($K2062-$K2061)*W2062)","v":0},{"$f":"IF(U$56=\"\",\"\",($K2062-$K2061)*X2062)","v":0},{"$f":"IF(V$56=\"\",\"\",($K2062-$K2061)*Y2062)","v":""},{"$f":"IF(W$56=\"\",\"\",($K2062-$K2061)*Z2062)","v":""},{"$f":"IF(X$56=\"\",\"\",($K2062-$K2061)*AA2062)","v":""},null,23.549433705587038,0,0,0,0,0,"","","",2.0849194058816547,null,0,0,0,0,0,"","","",null,{"$f":"IF($C$8=\"isocratic\",K2061,AM2062)","v":9.2082475504809764},{"$f":"IF($C$8=\"isocratic\",AB2061,AV2062)","v":2.1162893464597055}]
[null,null,null,null,null,null,null,null,null,null,9.2360950733150879,0.1761782098031926,0.13421173216141363,0.10666359316514246,8.8034532337909463E-2,8.0203652466198566E-2,"","","",0,0,0,0,0,"","","",2.1040681103703895,null,0,0,0,0,0,"","","",null,23.608782076820876,0,0,0,0,0,"","","",2.0772388853165014,null,0,0,0,0,0,"","","",null,9.2314538195094027,2.0994088035809177]
[null,null,null,null,null,null,null,null,null,null,9.2639425961491995,0.17670940038551369,0.13461639065034245,0.10698519193850464,8.8299963088676992E-2,8.0445472523885564E-2,"","","",0,0,0,0,0,"","","",2.0424728570991135,null,0,0,0,0,0,"","","",null,23.680000122301482,0,0,0,0,0,"","","",2.1045190864245815,null,0,0,0,0,0,"","","",null,9.2593013423435142,2.1561775694212244]
[null,null,null,null,null,null,null,null,null,null,9.2871488651776257,0.17715205920411461,0.13495360605778314,0.10725319091630646,8.8521155380983263E-2,8.0646989238624719E-2,"","","",0,0,0,0,0,"","","",2.0210775099305498,null,0,0,0,0,0,"","","",null,23.739348493535321,0,0,0,0,0,"","","",2.1441583735602254,null,0,0,0,0,0,"","","",null,9.2825076113719405,2.1638900443538231]
[null,null,null,null,null,null,null,null,null,null,9.310355134206052,0.17759471802271554,0.13529082146522384,0.10752118989410829,8.8742347673289534E-2,8.0848505953363875E-2,"","","",0,0,0,0,0,"","","",2.1308814722439799,null,0,0,0,0,0,"","","",null,23.798696864769159,0,0,0,0,0,"","","",2.0395438275298159,null,0,0,0,0,0,"","","",null,9.3057138804003667,2.1049918696766223]
[null,null,null,null,null,null,null,null,null,null,9.3335614032344782,0.17803737684131643,0.1356280368726645,0.10778918887191011,8.8963539965595806E-2,8.1050022668103044E-2,"","","",0,0,0,0,0,"","","",2.16361833362593,null,0,0,0,0,0,"","","",null,23.858045236002997,0,0,0,0,0,"","","",2.0789313887845706,null,0,0,0,0,0,"","","",null,9.328920149428793,2.0260426851289592]
[null,null,null,null,null,null,null,null,null,null,9.3567676722629045,0.17848003565991738,0.1359652522801052,0.10805718784971194,8.9184732257902077E-2,8.12515393828422E-2,"","","",0,0,0,0,0,"","","",2.1316062528314301,null,0,0,0,0,0,"","","",null,23.917393607236836,0,0,0,0,0,"","","",2.0186602736000876,null,0,0,0,0,0,"","","",null,9.3521264184572193,2.0845060530631048]
[null,null,null,null,null,null,null,null,null,null,9.3614089260685898,0.17856856742363755,0.13603269536159332,0.10811078764527229,8.9228970716363334E-2,8.1291842725790028E-2,"","","",0,0,0,0,0,"","","",2.0888734555922537,null,0,0,0,0,0,"","","",null,23.929263281483603,0,0,0,0,0,"","","",2.1382031335195442,null,0,0,0,0,0,"","","",null,9.3567676722629045,2.1316062528314301]
[null,null,null,null,null,null,null,null,null,null,9.384615195097016,0.17901122624223847,0.13636991076903401,0.10837878662307412,8.9450163008669592E-2,8.1493359440529198E-2,"","","",0,0,0,0,0,"","","",2.1563852463185125,null,0,0,0,0,0,"","","",null,23.988611652717442,0,0,0,0,0,"","","",2.1172606987328422,null,0,0,0,0,0,"","","",null,9.3799739412913308,2.0984831674677289]
[null,null,null,null,null,null,null,null,null,null,9.4078214641254423,0.1794538850608394,0.13670712617647471,0.10864678560087596,8.9671355300975877E-2,8.1694876155268353E-2,"","","",0,0,0,0,0,"","","",2.1125075311385828,null,0,0,0,0,0,"","","",null,24.04796002395128,0,0,0,0,0,"","","",2.077789675373888,null,0,0,0,0,0,"","","",null,9.403180210319757,2.0277793436981604]
[null,null,null,null,null,null,null,null,null,null,9.4356689869595538,0.17998507564316049,0.13711178466540352,0.10896838437423813,8.9936786051743392E-2,8.1936696212955351E-2,"","","",0,0,0,0,0,"","","",2.1258041316001628,null,0,0,0,0,0,"","","",null,24.119178069431886,0,0,0,0,0,"","","",2.0167813683632145,null,0,0,0,0,0,"","","",null,9.4310277331538686,2.0451108467530492]
[null,null,null,null,null,null,null,null,null,null,9.4588752559879801,0.18042773446176141,0.13744900007284422,0.10923638335203996,9.0157978344049663E-2,8.2138212927694507E-2,"","","",0,0,0,0,0,"","","",2.1287743908368353,null,0,0,0,0,0,"","","",null,24.178526440665724,0,0,0,0,0,"","","",2.0363381517273882,null,0,0,0,0,0,"","","",null,9.4542340021822948,2.0203548931888791]
[null,null,null,null,null,null,null,null,null,null,9.4867227788220916,0.18095892504408251,0.13785365856177303,0.10955798212540215,9.0423409094817192E-2,8.2380032985381504E-2,"","","",0,0,0,0,0,"","","",2.077317803993223,null,0,0,0,0,0,"","","",null,24.24974448614633,0,0,0,0,0,"","","",2.095477455622027,null,0,0,0,0,0,"","","",null,9.4820815250164063,2.0448202917337848]
[null,null,null,null,null,null,null,null,null,null,{"$f":"K2125+1/($C$74*60)","v":9.5099290478505178},{"$f":"IF(Q$56=\"\",\"\",SQRT(($K2126*$K2126)/$Q$72))","v":0.18140158386268343},{"$f":"IF(R$56=\"\",\"\",SQRT(($K2126*$K2126)/$R$72))","v":0.13819087396921373},{"$f":"IF(S$56=\"\",\"\",SQRT(($K2126*$K2126)/$S$72))","v":0.10982598110320398},{"$f":"IF(T$56=\"\",\"\",SQRT(($K2126*$K2126)/$T$72))","v":9.0644601387123463E-2},{"$f":"IF(U$56=\"\",\"\",SQRT(($K2126*$K2126)/$U$72))","v":8.258154970012066E-2},{"$f":"IF(V$56=\"\",\"\",SQRT(($K2126*$K2126)/$V$72))","v":""},{"$f":"IF(W$56=\"\",\"\",SQRT(($K2126*$K2126)/$W$72))","v":""},{"$f":"IF(X$56=\"\",\"\",SQRT(($K2126*$K2126)/$X$72))","v":""},{"$f":"IF(Q$56=\"\",\"\",IF(ABS(($K2126-Q$60) / ( L2126 / 2.2))>20,0,IF(Q$60<>\"\",Q$64 * ( POWER(POWER(Q$67, 2),0.5) + POWER(POWER(Q$67, 2),-0.5)  ) / ( POWER(POWER(Q$67, 2),0.5) * EXP( POWER(1 + POWER(Q$67, 2),-1) * ($K2126-Q$60)/ ( L2126 / 2.2) ) + POWER(POWER(Q$67, 2),-0.5) * EXP(- POWER(Q$67, 2) * POWER(1 + POWER(Q$67, 2),-1) * ($K2126-Q$60) / ( L2126 / 2.2) ) ),\"\")))","v":0},{"$f":"IF(R$56=\"\",\"\",IF(ABS(($K2126-R$60) / ( M2126 / 2.2))>20,0,IF(R$60<>\"\",R$64 * ( POWER(POWER(R$67, 2),0.5) + POWER(POWER(R$67, 2),-0.5)  ) / ( POWER(POWER(R$67, 2),0.5) * EXP( POWER(1 + POWER(R$67, 2),-1) * ($K2126-R$60)/ ( M2126 / 2.2) ) + POWER(POWER(R$67, 2),-0.5) * EXP(- POWER(R$67, 2) * POWER(1 + POWER(R$67, 2),-1) * ($K2126-R$60) / ( M2126 / 2.2) ) ),\"\")))","v":0},{"$f":"IF(S$56=\"\",\"\",IF(ABS(($K2126-S$60) / ( N2126 / 2.2))>20,0,IF(S$60<>\"\",S$64 * ( POWER(POWER(S$67, 2),0.5) + POWER(POWER(S$67, 2),-0.5)  ) / ( POWER(POWER(S$67, 2),0.5) * EXP( POWER(1 + POWER(S$67, 2),-1) * ($K2126-S$60)/ ( N2126 / 2.2) ) + POWER(POWER(S$67, 2),-0.5) * EXP(- POWER(S$67, 2) * POWER(1 + POWER(S$67, 2),-1) * ($K2126-S$60) / ( N2126 / 2.2) ) ),\"\")))","v":0},{"$f":"IF(T$56=\"\",\"\",IF(ABS(($K2126-T$60) / ( O2126 / 2.2))>20,0,IF(T$60<>\"\",T$64 * ( POWER(POWER(T$67, 2),0.5) + POWER(POWER(T$67, 2),-0.5)  ) / ( POWER(POWER(T$67, 2),0.5) * EXP( POWER(1 + POWER(T$67, 2),-1) * ($K2126-T$60)/ ( O2126 / 2.2) ) + POWER(POWER(T$67, 2),-0.5) * EXP(- POWER(T$67, 2) * POWER(1 + POWER(T$67, 2),-1) * ($K2126-T$60) / ( O2126 / 2.2) ) ),\"\")))","v":0},{"$f":"IF(U$56=\"\",\"\",IF(ABS(($K2126-U$60) / ( P2126 / 2.2))>20,0,IF(U$60<>\"\",U$64 * ( POWER(POWER(U$67, 2),0.5) + POWER(POWER(U$67, 2),-0.5)  ) / ( POWER(POWER(U$67, 2),0.5) * EXP( POWER(1 + POWER(U$67, 2),-1) * ($K2126-U$60)/ ( P2126 / 2.2) ) + POWER(POWER(U$67, 2),-0.5) * EXP(- POWER(U$67, 2) * POWER(1 + POWER(U$67, 2),-1) * ($K2126-U$60) / ( P2126 / 2.2) ) ),\"\")))","v":0},{"$f":"IF(V$56=\"\",\"\",IF(ABS(($K2126-V$60) / ( Q2126 / 2.2))>20,0,IF(V$60<>\"\",V$64 * ( POWER(POWER(V$67, 2),0.5) + POWER(POWER(V$67, 2),-0.5)  ) / ( POWER(POWER(V$67, 2),0.5) * EXP( POWER(1 + POWER(V$67, 2),-1) * ($K2126-V$60)/ ( Q2126 / 2.2) ) + POWER(POWER(V$67, 2),-0.5) * EXP(- POWER(V$67, 2) * POWER(1 + POWER(V$67, 2),-1) * ($K2126-V$60) / ( Q2126 / 2.2) ) ),\"\")))","v":""},{"$f":"IF(W$56=\"\",\"\",IF(ABS(($K2126-W$60) / ( R2126 / 2.2))>20,0,IF(W$60<>\"\",W$64 * ( POWER(POWER(W$67, 2),0.5) + POWER(POWER(W$67, 2),-0.5)  ) / ( POWER(POWER(W$67, 2),0.5) * EXP( POWER(1 + POWER(W$67, 2),-1) * ($K2126-W$60)/ ( R2126 / 2.2) ) + POWER(POWER(W$67, 2),-0.5) * EXP(- POWER(W$67, 2) * POWER(1 + POWER(W$67, 2),-1) * ($K2126-W$60) / ( R2126 / 2.2) ) ),\"\")))","v":""},{"$f":"IF(X$56=\"\",\"\",IF(ABS(($K2126-X$60) / ( S2126 / 2.2))>20,0,IF(X$60<>\"\",X$64 * ( POWER(POWER(X$67, 2),0.5) + POWER(POWER(X$67, 2),-0.5)  ) / ( POWER(POWER(X$67, 2),0.5) * EXP( POWER(1 + POWER(X$67, 2),-1) * ($K2126-X$60)/ ( S2126 / 2.2) ) + POWER(POWER(X$67, 2),-0.5) * EXP(- POWER(X$67, 2) * POWER(1 + POWER(X$67, 2),-1) * ($K2126-X$60) / ( S2126 / 2.2) ) ),\"\")))","v":""},{"$f":"SUM(T2126:AA2126)+RAND()*$C$69+$C$67","v":2.0981768526853832},null,{"$f":"IF(Q$56=\"\",\"\",($K2126-$K2125)*T2126)","v":0},{"$f":"IF(R$56=\"\",\"\",($K2126-$K2125)*U2126)","v":0},{"$f":"IF(S$56=\"\",\"\",($K2126-$K2125)*V2126)","v":0},{"$f":"IF(T$56=\"\",\"\",($K2126-$K2125)*W2126)","v":0},{"$f":"IF(U$56=\"\",\"\",($K2126-$K2125)*X2126)","v":0},{"$f":"IF(V$56=\"\",\"\",($K2126-$K2125)*Y2126)","v":""},{"$f":"IF(W$56=\"\",\"\",($K2126-$K2125)*Z2126)","v":""},{"$f":"IF(X$56=\"\",\"\",($K2126-$K2125)*AA2126)","v":""},null,24.309092857380168,0,0,0,0,0,"","","",2.0986696141685788,null,0,0,0,0,0,"","","",null,{"$f":"IF($C$8=\"isocratic\",K2125,AM2126)","v":9.5052877940448326},{"$f":"IF($C$8=\"isocratic\",AB2125,AV2126)","v":2.104390031884011}]
[null,null,null,null,null,null,null,null,null,null,9.5331353168789441,0.18184424268128435,0.1385280893766544,0.11009398008100579,9.0865793679429735E-2,8.2783066414859829E-2,"","","",0,0,0,0,0,"","","",2.1304771337484398,null,0,0,0,0,0,"","","",null,24.368441228614007,0,0,0,0,0,"","","",2.0783104924268447,null,0,0,0,0,0,"","","",null,9.5284940630732589,2.1054448010421649]
[null,null,null,null,null,null,null,null,null,null,9.5563415859073704,0.18228690149988527,0.13886530478409509,0.11036197905880762,9.1086985971736006E-2,8.2984583129598985E-2,"","","",0,0,0,0,0,"","","",2.1645194570285398,null,0,0,0,0,0,"","","",null,24.427789599847845,0,0,0,0,0,"","","",2.0562707512510219,null,0,0,0,0,0,"","","",null,9.5517003321016851,2.113479410299715]
[null,null,null,null,null,null,null,null,null,null,9.5795478549357966,0.18272956031848619,0.13920252019153578,0.11062997803660946,9.1308178264042278E-2,8.3186099844338154E-2,"","","",0,0,0,0,0,"","","",2.093527753357646,null,0,0,0,0,0,"","","",null,24.487137971081683,0,0,0,0,0,"","","",2.1198035907436639,null,0,0,0,0,0,"","","",null,9.5749066011301114,2.0665051484619537]
[null,null,null,null,null,null,null,null,null,null,9.6027541239642229,0.18317221913708709,0.13953973559897648,0.11089797701441127,9.1529370556348549E-2,8.338761655907731E-2,"","","",0,0,0,0,0,"","","",2.0641780812821309,null,0,0,0,0,0,"","","",null,24.546486342315522,0,0,0,0,0,"","","",2.0834592653761304,null,0,0,0,0,0,"","","",null,9.5981128701585376,2.1393552802213209]
[null,null,null,null,null,null,null,null,null,null,9.6306016467983344,0.18370340971940821,0.13994439408790529,0.11121957578777346,9.1794801307116064E-2,8.3629436616764308E-2,"","","",0,0,0,0,0,"","","",2.0976230052930189,null,0,0,0,0,0,"","","",null,24.617704387796127,0,0,0,0,0,"","","",2.146301044675929,null,0,0,0,0,0,"","","",null,9.6259603929926492,2.1316450737320176]
[null,null,null,null,null,null,null,null,null,null,9.6538079158267607,0.18414606853800913,0.14028160949534596,0.11148757476557528,9.2015993599422335E-2,8.3830953331503463E-2,"","","",0,0,0,0,0,"","","",2.1195249333499881,null,0,0,0,0,0,"","","",null,24.677052759029966,0,0,0,0,0,"","","",2.0588942467759419,null,0,0,0,0,0,"","","",null,9.6491666620210754,2.1259110016827685]
[null,null,null,null,null,null,null,null,null,null,9.6584491696324459,0.18423460030172931,0.14034905257683411,0.11154117456113564,9.2060232057883593E-2,8.3871256674451292E-2,"","","",0,0,0,0,0,"","","",2.0037613727372245,null,0,0,0,0,0,"","","",null,24.688922433276733,0,0,0,0,0,"","","",2.040247482671945,null,0,0,0,0,0,"","","",null,9.6538079158267607,2.1195249333499881]
[null,null,null,null,null,null,null,null,null,null,9.6816554386608722,0.18467725912033023,0.1406862679842748,0.11180917353893748,9.2281424350189878E-2,8.4072773389190461E-2,"","","",0,0,0,0,0,"","","",2.1485999020891136,null,0,0,0,0,0,"","","",null,24.748270804510572,0,0,0,0,0,"","","",2.0261932890924719,null,0,0,0,0,0,"","","",null,9.6770141848551869,2.1387214722428163]
[null,null,null,null,null,null,null,null,null,null,9.7048617076892985,0.18511991793893115,0.14102348339171547,0.11207717251673929,9.2502616642496135E-2,8.4274290103929617E-2,"","","",0,0,0,0,0,"","","",2.1589552141788713,null,0,0,0,0,0,"","","",null,24.80761917574441,0,0,0,0,0,"","","",2.1132651220747629,null,0,0,0,0,0,"","","",null,9.7002204538836132,2.07461539010106]
[null,null,null,null,null,null,null,null,null,null,9.73270923052341,0.18565110852125224,0.14142814188064431,0.11239877129010148,9.2768047393263664E-2,8.4516110161616614E-2,"","","",0,0,0,0,0,"","","",2.1420059062776238,null,0,0,0,0,0,"","","",null,24.878837221225016,0,0,0,5.0402192437608486E-3,0,"","","",2.1787841232106411,null,0,0,0,5.9825760555730906E-5,0,"","","",null,9.7280679767177247,2.1003246835666651]
[null,null,null,null,null,null,null,null,null,null,9.7559154995518362,0.18609376733985314,0.14176535728808498,0.11266677026790331,9.2989239685569935E-2,8.471762687635577E-2,"","","",0,0,0,0,0,"","","",2.1227667873399514,null,0,0,0,0,0,"","","",null,24.938185592458854,0,0,0,1.3912372171518918E-2,0,"","","",2.146512740457148,null,0,0,0,1.6513532567572514E-4,0,"","","",null,9.751274245746151,2.0297135221068894]
[null,null,null,null,null,null,null,null,null,null,9.7744805147745772,0.18644789439473392,0.14203512961403753,0.11288116945014477,9.316619351941495E-2,8.4878840248147111E-2,"","","",0,0,0,0,0,"","","",2.0742272950872471,null,0,0,0,0,0,"","","",null,24.985664289445925,0,0,0,3.1344587197542344E-2,0,"","","",2.1984474592270344,null,0,0,0,3.7205003943423161E-4,0,"","","",null,9.769839260968892,2.0733179837950284]
[null,null,null,null,null,null,null,null,null,null,9.8023280376086888,0.18697908497705501,0.14243978810296634,0.11320276822350696,9.3431624270182478E-2,8.5120660305834095E-2,"","","",0,0,0,0,0,"","","",2.146296707790464,null,0,0,0,0,0,"","","",null,25.056882334926531,0,0,0,0.1059995722284171,0,"","","",2.1362321982098091,null,0,0,0,1.2581803926480309E-3,0,"","","",null,9.7976867838030035,2.0951766951253408]
[null,null,null,null,null,null,null,null,null,null,9.825534306637115,0.1874217437956559,0.14277700351040704,0.11347076720130878,9.365281656248875E-2,8.532217702057325E-2,"","","",0,0,0,0,0,"","","",2.1441677029621746,null,0,0,0,0,0,"","","",null,25.116230706160369,0,0,0,0.29258506918630062,0,"","","",2.3302395572482859,null,0,0,0,3.4728894607093659E-3,0,"","","",null,9.8208930528314298,2.0219591532574626]
[null,null,null,null,null,null,null,null,null,null,9.8533818294712265,0.187952934377977,0.14318166199933588,0.11379236597467098,9.3918247313256278E-2,8.5563997078260248E-2,"","","",0,0,0,0,0,"","","",2.0793206725071389,null,0,0,0,0,0,"","","",null,25.187448751640975,0,0,0,0.98935969772339116,0,"","","",3.0565403264313948,null,0,0,0,1.1743377324857172E-2,0,"","","",null,9.8487405756655413,2.0291864219394666]
[null,null,null,null,null,null,null,null,null,null,9.8765880984996528,0.18839559319657792,0.14351887740677655,0.11406036495247279,9.4139439605562536E-2,8.5765513792999404E-2,"","","",0,0,0,0,0,"","","",2.0208346860438242,null,0,0,0,0,0,"","","",null,25.246797122874813,0,0,0,2.729245165221093,0,"","","",4.8271228941338435,null,0,0,0,3.2395251050739954E-2,0,"","","",null,9.8719468446939675,2.1546137529147416]
[null,null,null,null,null,null,null,null,null,null,9.8997943675280791,0.18883825201517884,0.14385609281421724,0.11432836393027461,9.4360631897868807E-2,8.5967030507738573E-2,"","","",0,0,0,0,0,"","","",2.0657315204159081,null,0,0,0,0,0,"","","",null,25.306145494108652,0,0,0,7.5019187791658588,0,"","","",9.6408227804051538,null,0,0,0,8.904533213440767E-2,0,"","","",null,9.8951531137223938,2.1411647144822576]
[null,null,null,null,null,null,null,null,null,null,9.9276418903621906,0.18936944259749994,0.14426075130314606,0.11464996270363681,9.4626062648636336E-2,8.6208850565425557E-2,"","","",0,0,0,0,0,"","","",2.1566360071402446,null,0,0,0,0,0,"","","",null,25.377363539589258,0,0,0,24.275704915409367,0,"","","",26.449206190101624,null,0,0,0,0.28814470945656562,0,"","","",null,9.9230006365565053,2.057070173316522]
[null,null,null,null,null,null,null,null,null,null,9.9508481593906168,0.18981210141610086,0.14459796671058675,0.11491796168143863,9.4847254940942607E-2,8.6410367280164727E-2,"","","",0,0,0,0,0,"","","",2.0130930126404314,null,0,0,0,0,0,"","","",null,25.436711910823096,0,0,0,52.202997343440984,0,"","","",54.291462219635712,null,0,0,0,0.61963257317152198,0,"","","",null,9.9462069055849316,2.1306560008486333]
[null,null,null,null,null,null,null,null,null,null,9.9554894131963021,0.18990063317982103,0.14466540979207487,0.114971561476999,9.4891493399403865E-2,8.6450670623112555E-2,"","","",0,0,0,0,0,"","","",2.0802221304434769,null,0,0,0,0,0,"","","",null,25.448581585069864,0,0,0,56.997295515463186,0,"","","",59.068877625120933,null,0,0,0,0.67653933071529915,0,"","","",null,9.9508481593906168,2.0130930126404314]
[null,null,null,null,null,null,null,null,null,null,9.9786956822247284,0.19034329199842195,0.14500262519951557,0.11523956045480081,9.5112685691710136E-2,8.6652187337851724E-2,"","","",0,0,0,0,0,"","","",2.0584176965647449,null,0,0,0,0,0,"","","",null,25.507929956303702,0,0,0,52.257737243995727,0,"","","",54.402440086920777,null,0,0,0,0.62028231795940725,0,"","","",null,9.9740544284190431,2.0309867433557951]
[null,null,null,null,null,null,null,null,null,null,10.001901951253155,0.19078595081702288,0.14533984060695623,0.11550755943260264,9.5333877984016394E-2,8.685370405259088E-2,"","","",0,0,0,0,0,"","","",2.004401663838153,null,0,0,0,0,0,"","","",null,25.56727832753754,0,0,0,25.620835907351186,0,"","","",27.651908839202072,null,0,0,0,0.30411097615014648,0,"","","",null,9.9972606974474694,2.0318783392937343]
[null,null,null,null,null,null,null,null,null,null,10.039031981698637,0.19149420492678434,0.14587938525886135,0.11593635779708557,9.5687785651706436E-2,8.7176130796173534E-2,"","","",0,0,0,0,0,"","","",2.1560381225738769,null,0,0,0,0,0,"","","",null,25.662235721511681,0,0,0,6.0974264048227393,0,"","","",8.2621980601790206,null,0,0,0,7.2374465168885585E-2,0,"","","",null,10.034390727892951,2.1115289078842938]
[null,null,null,null,null,null,null,null,null,null,10.048314489310007,0.19167126845422472,0.14601427142183762,0.11604355738820629,9.577626256862895E-2,8.7256737482069205E-2,"","","",0,0,0,0,0,"","","",2.0769487469325592,null,0,0,0,0,0,"","","",null,25.685975070005217,0,0,0,4.2227210475316994,0,"","","",6.3654188288834321,null,0,0,0,5.0122323269170765E-2,0,"","","",null,10.043673235504322,2.0673233062329821]
[null,null,null,null,null,null,null,null,null,null,10.071520758338433,0.19211392727282564,0.14635148682927832,0.11631155636600811,9.5997454860935208E-2,8.745825419680836E-2,"","","",0,0,0,0,0,"","","",2.100631563879944,null,0,0,0,0,0,"","","",null,25.745323441239055,0,0,0,1.6824796573584226,0,"","","",3.8377799144588529,null,0,0,0,1.9970485459657742E-2,0,"","","",null,10.066879504532748,2.0912173066585082]
[null,null,null,null,null,null,null,null,null,null,10.099368281172545,0.19264511785514674,0.14675614531820713,0.1166331551393703,9.626288561170275E-2,8.7700074254495358E-2,"","","",0,0,0,0,0,"","","",2.0237412079086896,null,0,0,0,0,0,"","","",null,25.816541486719661,0,0,0,0.55724994206155809,0,"","","",2.6923234016813042,null,0,0,0,6.6143752863008463E-3,0,"","","",null,10.09472702736686,2.0088248345908695]
[null,null,null,null,null,null,null,null,null,null,10.122574550200971,0.19308777667374766,0.1470933607256478,0.11690115411717211,9.6484077904009008E-2,8.7901590969234514E-2,"","","",0,0,0,0,0,"","","",2.0881927290965825,null,0,0,0,0,0,"","","",null,25.875889857953499,0,0,0,0.22186980978492851,0,"","","",2.2533592984259574,null,0,0,0,2.6335223673394051E-3,0,"","","",null,10.117933296395286,2.0674177436098615]
[null,null,null,null,null,null,null,null,null,null,10.150422073035083,0.19361896725606875,0.14749801921457664,0.11722275289053431,9.6749508654776536E-2,8.8143411026921512E-2,"","","",0,0,0,0,0,"","","",2.0091725804674554,null,0,0,0,0,0,"","","",null,25.947107903434105,0,0,0,7.3476993935531892E-2,0,"","","",2.238978243288571,null,0,0,0,8.721479826464863E-4,0,"","","",null,10.145780819229397,2.0286297384850642]
[null,null,null,null,null,null,null,null,null,null,10.173628342063509,0.19406162607466967,0.14783523462201731,0.11749075186833613,9.6970700947082808E-2,8.8344927741660667E-2,"","","",0,0,0,0,0,"","","",2.1079878995745887,null,0,0,0,0,0,"","","",null,26.006456274667944,0,0,0,2.9254669017101529E-2,0,"","","",2.1684349576886239,null,0,0,0,3.4724339143000176E-4,0,"","","",null,10.168987088257824,2.0577799967085348]
[null,null,null,null,null,null,null,null,null,null,10.196834611091935,0.1945042848932706,0.148172450029458,0.11775875084613796,9.7191893239389079E-2,8.8546444456399837E-2,"","","",0,0,0,0,0,"","","",2.0649866586252461,null,0,0,0,0,0,"","","",null,26.065804645901782,0,0,0,1.1647666947989901E-2,0,"","","",2.1448434329089876,null,0,0,0,1.3825401240748257E-4,0,"","","",null,10.19219335728625,2.0810338626066462]
[null,null,null,null,null,null,null,null,null,null,10.224682133926047,0.19503547547559169,0.14857710851838682,0.11808034961950015,9.7457323990156608E-2,8.8788264514086834E-2,"","","",0,0,0,0,0,"","","",2.0710913899095313,null,0,0,0,0,0,"","","",null,26.137022691382388,0,0,0,0,0,"","","",2.0824809992809192,null,0,0,0,0,0,"","","",null,10.220040880120361,2.0227379524396052]
[null,null,null,null,null,null,null,null,null,null,10.247888402954473,0.19547813429419261,0.14891432392582751,0.11834834859730196,9.7678516282462879E-2,8.898978122882599E-2,"","","",0,0,0,0,0,"","","",2.0044617119467332,null,0,0,0,0,0,"","","",null,26.196371062616226,0,0,0,0,0,"","","",2.0277278988448684,null,0,0,0,0,0,"","","",null,10.243247149148788,2.0599710549411436]
[null,null,null,null,null,null,null,null,null,null,10.257170910565844,0.19565519782163299,0.14904921008880379,0.1184555481884227,9.776699319938538E-2,8.9070387914721647E-2,"","","",0,0,0,0,0,"","","",2.1092809701374344,null,0,0,0,0,0,"","","",null,26.220110411109761,0,0,0,0,0,"","","",2.0511567436943099,null,0,0,0,0,0,"","","",null,10.252529656760158,2.0126931388447553]
[null,null,null,null,null,null,null,null,null,null,10.271094671982899,0.19592079311279353,0.14925153933326821,0.11861634757510379,9.7899708574769137E-2,8.9191297943565145E-2,"","","",0,0,0,0,0,"","","",2.0712321769121442,null,0,0,0,0,0,"","","",null,26.255719433850064,0,0,0,0,0,"","","",2.0545331092748778,null,0,0,0,0,0,"","","",null,10.266453418177214,2.1220028707655012]
[null,null,null,null,null,null,null,null,null,null,10.294300941011326,0.19636345193139446,0.14958875474070887,0.11888434655290561,9.8120900867075422E-2,8.9392814658304301E-2,"","","",0,0,0,0,0,"","","",2.1063102013967896,null,0,0,0,0,0,"","","",null,26.315067805083903,0,0,0,0,0,"","","",2.0530866060508242,null,0,0,0,0,0,"","","",null,10.28965968720564,2.0798420476114425]
[null,null,null,null,null,null,null,null,null,null,10.322148463845437,0.19689464251371555,0.14999341322963772,0.1192059453262678,9.8386331617842937E-2,8.9634634715991299E-2,"","","",0,0,0,0,0,"","","",2.1083169142207963,null,0,0,0,0,0,"","","",null,26.386285850564509,0,0,0,0,0,"","","",2.0554464779337156,null,0,0,0,0,0,"","","",null,10.317507210039752,2.0695778107438358]
[null,null,null,null,null,null,null,null,null,null,10.345354732873863,0.19733730133231647,0.15033062863707838,0.11947394430406963,9.8607523910149208E-2,8.9836151430730468E-2,"","","",0,0,0,0,0,"","","",2.0796587618173583,null,0,0,0,0,0,"","","",null,26.445634221798347,0,0,0,0,0,"","","",2.1402532261327543,null,0,0,0,0,0,"","","",null,10.340713479068178,2.1280558077406035]
[null,null,null,null,null,null,null,null,null,null,10.36856100190229,0.19777996015091739,0.15066784404451908,0.11974194328187146,9.882871620245548E-2,9.0037668145469624E-2,"","","",0,0,0,0,0,"","","",2.1589374837973558,null,0,0,0,0,0,"","","",null,26.504982593032185,0,0,0,0,0,"","","",2.1443265066551636,null,0,0,0,0,0,"","","",null,10.363919748096604,2.0865367397918724]
[null,null,null,null,null,null,null,null,null,null,10.396408524736401,0.19831115073323849,0.15107250253344789,0.12006354205523365,9.9094146953223008E-2,9.0279488203156621E-2,"","","",0,0,0,0,0,"","","",2.1131005696577194,null,0,0,0,0,0,"","","",null,26.576200638512791,0,0,0,0,0,"","","",2.1233641442936992,null,0,0,0,0,0,"","","",null,10.391767270930716,2.0610089588101062]
[null,null,null,null,null,null,null,null,null,null,10.419614793764827,0.19875380955183941,0.15140971794088859,0.12033154103303546,9.931533924552928E-2,9.0481004917895777E-2,"","","",0,0,0,0,0,"","","",2.0284631505882955,null,0,0,0,0,0,"","","",null,26.635549009746629,0,0,0,0,0,"","","",2.1571228138672698,null,0,0,0,0,0,"","","",null,10.414973539959142,2.1285493225738068]
[null,null,null,null,null,null,null,null,null,null,10.447462316598939,0.19928500013416051,0.1518143764298174,0.12065313980639765,9.9580769996296808E-2,9.0722824975582775E-2,"","","",0,0,0,0,0,"","","",2.0383796598263726,null,0,0,0,0,0,"","","",null,26.706767055227235,0,0,0,0,0,"","","",2.0298988890592593,null,0,0,0,0,0,"","","",null,10.442821062793254,2.1063865253757181]
[null,null,null,null,null,null,null,null,null,null,10.470668585627365,0.19972765895276143,0.1521515918372581,0.12092113878419948,9.980196228860308E-2,9.092434169032193E-2,"","","",0,0,0,0,0,"","","",2.0304665144646266,null,0,0,0,0,0,"","","",null,26.766115426461074,0,0,0,0,0,"","","",2.1192322761388955,null,0,0,0,0,0,"","","",null,10.46602733182168,2.1404616267183929]
[null,null,null,null,null,null,null,null,null,null,10.493874854655791,0.20017031777136235,0.15248880724469879,0.1211891377620013,0.10002315458090935,9.1125858405061086E-2,"","","",0,0,0,0,0,"","","",2.1358083815579958,null,0,0,0,0,0,"","","",null,26.825463797694912,0,0,0,0,0,"","","",2.0729758655652519,null,0,0,0,0,0,"","","",null,10.489233600850106,2.1375771770212579]
[null,null,null,null,null,null,null,null,null,null,10.503157362267162,0.2003473812988027,0.15262369340767507,0.12129633735312204,0.10011163149783185,9.1206465090956756E-2,"","","",0,0,0,0,0,"","","",2.1280171536137273,null,0,0,0,0,0,"","","",null,26.849203146188447,0,0,0,0,0,"","","",2.0168115042526815,null,0,0,0,0,0,"","","",null,10.498516108461477,2.0510139591453531]
[null,null,null,null,null,null,null,null,null,null,10.540287392712644,0.20105563540856417,0.15316323805958015,0.12172513571760495,0.10046553916552188,9.1528891834539411E-2,"","","",0,0,0,0,0,"","","",2.0801540501884674,null,0,0,0,0,0,"","","",null,26.944160540162589,0,0,0,0,0,"","","",2.0800643080940127,null,0,0,0,0,0,"","","",null,10.535646138906959,2.0268286537896292]
[null,null,null,null,null,null,null,null,null,null,10.544928646518329,0.20114416717228437,0.1532306811410683,0.12177873551316531,0.10050977762398315,9.1569195177487253E-2,"","","",0,0,0,0,0,"","","",2.1119014709398582,null,0,0,0,0,0,"","","",null,26.956030214409356,0,0,0,0,0,"","","",2.0690172858776865,null,0,0,0,0,0,"","","",null,10.540287392712644,2.0801540501884674]
[null,null,null,null,null,null,null,null,null,null,10.568134915546755,0.20158682599088529,0.15356789654850897,0.12204673449096715,0.10073096991628942,9.1770711892226409E-2,"","","",0,0,0,0,0,"","","",2.0385483524129215,null,0,0,0,0,0,"","","",null,27.015378585643194,0,0,0,0,0,"","","",2.1527363223378151,null,0,0,0,0,0,"","","",null,10.56349366174107,2.0784255226466501]
[null,null,null,null,null,null,null,null,null,null,10.591341184575182,0.20202948480948618,0.15390511195594966,0.12231473346876896,0.10095216220859568,9.1972228606965578E-2,"","","",0,0,0,0,0,"","","",2.1162626169324379,null,0,0,0,0,0,"","","",null,27.074726956877033,0,0,0,0,0,"","","",2.1707891859396273,null,0,0,0,0,0,"","","",null,10.586699930769496,2.1036904423845542]
[null,null,null,null,null,null,null,null,null,null,10.619188707409293,0.2025606753918073,0.15430977044487848,0.12263633224213115,0.10121759295936321,9.2214048664652562E-2,"","","",0,0,0,0,0,"","","",2.0251729247549508,null,0,0,0,0,0,"","","",null,27.145945002357639,0,0,0,0,0,"","","",2.0236047662663177,null,0,0,0,0,0,"","","",null,10.614547453603608,2.1347652904197334]
[null,null,null,null,null,null,null,null,null,null,10.642394976437719,0.2030033342104082,0.15464698585231917,0.12290433121993297,0.10143878525166948,9.2415565379391731E-2,"","","",0,0,0,0,0,"","","",2.0510226520709924,null,0,0,0,0,0,"","","",null,27.205293373591477,0,0,0,0,0,"","","",2.131572823816593,null,0,0,0,0,0,"","","",null,10.637753722632034,2.1609457944361292]
[null,null,null,null,null,null,null,null,null,null,10.665601245466146,0.20344599302900912,0.15498420125975984,0.1231723301977348,0.10165997754397574,9.2617082094130887E-2,"","","",0,0,0,0,0,"","","",2.1217201710292555,null,0,0,0,0,0,"","","",null,27.264641744825315,0,0,0,0,0,"","","",2.1093915501069551,null,0,0,0,0,0,"","","",null,10.66095999166046,2.0789963082538128]
[null,null,null,null,null,null,null,null,null,null,10.693448768300257,0.20397718361133024,0.15538885974868868,0.12349392897109698,0.10192540829474328,9.2858902151817885E-2,"","","",0,0,0,0,0,"","","",2.1346703586471367,null,0,0,0,0,0,"","","",null,27.335859790305921,0,0,0,0,0,"","","",2.0709751878077545,null,0,0,0,0,0,"","","",null,10.688807514494572,2.1147785885309069]
[null,null,null,null,null,null,null,null,null,null,10.716655037328684,0.20441984242993116,0.15572607515612935,0.12376192794889881,0.10214660058704955,9.306041886655704E-2,"","","",0,0,0,0,0,"","","",2.0018653354656331,null,0,0,0,0,0,"","","",null,27.39520816153976,0,0,0,0,0,"","","",2.1238878354753497,null,0,0,0,0,0,"","","",null,10.712013783522998,2.0841228300134085]
[null,null,null,null,null,null,null,null,null,null,10.73986130635711,0.20486250124853206,0.15606329056357005,0.12402992692670063,0.10236779287935581,9.3261935581296196E-2,"","","",0,0,0,0,0,"","","",2.1136846627629162,null,0,0,0,0,0,"","","",null,27.454556532773598,0,0,0,0,0,"","","",2.0341696760623185,null,0,0,0,0,0,"","","",null,10.735220052551425,2.0373326868306418]
[null,null,null,null,null,null,null,null,null,null,10.763067575385536,0.20530516006713298,0.15640050597101074,0.12429792590450246,0.10258898517166209,9.3463452296035365E-2,"","","",0,0,0,0,3.2181565996902278E-3,"","","",2.0732192950726698,null,0,0,0,0,1.4936281565603382E-5,"","","",null,27.513904904007436,0,0,0,0,0,"","","",2.1033474294252925,null,0,0,0,0,0,"","","",null,10.758426321579851,2.0522983588199732]
[null,null,null,null,null,null,null,null,null,null,10.786273844413962,0.2057478188857339,0.15673772137845141,0.12456592488230429,0.10281017746396837,9.3664969010774521E-2,"","","",0,0,0,0,4.3548768211479662E-3,"","","",2.056184827587336,null,0,0,0,0,2.0212088619443492E-5,"","","",null,27.573253275241274,0,0,0,0,0,"","","",2.1190692487138048,null,0,0,0,0,0,"","","",null,10.781632590608277,2.0751437300542204]
[null,null,null,null,null,null,null,null,null,null,10.814121367248074,0.206279009468055,0.15714237986738022,0.12488752365566647,0.10307560821473588,9.3906789068461519E-2,"","","",0,0,0,0,6.2499145806366226E-3,"","","",2.0674258842374269,null,0,0,0,0,2.9007439832587474E-5,"","","",null,27.64447132072188,0,0,0,0,0,"","","",2.1511385196209725,null,0,0,0,0,0,"","","",null,10.809480113442389,2.1021225444024045]
[null,null,null,null,null,null,null,null,null,null,10.8373276362765,0.20672166828665589,0.15747959527482092,0.1251555226334683,0.10329680050704215,9.4108305783200674E-2,"","","",0,0,0,0,8.433476510024223E-3,"","","",2.1243114557712159,null,0,0,0,0,3.9141904947307109E-5,"","","",null,27.703819691955719,0,0,0,0,0,"","","",2.0816376800467324,null,0,0,0,0,0,"","","",null,10.832686382470815,2.1188615576066989]
[null,null,null,null,null,null,null,null,null,null,10.860533905304926,0.20716432710525684,0.15781681068226161,0.12542352161127013,0.10351799279934842,9.4309822497939844E-2,"","","",0,0,0,0,1.1365356757970582E-2,"","","",2.0405490814837393,null,0,0,0,0,5.2749505305901572E-5,"","","",null,27.763168063189557,0,0,0,0,0,"","","",2.0963258467636461,null,0,0,0,0,0,"","","",null,10.855892651499241,2.0774439919440644]
[null,null,null,null,null,null,null,null,null,null,10.865175159110612,0.20725285886897701,0.15788425376374973,0.12547712140683048,0.10356223125780968,9.4350125840887672E-2,"","","",0,0,0,0,1.2062350335262269E-2,"","","",2.124715446854597,null,0,0,0,0,5.5984429399044789E-5,"","","",null,27.775037737436325,0,0,0,0,0,"","","",2.0569024103006659,null,0,0,0,0,0,"","","",null,10.860533905304926,2.0405490814837393]
[null,null,null,null,null,null,null,null,null,null,10.888381428139038,0.20769551768757794,0.15822146917119043,0.12574512038463231,0.10378342355011595,9.4551642555626841E-2,"","","",0,0,0,0,1.6231016208222839E-2,"","","",2.15894909080383,null,0,0,0,0,7.5332265746553265E-5,"","","",null,27.834386108670163,0,0,0,0,0,"","","",2.1237039411415921,null,0,0,0,0,0,"","","",null,10.883740174333353,2.0297878696051272]
[null,null,null,null,null,null,null,null,null,null,10.916228950973149,0.20822670826989903,0.15862612766011924,0.1260667191579945,0.10404885430088348,9.4793462613313825E-2,"","","",0,0,0,0,2.3137622504132916E-2,"","","",2.1361938880681399,null,0,0,0,0,1.0738757850181565E-4,"","","",null,27.905604154150769,0,0,0,0,0,"","","",2.1337306504919424,null,0,0,0,0,0,"","","",null,10.911587697167464,2.1051569516982913]
[null,null,null,null,null,null,null,null,null,null,10.939435220001576,0.20866936708849995,0.15896334306755994,0.1263347181357963,0.10427004659318975,9.4994979328052981E-2,"","","",0,0,0,0,3.104779348714776E-2,"","","",2.1757075103265504,null,0,0,0,0,1.4410068968035434E-4,"","","",null,27.964952525384607,0,0,0,0,0,"","","",2.1441403674198911,null,0,0,0,0,0,"","","",null,10.93479396619589,2.1304686861120077]
[null,null,null,null,null,null,null,null,null,null,10.958000235224317,0.2090234941433807,0.15923311539351248,0.12654911731803778,0.10444700042703477,9.5156192699844322E-2,"","","",0,0,0,0,3.9247397306230093E-2,"","","",2.0836720159402828,null,0,0,0,0,1.8215713211078155E-4,"","","",null,28.012431222371678,0,0,0,0,0,"","","",2.0920983923375061,null,0,0,0,0,0,"","","",null,10.953358981418631,2.078127747539853]
[null,null,null,null,null,null,null,null,null,null,10.985847758058428,0.2095546847257018,0.15963777388244133,0.12687071609139997,0.1047124311778023,9.5398012757531306E-2,"","","",0,0,0,0,5.5697535993864213E-2,"","","",2.1970515889824922,null,0,0,0,0,2.5850640089881364E-4,"","","",null,28.083649267852284,0,0,0,0,0,"","","",2.0502807031501842,null,0,0,0,0,0,"","","",null,10.981206504252743,2.0856648466417615]
[null,null,null,null,null,null,null,null,null,null,11.009054027086854,0.20999734354430272,0.15997498928988199,0.1271387150692018,0.10493362347010855,9.5599529472270461E-2,"","","",0,0,0,0,7.4462218699204996E-2,"","","",2.0779750493674745,null,0,0,0,0,3.4559805591745276E-4,"","","",null,28.142997639086122,0,0,0,0,0,"","","",2.0217499401386205,null,0,0,0,0,0,"","","",null,11.004412773281169,2.102745849774537]
[null,null,null,null,null,null,null,null,null,null,11.036901549920966,0.21052853412662381,0.16037964777881081,0.12746031384256398,0.10519905422087608,9.5841349529957459E-2,"","","",0,0,0,0,0.10533089053969119,"","","",2.2044515082336211,null,0,0,0,0,4.8886739657355853E-4,"","","",null,28.214215684566728,0,0,0,0,0,"","","",2.0729828780459458,null,0,0,0,0,0,"","","",null,11.032260296115281,2.1810052029715381]
[null,null,null,null,null,null,null,null,null,null,11.060107818949392,0.21097119294522473,0.1607168631862515,0.12772831282036579,0.10542024651318235,9.6042866244696629E-2,"","","",0,0,0,0,0.1404405421726892,"","","",2.2286486745359344,null,0,0,0,0,6.5182020083149391E-4,"","","",null,28.273564055800566,0,0,0,0,0,"","","",2.1218065975561649,null,0,0,0,0,0,"","","",null,11.055466565143707,2.2961160456870071]
[null,null,null,null,null,null,null,null,null,null,11.083314087977818,0.21141385176382563,0.1610540785936922,0.12799631179816762,0.10564143880548862,9.6244382959435784E-2,"","","",0,0,0,0,0.18702750152037129,"","","",2.2201143731628403,null,0,0,0,0,8.6804210319922756E-4,"","","",null,28.332912427034405,0,0,0,0,0,"","","",2.0740163680476185,null,0,0,0,0,0,"","","",null,11.078672834172133,2.2926937165237655]
[null,null,null,null,null,null,null,null,null,null,11.11116161081193,0.21194504234614675,0.16145873708262101,0.1283179105715298,0.10590686955625615,9.6486203017122782E-2,"","","",0,0,0,0,0.26333808498845895,"","","",2.324871691410503,null,0,0,0,0,1.2222188891345515E-3,"","","",null,28.404130472515011,0,0,0,0,0,"","","",2.1072049226246121,null,0,0,0,0,0,"","","",null,11.106520357006245,2.2978108668794279]
[null,null,null,null,null,null,null,null,null,null,11.134367879840356,0.21238770116474767,0.16179595249006171,0.12858590954933163,0.10612806184856242,9.6687719731861937E-2,"","","",0,0,0,0,0.34977111565573982,"","","",2.3672086454844306,null,0,0,0,0,1.623376521655979E-3,"","","",null,28.463478843748849,0,0,0,0,0,"","","",2.021986889925325,null,0,0,0,0,0,"","","",null,11.129726626034671,2.4809730201489604]
[null,null,null,null,null,null,null,null,null,null,11.157574148868783,0.21283035998334859,0.1621331678975024,0.12885390852713346,0.1063492541408687,9.6889236446601107E-2,"","","",0,0,0,0,0.46402151038712947,"","","",2.5393151529032219,null,0,0,0,0,2.1536416010040837E-3,"","","",null,28.522827214982687,0,0,0,0,0,"","","",2.0758878215541943,null,0,0,0,0,0,"","","",null,11.152932895063097,2.4861723766786556]
[null,null,null,null,null,null,null,null,null,null,11.162215402674468,0.21291889174706877,0.16220061097899052,0.12890750832269382,0.10639349259932994,9.6929539789548935E-2,"","","",0,0,0,0,0.49093852384860343,"","","",2.5578781768464949,null,0,0,0,0,2.2785702921698306E-3,"","","",null,28.534696889229455,0,0,0,0,0,"","","",2.0329672489443009,null,0,0,0,0,0,"","","",null,11.157574148868783,2.5393151529032219]
[null,null,null,null,null,null,null,null,null,null,11.185421671702894,0.21336155056566969,0.16253782638643122,0.12917550730049565,0.10661468489163622,9.7131056504288091E-2,"","","",0,0,0,0,0.65037361938115279,"","","",2.7731813091348614,null,0,0,0,0,3.0185490360700672E-3,"","","",null,28.594045260463293,0,0,0,0,0,"","","",2.1575245786730539,null,0,0,0,0,0,"","","",null,11.180780417897209,2.7660540577421635]
[null,null,null,null,null,null,null,null,null,null,11.222551702148376,0.21406980467543116,0.16307737103833631,0.12960430566497858,0.10696859255932625,9.7453483247870759E-2,"","","",0,0,0,0,1.0174285337290943,"","","",3.0475117470428157,null,0,0,0,0,4.7221440541829248E-3,"","","",null,28.689002654437434,0,0,0,0,0,"","","",2.1549813973358747,null,0,0,0,0,0,"","","",null,11.217910448342691,3.1175532675488355]
[null,null,null,null,null,null,null,null,null,null,11.231834209759747,0.21424686820287153,0.16321225720131258,0.12971150525609929,0.10705706947624875,9.7534089933766416E-2,"","","",0,0,0,0,1.1373132396297225,"","","",3.2967163535919952,null,0,0,0,0,5.2785594016876731E-3,"","","",null,28.71274200293097,0,0,0,0,0,"","","",2.0344890614367923,null,0,0,0,0,0,"","","",null,11.227192955954061,3.2134763831626953]
[null,null,null,null,null,null,null,null,null,null,11.255040478788173,0.21468952702147245,0.16354947260875327,0.12997950423390112,0.10727826176855502,9.7735606648505571E-2,"","","",0,0,0,0,1.5012292235511604,"","","",3.5290016527151984,null,0,0,0,0,6.9675858470127404E-3,"","","",null,28.772090374164808,0,0,0,0,0,"","","",2.0478938158787257,null,0,0,0,0,0,"","","",null,11.250399224982488,3.5270506770511902]
[null,null,null,null,null,null,null,null,null,null,11.282888001622284,0.21522071760379355,0.16395413109768209,0.13030110300726333,0.10754369251932255,9.7977426706192569E-2,"","","",0,0,0,0,2.0912143129879621,"","","",4.1288855774230777,null,0,0,0,0,9.7058563886588504E-3,"","","",null,28.843308419645414,0,0,0,0,0,"","","",2.1461149318336816,null,0,0,0,0,0,"","","",null,11.278246747816599,4.0267148212705628]
[null,null,null,null,null,null,null,null,null,null,11.306094270650711,0.21566337642239444,0.16429134650512275,0.13056910198506513,0.10776488481162882,9.8178943420931725E-2,"","","",0,0,0,0,2.7523776987232393,"","","",4.9153957779127078,null,0,0,0,0,1.2774483468882452E-2,"","","",null,28.902656790879252,0,0,0,0,0,"","","",2.1100091922288788,null,0,0,0,0,0,"","","",null,11.301453016845025,4.6828954699446026]
[null,null,null,null,null,null,null,null,null,null,11.329300539679137,0.21610603524099539,0.16462856191256348,0.13083710096286696,0.1079860771039351,9.8380460135670894E-2,"","","",0,0,0,0,3.6170699951668053,"","","",5.6454505752328341,null,0,0,0,0,1.6787739880497872E-2,"","","",null,28.962005162113091,0,0,0,0,0,"","","",2.109653646610135,null,0,0,0,0,0,"","","",null,11.324659285873452,5.5595001809564568]
[null,null,null,null,null,null,null,null,null,null,11.357148062513248,0.21663722582331646,0.16503322040149226,0.13115869973622915,0.10825150785470261,9.8622280193357878E-2,"","","",0,0,0,0,5.008386735624911,"","","",7.0384676952238108,null,0,0,0,0,2.3245193997062655E-2,"","","",null,29.033223207593696,0,0,0,0,0,"","","",2.0820209205972184,null,0,0,0,0,0,"","","",null,11.352506808707563,6.8064613247274544]
[null,null,null,null,null,null,null,null,null,null,11.380354331541675,0.21707988464191738,0.16537043580893296,0.13142669871403098,0.10847270014700888,9.8823796908097034E-2,"","","",0,0,0,0,6.5520591186725099,"","","",8.6890793731699212,null,0,0,0,0,3.0409769319613547E-2,"","","",null,29.092571578827535,0,0,0,0,9.7447827125225796E-3,"","","",2.1475392487441551,null,0,0,0,0,1.1566739640317595E-4,"","","",null,11.375713077735989,8.3288174894262124]
[null,null,null,null,null,null,null,null,null,null,11.408201854375786,0.21761107522423848,0.16577509429786177,0.13174829748739317,0.10873813089777641,9.9065616965784031E-2,"","","",0,0,0,0,9.0059885982828334,"","","",11.096032273277137,null,0,0,0,0,4.1799078855738192E-2,"","","",null,29.163789624308141,0,0,0,0,3.0938076704574265E-2,"","","",2.1339187620222693,null,0,0,0,0,3.672248923048076E-4,"","","",null,11.403560600570101,10.701076062971266]
[null,null,null,null,null,null,null,null,null,null,11.431408123404212,0.2180537340428394,0.16611230970530247,0.13201629646519497,0.10895932319008268,9.9267133680523201E-2,"","","",0,0,0,0,11.67830619548792,"","","",13.82168935778841,null,0,0,0,0,5.4201983073765975E-2,"","","",null,29.223137995541979,0,0,0,0,8.1020337071836979E-2,"","","",2.1842531856574277,null,0,0,0,0,9.6168500840601839E-4,"","","",null,11.426766869598527,13.112194708585394]
[null,null,null,null,null,null,null,null,null,null,11.440690631015583,0.21823079757027977,0.16624719586827874,0.13212349605631571,0.1090478001070052,9.9347740366418871E-2,"","","",0,0,0,0,12.933282664737726,"","","",15.039836940784015,null,0,0,0,0,6.0026647387717076E-2,"","","",null,29.246877344035514,0,0,0,0,0.11907870402463157,"","","",2.1782029542970993,null,0,0,0,0,1.4134254264996377E-3,"","","",null,11.436049377209898,14.341305052245682]
[null,null,null,null,null,null,null,null,null,null,11.454614392432639,0.21849639286144032,0.16644952511274316,0.1322842954429968,0.10918051548238895,9.9468650395262356E-2,"","","",0,0,0,0,15.033518626163623,"","","",17.11355837591837,null,0,0,0,0,6.9774375536522049E-2,"","","",null,29.282486366775817,0,0,0,0,0.21217457556687663,"","","",2.3027250301956226,null,0,0,0,0,2.5184430954250142E-3,"","","",null,11.449973138626953,16.380885206192605]
[null,null,null,null,null,null,null,null,null,null,11.477820661461065,0.21893905168004124,0.16678674052018383,0.13255229442079863,0.10940170777469523,9.9670167110001526E-2,"","","",0,0,0,0,19.139023525341241,"","","",21.162178257798423,null,0,0,0,0,8.8829065774089611E-2,"","","",null,29.341834738009656,0,0,0,0,0.55562696098010922,"","","",2.7225412301460401,null,{"$f":"IF(AN2550=\"\",\"\",($AM2551-$AM2550)*AN2550)","v":0},{"$f":"IF(AO2550=\"\",\"\",($AM2551-$AM2550)*AO2550)","v":0},{"$f":"IF(AP2550=\"\",\"\",($AM2551-$AM2550)*AP2550)","v":0},{"$f":"IF(AQ2550=\"\",\"\",($AM2551-$AM2550)*AQ2550)","v":0},{"$f":"IF(AR2550=\"\",\"\",($AM2551-$AM2550)*AR2550)","v":6.5951110295553814E-3},{"$f":"IF(AS2550=\"\",\"\",($AM2551-$AM2550)*AS2550)","v":""},{"$f":"IF(AT2550=\"\",\"\",($AM2551-$AM2550)*AT2550)","v":""},{"$f":"IF(AU2550=\"\",\"\",($AM2551-$AM2550)*AU2550)","v":""},null,11.47317940765538,20.40313872366082]
[null,null,null,null,null,null,null,null,null,null,11.505668184295176,0.21947024226236234,0.16719139900911265,0.13287389319416082,0.10966713852546275,9.991198716768851E-2,"","","",0,0,0,0,24.990487184104708,"","","",27.018792625859746,null,0,0,0,0,0.1159871937491545,"","","",null,29.413052783490262,0,0,0,0,1.7635776894795665,"","","",3.9273801130161501,null,0,0,0,0,2.093309268298962E-2,"","","",null,11.501026930489491,26.119304703742401]
[null,null,null,null,null,null,null,null,null,null,11.528874453323603,0.21991290108096329,0.16752861441655337,0.13314189217196265,0.10988833081776903,0.10011350388242768,"","","",0,0,0,0,30.315094222863621,"","","",32.405422278104858,null,0,0,0,0,0.1407000464315728,"","","",null,29.4724011547241,0,0,0,0,4.6112781711241535,"","","",6.7276294750130026,null,0,0,0,0,5.4734369752474234E-2,"","","",null,11.524233199517917,31.318456016409275]
[null,null,null,null,null,null,null,null,null,null,11.552080722352029,0.22035555989956418,0.16786582982399403,0.13340989114976448,0.1101095231100753,0.10031502059716685,"","","",0,0,0,0,35.392966287213326,"","","",37.532825870321282,null,0,0,0,0,0.16426773947501869,"","","",null,29.531749525957938,0,0,0,0,11.955617080593584,"","","",14.100945066615242,null,0,0,0,0,0.1419092801657372,"","","",null,11.547439468546344,36.589255228140374]
[null,null,null,null,null,null,null,null,null,null,11.579928245186141,0.2208867504818853,0.16827048831292285,0.13373148992312667,0.11037495386084283,0.10055684065485383,"","","",0,0,0,0,39.84782020149499,"","","",41.99234036896214,null,0,0,0,0,0.1849438471584503,"","","",null,29.602967571438544,0,0,0,0,34.52651958824876,"","","",36.561571378422954,null,0,0,0,0,0.40981854038715543,"","","",null,11.575286991380455,41.398823035867224]
[null,null,null,null,null,null,null,null,null,null,11.603134514214567,0.2213294093004862,0.16860770372036354,0.13399948890092847,0.11059614615314908,0.10075835736959299,"","","",0,0,0,0,41.144025699881418,"","","",43.291113839969164,null,0,0,0,0,0.19095986586078648,"","","",null,29.662315942672382,0,0,0,0,58.147765753664487,"","","",60.246071603699058,null,0,0,0,0,0.69019503767334978,"","","",null,11.598493260408882,43.223404636199106]
[null,null,null,null,null,null,null,null,null,null,11.626340783242993,0.22177206811908712,0.16894491912780424,0.1342674878787303,0.11081733844545537,0.10095987408433216,"","","",0,0,0,0,39.870271021308881,"","","",41.900558236321956,null,0,0,0,0,0.18504804711135228,"","","",null,29.721664313906221,0,0,0,0,45.921275178229898,"","","",48.097911489895701,null,0,0,0,0,0.54507057736176634,"","","",null,11.621699529437308,42.435972042612434]
[null,null,null,null,null,null,null,null,null,null,11.654188306077105,0.22230325870140821,0.16934957761673305,0.13458908665209249,0.11108276919622288,0.10120169414201914,"","","",0,0,0,0,35.58862627405027,"","","",37.609117709065274,null,0,0,0,0,0.16517584713354599,"","","",null,29.792882359386827,0,0,0,0,18.309360440862463,"","","",20.469958003929541,null,0,0,0,0,0.21732614409969173,"","","",null,11.649547052271419,38.514403192791129]
[null,null,null,null,null,null,null,null,null,null,11.677394575105531,0.22274591752000913,0.16968679302417372,0.13485708562989432,0.11130396148852915,0.1014032108567583,"","","",0,0,0,0,30.781344050592267,"","","",32.867432990256887,null,0,0,0,0,0.14286403021891847,"","","",null,29.852230730620665,0,0,0,0,7.5282009975278994,"","","",9.5542604492614664,null,0,0,0,0,8.9357293504847501E-2,"","","",null,11.672753321299846,33.946067838594168]
[null,null,null,null,null,null,null,null,null,null,11.686677082716901,0.22292298104744951,0.16982167918715002,0.13496428522101506,0.11139243840545167,0.10148381754265398,"","","",0,0,0,0,28.760807714549379,"","","",30.909070398095327,null,0,0,0,0,0.13348620825973409,"","","",null,29.8759700791142,0,0,0,0,5.2461186062567515,"","","",7.3108650281339731,null,0,0,0,0,6.2269718916174409E-2,"","","",null,11.682035828911216,31.892508581287757]
[null,null,null,null,null,null,null,null,null,null,11.723807113162383,0.22363123515721098,0.17036122383905511,0.13539308358549795,0.1117463460731417,0.10180624428623664,"","","",0,0,0,0,21.086198336416007,"","","",23.095909900510279,null,0,0,0,0,9.7866398276324831E-2,"","","",null,29.970927473088341,0,0,0,0,1.2301284477942338,"","","",3.3139881585140913,null,0,0,0,0,1.4601223956999492E-2,"","","",null,11.719165859356698,24.141486098098397]
[null,null,null,null,null,null,null,null,null,null,11.74701338219081,0.2240738939758119,0.17069843924649578,0.13566108256329978,0.11196753836544797,0.10200776100097579,"","","",0,0,0,0,17.012897927282197,"","","",19.079343431326734,null,0,0,0,0,7.8961177250733247E-2,"","","",null,30.03027584432218,0,0,0,0,0.49645542706491269,"","","",2.5107699181906451,null,0,0,0,0,5.8927641973004338E-3,"","","",null,11.742372128385124,19.897985229784226]
[null,null,null,null,null,null,null,null,null,null,11.751654635996495,0.22416242573953207,0.17076588232798393,0.13571468235886014,0.11201177682390921,0.10204806434392362,"","","",0,0,0,0,16.278497557677959,"","","",18.282792952036214,null,0,0,0,0,7.5552638740410918E-2,"","","",null,30.042145518568947,0,0,0,0,0.41405870113833848,"","","",2.4347271221591762,null,0,0,0,0,4.9147419015518031E-3,"","","",null,11.74701338219081,19.079343431326734]
[null,null,null,null,null,null,null,null,null,null,11.774860905024921,0.22460508455813299,0.17110309773542462,0.13598268133666197,0.1122329691162155,0.10224958105866279,"","","",0,0,0,0,13.002098935121174,"","","",15.070348382061573,null,0,0,0,0,6.0346041164527318E-2,"","","",null,30.101493889802786,0,0,0,0,0.16709552426955154,"","","",2.3236308183489363,null,{"$f":"IF(AN2614=\"\",\"\",($AM2615-$AM2614)*AN2614)","v":0},{"$f":"IF(AO2614=\"\",\"\",($AM2615-$AM2614)*AO2614)","v":0},{"$f":"IF(AP2614=\"\",\"\",($AM2615-$AM2614)*AP2614)","v":0},{"$f":"IF(AQ2614=\"\",\"\",($AM2615-$AM2614)*AQ2614)","v":0},{"$f":"IF(AR2614=\"\",\"\",($AM2615-$AM2614)*AR2614)","v":1.9833694411724363E-3},{"$f":"IF(AS2614=\"\",\"\",($AM2615-$AM2614)*AS2614)","v":""},{"$f":"IF(AT2614=\"\",\"\",($AM2615-$AM2614)*AT2614)","v":""},{"$f":"IF(AU2614=\"\",\"\",($AM2615-$AM2614)*AU2614)","v":""},null,11.770219651219236,15.609800359609745]
[null,null,null,null,null,null,null,null,null,null,11.802708427859033,0.22513627514045406,0.17150775622435344,0.13630428011002416,0.11249839986698301,0.10249140111634977,"","","",0,0,0,0,9.8703650764441253,"","","",11.918356515277249,null,0,0,0,0,4.5810869474549105E-2,"","","",null,30.172711935283392,0,0,0,0,5.6239958437741468E-2,"","","",2.1468887836750294,null,0,0,0,0,6.6754998630774341E-4,"","","",null,11.798067174053347,12.417113532786592]
[null,null,null,null,null,null,null,null,null,null,11.825914696887459,0.22557893395905501,0.17184497163179413,0.13657227908782599,0.1127195921592893,0.10269291783108894,"","","",0,0,0,0,7.8252751893826069,"","","",9.8851658528201973,null,0,0,0,0,3.6319088253256408E-2,"","","",null,30.23206030651723,0,0,0,0,2.2695761294996907E-2,"","","",2.0679495396075143,null,0,0,0,0,2.6939129335401101E-4,"","","",null,11.821273443081774,10.24992190040223]
[null,null,null,null,null,null,null,null,null,null,11.849120965915885,0.22602159277765593,0.1721821870392348,0.13684027806562782,0.11294078445159556,0.1028944345458281,"","","",0,0,0,0,6.1977751491422772,"","","",8.2066586660897762,null,0,0,0,0,2.8765447497738079E-2,"","","",null,30.291408677751068,0,0,0,0,9.1589244157482159E-3,"","","",2.1329169067507934,null,0,0,0,0,1.0871344926569812E-4,"","","",null,11.8444797121102,8.494274217138706]
[null,null,null,null,null,null,null,null,null,null,11.876968488749997,0.22655278335997703,0.17258684552816364,0.13716187683899,0.11320621520236308,0.1031362546035151,"","","",0,0,0,0,4.6837336769265363,"","","",6.8062820100473473,null,0,0,0,0,2.1738396752851469E-2,"","","",null,30.362626723231674,0,0,0,0,0,"","","",2.1057792964232531,null,0,0,0,0,0,"","","",null,11.872327234944311,6.9942742481852607]
[null,null,null,null,null,null,null,null,null,null,11.900174757778423,0.22699544217857795,0.17292406093560433,0.13742987581679184,0.11342740749466936,0.10333777131825425,"","","",0,0,0,0,3.7096761990363967,"","","",5.871056056678353,null,0,0,0,0,1.7217548776637677E-2,"","","",null,30.421975094465513,0,0,0,0,0,"","","",2.0562231645314464,null,0,0,0,0,0,"","","",null,11.895533503972738,5.9117127542082519]
[null,null,null,null,null,null,null,null,null,null,11.923381026806849,0.22743810099717887,0.173261276343045,0.13769787479459364,0.11364859978697563,0.10353928803299342,"","","",0,0,0,0,2.9396874469866043,"","","",5.0919631725039842,null,0,0,0,0,1.3643835550851741E-2,"","","",null,30.481323465699351,0,0,0,0,0,"","","",2.0783939815381758,null,0,0,0,0,0,"","","",null,11.918739773001164,5.1910469934263235]
[null,null,null,null,null,null,null,null,null,null,11.946587295835275,0.22788075981577979,0.1735984917504857,0.13796587377239547,0.1138697920792819,0.10374080474773258,"","","",0,0,0,0,2.3310559017658292,"","","",4.4567408359384544,null,0,0,0,0,1.0819022075335723E-2,"","","",null,30.540671836933189,0,0,0,0,0,"","","",2.0259291400360797,null,0,0,0,0,0,"","","",null,11.94194604202959,4.4979279639789453]
[null,null,null,null,null,null,null,null,null,null,11.969793564863702,0.22832341863438071,0.17393570715792639,0.1382338727501973,0.11409098437158817,0.10394232146247175,"","","",0,0,0,0,1.8498204693177756,"","","",3.9635199230575031,null,0,0,0,0,8.5854862930556056E-3,"","","",null,30.600020208167027,0,0,0,0,0,"","","",2.0289322822724905,null,0,0,0,0,0,"","","",null,11.965152311058016,4.1003331774381016]
[null,null,null,null,null,null,null,null,null,null,11.997641087697813,0.22885460921670181,0.17434036564685521,0.13855547152355949,0.1143564151223557,0.10418414152015873,"","","",0,0,0,0,1.4030819977594307,"","","",3.5030081429292101,null,0,0,0,0,6.5120596617894242E-3,"","","",null,30.671238253647633,0,0,0,0,0,"","","",2.170787490936402,null,0,0,0,0,0,"","","",null,11.992999833892128,3.5546585849679739]
[null,null,null,null,null,null,null,null,null,null,12.020847356726239,0.22929726803530273,0.17467758105429587,0.13882347050136132,0.11457760741466197,0.1043856582348979,"","","",0,0,0,0,1.1154328908827613,"","","",3.1767634726349194,null,0,0,0,0,5.177007149796119E-3,"","","",null,30.730586624881472,0,0,0,0,0,"","","",2.0649429470245519,null,0,0,0,0,0,"","","",null,12.016206102920554,3.3049468257753682]
[null,null,null,null,null,null,null,null,null,null,12.044053625754666,0.22973992685390363,0.17501479646173657,0.13909146947916312,0.11479879970696823,0.10458717494963705,"","","",0,0,0,0,0.88751125890653448,"","","",3.031652212703638,null,0,0,0,0,4.1191650079884625E-3,"","","",null,30.78993499611531,0,0,0,0,0,"","","",2.1221811822538159,null,0,0,0,0,0,"","","",null,12.039412371948981,3.0343371841435332]
[null,null,null,null,null,null,null,null,null,null,12.048694879560351,0.22982845861762383,0.17508223954322469,0.1391450692747235,0.11484303816542948,0.10462747829258488,"","","",0,0,0,0,0.84793913202883031,"","","",2.9938507716840737,null,0,0,0,0,3.935500723518259E-3,"","","",null,30.801804670362078,0,0,0,0,0,"","","",2.0815496817866777,null,0,0,0,0,0,"","","",null,12.044053625754666,3.031652212703638]
[null,null,null,null,null,null,null,null,null,null,12.071901148588777,0.23027111743622475,0.17541945495066538,0.13941306825252534,0.11506423045773577,0.10482899500732405,"","","",0,0,0,0,0.67537206392632343,"","","",2.7612286581060674,null,0,0,0,0,3.1345731619515523E-3,"","","",null,30.861153041595916,0,0,0,0,0,"","","",2.0529061463653964,null,{"$f":"IF(AN2678=\"\",\"\",($AM2679-$AM2678)*AN2678)","v":0},{"$f":"IF(AO2678=\"\",\"\",($AM2679-$AM2678)*AO2678)","v":0},{"$f":"IF(AP2678=\"\",\"\",($AM2679-$AM2678)*AP2678)","v":0},{"$f":"IF(AQ2678=\"\",\"\",($AM2679-$AM2678)*AQ2678)","v":0},{"$f":"IF(AR2678=\"\",\"\",($AM2679-$AM2678)*AR2678)","v":0},{"$f":"IF(AS2678=\"\",\"\",($AM2679-$AM2678)*AS2678)","v":""},{"$f":"IF(AT2678=\"\",\"\",($AM2679-$AM2678)*AT2678)","v":""},{"$f":"IF(AU2678=\"\",\"\",($AM2679-$AM2678)*AU2678)","v":""},null,12.067259894783092,2.7660615235047041]
[null,null,null,null,null,null,null,null,null,null,12.095107417617204,0.23071377625482567,0.17575667035810608,0.13968106723032714,0.11528542275004204,0.10503051172206321,"","","",0,0,0,0,0.53838858576973259,"","","",2.6409161181867624,null,0,0,0,0,2.4987980726412723E-3,"","","",null,30.920501412829754,0,0,0,0,0,"","","",2.0720729627944787,null,0,0,0,0,0,"","","",null,12.090466163811518,2.713823608742334]
[null,null,null,null,null,null,null,null,null,null,12.122954940451315,0.23124496683714676,0.17616132884703489,0.14000266600368932,0.11555085350080956,0.10527233177975021,"","","",0,0,0,0,0.41063198138652324,"","","",2.5639845442826337,null,0,0,0,0,1.9058472463462767E-3,"","","",null,30.99171945831036,0,0,0,0,0,"","","",2.1125999919809333,null,0,0,0,0,0,"","","",null,12.11831368664563,2.5490028983882]
[null,null,null,null,null,null,null,null,null,null,12.141519955674056,0.23159909389202749,0.17643110117298744,0.1402170651859308,0.11572780733465457,0.10543354515154153,"","","",0,0,0,0,0.34302233211978667,"","","",2.4425038075302394,null,0,0,0,0,1.5920537043859905E-3,"","","",null,31.039198155297431,0,0,0,0,0,"","","",2.1321701591356841,null,0,0,0,0,0,"","","",null,12.136878701868371,2.5002391170853344]
[null,null,null,null,null,null,null,null,null,null,12.169367478508168,0.23213028447434858,0.17683575966191625,0.14053866395929299,0.1159932380854221,0.10567536520922852,"","","",0,0,0,0,0.26216365004753456,"","","",2.283869102683044,null,0,0,0,0,1.2167680384954566E-3,"","","",null,31.110416200778037,0,0,0,0,0,"","","",2.0892616847957552,null,0,0,0,0,0,"","","",null,12.164726224702482,2.4189447363311389]
[null,null,null,null,null,null,null,null,null,null,12.192573747536594,0.2325729432929495,0.17717297506935695,0.14080666293709482,0.11621443037772837,0.10587688192396769,"","","",0,0,0,0,0.2097430111406392,"","","",2.3356383088396693,null,0,0,0,0,9.7347054867237602E-4,"","","",null,31.169764572011875,{"$f":"IF(AK$56=\"NOT ELUTED\",\"\",IF(AK$51=\"\",\"\",IF(ABS(($AM2704-AK$57)/(AK$72/2.2))>20,0,AK$62*(POWER(POWER(AK$66,2),0.5)+POWER(POWER(AK$66,2),-0.5))/(POWER(POWER(AK$66,2),0.5)*EXP(POWER(1+POWER(AK$66,2),-1)*($AM2704-AK$57)/(AK$72/2.2))+POWER(POWER(AK$66,2),-0.5)*EXP(-POWER(AK$66,2)*POWER(1+POWER(AK$66,2),-1)*($AM2704-AK$57)/(AK$72/2.2))))))","v":0},{"$f":"IF(AL$56=\"NOT ELUTED\",\"\",IF(AL$51=\"\",\"\",IF(ABS(($AM2704-AL$57)/(AL$72/2.2))>20,0,AL$62*(POWER(POWER(AL$66,2),0.5)+POWER(POWER(AL$66,2),-0.5))/(POWER(POWER(AL$66,2),0.5)*EXP(POWER(1+POWER(AL$66,2),-1)*($AM2704-AL$57)/(AL$72/2.2))+POWER(POWER(AL$66,2),-0.5)*EXP(-POWER(AL$66,2)*POWER(1+POWER(AL$66,2),-1)*($AM2704-AL$57)/(AL$72/2.2))))))","v":0},{"$f":"IF(AM$56=\"NOT ELUTED\",\"\",IF(AM$51=\"\",\"\",IF(ABS(($AM2704-AM$57)/(AM$72/2.2))>20,0,AM$62*(POWER(POWER(AM$66,2),0.5)+POWER(POWER(AM$66,2),-0.5))/(POWER(POWER(AM$66,2),0.5)*EXP(POWER(1+POWER(AM$66,2),-1)*($AM2704-AM$57)/(AM$72/2.2))+POWER(POWER(AM$66,2),-0.5)*EXP(-POWER(AM$66,2)*POWER(1+POWER(AM$66,2),-1)*($AM2704-AM$57)/(AM$72/2.2))))))","v":0},{"$f":"IF(AN$56=\"NOT ELUTED\",\"\",IF(AN$51=\"\",\"\",IF(ABS(($AM2704-AN$57)/(AN$72/2.2))>20,0,AN$62*(POWER(POWER(AN$66,2),0.5)+POWER(POWER(AN$66,2),-0.5))/(POWER(POWER(AN$66,2),0.5)*EXP(POWER(1+POWER(AN$66,2),-1)*($AM2704-AN$57)/(AN$72/2.2))+POWER(POWER(AN$66,2),-0.5)*EXP(-POWER(AN$66,2)*POWER(1+POWER(AN$66,2),-1)*($AM2704-AN$57)/(AN$72/2.2))))))","v":0},{"$f":"IF(AO$56=\"NOT ELUTED\",\"\",IF(AO$51=\"\",\"\",IF(ABS(($AM2704-AO$57)/(AO$72/2.2))>20,0,AO$62*(POWER(POWER(AO$66,2),0.5)+POWER(POWER(AO$66,2),-0.5))/(POWER(POWER(AO$66,2),0.5)*EXP(POWER(1+POWER(AO$66,2),-1)*($AM2704-AO$57)/(AO$72/2.2))+POWER(POWER(AO$66,2),-0.5)*EXP(-POWER(AO$66,2)*POWER(1+POWER(AO$66,2),-1)*($AM2704-AO$57)/(AO$72/2.2))))))","v":0},{"$f":"IF(AP$56=\"NOT ELUTED\",\"\",IF(AP$51=\"\",\"\",IF(ABS(($AM2704-AP$57)/(AP$72/2.2))>20,0,AP$62*(POWER(POWER(AP$66,2),0.5)+POWER(POWER(AP$66,2),-0.5))/(POWER(POWER(AP$66,2),0.5)*EXP(POWER(1+POWER(AP$66,2),-1)*($AM2704-AP$57)/(AP$72/2.2))+POWER(POWER(AP$66,2),-0.5)*EXP(-POWER(AP$66,2)*POWER(1+POWER(AP$66,2),-1)*($AM2704-AP$57)/(AP$72/2.2))))))","v":""},{"$f":"IF(AQ$56=\"NOT ELUTED\",\"\",IF(AQ$51=\"\",\"\",IF(ABS(($AM2704-AQ$57)/(AQ$72/2.2))>20,0,AQ$62*(POWER(POWER(AQ$66,2),0.5)+POWER(POWER(AQ$66,2),-0.5))/(POWER(POWER(AQ$66,2),0.5)*EXP(POWER(1+POWER(AQ$66,2),-1)*($AM2704-AQ$57)/(AQ$72/2.2))+POWER(POWER(AQ$66,2),-0.5)*EXP(-POWER(AQ$66,2)*POWER(1+POWER(AQ$66,2),-1)*($AM2704-AQ$57)/(AQ$72/2.2))))))","v":""},{"$f":"IF(AR$56=\"NOT ELUTED\",\"\",IF(AR$51=\"\",\"\",IF(ABS(($AM2704-AR$57)/(AR$72/2.2))>20,0,AR$62*(POWER(POWER(AR$66,2),0.5)+POWER(POWER(AR$66,2),-0.5))/(POWER(POWER(AR$66,2),0.5)*EXP(POWER(1+POWER(AR$66,2),-1)*($AM2704-AR$57)/(AR$72/2.2))+POWER(POWER(AR$66,2),-0.5)*EXP(-POWER(AR$66,2)*POWER(1+POWER(AR$66,2),-1)*($AM2704-AR$57)/(AR$72/2.2))))))","v":""},2.1708235858966214,null,0,0,0,0,0,"","","",null,12.187932493730909,2.3086923474755734]
[null,null,null,null,null,null,null,null,null,null,12.21578001656502,0.23301560211155042,0.17751019047679764,0.14107466191489662,0.11643562267003464,0.10607839863870684,"","","",0,0,0,0,0.1679462093790545,"","","",2.1827663001769628,null,0,0,0,0,7.7948098343094891E-4,"","","",null,31.229112943245713,0,0,0,0,0,"","","",2.072542883963957,null,0,0,0,0,0,"","","",null,12.211138762759335,2.2785171564643782]
[null,null,null,null,null,null,null,null,null,null,12.243627539399132,0.23354679269387152,0.17791484896572646,0.14139626068825881,0.11670105342080216,0.10632021869639383,"","","",0,0,0,0,0.12877515128439285,"","","",2.2592603886694165,null,0,0,0,0,5.9767816097638243E-4,"","","",null,31.300330988726319,0,0,0,0,0,"","","",2.1340304450185386,null,0,0,0,0,0,"","","",null,12.238986285593446,2.2943690227226234]
[null,null,null,null,null,null,null,null,null,null,12.266833808427558,0.23398945151247244,0.17825206437316712,0.14166425966606064,0.11692224571310844,0.106521735411133,"","","",0,0,0,0,0.10330392133099697,"","","",2.166239992819663,null,0,0,0,0,4.7945971801969964E-4,"","","",null,31.359679359960158,0,0,0,0,0,"","","",2.1045856461029522,null,0,0,0,0,0,"","","",null,12.262192554621873,2.218661696462461]
[null,null,null,null,null,null,null,null,null,null,12.294681331261669,0.23452064209479356,0.17865672286209597,0.14198585843942282,0.11718767646387596,0.10676355546881999,"","","",0,0,0,0,7.938442831246606E-2,"","","",2.2164297085693114,null,0,0,0,0,3.6844328001738123E-4,"","","",null,31.430897405440763,0,0,0,0,0,"","","",2.0944937960190977,null,0,0,0,0,0,"","","",null,12.290040077455984,2.2184632289996973]
[null,null,null,null,null,null,null,null,null,null,12.317887600290096,0.23496330091339446,0.17899393826953663,0.14225385741722466,0.11740886875618223,0.10696507218355915,"","","",0,0,0,0,6.3798786362200766E-2,"","","",2.158429114645843,null,0,0,0,0,2.9610636000166468E-4,"","","",null,31.490245776674602,0,0,0,0,0,"","","",2.0311919633578799,null,0,0,0,0,0,"","","",null,12.31324634648441,2.1014634143052984]
[null,null,null,null,null,null,null,null,null,null,12.341093869318522,0.23540595973199538,0.17933115367697733,0.14252185639502649,0.1176300610484885,0.1071665888982983,"","","",0,0,0,0,5.1315251943966918E-2,"","","",2.2024706534641529,null,0,0,0,0,2.3816710837463401E-4,"","","",null,31.54959414790844,0,0,0,0,0,"","","",2.0600361183483367,null,0,0,0,0,0,"","","",null,12.336452615512837,2.0674585766729221]
[null,null,null,null,null,null,null,null,null,null,12.345735123124207,0.23549449149571555,0.17939859675846548,0.14257545619058684,0.11767429950694976,0.10720689224124615,"","","",0,0,0,0,4.9133299929765645E-2,"","","",2.2078754637237794,null,0,0,0,0,2.2804011528489976E-4,"","","",null,31.561463822155208,0,0,0,0,0,"","","",2.1083247654239226,null,0,0,0,0,0,"","","",null,12.341093869318522,2.2024706534641529]
[null,null,null,null,null,null,null,null,null,null,12.368941392152633,0.2359371503143165,0.17973581216590614,0.14284345516838867,0.11789549179925603,0.1074084089559853,"","","",0,0,0,0,3.9558124174624447E-2,"","","",2.1607275693014873,null,0,0,0,0,1.8359929437124551E-4,"","","",null,31.620812193389046,0,0,0,0,0,"","","",2.1109243867500127,null,{"$f":"IF(AN2742=\"\",\"\",($AM2743-$AM2742)*AN2742)","v":0},{"$f":"IF(AO2742=\"\",\"\",($AM2743-$AM2742)*AO2742)","v":0},{"$f":"IF(AP2742=\"\",\"\",($AM2743-$AM2742)*AP2742)","v":0},{"$f":"IF(AQ2742=\"\",\"\",($AM2743-$AM2742)*AQ2742)","v":0},{"$f":"IF(AR2742=\"\",\"\",($AM2743-$AM2742)*AR2742)","v":0},{"$f":"IF(AS2742=\"\",\"\",($AM2743-$AM2742)*AS2742)","v":""},{"$f":"IF(AT2742=\"\",\"\",($AM2743-$AM2742)*AT2742)","v":""},{"$f":"IF(AU2742=\"\",\"\",($AM2743-$AM2742)*AU2742)","v":""},null,12.364300138346948,2.1169982912921652]
[null,null,null,null,null,null,null,null,null,null,12.406071422598115,0.23664540442407797,0.18027535681781126,0.1432722535328716,0.11824939946694606,0.10773083569956797,"","","",0,0,0,0,2.801198134115029E-2,"","","",2.1831036473523437,null,0,0,0,0,1.3001071500439807E-4,"","","",null,31.715769587363187,0,0,0,0,0,"","","",2.098862911766211,null,0,0,0,0,0,"","","",null,12.40143016879243,2.1758560459699674]
[null,null,null,null,null,null,null,null,null,null,12.415353930209486,0.23682246795151832,0.18041024298078753,0.14337945312399231,0.11833787638386857,0.10781144238546363,"","","",0,0,0,0,2.5704605682234087E-2,"","","",2.0899877995899838,null,0,0,0,0,1.1930159894630773E-4,"","","",null,31.739508935856723,0,0,0,0,0,"","","",2.049374068964573,null,0,0,0,0,0,"","","",null,12.410712676403801,2.08956681180742]
[null,null,null,null,null,null,null,null,null,null,12.438560199237912,0.23726512677011924,0.18074745838822823,0.14364745210179414,0.11855906867617484,0.1080129591002028,"","","",0,0,0,0,2.0745433529988012E-2,"","","",2.1527003119546597,null,0,0,0,0,9.6284822321647301E-5,"","","",null,31.798857307090561,0,0,0,0,0,"","","",2.1758618740582438,null,0,0,0,0,0,"","","",null,12.433918945432227,2.0400975148557134]
[null,null,null,null,null,null,null,null,null,null,12.466407722072024,0.23779631735244033,0.18115211687715704,0.14396905087515632,0.11882449942694237,0.10825477915788978,"","","",0,0,0,0,1.6057349660722336E-2,"","","",2.1036168759028908,null,0,0,0,0,7.4526235222046347E-5,"","","",null,31.870075352571167,0,0,0,0,0,"","","",2.1162466093910628,null,0,0,0,0,0,"","","",null,12.461766468266338,2.0678442307837051]
[null,null,null,null,null,null,null,null,null,null,12.48961399110045,0.23823897617104126,0.18148933228459774,0.14423704985295815,0.11904569171924863,0.10845629587262895,"","","",0,0,0,0,1.2982119812180712E-2,"","","",2.1749395074219988,null,0,0,0,0,6.0253312984145647E-5,"","","",null,31.929423723805005,{"$f":"IF(AK$56=\"NOT ELUTED\",\"\",IF(AK$51=\"\",\"\",IF(ABS(($AM2768-AK$57)/(AK$72/2.2))>20,0,AK$62*(POWER(POWER(AK$66,2),0.5)+POWER(POWER(AK$66,2),-0.5))/(POWER(POWER(AK$66,2),0.5)*EXP(POWER(1+POWER(AK$66,2),-1)*($AM2768-AK$57)/(AK$72/2.2))+POWER(POWER(AK$66,2),-0.5)*EXP(-POWER(AK$66,2)*POWER(1+POWER(AK$66,2),-1)*($AM2768-AK$57)/(AK$72/2.2))))))","v":0},{"$f":"IF(AL$56=\"NOT ELUTED\",\"\",IF(AL$51=\"\",\"\",IF(ABS(($AM2768-AL$57)/(AL$72/2.2))>20,0,AL$62*(POWER(POWER(AL$66,2),0.5)+POWER(POWER(AL$66,2),-0.5))/(POWER(POWER(AL$66,2),0.5)*EXP(POWER(1+POWER(AL$66,2),-1)*($AM2768-AL$57)/(AL$72/2.2))+POWER(POWER(AL$66,2),-0.5)*EXP(-POWER(AL$66,2)*POWER(1+POWER(AL$66,2),-1)*($AM2768-AL$57)/(AL$72/2.2))))))","v":0},{"$f":"IF(AM$56=\"NOT ELUTED\",\"\",IF(AM$51=\"\",\"\",IF(ABS(($AM2768-AM$57)/(AM$72/2.2))>20,0,AM$62*(POWER(POWER(AM$66,2),0.5)+POWER(POWER(AM$66,2),-0.5))/(POWER(POWER(AM$66,2),0.5)*EXP(POWER(1+POWER(AM$66,2),-1)*($AM2768-AM$57)/(AM$72/2.2))+POWER(POWER(AM$66,2),-0.5)*EXP(-POWER(AM$66,2)*POWER(1+POWER(AM$66,2),-1)*($AM2768-AM$57)/(AM$72/2.2))))))","v":0},{"$f":"IF(AN$56=\"NOT ELUTED\",\"\",IF(AN$51=\"\",\"\",IF(ABS(($AM2768-AN$57)/(AN$72/2.2))>20,0,AN$62*(POWER(POWER(AN$66,2),0.5)+POWER(POWER(AN$66,2),-0.5))/(POWER(POWER(AN$66,2),0.5)*EXP(POWER(1+POWER(AN$66,2),-1)*($AM2768-AN$57)/(AN$72/2.2))+POWER(POWER(AN$66,2),-0.5)*EXP(-POWER(AN$66,2)*POWER(1+POWER(AN$66,2),-1)*($AM2768-AN$57)/(AN$72/2.2))))))","v":0},{"$f":"IF(AO$56=\"NOT ELUTED\",\"\",IF(AO$51=\"\",\"\",IF(ABS(($AM2768-AO$57)/(AO$72/2.2))>20,0,AO$62*(POWER(POWER(AO$66,2),0.5)+POWER(POWER(AO$66,2),-0.5))/(POWER(POWER(AO$66,2),0.5)*EXP(POWER(1+POWER(AO$66,2),-1)*($AM2768-AO$57)/(AO$72/2.2))+POWER(POWER(AO$66,2),-0.5)*EXP(-POWER(AO$66,2)*POWER(1+POWER(AO$66,2),-1)*($AM2768-AO$57)/(AO$72/2.2))))))","v":0},{"$f":"IF(AP$56=\"NOT ELUTED\",\"\",IF(AP$51=\"\",\"\",IF(ABS(($AM2768-AP$57)/(AP$72/2.2))>20,0,AP$62*(POWER(POWER(AP$66,2),0.5)+POWER(POWER(AP$66,2),-0.5))/(POWER(POWER(AP$66,2),0.5)*EXP(POWER(1+POWER(AP$66,2),-1)*($AM2768-AP$57)/(AP$72/2.2))+POWER(POWER(AP$66,2),-0.5)*EXP(-POWER(AP$66,2)*POWER(1+POWER(AP$66,2),-1)*($AM2768-AP$57)/(AP$72/2.2))))))","v":""},{"$f":"IF(AQ$56=\"NOT ELUTED\",\"\",IF(AQ$51=\"\",\"\",IF(ABS(($AM2768-AQ$57)/(AQ$72/2.2))>20,0,AQ$62*(POWER(POWER(AQ$66,2),0.5)+POWER(POWER(AQ$66,2),-0.5))/(POWER(POWER(AQ$66,2),0.5)*EXP(POWER(1+POWER(AQ$66,2),-1)*($AM2768-AQ$57)/(AQ$72/2.2))+POWER(POWER(AQ$66,2),-0.5)*EXP(-POWER(AQ$66,2)*POWER(1+POWER(AQ$66,2),-1)*($AM2768-AQ$57)/(AQ$72/2.2))))))","v":""},{"$f":"IF(AR$56=\"NOT ELUTED\",\"\",IF(AR$51=\"\",\"\",IF(ABS(($AM2768-AR$57)/(AR$72/2.2))>20,0,AR$62*(POWER(POWER(AR$66,2),0.5)+POWER(POWER(AR$66,2),-0.5))/(POWER(POWER(AR$66,2),0.5)*EXP(POWER(1+POWER(AR$66,2),-1)*($AM2768-AR$57)/(AR$72/2.2))+POWER(POWER(AR$66,2),-0.5)*EXP(-POWER(AR$66,2)*POWER(1+POWER(AR$66,2),-1)*($AM2768-AR$57)/(AR$72/2.2))))))","v":""},2.1310107407147227,null,0,0,0,0,0,"","","",null,12.484972737294765,2.1076928637414527]
[null,null,null,null,null,null,null,null,null,null,12.512820260128876,0.23868163498964218,0.1818265476920384,0.14450504883075999,0.1192668840115549,0.1086578125873681,"","","",0,0,0,0,1.0504123612735672E-2,"","","",2.158870269444618,null,0,0,0,0,4.8752303692997762E-5,"","","",null,31.988772095038843,0,0,0,0,0,"","","",2.1213418349630069,null,0,0,0,0,0,"","","",null,12.508179006323191,2.0667445327340466]
[null,null,null,null,null,null,null,null,null,null,12.540667782962988,0.23921282557196327,0.18223120618096722,0.14482664760412217,0.11953231476232243,0.10889963264505509,"","","",0,0,0,0,8.1550429276360283E-3,"","","",2.1471392959563138,null,0,0,0,0,3.784962402341732E-5,"","","",null,32.059990140519453,0,0,0,0,0,"","","",2.0954159567287269,null,0,0,0,0,0,"","","",null,12.536026529157303,2.1090593626423688]
[null,null,null,null,null,null,null,null,null,null,12.563874051991414,0.23965548439056417,0.18256842158840791,0.14509464658192398,0.1197535070546287,0.10910114935979426,"","","",0,0,0,0,6.6097830754635505E-3,"","","",2.0236821317989473,null,0,0,0,0,3.0677680853749178E-5,"","","",null,32.119338511753291,0,0,0,0,0,"","","",2.1006243890543059,null,0,0,0,0,0,"","","",null,12.559232798185729,2.1525144231017124]
[null,null,null,null,null,null,null,null,null,null,12.58708032101984,0.24009814320916512,0.18290563699584858,0.14536264555972581,0.11997469934693497,0.10930266607453341,"","","",0,0,0,0,5.3614787478755057E-3,"","","",2.0781925303088524,null,0,0,0,0,2.4883983642677793E-5,"","","",null,32.17868688298713,0,0,0,0,0,"","","",2.1652517571073426,null,0,0,0,0,0,"","","",null,12.582439067214155,2.1067103443320767]
[null,null,null,null,null,null,null,null,null,null,12.614927843853952,0.24062933379148621,0.18331029548477742,0.14568424433308799,0.1202401300977025,0.10954448613222041,"","","",0,0,0,0,0,"","","",2.0301762058457693,null,0,0,0,0,0,"","","",null,32.249904928467735,0,0,0,0,0,"","","",2.0434870427439016,null,0,0,0,0,0,"","","",null,12.610286590048267,2.1433195000945018]
[null,null,null,null,null,null,null,null,null,null,12.624210351465322,0.24080639731892658,0.1834451816477537,0.14579144392420873,0.120328607014625,0.10962509281811608,"","","",0,0,0,0,0,"","","",2.0029224900105591,null,0,0,0,0,0,"","","",null,32.273644276961271,0,0,0,0,0,"","","",2.0537188281492655,null,0,0,0,0,0,"","","",null,12.619569097659637,2.0439256245677]
[null,null,null,null,null,null,null,null,null,null,12.638134112882378,0.24107199261008713,0.18364751089221812,0.14595224331088982,0.12046132239000876,0.10974600284695957,"","","",0,0,0,0,0,"","","",2.1336096380493683,null,0,0,0,0,0,"","","",null,32.309253299701574,0,0,0,0,0,"","","",2.059224071449917,null,0,0,0,0,0,"","","",null,12.633492859076693,2.1420827920341412]
[null,null,null,null,null,null,null,null,null,null,12.661340381910804,0.24151465142868805,0.18398472629965879,0.14622024228869165,0.12068251468231504,0.10994751956169874,"","","",0,0,0,0,0,"","","",2.0776308580483938,null,0,0,0,0,0,"","","",null,32.368601670935412,0,0,0,0,0,"","","",2.11883479662922,null,0,0,0,0,0,"","","",null,12.656699128105119,2.1529806907539903]
[null,null,null,null,null,null,null,null,null,null,12.684546650939231,0.24195731024728898,0.18432194170709948,0.14648824126649349,0.12090370697462131,0.11014903627643791,"","","",0,0,0,0,0,"","","",2.0275956496888421,null,0,0,0,0,0,"","","",null,32.42795004216925,0,0,0,0,0,"","","",2.1411493665395569,null,0,0,0,0,0,"","","",null,12.679905397133545,2.1073725553032792]
[null,null,null,null,null,null,null,null,null,null,12.712394173773342,0.24248850082961007,0.1847266001960283,0.14680984003985567,0.12116913772538883,0.11039085633412489,"","","",0,0,0,0,0,"","","",2.0236473965737702,null,0,0,0,0,0,"","","",null,32.499168087649856,0,0,0,0,0,"","","",2.0500348332584339,null,0,0,0,0,0,"","","",null,12.707752919967657,2.0121365727028975]
[null,null,null,null,null,null,null,null,null,null,12.735600442801768,0.24293115964821096,0.18506381560346899,0.14707783901765747,0.1213903300176951,0.11059237304886405,"","","",0,0,0,0,0,"","","",2.0939359868946075,null,0,0,0,0,0,"","","",null,32.558516458883695,0,0,0,0,0,"","","",2.1289042016800752,null,0,0,0,0,0,"","","",null,12.730959188996083,2.0265638853534544]
[null,null,null,null,null,null,null,null,null,null,12.76344796563588,0.24346235023053209,0.18546847409239781,0.14739943779101966,0.12165576076846263,0.11083419310655104,"","","",0,0,0,0,0,"","","",2.0351571009444922,null,0,0,0,0,0,"","","",null,32.629734504364301,0,0,0,0,0,"","","",2.0851058909605613,null,0,0,0,0,0,"","","",null,12.758806711830195,2.0957727026341177]
[null,null,null,null,null,null,null,null,null,null,12.786654234664306,0.24390500904913301,0.1858056894998385,0.14766743676882149,0.12187695306076891,0.11103570982129021,"","","",0,0,0,0,0,"","","",2.1141172764680101,null,0,0,0,0,0,"","","",null,32.689082875598139,{"$f":"IF(AK$56=\"NOT ELUTED\",\"\",IF(AK$51=\"\",\"\",IF(ABS(($AM2832-AK$57)/(AK$72/2.2))>20,0,AK$62*(POWER(POWER(AK$66,2),0.5)+POWER(POWER(AK$66,2),-0.5))/(POWER(POWER(AK$66,2),0.5)*EXP(POWER(1+POWER(AK$66,2),-1)*($AM2832-AK$57)/(AK$72/2.2))+POWER(POWER(AK$66,2),-0.5)*EXP(-POWER(AK$66,2)*POWER(1+POWER(AK$66,2),-1)*($AM2832-AK$57)/(AK$72/2.2))))))","v":0},{"$f":"IF(AL$56=\"NOT ELUTED\",\"\",IF(AL$51=\"\",\"\",IF(ABS(($AM2832-AL$57)/(AL$72/2.2))>20,0,AL$62*(POWER(POWER(AL$66,2),0.5)+POWER(POWER(AL$66,2),-0.5))/(POWER(POWER(AL$66,2),0.5)*EXP(POWER(1+POWER(AL$66,2),-1)*($AM2832-AL$57)/(AL$72/2.2))+POWER(POWER(AL$66,2),-0.5)*EXP(-POWER(AL$66,2)*POWER(1+POWER(AL$66,2),-1)*($AM2832-AL$57)/(AL$72/2.2))))))","v":0},{"$f":"IF(AM$56=\"NOT ELUTED\",\"\",IF(AM$51=\"\",\"\",IF(ABS(($AM2832-AM$57)/(AM$72/2.2))>20,0,AM$62*(POWER(POWER(AM$66,2),0.5)+POWER(POWER(AM$66,2),-0.5))/(POWER(POWER(AM$66,2),0.5)*EXP(POWER(1+POWER(AM$66,2),-1)*($AM2832-AM$57)/(AM$72/2.2))+POWER(POWER(AM$66,2),-0.5)*EXP(-POWER(AM$66,2)*POWER(1+POWER(AM$66,2),-1)*($AM2832-AM$57)/(AM$72/2.2))))))","v":0},{"$f":"IF(AN$56=\"NOT ELUTED\",\"\",IF(AN$51=\"\",\"\",IF(ABS(($AM2832-AN$57)/(AN$72/2.2))>20,0,AN$62*(POWER(POWER(AN$66,2),0.5)+POWER(POWER(AN$66,2),-0.5))/(POWER(POWER(AN$66,2),0.5)*EXP(POWER(1+POWER(AN$66,2),-1)*($AM2832-AN$57)/(AN$72/2.2))+POWER(POWER(AN$66,2),-0.5)*EXP(-POWER(AN$66,2)*POWER(1+POWER(AN$66,2),-1)*($AM2832-AN$57)/(AN$72/2.2))))))","v":0},{"$f":"IF(AO$56=\"NOT ELUTED\",\"\",IF(AO$51=\"\",\"\",IF(ABS(($AM2832-AO$57)/(AO$72/2.2))>20,0,AO$62*(POWER(POWER(AO$66,2),0.5)+POWER(POWER(AO$66,2),-0.5))/(POWER(POWER(AO$66,2),0.5)*EXP(POWER(1+POWER(AO$66,2),-1)*($AM2832-AO$57)/(AO$72/2.2))+POWER(POWER(AO$66,2),-0.5)*EXP(-POWER(AO$66,2)*POWER(1+POWER(AO$66,2),-1)*($AM2832-AO$57)/(AO$72/2.2))))))","v":0},{"$f":"IF(AP$56=\"NOT ELUTED\",\"\",IF(AP$51=\"\",\"\",IF(ABS(($AM2832-AP$57)/(AP$72/2.2))>20,0,AP$62*(POWER(POWER(AP$66,2),0.5)+POWER(POWER(AP$66,2),-0.5))/(POWER(POWER(AP$66,2),0.5)*EXP(POWER(1+POWER(AP$66,2),-1)*($AM2832-AP$57)/(AP$72/2.2))+POWER(POWER(AP$66,2),-0.5)*EXP(-POWER(AP$66,2)*POWER(1+POWER(AP$66,2),-1)*($AM2832-AP$57)/(AP$72/2.2))))))","v":""},{"$f":"IF(AQ$56=\"NOT ELUTED\",\"\",IF(AQ$51=\"\",\"\",IF(ABS(($AM2832-AQ$57)/(AQ$72/2.2))>20,0,AQ$62*(POWER(POWER(AQ$66,2),0.5)+POWER(POWER(AQ$66,2),-0.5))/(POWER(POWER(AQ$66,2),0.5)*EXP(POWER(1+POWER(AQ$66,2),-1)*($AM2832-AQ$57)/(AQ$72/2.2))+POWER(POWER(AQ$66,2),-0.5)*EXP(-POWER(AQ$66,2)*POWER(1+POWER(AQ$66,2),-1)*($AM2832-AQ$57)/(AQ$72/2.2))))))","v":""},{"$f":"IF(AR$56=\"NOT ELUTED\",\"\",IF(AR$51=\"\",\"\",IF(ABS(($AM2832-AR$57)/(AR$72/2.2))>20,0,AR$62*(POWER(POWER(AR$66,2),0.5)+POWER(POWER(AR$66,2),-0.5))/(POWER(POWER(AR$66,2),0.5)*EXP(POWER(1+POWER(AR$66,2),-1)*($AM2832-AR$57)/(AR$72/2.2))+POWER(POWER(AR$66,2),-0.5)*EXP(-POWER(AR$66,2)*POWER(1+POWER(AR$66,2),-1)*($AM2832-AR$57)/(AR$72/2.2))))))","v":""},2.110006645805488,null,0,0,0,0,0,"","","",null,12.782012980858621,2.1344795120536793]
[null,null,null,null,null,null,null,null,null,null,12.809860503692732,0.24434766786773393,0.18614290490727919,0.14793543574662332,0.12209814535307517,0.11123722653602937,"","","",0,0,0,0,0,"","","",2.0118158273468745,null,0,0,0,0,0,"","","",null,32.748431246831977,0,0,0,0,0,"","","",2.1277961562989982,null,0,0,0,0,0,"","","",null,12.805219249887047,2.1537965775237833]
[null,null,null,null,null,null,null,null,null,null,12.837708026526844,0.244878858450055,0.18654756339620801,0.14825703451998551,0.1223635761038427,0.11147904659371635,"","","",0,0,0,0,0,"","","",2.1188098831357904,null,0,0,0,0,0,"","","",null,32.819649292312583,0,0,0,0,0,"","","",2.1189861766217986,null,0,0,0,0,0,"","","",null,12.833066772721159,2.1024379448143038]
[null,null,null,null,null,null,null,null,null,null,12.86091429555527,0.24532151726865595,0.18688477880364868,0.14852503349778734,0.12258476839614897,0.11168056330845552,"","","",0,0,0,0,0,"","","",2.1482854446663389,null,0,0,0,0,0,"","","",null,32.878997663546421,0,0,0,0,0,"","","",2.1094217975194955,null,0,0,0,0,0,"","","",null,12.856273041749585,2.0890464926187682]
[null,null,null,null,null,null,null,null,null,null,12.870196803166641,0.24549858079609632,0.18701966496662495,0.14863223308890805,0.12267324531307147,0.11176116999435119,"","","",0,0,0,0,0,"","","",2.0079999391799626,null,0,0,0,0,0,"","","",null,32.902737012039957,0,0,0,0,0,"","","",2.05446872871121,null,0,0,0,0,0,"","","",null,12.865555549360955,2.1516165215076541]
[null,null,null,null,null,null,null,null,null,null,12.907326833612123,0.24620683490585776,0.18755920961853007,0.14906103145339097,0.12302715298076151,0.11208359673793385,"","","",0,0,0,0,0,"","","",2.0575379724352802,null,0,0,0,0,0,"","","",null,32.997694406014098,0,0,0,0,0,"","","",2.0933655529828723,null,0,0,0,0,0,"","","",null,12.902685579806437,2.0755398750636656]
[null,null,null,null,null,null,null,null,null,null,12.930533102640549,0.24664949372445868,0.18789642502597073,0.14932903043119281,0.12324834527306779,0.112285113452673,"","","",0,0,0,0,0,"","","",2.009819217677197,null,0,0,0,0,0,"","","",null,33.057042777247936,0,0,0,0,0,"","","",2.0381256868618824,null,0,0,0,0,0,"","","",null,12.925891848834864,2.0579565191853355]
[null,null,null,null,null,null,null,null,null,null,12.935174356446234,0.24673802548817889,0.18796386810745888,0.14938263022675319,0.12329258373152904,0.11232541679562083,"","","",0,0,0,0,0,"","","",2.0909015641246409,null,0,0,0,0,0,"","","",null,33.068912451494704,0,0,0,0,0,"","","",2.0698944038497293,null,0,0,0,0,0,"","","",null,12.930533102640549,2.009819217677197]
[null,null,null,null,null,null,null,null,null,null,12.958380625474661,0.24718068430677981,0.18830108351489958,0.14965062920455499,0.12351377602383531,0.11252693351036,"","","",0,0,0,0,0,"","","",2.0681208848346766,null,0,0,0,0,0,"","","",null,33.128260822728542,0,0,0,0,0,"","","",2.0778084622764439,null,0,0,0,0,0,"","","",null,12.953739371668975,2.0159545815080908]
[null,null,null,null,null,null,null,null,null,null,12.981586894503087,0.24762334312538073,0.18863829892234027,0.14991862818235682,0.12373496831614159,0.11272845022509916,"","","",0,0,0,0,0,"","","",2.1377543412345728,null,0,0,0,0,0,"","","",null,33.187609193962381,0,0,0,0,0,"","","",2.0139789699995703,null,0,0,0,0,0,"","","",null,12.976945640697402,2.1652287428746995]
[null,null,null,null,null,null,null,null,null,null,13.009434417337198,0.24815453370770182,0.18904295741126909,0.15024022695571901,0.1240003990669091,0.11297027028278615,"","","",0,0,0,0,0,"","","",2.026801755557647,null,0,0,0,0,0,"","","",null,33.258827239442986,0,0,0,0,0,"","","",2.106551277828693,null,0,0,0,0,0,"","","",null,13.004793163531513,2.0306033050300991]
[null,null,null,null,null,null,null,null,null,null,13.032640686365625,0.24859719252630272,0.18938017281870975,0.15050822593352081,0.12422159135921537,0.11317178699752531,"","","",0,0,0,0,0,"","","",2.0929518003236791,null,0,0,0,0,0,"","","",null,33.318175610676825,0,0,0,0,0,"","","",2.0893746730401932,null,0,0,0,0,0,"","","",null,13.027999432559939,2.0670084666018758]
[null,null,null,null,null,null,null,null,null,null,13.060488209199736,0.24912838310862381,0.18978483130763857,0.150829824706883,0.12448702210998289,0.11341360705521231,"","","",0,0,0,0,0,"","","",2.0679640104156816,null,0,0,0,0,0,"","","",null,33.389393656157431,0,0,0,0,0,"","","",2.1624643630165372,null,0,0,0,0,0,"","","",null,13.055846955394051,2.0175564568227071]
[null,null,null,null,null,null,null,null,null,null,13.083694478228162,0.24957104192722473,0.19012204671507926,0.15109782368468483,0.12470821440228916,0.11361512376995146,"","","",0,0,0,0,0,"","","",2.0131242485805139,null,0,0,0,0,0,"","","",null,33.448742027391269,{"$f":"IF(AK$56=\"NOT ELUTED\",\"\",IF(AK$51=\"\",\"\",IF(ABS(($AM2896-AK$57)/(AK$72/2.2))>20,0,AK$62*(POWER(POWER(AK$66,2),0.5)+POWER(POWER(AK$66,2),-0.5))/(POWER(POWER(AK$66,2),0.5)*EXP(POWER(1+POWER(AK$66,2),-1)*($AM2896-AK$57)/(AK$72/2.2))+POWER(POWER(AK$66,2),-0.5)*EXP(-POWER(AK$66,2)*POWER(1+POWER(AK$66,2),-1)*($AM2896-AK$57)/(AK$72/2.2))))))","v":0},{"$f":"IF(AL$56=\"NOT ELUTED\",\"\",IF(AL$51=\"\",\"\",IF(ABS(($AM2896-AL$57)/(AL$72/2.2))>20,0,AL$62*(POWER(POWER(AL$66,2),0.5)+POWER(POWER(AL$66,2),-0.5))/(POWER(POWER(AL$66,2),0.5)*EXP(POWER(1+POWER(AL$66,2),-1)*($AM2896-AL$57)/(AL$72/2.2))+POWER(POWER(AL$66,2),-0.5)*EXP(-POWER(AL$66,2)*POWER(1+POWER(AL$66,2),-1)*($AM2896-AL$57)/(AL$72/2.2))))))","v":0},{"$f":"IF(AM$56=\"NOT ELUTED\",\"\",IF(AM$51=\"\",\"\",IF(ABS(($AM2896-AM$57)/(AM$72/2.2))>20,0,AM$62*(POWER(POWER(AM$66,2),0.5)+POWER(POWER(AM$66,2),-0.5))/(POWER(POWER(AM$66,2),0.5)*EXP(POWER(1+POWER(AM$66,2),-1)*($AM2896-AM$57)/(AM$72/2.2))+POWER(POWER(AM$66,2),-0.5)*EXP(-POWER(AM$66,2)*POWER(1+POWER(AM$66,2),-1)*($AM2896-AM$57)/(AM$72/2.2))))))","v":0},{"$f":"IF(AN$56=\"NOT ELUTED\",\"\",IF(AN$51=\"\",\"\",IF(ABS(($AM2896-AN$57)/(AN$72/2.2))>20,0,AN$62*(POWER(POWER(AN$66,2),0.5)+POWER(POWER(AN$66,2),-0.5))/(POWER(POWER(AN$66,2),0.5)*EXP(POWER(1+POWER(AN$66,2),-1)*($AM2896-AN$57)/(AN$72/2.2))+POWER(POWER(AN$66,2),-0.5)*EXP(-POWER(AN$66,2)*POWER(1+POWER(AN$66,2),-1)*($AM2896-AN$57)/(AN$72/2.2))))))","v":0},{"$f":"IF(AO$56=\"NOT ELUTED\",\"\",IF(AO$51=\"\",\"\",IF(ABS(($AM2896-AO$57)/(AO$72/2.2))>20,0,AO$62*(POWER(POWER(AO$66,2),0.5)+POWER(POWER(AO$66,2),-0.5))/(POWER(POWER(AO$66,2),0.5)*EXP(POWER(1+POWER(AO$66,2),-1)*($AM2896-AO$57)/(AO$72/2.2))+POWER(POWER(AO$66,2),-0.5)*EXP(-POWER(AO$66,2)*POWER(1+POWER(AO$66,2),-1)*($AM2896-AO$57)/(AO$72/2.2))))))","v":0},{"$f":"IF(AP$56=\"NOT ELUTED\",\"\",IF(AP$51=\"\",\"\",IF(ABS(($AM2896-AP$57)/(AP$72/2.2))>20,0,AP$62*(POWER(POWER(AP$66,2),0.5)+POWER(POWER(AP$66,2),-0.5))/(POWER(POWER(AP$66,2),0.5)*EXP(POWER(1+POWER(AP$66,2),-1)*($AM2896-AP$57)/(AP$72/2.2))+POWER(POWER(AP$66,2),-0.5)*EXP(-POWER(AP$66,2)*POWER(1+POWER(AP$66,2),-1)*($AM2896-AP$57)/(AP$72/2.2))))))","v":""},{"$f":"IF(AQ$56=\"NOT ELUTED\",\"\",IF(AQ$51=\"\",\"\",IF(ABS(($AM2896-AQ$57)/(AQ$72/2.2))>20,0,AQ$62*(POWER(POWER(AQ$66,2),0.5)+POWER(POWER(AQ$66,2),-0.5))/(POWER(POWER(AQ$66,2),0.5)*EXP(POWER(1+POWER(AQ$66,2),-1)*($AM2896-AQ$57)/(AQ$72/2.2))+POWER(POWER(AQ$66,2),-0.5)*EXP(-POWER(AQ$66,2)*POWER(1+POWER(AQ$66,2),-1)*($AM2896-AQ$57)/(AQ$72/2.2))))))","v":""},{"$f":"IF(AR$56=\"NOT ELUTED\",\"\",IF(AR$51=\"\",\"\",IF(ABS(($AM2896-AR$57)/(AR$72/2.2))>20,0,AR$62*(POWER(POWER(AR$66,2),0.5)+POWER(POWER(AR$66,2),-0.5))/(POWER(POWER(AR$66,2),0.5)*EXP(POWER(1+POWER(AR$66,2),-1)*($AM2896-AR$57)/(AR$72/2.2))+POWER(POWER(AR$66,2),-0.5)*EXP(-POWER(AR$66,2)*POWER(1+POWER(AR$66,2),-1)*($AM2896-AR$57)/(AR$72/2.2))))))","v":""},2.0999905134687191,null,0,0,0,0,0,"","","",null,13.079053224422477,2.0015456942461745]
[null,null,null,null,null,null,null,null,null,null,13.106900747256589,0.25001370074582568,0.19045926212251996,0.15136582266248666,0.12492940669459544,0.11381664048469063,"","","",0,0,0,0,0,"","","",2.1168342419898916,null,0,0,0,0,0,"","","",null,33.508090398625107,0,0,0,0,0,"","","",2.0451227424164391,null,0,0,0,0,0,"","","",null,13.102259493450903,2.0150260202306383]
[null,null,null,null,null,null,null,null,null,null,13.130107016285015,0.25045635956442658,0.19079647752996062,0.15163382164028846,0.1251505989869017,0.11401815719942979,"","","",0,0,0,0,0,"","","",2.0926189652608995,null,0,0,0,0,0,"","","",null,33.567438769858946,0,0,0,0,0,"","","",2.034732922740822,null,0,0,0,0,0,"","","",null,13.12546576247933,2.1488256690822349]
[null,null,null,null,null,null,null,null,null,null,13.153313285313441,0.25089901838302747,0.19113369293740134,0.15190182061809032,0.125371791279208,0.11421967391416896,"","","",0,0,0,0,0,"","","",2.1574987039948175,null,0,0,0,0,0,"","","",null,33.626787141092784,0,0,0,0,0,"","","",2.0751084364404488,null,0,0,0,0,0,"","","",null,13.148672031507756,2.0214346522257873]
[null,null,null,null,null,null,null,null,null,null,13.176519554341867,0.25134167720162842,0.19147090834484201,0.15216981959589213,0.12559298357151424,0.11442119062890811,"","","",0,0,0,0,0,"","","",2.1106834728786774,null,0,0,0,0,0,"","","",null,33.686135512326622,0,0,0,0,0,"","","",2.0745444315984098,null,0,0,0,0,0,"","","",null,13.171878300536182,2.1080570625656381]
[null,null,null,null,null,null,null,null,null,null,13.204367077175979,0.25187286778394952,0.19187556683377083,0.15249141836925431,0.12585841432228176,0.1146630106865951,"","","",0,0,0,0,0,"","","",2.048633173138255,null,0,0,0,0,0,"","","",null,33.757353557807228,0,0,0,0,0,"","","",2.0328569548783397,null,0,0,0,0,0,"","","",null,13.199725823370294,2.1620291179150311]
[null,null,null,null,null,null,null,null,null,null,13.227573346204405,0.25231552660255041,0.19221278224121152,0.15275941734705614,0.12607960661458803,0.11486452740133427,"","","",0,0,0,0,0,"","","",2.062650817083973,null,0,0,0,0,0,"","","",null,33.816701929041066,0,0,0,0,0,"","","",2.0168037810643931,null,0,0,0,0,0,"","","",null,13.22293209239872,2.1466160349636665]
[null,null,null,null,null,null,null,null,null,null,13.23221460001009,0.25240405836627061,0.19228022532269964,0.1528130171426165,0.1261238450730493,0.11490483074428211,"","","",0,0,0,0,0,"","","",2.146627035316321,null,0,0,0,0,0,"","","",null,33.828571603287834,0,0,0,0,0,"","","",2.0826853210731473,null,0,0,0,0,0,"","","",null,13.227573346204405,2.062650817083973]
[null,null,null,null,null,null,null,null,null,null,13.255420869038517,0.25284671718487156,0.19261744073014034,0.15308101612041833,0.12634503736535557,0.11510634745902126,"","","",0,0,0,0,0,"","","",2.0420290153390437,null,0,0,0,0,0,"","","",null,33.887919974521672,0,0,0,0,0,"","","",2.0491215947643524,null,0,0,0,0,0,"","","",null,13.250779615232831,2.0369378488612808]
[null,null,null,null,null,null,null,null,null,null,13.278627138066943,0.25328937600347246,0.19295465613758103,0.15334901509822016,0.12656622965766184,0.11530786417376042,"","","",0,0,0,0,0,"","","",2.1376552408525833,null,0,0,0,0,0,"","","",null,33.947268345755511,0,0,0,0,0,"","","",2.1464897328444685,null,0,0,0,0,0,"","","",null,13.273985884261258,2.0710738826095039]
[null,null,null,null,null,null,null,null,null,null,13.306474660901054,0.25382056658579355,0.19335931462650985,0.15367061387158235,0.12683166040842939,0.11554968423144742,"","","",0,0,0,0,0,"","","",2.0374210161921997,null,0,0,0,0,0,"","","",null,34.018486391236117,0,0,0,0,0,"","","",2.0843532704155985,null,0,0,0,0,0,"","","",null,13.301833407095369,2.0551501631595621]
[null,null,null,null,null,null,null,null,null,null,13.329680929929481,0.2542632254043945,0.19369653003395054,0.15393861284938418,0.12705285270073566,0.11575120094618657,"","","",0,0,0,0,0,"","","",2.1444083439438626,null,0,0,0,0,0,"","","",null,34.077834762469955,0,0,0,0,0,"","","",2.1666291833983768,null,0,0,0,0,0,"","","",null,13.325039676123795,2.1212830449937865]
[null,null,null,null,null,null,null,null,null,null,13.348245945152222,0.25461735245927519,0.19396630235990309,0.15415301203162562,0.12722980653458066,0.1159124143179779,"","","",0,0,0,0,0,"","","",2.1613476889229366,null,0,0,0,0,0,"","","",null,34.125313459457026,0,0,0,0,0,"","","",2.0754941883868723,null,0,0,0,0,0,"","","",null,13.343604691346536,2.0981105903358439]
[null,null,null,null,null,null,null,null,null,null,13.352887198957907,0.25470588422299539,0.19403374544139124,0.15420661182718601,0.1272740449930419,0.11595271766092574,"","","",0,0,0,0,0,"","","",2.0926844540078577,null,0,0,0,0,0,"","","",null,34.137183133703793,0,0,0,0,0,"","","",2.1360349598561532,null,0,0,0,0,0,"","","",null,13.348245945152222,2.1613476889229366]
[null,null,null,null,null,null,null,null,null,null,13.357528452763592,0.25479441598671559,0.19410118852287936,0.15426021162274636,0.12731828345150317,0.11599302100387357,"","","",0,0,0,0,0,"","","",2.0103338143588605,null,0,0,0,0,0,"","","",null,34.149052807950561,0,0,0,0,0,"","","",2.0491832627230298,null,0,0,0,0,0,"","","",null,13.352887198957907,2.0926844540078577]
[null,null,null,null,null,null,null,null,null,null,13.362169706569277,0.25488294775043574,0.19416863160436748,0.15431381141830672,0.12736252190996442,0.1160333243468214,"","","",0,0,0,0,0,"","","",2.0219759565722133,null,0,0,0,0,0,"","","",null,34.160922482197329,0,0,0,0,0,"","","",2.1004832714614645,null,0,0,0,0,0,"","","",null,13.357528452763592,2.0103338143588605]
[null,null,null,null,null,null,null,null,null,null,13.366810960374963,0.25497147951415594,0.19423607468585563,0.1543674112138671,0.12740676036842569,0.11607362768976924,"","","",0,0,0,0,0,"","","",2.1587932961013885,null,0,0,0,0,0,"","","",null,34.172792156444096,0,0,0,0,0,"","","",2.0707002817111797,null,0,0,0,0,0,"","","",null,13.362169706569277,2.0219759565722133]
[null,null,null,null,null,null,null,null,null,null,{"$f":"K2957+1/($C$74*60)","v":13.371452214180648},{"$f":"IF(Q$56=\"\",\"\",SQRT(($K2958*$K2958)/$Q$72))","v":0.25506001127787614},{"$f":"IF(R$56=\"\",\"\",SQRT(($K2958*$K2958)/$R$72))","v":0.19430351776734375},{"$f":"IF(S$56=\"\",\"\",SQRT(($K2958*$K2958)/$S$72))","v":0.15442101100942746},{"$f":"IF(T$56=\"\",\"\",SQRT(($K2958*$K2958)/$T$72))","v":0.12745099882688693},{"$f":"IF(U$56=\"\",\"\",SQRT(($K2958*$K2958)/$U$72))","v":0.11611393103271707},{"$f":"IF(V$56=\"\",\"\",SQRT(($K2958*$K2958)/$V$72))","v":""},{"$f":"IF(W$56=\"\",\"\",SQRT(($K2958*$K2958)/$W$72))","v":""},{"$f":"IF(X$56=\"\",\"\",SQRT(($K2958*$K2958)/$X$72))","v":""},{"$f":"IF(Q$56=\"\",\"\",IF(ABS(($K2958-Q$60) / ( L2958 / 2.2))>20,0,IF(Q$60<>\"\",Q$64 * ( POWER(POWER(Q$67, 2),0.5) + POWER(POWER(Q$67, 2),-0.5)  ) / ( POWER(POWER(Q$67, 2),0.5) * EXP( POWER(1 + POWER(Q$67, 2),-1) * ($K2958-Q$60)/ ( L2958 / 2.2) ) + POWER(POWER(Q$67, 2),-0.5) * EXP(- POWER(Q$67, 2) * POWER(1 + POWER(Q$67, 2),-1) * ($K2958-Q$60) / ( L2958 / 2.2) ) ),\"\")))","v":0},{"$f":"IF(R$56=\"\",\"\",IF(ABS(($K2958-R$60) / ( M2958 / 2.2))>20,0,IF(R$60<>\"\",R$64 * ( POWER(POWER(R$67, 2),0.5) + POWER(POWER(R$67, 2),-0.5)  ) / ( POWER(POWER(R$67, 2),0.5) * EXP( POWER(1 + POWER(R$67, 2),-1) * ($K2958-R$60)/ ( M2958 / 2.2) ) + POWER(POWER(R$67, 2),-0.5) * EXP(- POWER(R$67, 2) * POWER(1 + POWER(R$67, 2),-1) * ($K2958-R$60) / ( M2958 / 2.2) ) ),\"\")))","v":0},{"$f":"IF(S$56=\"\",\"\",IF(ABS(($K2958-S$60) / ( N2958 / 2.2))>20,0,IF(S$60<>\"\",S$64 * ( POWER(POWER(S$67, 2),0.5) + POWER(POWER(S$67, 2),-0.5)  ) / ( POWER(POWER(S$67, 2),0.5) * EXP( POWER(1 + POWER(S$67, 2),-1) * ($K2958-S$60)/ ( N2958 / 2.2) ) + POWER(POWER(S$67, 2),-0.5) * EXP(- POWER(S$67, 2) * POWER(1 + POWER(S$67, 2),-1) * ($K2958-S$60) / ( N2958 / 2.2) ) ),\"\")))","v":0},{"$f":"IF(T$56=\"\",\"\",IF(ABS(($K2958-T$60) / ( O2958 / 2.2))>20,0,IF(T$60<>\"\",T$64 * ( POWER(POWER(T$67, 2),0.5) + POWER(POWER(T$67, 2),-0.5)  ) / ( POWER(POWER(T$67, 2),0.5) * EXP( POWER(1 + POWER(T$67, 2),-1) * ($K2958-T$60)/ ( O2958 / 2.2) ) + POWER(POWER(T$67, 2),-0.5) * EXP(- POWER(T$67, 2) * POWER(1 + POWER(T$67, 2),-1) * ($K2958-T$60) / ( O2958 / 2.2) ) ),\"\")))","v":0},{"$f":"IF(U$56=\"\",\"\",IF(ABS(($K2958-U$60) / ( P2958 / 2.2))>20,0,IF(U$60<>\"\",U$64 * ( POWER(POWER(U$67, 2),0.5) + POWER(POWER(U$67, 2),-0.5)  ) / ( POWER(POWER(U$67, 2),0.5) * EXP( POWER(1 + POWER(U$67, 2),-1) * ($K2958-U$60)/ ( P2958 / 2.2) ) + POWER(POWER(U$67, 2),-0.5) * EXP(- POWER(U$67, 2) * POWER(1 + POWER(U$67, 2),-1) * ($K2958-U$60) / ( P2958 / 2.2) ) ),\"\")))","v":0},{"$f":"IF(V$56=\"\",\"\",IF(ABS(($K2958-V$60) / ( Q2958 / 2.2))>20,0,IF(V$60<>\"\",V$64 * ( POWER(POWER(V$67, 2),0.5) + POWER(POWER(V$67, 2),-0.5)  ) / ( POWER(POWER(V$67, 2),0.5) * EXP( POWER(1 + POWER(V$67, 2),-1) * ($K2958-V$60)/ ( Q2958 / 2.2) ) + POWER(POWER(V$67, 2),-0.5) * EXP(- POWER(V$67, 2) * POWER(1 + POWER(V$67, 2),-1) * ($K2958-V$60) / ( Q2958 / 2.2) ) ),\"\")))","v":""},{"$f":"IF(W$56=\"\",\"\",IF(ABS(($K2958-W$60) / ( R2958 / 2.2))>20,0,IF(W$60<>\"\",W$64 * ( POWER(POWER(W$67, 2),0.5) + POWER(POWER(W$67, 2),-0.5)  ) / ( POWER(POWER(W$67, 2),0.5) * EXP( POWER(1 + POWER(W$67, 2),-1) * ($K2958-W$60)/ ( R2958 / 2.2) ) + POWER(POWER(W$67, 2),-0.5) * EXP(- POWER(W$67, 2) * POWER(1 + POWER(W$67, 2),-1) * ($K2958-W$60) / ( R2958 / 2.2) ) ),\"\")))","v":""},{"$f":"IF(X$56=\"\",\"\",IF(ABS(($K2958-X$60) / ( S2958 / 2.2))>20,0,IF(X$60<>\"\",X$64 * ( POWER(POWER(X$67, 2),0.5) + POWER(POWER(X$67, 2),-0.5)  ) / ( POWER(POWER(X$67, 2),0.5) * EXP( POWER(1 + POWER(X$67, 2),-1) * ($K2958-X$60)/ ( S2958 / 2.2) ) + POWER(POWER(X$67, 2),-0.5) * EXP(- POWER(X$67, 2) * POWER(1 + POWER(X$67, 2),-1) * ($K2958-X$60) / ( S2958 / 2.2) ) ),\"\")))","v":""},{"$f":"SUM(T2958:AA2958)+RAND()*$C$69+$C$67","v":2.1381965050871408},null,{"$f":"IF(Q$56=\"\",\"\",($K2958-$K2957)*T2958)","v":0},{"$f":"IF(R$56=\"\",\"\",($K2958-$K2957)*U2958)","v":0},{"$f":"IF(S$56=\"\",\"\",($K2958-$K2957)*V2958)","v":0},{"$f":"IF(T$56=\"\",\"\",($K2958-$K2957)*W2958)","v":0},{"$f":"IF(U$56=\"\",\"\",($K2958-$K2957)*X2958)","v":0},{"$f":"IF(V$56=\"\",\"\",($K2958-$K2957)*Y2958)","v":""},{"$f":"IF(W$56=\"\",\"\",($K2958-$K2957)*Z2958)","v":""},{"$f":"IF(X$56=\"\",\"\",($K2958-$K2957)*AA2958)","v":""},null,34.184661830690864,0,0,0,0,0,"","","",2.0403889883748008,null,0,0,0,0,0,"","","",null,{"$f":"IF($C$8=\"isocratic\",K2957,AM2958)","v":13.366810960374963},{"$f":"IF($C$8=\"isocratic\",AB2957,AV2958)","v":2.1587932961013885}]
[null,null,null,null,null,null,null,null,null,null,13.376093467986333,0.25514854304159629,0.1943709608488319,0.15447461080498781,0.12749523728534817,0.1161542343756649,"","","",0,0,0,0,0,"","","",2.0844718142381864,null,0,0,0,0,0,"","","",null,{"$f":"AM2958+MAX($AK$57:$AR$57)*1.2/3000","v":34.196531504937631},0,0,0,0,0,"","","",{"$f":"SUM(AN2959:AU2959)+RAND()*$C$69+K2959*$C$70+$C$67","v":2.0535458760168646},null,0,0,0,0,0,"","","",null,13.371452214180648,2.1381965050871408]
[null,null,null,null,null,null,null,null,null,null,13.380734721792019,0.25523707480531649,0.19443840393032005,0.15452821060054819,0.12753947574380944,0.11619453771861274,"","","",0,0,0,0,0,"","","",2.0129488530209469,null,0,0,0,0,0,"","","",null,34.208401179184399,{"$f":"IF(AK$56=\"NOT ELUTED\",\"\",IF(AK$51=\"\",\"\",IF(ABS(($AM2960-AK$57)/(AK$72/2.2))>20,0,AK$62*(POWER(POWER(AK$66,2),0.5)+POWER(POWER(AK$66,2),-0.5))/(POWER(POWER(AK$66,2),0.5)*EXP(POWER(1+POWER(AK$66,2),-1)*($AM2960-AK$57)/(AK$72/2.2))+POWER(POWER(AK$66,2),-0.5)*EXP(-POWER(AK$66,2)*POWER(1+POWER(AK$66,2),-1)*($AM2960-AK$57)/(AK$72/2.2))))))","v":0},{"$f":"IF(AL$56=\"NOT ELUTED\",\"\",IF(AL$51=\"\",\"\",IF(ABS(($AM2960-AL$57)/(AL$72/2.2))>20,0,AL$62*(POWER(POWER(AL$66,2),0.5)+POWER(POWER(AL$66,2),-0.5))/(POWER(POWER(AL$66,2),0.5)*EXP(POWER(1+POWER(AL$66,2),-1)*($AM2960-AL$57)/(AL$72/2.2))+POWER(POWER(AL$66,2),-0.5)*EXP(-POWER(AL$66,2)*POWER(1+POWER(AL$66,2),-1)*($AM2960-AL$57)/(AL$72/2.2))))))","v":0},{"$f":"IF(AM$56=\"NOT ELUTED\",\"\",IF(AM$51=\"\",\"\",IF(ABS(($AM2960-AM$57)/(AM$72/2.2))>20,0,AM$62*(POWER(POWER(AM$66,2),0.5)+POWER(POWER(AM$66,2),-0.5))/(POWER(POWER(AM$66,2),0.5)*EXP(POWER(1+POWER(AM$66,2),-1)*($AM2960-AM$57)/(AM$72/2.2))+POWER(POWER(AM$66,2),-0.5)*EXP(-POWER(AM$66,2)*POWER(1+POWER(AM$66,2),-1)*($AM2960-AM$57)/(AM$72/2.2))))))","v":0},{"$f":"IF(AN$56=\"NOT ELUTED\",\"\",IF(AN$51=\"\",\"\",IF(ABS(($AM2960-AN$57)/(AN$72/2.2))>20,0,AN$62*(POWER(POWER(AN$66,2),0.5)+POWER(POWER(AN$66,2),-0.5))/(POWER(POWER(AN$66,2),0.5)*EXP(POWER(1+POWER(AN$66,2),-1)*($AM2960-AN$57)/(AN$72/2.2))+POWER(POWER(AN$66,2),-0.5)*EXP(-POWER(AN$66,2)*POWER(1+POWER(AN$66,2),-1)*($AM2960-AN$57)/(AN$72/2.2))))))","v":0},{"$f":"IF(AO$56=\"NOT ELUTED\",\"\",IF(AO$51=\"\",\"\",IF(ABS(($AM2960-AO$57)/(AO$72/2.2))>20,0,AO$62*(POWER(POWER(AO$66,2),0.5)+POWER(POWER(AO$66,2),-0.5))/(POWER(POWER(AO$66,2),0.5)*EXP(POWER(1+POWER(AO$66,2),-1)*($AM2960-AO$57)/(AO$72/2.2))+POWER(POWER(AO$66,2),-0.5)*EXP(-POWER(AO$66,2)*POWER(1+POWER(AO$66,2),-1)*($AM2960-AO$57)/(AO$72/2.2))))))","v":0},{"$f":"IF(AP$56=\"NOT ELUTED\",\"\",IF(AP$51=\"\",\"\",IF(ABS(($AM2960-AP$57)/(AP$72/2.2))>20,0,AP$62*(POWER(POWER(AP$66,2),0.5)+POWER(POWER(AP$66,2),-0.5))/(POWER(POWER(AP$66,2),0.5)*EXP(POWER(1+POWER(AP$66,2),-1)*($AM2960-AP$57)/(AP$72/2.2))+POWER(POWER(AP$66,2),-0.5)*EXP(-POWER(AP$66,2)*POWER(1+POWER(AP$66,2),-1)*($AM2960-AP$57)/(AP$72/2.2))))))","v":""},{"$f":"IF(AQ$56=\"NOT ELUTED\",\"\",IF(AQ$51=\"\",\"\",IF(ABS(($AM2960-AQ$57)/(AQ$72/2.2))>20,0,AQ$62*(POWER(POWER(AQ$66,2),0.5)+POWER(POWER(AQ$66,2),-0.5))/(POWER(POWER(AQ$66,2),0.5)*EXP(POWER(1+POWER(AQ$66,2),-1)*($AM2960-AQ$57)/(AQ$72/2.2))+POWER(POWER(AQ$66,2),-0.5)*EXP(-POWER(AQ$66,2)*POWER(1+POWER(AQ$66,2),-1)*($AM2960-AQ$57)/(AQ$72/2.2))))))","v":""},{"$f":"IF(AR$56=\"NOT ELUTED\",\"\",IF(AR$51=\"\",\"\",IF(ABS(($AM2960-AR$57)/(AR$72/2.2))>20,0,AR$62*(POWER(POWER(AR$66,2),0.5)+POWER(POWER(AR$66,2),-0.5))/(POWER(POWER(AR$66,2),0.5)*EXP(POWER(1+POWER(AR$66,2),-1)*($AM2960-AR$57)/(AR$72/2.2))+POWER(POWER(AR$66,2),-0.5)*EXP(-POWER(AR$66,2)*POWER(1+POWER(AR$66,2),-1)*($AM2960-AR$57)/(AR$72/2.2))))))","v":""},2.0917992808496289,null,0,0,0,0,0,"","","",null,13.376093467986333,2.0844718142381864]
[null,null,null,null,null,null,null,null,null,null,13.385375975597704,0.25532560656903669,0.19450584701180818,0.15458181039610855,0.12758371420227069,0.11623484106156057,"","","",0,0,0,0,0,"","","",2.1551075577753767,null,0,0,0,0,0,"","","",null,34.220270853431167,0,0,0,0,0,"","","",2.0826017711570257,null,0,0,0,0,0,"","","",null,13.380734721792019,2.0129488530209469]
[null,null,null,null,null,null,null,null,null,null,13.390017229403389,0.25541413833275689,0.19457329009329632,0.1546354101916689,0.12762795266073196,0.1162751444045084,"","","",0,0,0,0,0,"","","",2.1471474658592418,null,0,0,0,0,0,"","","",null,34.232140527677934,0,0,0,0,0,"","","",2.1564691815265102,null,0,0,0,0,0,"","","",null,13.385375975597704,2.1551075577753767]
[null,null,null,null,null,null,null,null,null,null,13.394658483209074,0.25550267009647704,0.19464073317478445,0.15468900998722929,0.1276721911191932,0.11631544774745622,"","","",0,0,0,0,0,"","","",2.0005294355949217,null,0,0,0,0,0,"","","",null,34.244010201924702,0,0,0,0,0,"","","",2.1691999132311484,null,0,0,0,0,0,"","","",null,13.390017229403389,2.1471474658592418]
[null,null,null,null,null,null,null,null,null,null,13.39929973701476,0.25559120186019718,0.19470817625627257,0.15474260978278964,0.12771642957765444,0.11635575109040405,"","","",0,0,0,0,0,"","","",2.1644146234482933,null,0,0,0,0,0,"","","",null,34.25587987617147,0,0,0,0,0,"","","",2.1495007456780679,null,0,0,0,0,0,"","","",null,13.394658483209074,2.0005294355949217]
[null,null,null,null,null,null,null,null,null,null,13.403940990820445,0.25567973362391738,0.19477561933776072,0.15479620957835,0.12776066803611572,0.11639605443335188,"","","",0,0,0,0,0,"","","",2.1509484630346432,null,0,0,0,0,0,"","","",null,34.267749550418237,0,0,0,0,0,"","","",2.1669850383804663,null,0,0,0,0,0,"","","",null,13.39929973701476,2.1644146234482933]
[null,null,null,null,null,null,null,null,null,null,13.40858224462613,0.25576826538763758,0.19484306241924887,0.15484980937391038,0.12780490649457696,0.11643635777629972,"","","",0,0,0,0,0,"","","",2.1551891599906763,null,0,0,0,0,0,"","","",null,34.279619224665005,0,0,0,0,0,"","","",2.1729148125982864,null,0,0,0,0,0,"","","",null,13.403940990820445,2.1509484630346432]
[null,null,null,null,null,null,null,null,null,null,13.413223498431815,0.25585679715135778,0.19491050550073699,0.15490340916947073,0.1278491449530382,0.11647666111924755,"","","",0,0,0,0,0,"","","",2.0538530597396627,null,0,0,0,0,0,"","","",null,34.291488898911773,0,0,0,0,0,"","","",2.0724807239598753,null,0,0,0,0,0,"","","",null,13.40858224462613,2.1551891599906763]
[null,null,null,null,null,null,null,null,null,null,13.417864752237501,0.25594532891507799,0.19497794858222514,0.15495700896503112,0.12789338341149947,0.11651696446219539,"","","",0,0,0,0,0,"","","",2.0377764289034954,null,0,0,0,0,0,"","","",null,34.30335857315854,0,0,0,0,0,"","","",2.1130758400925718,null,0,0,0,0,0,"","","",null,13.413223498431815,2.0538530597396627]
[null,null,null,null,null,null,null,null,null,null,13.422506006043186,0.25603386067879813,0.19504539166371326,0.15501060876059147,0.12793762186996072,0.11655726780514322,"","","",0,0,0,0,0,"","","",2.1120770546141654,null,0,0,0,0,0,"","","",null,34.315228247405308,0,0,0,0,0,"","","",2.1128938444574299,null,0,0,0,0,0,"","","",null,13.417864752237501,2.0377764289034954]
[null,null,null,null,null,null,null,null,null,null,13.427147259848871,0.25612239244251833,0.19511283474520141,0.15506420855615183,0.12798186032842196,0.11659757114809105,"","","",0,0,0,0,0,"","","",2.0201084686874973,null,0,0,0,0,0,"","","",null,34.327097921652076,0,0,0,0,0,"","","",2.0148746852036528,null,0,0,0,0,0,"","","",null,13.422506006043186,2.1120770546141654]
[null,null,null,null,null,null,null,null,null,null,13.431788513654556,0.25621092420623853,0.19518027782668954,0.15511780835171218,0.12802609878688323,0.11663787449103888,"","","",0,0,0,0,0,"","","",2.1361762299995521,null,0,0,0,0,0,"","","",null,34.338967595898843,0,0,0,0,0,"","","",2.1378852928967103,null,0,0,0,0,0,"","","",null,13.427147259848871,2.0201084686874973]
[null,null,null,null,null,null,null,null,null,null,13.436429767460242,0.25629945596995868,0.19524772090817769,0.15517140814727257,0.12807033724534447,0.11667817783398671,"","","",0,0,0,0,0,"","","",2.0298125018081494,null,0,0,0,0,0,"","","",null,34.350837270145611,0,0,0,0,0,"","","",2.0477433279143602,null,0,0,0,0,0,"","","",null,13.431788513654556,2.1361762299995521]
[null,null,null,null,null,null,null,null,null,null,13.441071021265927,0.25638798773367888,0.19531516398966581,0.15522500794283292,0.12811457570380574,0.11671848117693455,"","","",0,0,0,0,0,"","","",2.1261582919369353,null,0,0,0,0,0,"","","",null,34.362706944392379,0,0,0,0,0,"","","",2.1225213219745411,null,0,0,0,0,0,"","","",null,13.436429767460242,2.0298125018081494]
[null,null,null,null,null,null,null,null,null,null,13.445712275071612,0.25647651949739908,0.19538260707115396,0.1552786077383933,0.12815881416226699,0.11675878451988238,"","","",0,0,0,0,0,"","","",2.0424372533794819,null,0,0,0,0,0,"","","",null,34.374576618639146,0,0,0,0,0,"","","",2.0522752245247071,null,0,0,0,0,0,"","","",null,13.441071021265927,2.1261582919369353]
[null,null,null,null,null,null,null,null,null,null,13.450353528877297,0.25656505126111928,0.19545005015264211,0.15533220753395366,0.12820305262072826,0.11679908786283022,"","","",0,0,0,0,0,"","","",2.0054987857631628,null,0,0,0,0,0,"","","",null,34.386446292885914,0,0,0,0,0,"","","",2.1300111449788601,null,0,0,0,0,0,"","","",null,13.445712275071612,2.0424372533794819]
[null,null,null,null,null,null,null,null,null,null,13.454994782682983,0.25665358302483943,0.19551749323413023,0.15538580732951401,0.1282472910791895,0.11683939120577805,"","","",0,0,0,0,0,"","","",2.0055465937448274,null,0,0,0,0,0,"","","",null,34.398315967132682,0,0,0,0,0,"","","",2.0299744110285918,null,0,0,0,0,0,"","","",null,13.450353528877297,2.0054987857631628]
[null,null,null,null,null,null,null,null,null,null,13.459636036488668,0.25674211478855963,0.19558493631561838,0.1554394071250744,0.12829152953765074,0.11687969454872588,"","","",0,0,0,0,0,"","","",2.0023106895191556,null,0,0,0,0,0,"","","",null,34.410185641379449,0,0,0,0,0,"","","",2.0627378465122859,null,0,0,0,0,0,"","","",null,13.454994782682983,2.0055465937448274]
[null,null,null,null,null,null,null,null,null,null,13.464277290294353,0.25683064655227977,0.1956523793971065,0.15549300692063475,0.12833576799611202,0.1169199978916737,"","","",0,0,0,0,0,"","","",2.0109952594870859,null,0,0,0,0,0,"","","",null,34.422055315626217,0,0,0,0,0,"","","",2.0254962369814158,null,0,0,0,0,0,"","","",null,13.459636036488668,2.0023106895191556]
[null,null,null,null,null,null,null,null,null,null,13.468918544100038,0.25691917831599997,0.19571982247859465,0.15554660671619511,0.12838000645457326,0.11696030123462153,"","","",0,0,0,0,0,"","","",2.1308858342542485,null,0,0,0,0,0,"","","",null,34.433924989872985,0,0,0,0,0,"","","",2.1539586144578671,null,0,0,0,0,0,"","","",null,13.464277290294353,2.0109952594870859]
[null,null,null,null,null,null,null,null,null,null,13.473559797905724,0.25700771007972018,0.19578726556008277,0.15560020651175549,0.1284242449130345,0.11700060457756936,"","","",0,0,0,0,0,"","","",2.1110782347019916,null,0,0,0,0,0,"","","",null,34.445794664119752,0,0,0,0,0,"","","",2.0940791214394325,null,0,0,0,0,0,"","","",null,13.468918544100038,2.1308858342542485]
[null,null,null,null,null,null,null,null,null,null,13.478201051711409,0.25709624184344032,0.19585470864157092,0.15565380630731585,0.12846848337149577,0.1170409079205172,"","","",0,0,0,0,0,"","","",2.0539979279057849,null,0,0,0,0,0,"","","",null,34.45766433836652,0,0,0,0,0,"","","",2.138553081771847,null,0,0,0,0,0,"","","",null,13.473559797905724,2.1110782347019916]
[null,null,null,null,null,null,null,null,null,null,13.482842305517094,0.25718477360716052,0.19592215172305905,0.1557074061028762,0.12851272182995702,0.11708121126346503,"","","",0,0,0,0,0,"","","",2.0328331687426138,null,0,0,0,0,0,"","","",null,34.469534012613288,0,0,0,0,0,"","","",2.0356098194600283,null,0,0,0,0,0,"","","",null,13.478201051711409,2.0539979279057849]
[null,null,null,null,null,null,null,null,null,null,13.487483559322779,0.25727330537088072,0.1959895948045472,0.15576100589843658,0.12855696028841826,0.11712151460641287,"","","",0,0,0,0,0,"","","",2.1476749403796056,null,0,0,0,0,0,"","","",null,34.481403686860055,0,0,0,0,0,"","","",2.0888074217738408,null,0,0,0,0,0,"","","",null,13.482842305517094,2.0328331687426138]
[null,null,null,null,null,null,null,null,null,null,13.492124813128465,0.25736183713460087,0.19605703788603535,0.15581460569399694,0.12860119874687953,0.1171618179493607,"","","",0,0,0,0,0,"","","",2.1577052982352058,null,0,0,0,0,0,"","","",null,34.493273361106823,0,0,0,0,0,"","","",2.128044590988901,null,0,0,0,0,0,"","","",null,13.487483559322779,2.1476749403796056]
[null,null,null,null,null,null,null,null,null,null,13.49676606693415,0.25745036889832107,0.19612448096752347,0.15586820548955729,0.12864543720534077,0.11720212129230853,"","","",0,0,0,0,0,"","","",2.109788232587257,null,0,0,0,0,0,"","","",null,34.505143035353591,0,0,0,0,0,"","","",2.0135725040757464,null,0,0,0,0,0,"","","",null,13.492124813128465,2.1577052982352058]
[null,null,null,null,null,null,null,null,null,null,13.501407320739835,0.25753890066204127,0.19619192404901159,0.15592180528511768,0.12868967566380204,0.11724242463525636,"","","",0,0,0,0,0,"","","",2.115536971302264,null,0,0,0,0,0,"","","",null,34.517012709600358,0,0,0,0,0,"","","",2.1455855850931194,null,0,0,0,0,0,"","","",null,13.49676606693415,2.109788232587257]
[null,null,null,null,null,null,null,null,null,null,13.50604857454552,0.25762743242576147,0.19625936713049974,0.15597540508067803,0.12873391412226332,0.1172827279782042,"","","",0,0,0,0,0,"","","",2.0793703808597064,null,0,0,0,0,0,"","","",null,34.528882383847126,0,0,0,0,0,"","","",2.114020196561532,null,0,0,0,0,0,"","","",null,13.501407320739835,2.115536971302264]
[null,null,null,null,null,null,null,null,null,null,13.510689828351206,0.25771596418948162,0.19632681021198786,0.15602900487623839,0.12877815258072456,0.11732303132115203,"","","",0,0,0,0,0,"","","",2.1123848562428362,null,0,0,0,0,0,"","","",null,34.540752058093894,0,0,0,0,0,"","","",2.154228416711307,null,0,0,0,0,0,"","","",null,13.50604857454552,2.0793703808597064]
[null,null,null,null,null,null,null,null,null,null,13.515331082156891,0.25780449595320182,0.19639425329347601,0.15608260467179877,0.1288223910391858,0.11736333466409986,"","","",0,0,0,0,0,"","","",2.100381282132842,null,0,0,0,0,0,"","","",null,34.552621732340661,0,0,0,0,0,"","","",2.16909588166124,null,0,0,0,0,0,"","","",null,13.510689828351206,2.1123848562428362]
[null,null,null,null,null,null,null,null,null,null,13.519972335962576,0.25789302771692196,0.19646169637496413,0.15613620446735912,0.12886662949764707,0.11740363800704769,"","","",0,0,0,0,0,"","","",2.1042758173628817,null,0,0,0,0,0,"","","",null,34.564491406587429,0,0,0,0,0,"","","",2.0576542271613585,null,0,0,0,0,0,"","","",null,13.515331082156891,2.100381282132842]
[null,null,null,null,null,null,null,null,null,null,13.524613589768261,0.25798155948064222,0.19652913945645231,0.15618980426291951,0.12891086795610832,0.11744394134999553,"","","",0,0,0,0,0,"","","",2.0096579104042536,null,0,0,0,0,0,"","","",null,34.576361080834197,0,0,0,0,0,"","","",2.0937947623617288,null,0,0,0,0,0,"","","",null,13.519972335962576,2.1042758173628817]
[null,null,null,null,null,null,null,null,null,null,13.529254843573947,0.25807009124436237,0.19659658253794041,0.15624340405847986,0.12895510641456956,0.11748424469294336,"","","",0,0,0,0,0,"","","",2.0763501373781184,null,0,0,0,0,0,"","","",null,34.588230755080964,0,0,0,0,0,"","","",2.1287297301793431,null,0,0,0,0,0,"","","",null,13.524613589768261,2.0096579104042536]
[null,null,null,null,null,null,null,null,null,null,13.533896097379632,0.25815862300808257,0.19666402561942856,0.15629700385404022,0.12899934487303083,0.11752454803589119,"","","",0,0,0,0,0,"","","",2.046215909632918,null,0,0,0,0,0,"","","",null,34.600100429327732,0,0,0,0,0,"","","",2.0769327198092919,null,0,0,0,0,0,"","","",null,13.529254843573947,2.0763501373781184]
[null,null,null,null,null,null,null,null,null,null,13.538537351185317,0.25824715477180271,0.19673146870091671,0.15635060364960057,0.12904358333149207,0.11756485137883903,"","","",0,0,0,0,0,"","","",2.0469714114845479,null,0,0,0,0,0,"","","",null,34.6119701035745,0,0,0,0,0,"","","",2.061186056724118,null,0,0,0,0,0,"","","",null,13.533896097379632,2.046215909632918]
[null,null,null,null,null,null,null,null,null,null,13.543178604991002,0.25833568653552291,0.19679891178240483,0.15640420344516096,0.12908782178995332,0.11760515472178686,"","","",0,0,0,0,0,"","","",2.1096702433728871,null,0,0,0,0,0,"","","",null,34.623839777821267,0,0,0,0,0,"","","",2.1320858933652449,null,0,0,0,0,0,"","","",null,13.538537351185317,2.0469714114845479]
[null,null,null,null,null,null,null,null,null,null,13.547819858796688,0.25842421829924311,0.19686635486389298,0.15645780324072131,0.12913206024841459,0.11764545806473468,"","","",0,0,0,0,0,"","","",2.0613672622558981,null,0,0,0,0,0,"","","",null,34.635709452068035,0,0,0,0,0,"","","",2.1224059012580843,null,0,0,0,0,0,"","","",null,13.543178604991002,2.1096702433728871]
[null,null,null,null,null,null,null,null,null,null,13.552461112602373,0.25851275006296326,0.19693379794538113,0.15651140303628169,0.12917629870687586,0.11768576140768253,"","","",0,0,0,0,0,"","","",2.0658097332666356,null,0,0,0,0,0,"","","",null,34.647579126314803,0,0,0,0,0,"","","",2.1269310227888933,null,0,0,0,0,0,"","","",null,13.547819858796688,2.0613672622558981]
[null,null,null,null,null,null,null,null,null,null,13.557102366408058,0.25860128182668346,0.19700124102686925,0.15656500283184205,0.1292205371653371,0.11772606475063035,"","","",0,0,0,0,0,"","","",2.1134756547020284,null,0,0,0,0,0,"","","",null,34.65944880056157,0,0,0,0,0,"","","",2.1411956517662221,null,{"$f":"IF(AN2998=\"\",\"\",($AM2999-$AM2998)*AN2998)","v":0},{"$f":"IF(AO2998=\"\",\"\",($AM2999-$AM2998)*AO2998)","v":0},{"$f":"IF(AP2998=\"\",\"\",($AM2999-$AM2998)*AP2998)","v":0},{"$f":"IF(AQ2998=\"\",\"\",($AM2999-$AM2998)*AQ2998)","v":0},{"$f":"IF(AR2998=\"\",\"\",($AM2999-$AM2998)*AR2998)","v":0},{"$f":"IF(AS2998=\"\",\"\",($AM2999-$AM2998)*AS2998)","v":""},{"$f":"IF(AT2998=\"\",\"\",($AM2999-$AM2998)*AT2998)","v":""},{"$f":"IF(AU2998=\"\",\"\",($AM2999-$AM2998)*AU2998)","v":""},null,13.552461112602373,2.0658097332666356]
[null,null,null,null,null,null,null,null,null,null,13.561743620213743,0.25868981359040366,0.19706868410835737,0.1566186026274024,0.12926477562379834,0.11776636809357818,"","","",0,0,0,0,0,"","","",2.1180248388927541,null,0,0,0,0,0,"","","",null,34.671318474808338,0,0,0,0,0,"","","",2.1783289737065408,null,0,0,0,0,0,"","","",null,13.557102366408058,2.1134756547020284]
[null,null,null,null,null,null,null,null,null,null,13.566384874019429,0.25877834535412381,0.19713612718984552,0.15667220242296276,0.12930901408225959,0.11780667143652601,"","","",0,0,0,0,0,"","","",2.0320122971490702,null,0,0,0,0,0,"","","",null,34.683188149055105,0,0,0,0,0,"","","",2.1772597045042881,null,0,0,0,0,0,"","","",null,13.561743620213743,2.1180248388927541]
[null,null,null,null,null,null,null,null,null,null,13.571026127825114,0.25886687711784401,0.19720357027133364,0.15672580221852314,0.12935325254072086,0.11784697477947385,"","","",0,0,0,0,0,"","","",2.0213874716860163,null,0,0,0,0,0,"","","",null,34.695057823301873,0,0,0,0,0,"","","",2.0748676871799816,null,0,0,0,0,0,"","","",null,13.566384874019429,2.0320122971490702]
[null,null,null,null,null,null,null,null,null,null,13.575667381630799,0.25895540888156421,0.19727101335282179,0.1567794020140835,0.1293974909991821,0.11788727812242168,"","","",0,0,0,0,0,"","","",2.0905664057023805,null,0,0,0,0,0,"","","",null,34.706927497548641,0,0,0,0,0,"","","",2.0802352748625821,null,0,0,0,0,0,"","","",null,13.571026127825114,2.0213874716860163]
[null,null,null,null,null,null,null,null,null,null,13.580308635436484,0.25904394064528441,0.19733845643430994,0.15683300180964388,0.12944172945764337,0.11792758146536951,"","","",0,0,0,0,0,"","","",2.1308035880614447,null,0,0,0,0,0,"","","",null,34.718797171795408,0,0,0,0,0,"","","",2.0233552313854433,null,0,0,0,0,0,"","","",null,13.575667381630799,2.0905664057023805]
[null,null,null,null,null,null,null,null,null,null,13.58494988924217,0.25913247240900456,0.19740589951579809,0.15688660160520423,0.12948596791610462,0.11796788480831735,"","","",0,0,0,0,0,"","","",2.1291669297489686,null,0,0,0,0,0,"","","",null,34.730666846042176,0,0,0,0,0,"","","",2.0598388667442609,null,0,0,0,0,0,"","","",null,13.580308635436484,2.1308035880614447]
[null,null,null,null,null,null,null,null,null,null,13.589591143047855,0.25922100417272476,0.19747334259728619,0.15694020140076459,0.12953020637456586,0.11800818815126517,"","","",0,0,0,0,0,"","","",2.1370225180955766,null,0,0,0,0,0,"","","",null,34.742536520288944,0,0,0,0,0,"","","",2.0500531177185204,null,0,0,0,0,0,"","","",null,13.58494988924217,2.1291669297489686]
[null,null,null,null,null,null,null,null,null,null,13.59423239685354,0.2593095359364449,0.19754078567877434,0.15699380119632497,0.12957444483302713,0.11804849149421301,"","","",0,0,0,0,0,"","","",2.1182346057686821,null,0,0,0,0,0,"","","",null,34.754406194535711,0,0,0,0,0,"","","",2.1066230609241696,null,0,0,0,0,0,"","","",null,13.589591143047855,2.1370225180955766]
[null,null,null,null,null,null,null,null,null,null,13.598873650659225,0.2593980677001651,0.19760822876026249,0.15704740099188533,0.12961868329148837,0.11808879483716084,"","","",0,0,0,0,0,"","","",2.0156219847285417,null,0,0,0,0,0,"","","",null,34.766275868782479,0,0,0,0,0,"","","",2.0364959759415497,null,0,0,0,0,0,"","","",null,13.59423239685354,2.1182346057686821]
[null,null,null,null,null,null,null,null,null,null,13.603514904464911,0.2594865994638853,0.19767567184175061,0.15710100078744568,0.12966292174994964,0.11812909818010868,"","","",0,0,0,0,0,"","","",2.0373801725972376,null,0,0,0,0,0,"","","",null,34.778145543029247,0,0,0,0,0,"","","",2.1004943315547346,null,0,0,0,0,0,"","","",null,13.598873650659225,2.0156219847285417]
[null,null,null,null,null,null,null,null,null,null,13.608156158270596,0.2595751312276055,0.19774311492323876,0.15715460058300607,0.12970716020841089,0.11816940152305651,"","","",0,0,0,0,0,"","","",2.1494442535453371,null,0,0,0,0,0,"","","",null,34.790015217276014,0,0,0,0,0,"","","",2.1588656904909014,null,0,0,0,0,0,"","","",null,13.603514904464911,2.0373801725972376]
[null,null,null,null,null,null,null,null,null,null,13.612797412076281,0.25966366299132565,0.19781055800472688,0.15720820037856642,0.12975139866687216,0.11820970486600434,"","","",0,0,0,0,0,"","","",2.0746358760294323,null,0,0,0,0,0,"","","",null,34.801884891522782,0,0,0,0,0,"","","",2.0911492283315032,null,0,0,0,0,0,"","","",null,13.608156158270596,2.1494442535453371]
[null,null,null,null,null,null,null,null,null,null,13.617438665881966,0.25975219475504585,0.19787800108621503,0.15726180017412678,0.1297956371253334,0.11825000820895218,"","","",0,0,0,0,0,"","","",2.0797105602033024,null,0,0,0,0,0,"","","",null,34.81375456576955,0,0,0,0,0,"","","",2.1014844573558205,null,0,0,0,0,0,"","","",null,13.612797412076281,2.0746358760294323]
[null,null,null,null,null,null,null,null,null,null,13.622079919687652,0.25984072651876605,0.19794544416770316,0.15731539996968716,0.12983987558379464,0.11829031155190001,"","","",0,0,0,0,0,"","","",2.03404533168107,null,0,0,0,0,0,"","","",null,34.825624240016317,0,0,0,0,0,"","","",2.1170413620625608,null,0,0,0,0,0,"","","",null,13.617438665881966,2.0797105602033024]
[null,null,null,null,null,null,null,null,null,null,13.626721173493337,0.2599292582824862,0.19801288724919131,0.15736899976524751,0.12988411404225589,0.11833061489484784,"","","",0,0,0,0,0,"","","",2.0882569408252323,null,0,0,0,0,0,"","","",null,34.837493914263085,0,0,0,0,0,"","","",2.1065134233137748,null,0,0,0,0,0,"","","",null,13.622079919687652,2.03404533168107]
[null,null,null,null,null,null,null,null,null,null,13.631362427299022,0.2600177900462064,0.19808033033067945,0.15742259956080787,0.12992835250071716,0.11837091823779566,"","","",0,0,0,0,0,"","","",2.1594576276203572,null,0,0,0,0,0,"","","",null,34.849363588509853,0,0,0,0,0,"","","",2.1426463168611161,null,0,0,0,0,0,"","","",null,13.626721173493337,2.0882569408252323]
[null,null,null,null,null,null,null,null,null,null,13.636003681104707,0.2601063218099266,0.19814777341216758,0.15747619935636825,0.12997259095917843,0.11841122158074351,"","","",0,0,0,0,0,"","","",2.1275286211651485,null,0,0,0,0,0,"","","",null,34.86123326275662,0,0,0,0,0,"","","",2.1461319204030413,null,0,0,0,0,0,"","","",null,13.631362427299022,2.1594576276203572]
[null,null,null,null,null,null,null,null,null,null,13.640644934910393,0.26019485357364674,0.1982152164936557,0.15752979915192861,0.13001682941763967,0.11845152492369133,"","","",0,0,0,0,0,"","","",2.1465030116818116,null,0,0,0,0,0,"","","",null,34.873102937003388,0,0,0,0,0,"","","",2.0643781525883091,null,0,0,0,0,0,"","","",null,13.636003681104707,2.1275286211651485]
[null,null,null,null,null,null,null,null,null,null,13.645286188716078,0.26028338533736695,0.19828265957514385,0.15758339894748899,0.13006106787610092,0.11849182826663916,"","","",0,0,0,0,0,"","","",2.1221894487613286,null,0,0,0,0,0,"","","",null,34.884972611250156,0,0,0,0,0,"","","",2.055319763424579,null,0,0,0,0,0,"","","",null,13.640644934910393,2.1465030116818116]
[null,null,null,null,null,null,null,null,null,null,13.649927442521763,0.26037191710108715,0.198350102656632,0.15763699874304934,0.13010530633456219,0.118532131609587,"","","",0,0,0,0,0,"","","",2.0207823208220419,null,0,0,0,0,0,"","","",null,34.896842285496923,0,0,0,0,0,"","","",2.1055121998525421,null,0,0,0,0,0,"","","",null,13.645286188716078,2.1221894487613286]
[null,null,null,null,null,null,null,null,null,null,13.654568696327448,0.26046044886480729,0.19841754573812012,0.1576905985386097,0.13014954479302343,0.11857243495253483,"","","",0,0,0,0,0,"","","",2.1401347050482258,null,0,0,0,0,0,"","","",null,34.908711959743691,0,0,0,0,0,"","","",2.096948650877529,null,0,0,0,0,0,"","","",null,13.649927442521763,2.0207823208220419]
[null,null,null,null,null,null,null,null,null,null,13.659209950133134,0.26054898062852749,0.19848498881960827,0.15774419833417005,0.13019378325148467,0.11861273829548266,"","","",0,0,0,0,0,"","","",2.0518013579108585,null,0,0,0,0,0,"","","",null,34.920581633990459,0,0,0,0,0,"","","",2.0733242813111015,null,0,0,0,0,0,"","","",null,13.654568696327448,2.1401347050482258]
[null,null,null,null,null,null,null,null,null,null,13.663851203938819,0.26063751239224769,0.19855243190109639,0.15779779812973044,0.13023802170994594,0.11865304163843049,"","","",0,0,0,0,0,"","","",2.0256254196746291,null,0,0,0,0,0,"","","",null,34.932451308237226,0,0,0,0,0,"","","",2.0743470061447096,null,0,0,0,0,0,"","","",null,13.659209950133134,2.0518013579108585]
[null,null,null,null,null,null,null,null,null,null,{"$f":"K3021+1/($C$74*60)","v":13.668492457744504},{"$f":"IF(Q$56=\"\",\"\",SQRT(($K3022*$K3022)/$Q$72))","v":0.2607260441559679},{"$f":"IF(R$56=\"\",\"\",SQRT(($K3022*$K3022)/$R$72))","v":0.19861987498258454},{"$f":"IF(S$56=\"\",\"\",SQRT(($K3022*$K3022)/$S$72))","v":0.15785139792529079},{"$f":"IF(T$56=\"\",\"\",SQRT(($K3022*$K3022)/$T$72))","v":0.13028226016840719},{"$f":"IF(U$56=\"\",\"\",SQRT(($K3022*$K3022)/$U$72))","v":0.11869334498137832},{"$f":"IF(V$56=\"\",\"\",SQRT(($K3022*$K3022)/$V$72))","v":""},{"$f":"IF(W$56=\"\",\"\",SQRT(($K3022*$K3022)/$W$72))","v":""},{"$f":"IF(X$56=\"\",\"\",SQRT(($K3022*$K3022)/$X$72))","v":""},{"$f":"IF(Q$56=\"\",\"\",IF(ABS(($K3022-Q$60) / ( L3022 / 2.2))>20,0,IF(Q$60<>\"\",Q$64 * ( POWER(POWER(Q$67, 2),0.5) + POWER(POWER(Q$67, 2),-0.5)  ) / ( POWER(POWER(Q$67, 2),0.5) * EXP( POWER(1 + POWER(Q$67, 2),-1) * ($K3022-Q$60)/ ( L3022 / 2.2) ) + POWER(POWER(Q$67, 2),-0.5) * EXP(- POWER(Q$67, 2) * POWER(1 + POWER(Q$67, 2),-1) * ($K3022-Q$60) / ( L3022 / 2.2) ) ),\"\")))","v":0},{"$f":"IF(R$56=\"\",\"\",IF(ABS(($K3022-R$60) / ( M3022 / 2.2))>20,0,IF(R$60<>\"\",R$64 * ( POWER(POWER(R$67, 2),0.5) + POWER(POWER(R$67, 2),-0.5)  ) / ( POWER(POWER(R$67, 2),0.5) * EXP( POWER(1 + POWER(R$67, 2),-1) * ($K3022-R$60)/ ( M3022 / 2.2) ) + POWER(POWER(R$67, 2),-0.5) * EXP(- POWER(R$67, 2) * POWER(1 + POWER(R$67, 2),-1) * ($K3022-R$60) / ( M3022 / 2.2) ) ),\"\")))","v":0},{"$f":"IF(S$56=\"\",\"\",IF(ABS(($K3022-S$60) / ( N3022 / 2.2))>20,0,IF(S$60<>\"\",S$64 * ( POWER(POWER(S$67, 2),0.5) + POWER(POWER(S$67, 2),-0.5)  ) / ( POWER(POWER(S$67, 2),0.5) * EXP( POWER(1 + POWER(S$67, 2),-1) * ($K3022-S$60)/ ( N3022 / 2.2) ) + POWER(POWER(S$67, 2),-0.5) * EXP(- POWER(S$67, 2) * POWER(1 + POWER(S$67, 2),-1) * ($K3022-S$60) / ( N3022 / 2.2) ) ),\"\")))","v":0},{"$f":"IF(T$56=\"\",\"\",IF(ABS(($K3022-T$60) / ( O3022 / 2.2))>20,0,IF(T$60<>\"\",T$64 * ( POWER(POWER(T$67, 2),0.5) + POWER(POWER(T$67, 2),-0.5)  ) / ( POWER(POWER(T$67, 2),0.5) * EXP( POWER(1 + POWER(T$67, 2),-1) * ($K3022-T$60)/ ( O3022 / 2.2) ) + POWER(POWER(T$67, 2),-0.5) * EXP(- POWER(T$67, 2) * POWER(1 + POWER(T$67, 2),-1) * ($K3022-T$60) / ( O3022 / 2.2) ) ),\"\")))","v":0},{"$f":"IF(U$56=\"\",\"\",IF(ABS(($K3022-U$60) / ( P3022 / 2.2))>20,0,IF(U$60<>\"\",U$64 * ( POWER(POWER(U$67, 2),0.5) + POWER(POWER(U$67, 2),-0.5)  ) / ( POWER(POWER(U$67, 2),0.5) * EXP( POWER(1 + POWER(U$67, 2),-1) * ($K3022-U$60)/ ( P3022 / 2.2) ) + POWER(POWER(U$67, 2),-0.5) * EXP(- POWER(U$67, 2) * POWER(1 + POWER(U$67, 2),-1) * ($K3022-U$60) / ( P3022 / 2.2) ) ),\"\")))","v":0},{"$f":"IF(V$56=\"\",\"\",IF(ABS(($K3022-V$60) / ( Q3022 / 2.2))>20,0,IF(V$60<>\"\",V$64 * ( POWER(POWER(V$67, 2),0.5) + POWER(POWER(V$67, 2),-0.5)  ) / ( POWER(POWER(V$67, 2),0.5) * EXP( POWER(1 + POWER(V$67, 2),-1) * ($K3022-V$60)/ ( Q3022 / 2.2) ) + POWER(POWER(V$67, 2),-0.5) * EXP(- POWER(V$67, 2) * POWER(1 + POWER(V$67, 2),-1) * ($K3022-V$60) / ( Q3022 / 2.2) ) ),\"\")))","v":""},{"$f":"IF(W$56=\"\",\"\",IF(ABS(($K3022-W$60) / ( R3022 / 2.2))>20,0,IF(W$60<>\"\",W$64 * ( POWER(POWER(W$67, 2),0.5) + POWER(POWER(W$67, 2),-0.5)  ) / ( POWER(POWER(W$67, 2),0.5) * EXP( POWER(1 + POWER(W$67, 2),-1) * ($K3022-W$60)/ ( R3022 / 2.2) ) + POWER(POWER(W$67, 2),-0.5) * EXP(- POWER(W$67, 2) * POWER(1 + POWER(W$67, 2),-1) * ($K3022-W$60) / ( R3022 / 2.2) ) ),\"\")))","v":""},{"$f":"IF(X$56=\"\",\"\",IF(ABS(($K3022-X$60) / ( S3022 / 2.2))>20,0,IF(X$60<>\"\",X$64 * ( POWER(POWER(X$67, 2),0.5) + POWER(POWER(X$67, 2),-0.5)  ) / ( POWER(POWER(X$67, 2),0.5) * EXP( POWER(1 + POWER(X$67, 2),-1) * ($K3022-X$60)/ ( S3022 / 2.2) ) + POWER(POWER(X$67, 2),-0.5) * EXP(- POWER(X$67, 2) * POWER(1 + POWER(X$67, 2),-1) * ($K3022-X$60) / ( S3022 / 2.2) ) ),\"\")))","v":""},{"$f":"SUM(T3022:AA3022)+RAND()*$C$69+$C$67","v":2.0388623951711811},null,{"$f":"IF(Q$56=\"\",\"\",($K3022-$K3021)*T3022)","v":0},{"$f":"IF(R$56=\"\",\"\",($K3022-$K3021)*U3022)","v":0},{"$f":"IF(S$56=\"\",\"\",($K3022-$K3021)*V3022)","v":0},{"$f":"IF(T$56=\"\",\"\",($K3022-$K3021)*W3022)","v":0},{"$f":"IF(U$56=\"\",\"\",($K3022-$K3021)*X3022)","v":0},{"$f":"IF(V$56=\"\",\"\",($K3022-$K3021)*Y3022)","v":""},{"$f":"IF(W$56=\"\",\"\",($K3022-$K3021)*Z3022)","v":""},{"$f":"IF(X$56=\"\",\"\",($K3022-$K3021)*AA3022)","v":""},null,34.944320982483994,0,0,0,0,0,"","","",2.1419120249553538,null,0,0,0,0,0,"","","",null,{"$f":"IF($C$8=\"isocratic\",K3021,AM3022)","v":13.663851203938819},{"$f":"IF($C$8=\"isocratic\",AB3021,AV3022)","v":2.0256254196746291}]
[null,null,null,null,null,null,null,null,null,null,13.673133711550189,0.26081457591968804,0.19868731806407269,0.15790499772085118,0.13032649862686846,0.11873364832432616,"","","",0,0,0,0,0,"","","",2.0478242066777486,null,0,0,0,0,0,"","","",null,{"$f":"AM3022+MAX($AK$57:$AR$57)*1.2/3000","v":34.956190656730762},0,0,0,0,0,"","","",{"$f":"SUM(AN3023:AU3023)+RAND()*$C$69+K3023*$C$70+$C$67","v":2.0529068559838897},null,0,0,0,0,0,"","","",null,13.668492457744504,2.0388623951711811]
[null,null,null,null,null,null,null,null,null,null,13.677774965355875,0.26090310768340824,0.19875476114556082,0.15795859751641153,0.1303707370853297,0.11877395166727399,"","","",0,0,0,0,0,"","","",2.0910886777601845,null,0,0,0,0,0,"","","",null,34.968060330977529,{"$f":"IF(AK$56=\"NOT ELUTED\",\"\",IF(AK$51=\"\",\"\",IF(ABS(($AM3024-AK$57)/(AK$72/2.2))>20,0,AK$62*(POWER(POWER(AK$66,2),0.5)+POWER(POWER(AK$66,2),-0.5))/(POWER(POWER(AK$66,2),0.5)*EXP(POWER(1+POWER(AK$66,2),-1)*($AM3024-AK$57)/(AK$72/2.2))+POWER(POWER(AK$66,2),-0.5)*EXP(-POWER(AK$66,2)*POWER(1+POWER(AK$66,2),-1)*($AM3024-AK$57)/(AK$72/2.2))))))","v":0},{"$f":"IF(AL$56=\"NOT ELUTED\",\"\",IF(AL$51=\"\",\"\",IF(ABS(($AM3024-AL$57)/(AL$72/2.2))>20,0,AL$62*(POWER(POWER(AL$66,2),0.5)+POWER(POWER(AL$66,2),-0.5))/(POWER(POWER(AL$66,2),0.5)*EXP(POWER(1+POWER(AL$66,2),-1)*($AM3024-AL$57)/(AL$72/2.2))+POWER(POWER(AL$66,2),-0.5)*EXP(-POWER(AL$66,2)*POWER(1+POWER(AL$66,2),-1)*($AM3024-AL$57)/(AL$72/2.2))))))","v":0},{"$f":"IF(AM$56=\"NOT ELUTED\",\"\",IF(AM$51=\"\",\"\",IF(ABS(($AM3024-AM$57)/(AM$72/2.2))>20,0,AM$62*(POWER(POWER(AM$66,2),0.5)+POWER(POWER(AM$66,2),-0.5))/(POWER(POWER(AM$66,2),0.5)*EXP(POWER(1+POWER(AM$66,2),-1)*($AM3024-AM$57)/(AM$72/2.2))+POWER(POWER(AM$66,2),-0.5)*EXP(-POWER(AM$66,2)*POWER(1+POWER(AM$66,2),-1)*($AM3024-AM$57)/(AM$72/2.2))))))","v":0},{"$f":"IF(AN$56=\"NOT ELUTED\",\"\",IF(AN$51=\"\",\"\",IF(ABS(($AM3024-AN$57)/(AN$72/2.2))>20,0,AN$62*(POWER(POWER(AN$66,2),0.5)+POWER(POWER(AN$66,2),-0.5))/(POWER(POWER(AN$66,2),0.5)*EXP(POWER(1+POWER(AN$66,2),-1)*($AM3024-AN$57)/(AN$72/2.2))+POWER(POWER(AN$66,2),-0.5)*EXP(-POWER(AN$66,2)*POWER(1+POWER(AN$66,2),-1)*($AM3024-AN$57)/(AN$72/2.2))))))","v":0},{"$f":"IF(AO$56=\"NOT ELUTED\",\"\",IF(AO$51=\"\",\"\",IF(ABS(($AM3024-AO$57)/(AO$72/2.2))>20,0,AO$62*(POWER(POWER(AO$66,2),0.5)+POWER(POWER(AO$66,2),-0.5))/(POWER(POWER(AO$66,2),0.5)*EXP(POWER(1+POWER(AO$66,2),-1)*($AM3024-AO$57)/(AO$72/2.2))+POWER(POWER(AO$66,2),-0.5)*EXP(-POWER(AO$66,2)*POWER(1+POWER(AO$66,2),-1)*($AM3024-AO$57)/(AO$72/2.2))))))","v":0},{"$f":"IF(AP$56=\"NOT ELUTED\",\"\",IF(AP$51=\"\",\"\",IF(ABS(($AM3024-AP$57)/(AP$72/2.2))>20,0,AP$62*(POWER(POWER(AP$66,2),0.5)+POWER(POWER(AP$66,2),-0.5))/(POWER(POWER(AP$66,2),0.5)*EXP(POWER(1+POWER(AP$66,2),-1)*($AM3024-AP$57)/(AP$72/2.2))+POWER(POWER(AP$66,2),-0.5)*EXP(-POWER(AP$66,2)*POWER(1+POWER(AP$66,2),-1)*($AM3024-AP$57)/(AP$72/2.2))))))","v":""},{"$f":"IF(AQ$56=\"NOT ELUTED\",\"\",IF(AQ$51=\"\",\"\",IF(ABS(($AM3024-AQ$57)/(AQ$72/2.2))>20,0,AQ$62*(POWER(POWER(AQ$66,2),0.5)+POWER(POWER(AQ$66,2),-0.5))/(POWER(POWER(AQ$66,2),0.5)*EXP(POWER(1+POWER(AQ$66,2),-1)*($AM3024-AQ$57)/(AQ$72/2.2))+POWER(POWER(AQ$66,2),-0.5)*EXP(-POWER(AQ$66,2)*POWER(1+POWER(AQ$66,2),-1)*($AM3024-AQ$57)/(AQ$72/2.2))))))","v":""},{"$f":"IF(AR$56=\"NOT ELUTED\",\"\",IF(AR$51=\"\",\"\",IF(ABS(($AM3024-AR$57)/(AR$72/2.2))>20,0,AR$62*(POWER(POWER(AR$66,2),0.5)+POWER(POWER(AR$66,2),-0.5))/(POWER(POWER(AR$66,2),0.5)*EXP(POWER(1+POWER(AR$66,2),-1)*($AM3024-AR$57)/(AR$72/2.2))+POWER(POWER(AR$66,2),-0.5)*EXP(-POWER(AR$66,2)*POWER(1+POWER(AR$66,2),-1)*($AM3024-AR$57)/(AR$72/2.2))))))","v":""},2.0279378574445199,null,0,0,0,0,0,"","","",null,13.673133711550189,2.0478242066777486]
[null,null,null,null,null,null,null,null,null,null,13.68241621916156,0.26099163944712844,0.19882220422704897,0.15801219731197189,0.13041497554379095,0.11881425501022183,"","","",0,0,0,0,0,"","","",2.0428838865688448,null,0,0,0,0,0,"","","",null,34.979930005224297,0,0,0,0,0,"","","",2.1054643698373967,null,0,0,0,0,0,"","","",null,13.677774965355875,2.0910886777601845]
[null,null,null,null,null,null,null,null,null,null,13.687057472967245,0.26108017121084859,0.19888964730853709,0.15806579710753224,0.13045921400225222,0.11885455835316966,"","","",0,0,0,0,0,"","","",2.0953078947468238,null,0,0,0,0,0,"","","",null,34.991799679471065,0,0,0,0,0,"","","",2.1114714674591295,null,0,0,0,0,0,"","","",null,13.68241621916156,2.0428838865688448]
[null,null,null,null,null,null,null,null,null,null,13.69169872677293,0.26116870297456879,0.19895709039002521,0.15811939690309262,0.13050345246071346,0.11889486169611749,"","","",0,0,0,0,0,"","","",2.1561045678856314,null,0,0,0,0,0,"","","",null,35.003669353717832,0,0,0,0,0,"","","",2.0283423525701791,null,0,0,0,0,0,"","","",null,13.687057472967245,2.0953078947468238]
[null,null,null,null,null,null,null,null,null,null,13.696339980578616,0.26125723473828899,0.19902453347151336,0.15817299669865298,0.13054769091917473,0.11893516503906532,"","","",0,0,0,0,0,"","","",2.1073618223891875,null,0,0,0,0,0,"","","",null,35.0155390279646,0,0,0,0,0,"","","",2.0753671562114144,null,0,0,0,0,0,"","","",null,13.69169872677293,2.1561045678856314]
[null,null,null,null,null,null,null,null,null,null,13.700981234384301,0.26134576650200914,0.19909197655300151,0.15822659649421336,0.13059192937763597,0.11897546838201314,"","","",0,0,0,0,0,"","","",2.0634719670529966,null,0,0,0,0,0,"","","",null,35.027408702211368,0,0,0,0,0,"","","",2.1276056287111356,null,0,0,0,0,0,"","","",null,13.696339980578616,2.1073618223891875]
[null,null,null,null,null,null,null,null,null,null,13.705622488189986,0.26143429826572934,0.19915941963448963,0.15828019628977372,0.13063616783609722,0.11901577172496099,"","","",0,0,0,0,0,"","","",2.0876767203107995,null,0,0,0,0,0,"","","",null,35.039278376458135,0,0,0,0,0,"","","",2.1455049036732681,null,0,0,0,0,0,"","","",null,13.700981234384301,2.0634719670529966]
[null,null,null,null,null,null,null,null,null,null,13.710263741995671,0.26152283002944954,0.19922686271597778,0.15833379608533407,0.13068040629455849,0.11905607506790881,"","","",0,0,0,0,0,"","","",2.0934646603930007,null,0,0,0,0,0,"","","",null,35.051148050704903,0,0,0,0,0,"","","",2.0958687618757632,null,0,0,0,0,0,"","","",null,13.705622488189986,2.0876767203107995]
[null,null,null,null,null,null,null,null,null,null,13.714904995801357,0.26161136179316974,0.1992943057974659,0.15838739588089445,0.13072464475301973,0.11909637841085664,"","","",0,0,0,0,0,"","","",2.1006426199589976,null,0,0,0,0,0,"","","",null,35.063017724951671,0,0,0,0,0,"","","",2.040468800411201,null,0,0,0,0,0,"","","",null,13.710263741995671,2.0934646603930007]
[null,null,null,null,null,null,null,null,null,null,13.719546249607042,0.26169989355688988,0.19936174887895405,0.15844099567645481,0.130768883211481,0.11913668175380449,"","","",0,0,0,0,0,"","","",2.0787615247810374,null,0,0,0,0,0,"","","",null,35.074887399198438,0,0,0,0,0,"","","",2.0867646944457112,null,0,0,0,0,0,"","","",null,13.714904995801357,2.1006426199589976]
[null,null,null,null,null,null,null,null,null,null,13.724187503412727,0.26178842532061009,0.19942919196044218,0.15849459547201517,0.13081312166994224,0.11917698509675231,"","","",0,0,0,0,0,"","","",2.1201836086430195,null,0,0,0,0,0,"","","",null,35.086757073445206,0,0,0,0,0,"","","",2.1576925302510519,null,0,0,0,0,0,"","","",null,13.719546249607042,2.0787615247810374]
[null,null,null,null,null,null,null,null,null,null,13.728828757218412,0.26187695708433023,0.19949663504193033,0.15854819526757555,0.13085736012840349,0.11921728843970014,"","","",0,0,0,0,0,"","","",2.0887871773409614,null,0,0,0,0,0,"","","",null,35.098626747691974,0,0,0,0,0,"","","",2.0159788921017996,null,0,0,0,0,0,"","","",null,13.724187503412727,2.1201836086430195]
[null,null,null,null,null,null,null,null,null,null,13.733470011024098,0.26196548884805043,0.19956407812341845,0.1586017950631359,0.13090159858686476,0.11925759178264797,"","","",0,0,0,0,0,"","","",2.1249831257398704,null,0,0,0,0,0,"","","",null,35.110496421938741,0,0,0,0,0,"","","",2.0940080855765828,null,0,0,0,0,0,"","","",null,13.728828757218412,2.0887871773409614]
[null,null,null,null,null,null,null,null,null,null,13.738111264829783,0.26205402061177063,0.1996315212049066,0.15865539485869629,0.130945837045326,0.11929789512559581,"","","",0,0,0,0,0,"","","",2.1460319108178951,null,0,0,0,0,0,"","","",null,35.122366096185509,0,0,0,0,0,"","","",2.0156891997959989,null,0,0,0,0,0,"","","",null,13.733470011024098,2.1249831257398704]
[null,null,null,null,null,null,null,null,null,null,13.742752518635468,0.26214255237549078,0.19969896428639472,0.15870899465425664,0.13099007550378727,0.11933819846854364,"","","",0,0,0,0,0,"","","",2.0694179014043907,null,0,0,0,0,0,"","","",null,35.134235770432277,0,0,0,0,0,"","","",2.0648785493838417,null,0,0,0,0,0,"","","",null,13.738111264829783,2.1460319108178951]
[null,null,null,null,null,null,null,null,null,null,13.747393772441153,0.26223108413921098,0.19976640736788287,0.158762594449817,0.13103431396224852,0.11937850181149148,"","","",0,0,0,0,0,"","","",2.0455477153000539,null,0,0,0,0,0,"","","",null,35.146105444679044,0,0,0,0,0,"","","",2.0435652663027497,null,0,0,0,0,0,"","","",null,13.742752518635468,2.0694179014043907]
[null,null,null,null,null,null,null,null,null,null,13.752035026246839,0.26231961590293118,0.19983385044937102,0.15881619424537735,0.13107855242070976,0.1194188051544393,"","","",0,0,0,0,0,"","","",2.0402404415496114,null,0,0,0,0,0,"","","",null,35.157975118925812,0,0,0,0,0,"","","",2.073570470408193,null,0,0,0,0,0,"","","",null,13.747393772441153,2.0455477153000539]
[null,null,null,null,null,null,null,null,null,null,13.756676280052524,0.26240814766665138,0.19990129353085914,0.15886979404093773,0.13112279087917103,0.11945910849738714,"","","",0,0,0,0,0,"","","",2.1403017951557799,null,0,0,0,0,0,"","","",null,35.16984479317258,0,0,0,0,0,"","","",2.0490934884641776,null,0,0,0,0,0,"","","",null,13.752035026246839,2.0402404415496114]
[null,null,null,null,null,null,null,null,null,null,13.761317533858209,0.26249667943037158,0.19996873661234729,0.15892339383649809,0.13116702933763227,0.11949941184033497,"","","",0,0,0,0,0,"","","",2.0891179304796976,null,0,0,0,0,0,"","","",null,35.181714467419347,0,0,0,0,0,"","","",2.0840894721104082,null,0,0,0,0,0,"","","",null,13.756676280052524,2.1403017951557799]
[null,null,null,null,null,null,null,null,null,null,13.765958787663894,0.26258521119409173,0.20003617969383541,0.15897699363205844,0.13121126779609354,0.1195397151832828,"","","",0,0,0,0,0,"","","",2.0165273240676824,null,0,0,0,0,0,"","","",null,35.193584141666115,0,0,0,0,0,"","","",2.1664452636612013,null,0,0,0,0,0,"","","",null,13.761317533858209,2.0891179304796976]
[null,null,null,null,null,null,null,null,null,null,13.77060004146958,0.26267374295781193,0.20010362277532354,0.15903059342761883,0.13125550625455479,0.11958001852623064,"","","",0,0,0,0,0,"","","",2.1601431112990661,null,0,0,0,0,0,"","","",null,35.205453815912882,0,0,0,0,0,"","","",2.0324282396167392,null,0,0,0,0,0,"","","",null,13.765958787663894,2.0165273240676824]
[null,null,null,null,null,null,null,null,null,null,13.775241295275265,0.26276227472153213,0.20017106585681169,0.15908419322317918,0.13129974471301606,0.11962032186917847,"","","",0,0,0,0,0,"","","",2.013757695786301,null,0,0,0,0,0,"","","",null,35.21732349015965,0,0,0,0,0,"","","",2.1499257725263989,null,0,0,0,0,0,"","","",null,13.77060004146958,2.1601431112990661]
[null,null,null,null,null,null,null,null,null,null,13.77988254908095,0.26285080648525228,0.20023850893829981,0.15913779301873954,0.1313439831714773,0.1196606252121263,"","","",0,0,0,0,0,"","","",2.0822327034667278,null,0,0,0,0,0,"","","",null,35.229193164406418,0,0,0,0,0,"","","",2.0145510494548855,null,0,0,0,0,0,"","","",null,13.775241295275265,2.013757695786301]
[null,null,null,null,null,null,null,null,null,null,13.784523802886635,0.26293933824897248,0.20030595201978796,0.15919139281429992,0.13138822162993855,0.11970092855507412,"","","",0,0,0,0,0,"","","",2.1405497745095001,null,0,0,0,0,0,"","","",null,35.241062838653185,0,0,0,0,0,"","","",2.1127685595303598,null,0,0,0,0,0,"","","",null,13.77988254908095,2.0822327034667278]
[null,null,null,null,null,null,null,null,null,null,13.789165056692321,0.26302787001269262,0.20037339510127611,0.15924499260986028,0.13143246008839979,0.11974123189802197,"","","",0,0,0,0,0,"","","",2.0079357909486912,null,0,0,0,0,0,"","","",null,35.252932512899953,0,0,0,0,0,"","","",2.1000992092098016,null,0,0,0,0,0,"","","",null,13.784523802886635,2.1405497745095001]
[null,null,null,null,null,null,null,null,null,null,13.793806310498006,0.26311640177641282,0.20044083818276423,0.15929859240542066,0.13147669854686106,0.11978153524096981,"","","",0,0,0,0,0,"","","",2.1170460743001751,null,0,0,0,0,0,"","","",null,35.264802187146721,0,0,0,0,0,"","","",2.0138413754576412,null,0,0,0,0,0,"","","",null,13.789165056692321,2.0079357909486912]
[null,null,null,null,null,null,null,null,null,null,13.798447564303691,0.26320493354013302,0.20050828126425238,0.15935219220098101,0.1315209370053223,0.11982183858391762,"","","",0,0,0,0,0,"","","",2.0276910292390293,null,0,0,0,0,0,"","","",null,35.276671861393488,0,0,0,0,0,"","","",2.1053858610266198,null,0,0,0,0,0,"","","",null,13.793806310498006,2.1170460743001751]
[null,null,null,null,null,null,null,null,null,null,13.803088818109376,0.26329346530385317,0.2005757243457405,0.15940579199654137,0.13156517546378357,0.11986214192686546,"","","",0,0,0,0,0,"","","",2.0501857481232646,null,0,0,0,0,0,"","","",null,35.288541535640256,0,0,0,0,0,"","","",2.0782942453470814,null,0,0,0,0,0,"","","",null,13.798447564303691,2.0276910292390293]
[null,null,null,null,null,null,null,null,null,null,13.807730071915062,0.26338199706757337,0.20064316742722865,0.15945939179210172,0.13160941392224482,0.11990244526981329,"","","",0,0,0,0,0,"","","",2.0013548478195067,null,0,0,0,0,0,"","","",null,35.300411209887024,0,0,0,0,0,"","","",2.0999363620956903,null,0,0,0,0,0,"","","",null,13.803088818109376,2.0501857481232646]
[null,null,null,null,null,null,null,null,null,null,13.812371325720747,0.26347052883129357,0.20071061050871677,0.15951299158766211,0.13165365238070606,0.11994274861276112,"","","",0,0,0,0,0,"","","",2.0479272474642154,null,0,0,0,0,0,"","","",null,35.312280884133791,0,0,0,0,0,"","","",2.1143359200872531,null,0,0,0,0,0,"","","",null,13.807730071915062,2.0013548478195067]
[null,null,null,null,null,null,null,null,null,null,13.817012579526432,0.26355906059501377,0.20077805359020492,0.15956659138322249,0.13169789083916733,0.11998305195570896,"","","",0,0,0,0,0,"","","",2.0300322352376914,null,0,0,0,0,0,"","","",null,35.324150558380559,0,0,0,0,0,"","","",2.0249730898977054,null,0,0,0,0,0,"","","",null,13.812371325720747,2.0479272474642154]
[null,null,null,null,null,null,null,null,null,null,13.821653833332118,0.26364759235873392,0.20084549667169307,0.15962019117878284,0.13174212929762857,0.12002335529865679,"","","",0,0,0,0,0,"","","",2.0073868069881331,null,0,0,0,0,0,"","","",null,35.336020232627327,0,0,0,0,0,"","","",2.1704522300361013,null,0,0,0,0,0,"","","",null,13.817012579526432,2.0300322352376914]
[null,null,null,null,null,null,null,null,null,null,13.826295087137803,0.26373612412245412,0.2009129397531812,0.1596737909743432,0.13178636775608984,0.12006365864160462,"","","",0,0,0,0,0,"","","",2.0179608255354591,null,0,0,0,0,0,"","","",null,35.347889906874094,0,0,0,0,0,"","","",2.1725476032966173,null,0,0,0,0,0,"","","",null,13.821653833332118,2.0073868069881331]
[null,null,null,null,null,null,null,null,null,null,13.830936340943488,0.26382465588617432,0.20098038283466935,0.15972739076990358,0.13183060621455109,0.12010396198455246,"","","",0,0,0,0,0,"","","",2.0656095524622358,null,0,0,0,0,0,"","","",null,35.359759581120862,0,0,0,0,0,"","","",2.1419102672021175,null,0,0,0,0,0,"","","",null,13.826295087137803,2.0179608255354591]
[null,null,null,null,null,null,null,null,null,null,13.835577594749173,0.26391318764989447,0.2010478259161575,0.15978099056546394,0.13187484467301236,0.12014426532750029,"","","",0,0,0,0,0,"","","",2.1040539036756134,null,0,0,0,0,0,"","","",null,35.37162925536763,0,0,0,0,0,"","","",2.0760318731731782,null,0,0,0,0,0,"","","",null,13.830936340943488,2.0656095524622358]
[null,null,null,null,null,null,null,null,null,null,13.840218848554859,0.26400171941361467,0.20111526899764562,0.15983459036102429,0.1319190831314736,0.12018456867044812,"","","",0,0,0,0,0,"","","",2.0056917593890433,null,0,0,0,0,0,"","","",null,35.383498929614397,0,0,0,0,0,"","","",2.0538421787293353,null,0,0,0,0,0,"","","",null,13.835577594749173,2.1040539036756134]
[null,null,null,null,null,null,null,null,null,null,13.844860102360544,0.26409025117733487,0.20118271207913374,0.15988819015658465,0.13196332158993485,0.12022487201339595,"","","",0,0,0,0,0,"","","",2.1372397615440044,null,0,0,0,0,0,"","","",null,35.395368603861165,0,0,0,0,0,"","","",2.1026044843543858,null,0,0,0,0,0,"","","",null,13.840218848554859,2.0056917593890433]
[null,null,null,null,null,null,null,null,null,null,13.849501356166229,0.26417878294105501,0.20125015516062189,0.15994178995214503,0.13200756004839612,0.12026517535634379,"","","",0,0,0,0,0,"","","",2.082160710812027,null,0,0,0,0,0,"","","",null,35.407238278107933,0,0,0,0,0,"","","",2.0235368509871665,null,0,0,0,0,0,"","","",null,13.844860102360544,2.1372397615440044]
[null,null,null,null,null,null,null,null,null,null,13.854142609971914,0.26426731470477521,0.20131759824211004,0.15999538974770539,0.13205179850685736,0.12030547869929162,"","","",0,0,0,0,0,"","","",2.025612333773319,null,0,0,0,0,0,"","","",null,35.4191079523547,0,0,0,0,0,"","","",2.0842994255131866,null,{"$f":"IF(AN3062=\"\",\"\",($AM3063-$AM3062)*AN3062)","v":0},{"$f":"IF(AO3062=\"\",\"\",($AM3063-$AM3062)*AO3062)","v":0},{"$f":"IF(AP3062=\"\",\"\",($AM3063-$AM3062)*AP3062)","v":0},{"$f":"IF(AQ3062=\"\",\"\",($AM3063-$AM3062)*AQ3062)","v":0},{"$f":"IF(AR3062=\"\",\"\",($AM3063-$AM3062)*AR3062)","v":0},{"$f":"IF(AS3062=\"\",\"\",($AM3063-$AM3062)*AS3062)","v":""},{"$f":"IF(AT3062=\"\",\"\",($AM3063-$AM3062)*AT3062)","v":""},{"$f":"IF(AU3062=\"\",\"\",($AM3063-$AM3062)*AU3062)","v":""},null,13.849501356166229,2.082160710812027]
[null,null,null,null,null,null,null,null,null,null,13.8587838637776,0.26435584646849536,0.20138504132359816,0.16004898954326577,0.1320960369653186,0.12034578204223945,"","","",0,0,0,0,0,"","","",2.0216893485212464,null,0,0,0,0,0,"","","",null,35.430977626601468,0,0,0,0,0,"","","",2.0278660437471592,null,0,0,0,0,0,"","","",null,13.854142609971914,2.025612333773319]
[null,null,null,null,null,null,null,null,null,null,13.863425117583285,0.26444437823221562,0.20145248440508629,0.16010258933882612,0.13214027542377987,0.12038608538518729,"","","",0,0,0,0,0,"","","",2.0153749885077255,null,0,0,0,0,0,"","","",null,35.442847300848236,0,0,0,0,0,"","","",2.1401488630831138,null,0,0,0,0,0,"","","",null,13.8587838637776,2.0216893485212464]
[null,null,null,null,null,null,null,null,null,null,13.86806637138897,0.26453290999593576,0.20151992748657443,0.16015618913438648,0.13218451388224112,0.12042638872813512,"","","",0,0,0,0,0,"","","",2.1609300526067878,null,0,0,0,0,0,"","","",null,35.454716975095003,0,0,0,0,0,"","","",2.1060448992812448,null,0,0,0,0,0,"","","",null,13.863425117583285,2.0153749885077255]
[null,null,null,null,null,null,null,null,null,null,13.872707625194655,0.26462144175965596,0.20158737056806258,0.16020978892994686,0.13222875234070239,0.12046669207108295,"","","",0,0,0,0,0,"","","",2.1282046660723575,null,0,0,0,0,0,"","","",null,35.466586649341771,0,0,0,0,0,"","","",2.119395496893425,null,0,0,0,0,0,"","","",null,13.86806637138897,2.1609300526067878]
[null,null,null,null,null,null,null,null,null,null,13.877348879000341,0.26470997352337616,0.20165481364955071,0.16026338872550722,0.13227299079916363,0.12050699541403077,"","","",0,0,0,0,0,"","","",2.0908053915972906,null,0,0,0,0,0,"","","",null,35.478456323588539,0,0,0,0,0,"","","",2.1616165361949045,null,0,0,0,0,0,"","","",null,13.872707625194655,2.1282046660723575]
[null,null,null,null,null,null,null,null,null,null,13.881990132806026,0.26479850528709631,0.20172225673103883,0.16031698852106757,0.13231722925762487,0.12054729875697862,"","","",0,0,0,0,0,"","","",2.0530405895400663,null,0,0,0,0,0,"","","",null,35.490325997835306,0,0,0,0,0,"","","",2.1552536171295831,null,0,0,0,0,0,"","","",null,13.877348879000341,2.0908053915972906]
[null,null,null,null,null,null,null,null,null,null,13.886631386611711,0.26488703705081651,0.20178969981252698,0.16037058831662795,0.13236146771608615,0.12058760209992644,"","","",0,0,0,0,0,"","","",2.1423772660552913,null,0,0,0,0,0,"","","",null,35.502195672082074,0,0,0,0,0,"","","",2.0649089100007005,null,0,0,0,0,0,"","","",null,13.881990132806026,2.0530405895400663]
[null,null,null,null,null,null,null,null,null,null,13.891272640417396,0.26497556881453666,0.20185714289401513,0.16042418811218831,0.13240570617454739,0.12062790544287427,"","","",0,0,0,0,0,"","","",2.0294694428453113,null,0,0,0,0,0,"","","",null,35.514065346328842,0,0,0,0,0,"","","",2.1622545524759635,null,0,0,0,0,0,"","","",null,13.886631386611711,2.1423772660552913]
[null,null,null,null,null,null,null,null,null,null,13.895913894223082,0.26506410057825686,0.20192458597550325,0.16047778790774866,0.13244994463300866,0.1206682087858221,"","","",0,0,0,0,0,"","","",2.0163790614929957,null,0,0,0,0,0,"","","",null,35.525935020575609,0,0,0,0,0,"","","",2.1588613840562458,null,0,0,0,0,0,"","","",null,13.891272640417396,2.0294694428453113]
[null,null,null,null,null,null,null,null,null,null,13.900555148028767,0.26515263234197706,0.2019920290569914,0.16053138770330905,0.1324941830914699,0.12070851212876994,"","","",0,0,0,0,0,"","","",2.1353052971417297,null,0,0,0,0,0,"","","",null,35.537804694822377,0,0,0,0,0,"","","",2.1693473076335579,null,0,0,0,0,0,"","","",null,13.895913894223082,2.0163790614929957]
[null,null,null,null,null,null,null,null,null,null,13.905196401834452,0.26524116410569726,0.20205947213847952,0.1605849874988694,0.13253842154993115,0.12074881547171777,"","","",0,0,0,0,0,"","","",2.1047006638494006,null,0,0,0,0,0,"","","",null,35.549674369069145,0,0,0,0,0,"","","",2.0881960810924758,null,0,0,0,0,0,"","","",null,13.900555148028767,2.1353052971417297]
[null,null,null,null,null,null,null,null,null,null,13.909837655640137,0.2653296958694174,0.20212691521996767,0.16063858729442976,0.13258266000839242,0.1207891188146656,"","","",0,0,0,0,0,"","","",2.0821538348461153,null,0,0,0,0,0,"","","",null,35.561544043315912,0,0,0,0,0,"","","",2.0377972355656033,null,0,0,0,0,0,"","","",null,13.905196401834452,2.1047006638494006]
[null,null,null,null,null,null,null,null,null,null,13.914478909445823,0.2654182276331376,0.2021943583014558,0.16069218708999014,0.13262689846685366,0.12082942215761343,"","","",0,0,0,0,0,"","","",2.0355143469848009,null,0,0,0,0,0,"","","",null,35.57341371756268,0,0,0,0,0,"","","",2.0498243463846264,null,0,0,0,0,0,"","","",null,13.909837655640137,2.0821538348461153]
[null,null,null,null,null,null,null,null,null,null,13.919120163251508,0.26550675939685781,0.20226180138294395,0.1607457868855505,0.13267113692531493,0.12086972550056127,"","","",0,0,0,0,0,"","","",2.0038937664418697,null,0,0,0,0,0,"","","",null,35.585283391809448,0,0,0,0,0,"","","",2.1429886004686267,null,0,0,0,0,0,"","","",null,13.914478909445823,2.0355143469848009]
[null,null,null,null,null,null,null,null,null,null,13.923761417057193,0.26559529116057795,0.2023292444644321,0.16079938668111088,0.13271537538377617,0.1209100288435091,"","","",0,0,0,0,0,"","","",2.1093126320860858,null,0,0,0,0,0,"","","",null,35.597153066056215,0,0,0,0,0,"","","",2.1576967085763084,null,0,0,0,0,0,"","","",null,13.919120163251508,2.0038937664418697]

{"sheet":"calculation2","index":4,"n_rows":105,"n_cols":25,"rows_kept":105,"cut":false,"hidden":false,"merged":[[41,1,41,2],[24,1,24,7],[38,1,38,5],[40,1,40,2],[50,7,50,8],[50,3,50,4],[42,1,42,2],[43,1,43,2],[44,1,44,2],[50,1,50,2],[50,5,50,6],[49,1,49,6]]}
[]
[null,"Injection",{"$f":"Calculation!E52","v":7.342085536705345E-2},{"$f":"1-C4","v":0.9689796886074199},null,"Performance Score",{"$f":"SUM(calculation2!J42:J45)","v":0.62}]
[null,"Tubing",{"$f":"SUM(C7:C8)","v":0.58963860254431033},{"$f":"1-C2","v":0.92657914463294655},null,{"$f":"VLOOKUP(G2,F4:H8,3,1)","v":0.5},0.01,{"$f":"2-SUM(F3:G3)","v":1.49}]
[null,"UV cell",{"$f":"Calculation!E53","v":3.1020311392580081E-2},null,null,0,"Worst",0.1]
[null,"UV time constant",{"$f":"Calculation!E51","v":0.30592023069605601},{"$f":"1-C5","v":0.69407976930394399},null,0.3,"Bad",0.3]
[null,null,null,null,null,0.5,"Average",0.5]
[null,"Inlet tube",{"$f":"Calculation!E56","v":0.29481930127215517},{"$f":"1-C7","v":0.70518069872784483},null,0.75,"Good",0.7]
[null,"Outlet tube",{"$f":"Calculation!E57","v":0.29481930127215517},{"$f":"1-C8","v":0.70518069872784483},null,0.95,"Best",0.9]
[]
[]
[]
[null,null,"tr",null,null,null,null,null,null,null,null,null,"Ranked"]
[null,"Compound",0,"Width at 50%","N","Peak height","Peak Area","Noise","S/N","Asymmetry","Eluted?",null,"compounds","tr","Width at 50%","N","Peak height","Peak Area","Noise","S/N","Asymmetry","k values","selectivity","largeur base","Résolution"]
[null,{"$f":"IF(Calculation!Q56=\"\",\"\",Calculation!Q56)","v":"Uracil"},{"$f":"IF(B14=\"\",\"\",IF(calculation2!$E$65=\"isocratic\",Calculation!Q60,Calculation!AK57))","v":1.7509927175173992},{"$f":"IF(B14=\"\",\"\",IF(calculation2!$E$65=\"isocratic\",Calculation!Q73,Calculation!AK73))","v":7.8614565806190737E-2},{"$f":"IF(B14=\"\",\"\",5.54*C14*C14/D14/D14)","v":2748.3523111090235},{"$f":"IF(B14=\"\",\"\",IF(calculation2!$E$65=\"isocratic\",Calculation!Q64,Calculation!AK62))","v":0},{"$f":"IF(B14=\"\",\"\",IF(calculation2!$E$65=\"isocratic\",Calculation!Q68,Calculation!AK67))","v":0},{"$f":"Calculation!C68","v":0.45884182583493427},{"$f":"IF(K14=\"NOT ELUTED\",\"\",IF(B14=\"\",\"\",F14/$H$14))","v":0},{"$f":"IF(calculation2!$E$65=\"isocratic\",Calculation!Q67,Calculation!AK66)","v":1.38},{"$f":"IF(calculation2!E65=\"gradient\",Calculation!AK56,0)","v":0},null,{"$f":"IF(B14=\"\",\"\",IFERROR(INDEX($B$13:$B$20,MATCH(SMALL($C$14:$C$20,ROW()-ROW($C$13)),$C$13:$C$20,0)),\"NOT ELUTED\"))","v":"Uracil"},{"$f":"IFERROR(VLOOKUP(M14,$B$14:$C$20,2,0),\"NOT ELUTED\")","v":1.7509927175173992},{"$f":"IFERROR(VLOOKUP(M14,$B$14:$D$20,3,0),\"NOT ELUTED\")","v":7.8614565806190737E-2},{"$f":"IFERROR(VLOOKUP(M14,$B$14:$E$20,4,0),\"NOT ELUTED\")","v":2748.3523111090235},{"$f":"IFERROR(VLOOKUP(M14,$B$14:$F$20,5,0),\"NOT ELUTED\")","v":0},{"$f":"IFERROR(VLOOKUP(M14,$B$14:$G$20,6,0),\"NOT ELUTED\")","v":0},{"$f":"Calculation!C69","v":0.16583245720298323},{"$f":"IFERROR(VLOOKUP(M14,$B$14:$I$20,8,0),\"NOT ELUTED\")","v":0},{"$f":"IFERROR(VLOOKUP(M14,$B$14:$J$20,9,0),\"NOT ELUTED\")","v":1.38},{"$f":"IF(M14=\"\",\"\",N14/Calculation!$C$40-1)","v":3.4355794789986405E-3},null,{"$f":"O14*2.35","v":0.18474422964454823}]
[null,{"$f":"IF(Calculation!R56=\"\",\"\",Calculation!R56)","v":"Methylparaben"},{"$f":"IF(B15=\"\",\"\",IF(calculation2!$E$65=\"isocratic\",Calculation!R60,Calculation!AL57))","v":2.4396937122950266},{"$f":"IF(B15=\"\",\"\",IF(calculation2!$E$65=\"isocratic\",Calculation!R73,Calculation!AL73))","v":8.344345463999947E-2},{"$f":"IF(B15=\"\",\"\",5.54*C15*C15/D15/D15)","v":4735.8269709164524},{"$f":"IF(B15=\"\",\"\",IF(calculation2!$E$65=\"isocratic\",Calculation!R64,Calculation!AL62))","v":98.374301506578533},{"$f":"IF(B15=\"\",\"\",IF(calculation2!$E$65=\"isocratic\",Calculation!R68,Calculation!AL67))","v":720.53751163422248},{"$f":"H14/(0.0019*'HPLC simulator'!I15+0.8669)","v":0.16583245720298323},214.39697945489416,{"$f":"IF(calculation2!$E$65=\"isocratic\",Calculation!R67,Calculation!AL66)","v":1.07},{"$f":"IF(calculation2!E65=\"gradient\",Calculation!AL56,0)","v":0},null,"Methylparaben",2.4396937122950266,{"$f":"IFERROR(VLOOKUP(M15,$B$14:$D$20,3,0),\"NOT ELUTED\")","v":8.344345463999947E-2},{"$f":"IFERROR(VLOOKUP(M15,$B$14:$E$20,4,0),\"NOT ELUTED\")","v":4735.8269709164524},{"$f":"IFERROR(VLOOKUP(M15,$B$14:$F$20,5,0),\"NOT ELUTED\")","v":98.374301506578533},{"$f":"IFERROR(VLOOKUP(M15,$B$14:$G$20,6,0),\"NOT ELUTED\")","v":720.53751163422248},null,{"$f":"IFERROR(VLOOKUP(M15,$B$14:$I$20,8,0),\"NOT ELUTED\")","v":214.39697945489416},{"$f":"IFERROR(VLOOKUP(M15,$B$14:$J$20,9,0),\"NOT ELUTED\")","v":1.07},{"$f":"IF(M15=\"\",\"\",N15/Calculation!$C$40-1)","v":0.39810717055349687},{"$f":"V15/V14","v":115.87773561551606},{"$f":"O15*2.35","v":0.19609211840399876},{"$f":"IF(M15=\"\",\"\",2*(N15-N14)/(X14+X15))","v":3.6167818450450824}]
[null,{"$f":"IF(Calculation!S56=\"\",\"\",Calculation!S56)","v":"Ethylparaben"},{"$f":"IF(B16=\"\",\"\",IF(calculation2!$E$65=\"isocratic\",Calculation!S60,Calculation!AM57))","v":3.6234268961559661},{"$f":"IF(B16=\"\",\"\",IF(calculation2!$E$65=\"isocratic\",Calculation!S73,Calculation!AM73))","v":9.8492282242063564E-2},7497.9815986668973,{"$f":"IF(B16=\"\",\"\",IF(calculation2!$E$65=\"isocratic\",Calculation!S64,Calculation!AM62))","v":92.257921412767004},{"$f":"IF(B16=\"\",\"\",IF(calculation2!$E$65=\"isocratic\",Calculation!S68,Calculation!AM67))","v":797.80701087926286},null,201.06693901518094,{"$f":"IF(calculation2!$E$65=\"isocratic\",Calculation!S67,Calculation!AM66)","v":1.08},{"$f":"IF(calculation2!E65=\"gradient\",Calculation!AM56,0)","v":0},null,"Ethylparaben",3.6234268961559661,9.8492282242063564E-2,7497.9815986668973,92.257921412767004,797.80701087926286,null,201.06693901518094,1.08,{"$f":"IF(M16=\"\",\"\",N16/Calculation!$C$40-1)","v":1.0764652136298349},{"$f":"V16/V15","v":2.7039583641088463},0.23145686326884937,{"$f":"IF(M16=\"\",\"\",2*(N16-N15)/(X15+X16))","v":5.5372985767825229}]
[null,{"$f":"IF(Calculation!T56=\"\",\"\",Calculation!T56)","v":"Propylparaben"},{"$f":"IF(B17=\"\",\"\",IF(calculation2!$E$65=\"isocratic\",Calculation!T60,Calculation!AN57))","v":6.2303322127855258},{"$f":"IF(B17=\"\",\"\",IF(calculation2!$E$65=\"isocratic\",Calculation!T73,Calculation!AN73))","v":0.13977540321639104},11007.043086997415,{"$f":"IF(B17=\"\",\"\",IF(calculation2!$E$65=\"isocratic\",Calculation!T64,Calculation!AN62))","v":69.426632969597335},{"$f":"IF(B17=\"\",\"\",IF(calculation2!$E$65=\"isocratic\",Calculation!T68,Calculation!AN67))","v":848.61990181525437},null,151.30842277350098,{"$f":"IF(calculation2!$E$65=\"isocratic\",Calculation!T67,Calculation!AN66)","v":1.05},{"$f":"IF(calculation2!E65=\"gradient\",Calculation!AN56,0)","v":0},null,"Propylparaben",6.2303322127855258,0.13977540321639104,11007.043086997415,69.426632969597335,848.61990181525437,null,151.30842277350098,1.05,{"$f":"IF(M17=\"\",\"\",N17/Calculation!$C$40-1)","v":2.5703957827688648},2.3878112829131783,0.32847219755851897,9.3115556916353519]
[null,{"$f":"IF(Calculation!U56=\"\",\"\",Calculation!U56)","v":"Butylparaben"},{"$f":"IF(B18=\"\",\"\",IF(calculation2!$E$65=\"isocratic\",Calculation!U60,Calculation!AO57))","v":11.60313451421483},{"$f":"IF(B18=\"\",\"\",IF(calculation2!$E$65=\"isocratic\",Calculation!U73,Calculation!AO73))","v":0.23715700717498878},13261.373184393511,{"$f":"IF(B18=\"\",\"\",IF(calculation2!$E$65=\"isocratic\",Calculation!U64,Calculation!AO62))","v":41.144025699881425},{"$f":"IF(B18=\"\",\"\",IF(calculation2!$E$65=\"isocratic\",Calculation!U68,Calculation!AO67))","v":851.80037432885706},null,89.669300798839458,{"$f":"IF(calculation2!$E$65=\"isocratic\",Calculation!U67,Calculation!AO66)","v":1.03},{"$f":"IF(calculation2!E65=\"gradient\",Calculation!AO56,0)","v":0},null,"Butylparaben",11.60313451421483,0.23715700717498878,13261.373184393511,41.144025699881425,851.80037432885706,null,89.669300798839458,1.03,{"$f":"IF(M18=\"\",\"\",N18/Calculation!$C$40-1)","v":5.6493697481230294},2.1978598727848255,0.55731896686122362,12.131081268910327]
[null,{"$f":"IF(Calculation!V56=\"\",\"\",Calculation!V56)","v":""},{"$f":"IF(B19=\"\",\"\",IF(calculation2!$E$65=\"isocratic\",Calculation!V60,Calculation!AP57))","v":""},{"$f":"IF(B19=\"\",\"\",IF(calculation2!$E$65=\"isocratic\",Calculation!V73,Calculation!AP73))","v":""},"",{"$f":"IF(B19=\"\",\"\",IF(calculation2!$E$65=\"isocratic\",Calculation!V64,Calculation!AP62))","v":""},{"$f":"IF(B19=\"\",\"\",IF(calculation2!$E$65=\"isocratic\",Calculation!V68,Calculation!AP67))","v":""},null,"",{"$f":"IF(calculation2!$E$65=\"isocratic\",Calculation!V67,Calculation!AP66)","v":""},{"$f":"IF(calculation2!E65=\"gradient\",Calculation!AP56,0)","v":0},null,"","","","","","",null,"","",{"$f":"IF(M19=\"\",\"\",N19/Calculation!$C$40-1)","v":""},{"$error":"#VALUE!"},{"$error":"#VALUE!"},""]
[null,{"$f":"IF(Calculation!W56=\"\",\"\",Calculation!W56)","v":""},{"$f":"IF(B20=\"\",\"\",IF(calculation2!$E$65=\"isocratic\",Calculation!W60,Calculation!AQ57))","v":""},{"$f":"IF(B20=\"\",\"\",IF(calculation2!$E$65=\"isocratic\",Calculation!W73,Calculation!AQ73))","v":""},"",{"$f":"IF(B20=\"\",\"\",IF(calculation2!$E$65=\"isocratic\",Calculation!W64,Calculation!AQ62))","v":""},{"$f":"IF(B20=\"\",\"\",IF(calculation2!$E$65=\"isocratic\",Calculation!W68,Calculation!AQ67))","v":""},null,"",{"$f":"IF(calculation2!$E$65=\"isocratic\",Calculation!W67,Calculation!AQ66)","v":""},{"$f":"IF(calculation2!E65=\"gradient\",Calculation!AQ56,0)","v":0},null,"","","","","","",null,"","",{"$f":"IF(M20=\"\",\"\",N20/Calculation!$C$40-1)","v":""},{"$error":"#VALUE!"},{"$error":"#VALUE!"},""]
[null,{"$f":"COUNTBLANK(B14:B20)","v":2},null,null,null,null,null,null,null,null,null,null,null,null,null,null,null,null,null,null,null,null,null,null,""]
[null,null,null,null,""]
[]
[]
[null,"Dans le tableau, indiquer les noms quand c'est not eluted"]
[null,"SERIE 2","SERIE 1",null,null,"Final","compounds"]
[null,{"$f":"IF(calculation2!M14=\"NOT ELUTED\",\"\",calculation2!M14)","v":"Uracil"},{"$f":"calculation2!B14","v":"Uracil"},{"$f":"NOT(ISNA(MATCH(C27,LISTE1,0)))","v":true},{"$f":"IF(D27=FALSE,C27,\"\")","v":""},{"$f":"INDEX(champ,MATCH(LARGE(COUNTIF(champ,\">=\"&champ),ROW(INDIRECT(\"1:\"&ROWS(champ)))),COUNTIF(champ,\">=\"&champ),0))","v":""},{"$f":"calculation2!M14","v":"Uracil"},{"$f":"IF(G27=\"NOT ELUTED\",1,0)","v":0}]
[null,{"$f":"IF(calculation2!M15=\"NOT ELUTED\",\"\",calculation2!M15)","v":"Methylparaben"},{"$f":"calculation2!B15","v":"Methylparaben"},true,"","",{"$f":"calculation2!M15","v":"Methylparaben"},0]
[null,{"$f":"IF(calculation2!M16=\"NOT ELUTED\",\"\",calculation2!M16)","v":"Ethylparaben"},{"$f":"calculation2!B16","v":"Ethylparaben"},true,"","",{"$f":"calculation2!M16","v":"Ethylparaben"},0]
[null,{"$f":"IF(calculation2!M17=\"NOT ELUTED\",\"\",calculation2!M17)","v":"Propylparaben"},{"$f":"calculation2!B17","v":"Propylparaben"},true,"","",{"$f":"calculation2!M17","v":"Propylparaben"},0]
[null,{"$f":"IF(calculation2!M18=\"NOT ELUTED\",\"\",calculation2!M18)","v":"Butylparaben"},{"$f":"calculation2!B18","v":"Butylparaben"},true,"","",{"$f":"calculation2!M18","v":"Butylparaben"},0]
[null,{"$f":"IF(calculation2!M19=\"NOT ELUTED\",\"\",calculation2!M19)","v":""},{"$f":"calculation2!B19","v":""},true,"","",{"$f":"calculation2!M19","v":""},0]
[null,{"$f":"IF(calculation2!M20=\"NOT ELUTED\",\"\",calculation2!M20)","v":""},{"$f":"calculation2!B20","v":""},true,"","",{"$f":"calculation2!M20","v":""},0]
[]
[]
[]
[]
[]
[null,"Trace du diagramme bon/mauvais séparation"]
[null,null,null,"valeurs","contribution",null,null,null,null,"valeur"]
[null,"nb composés total",null,{"$f":"7-COUNTBLANK(calculation2!B14:B20)","v":5}]
[null,"% compounds not eluted",null,{"$f":"1-(D41-COUNTIFS(calculation2!M14:M20,\"NOT ELUTED\"))/D41","v":0},0.5,{"$f":"IF(OR(calculation2!M14=\"NOT ELUTED\",calculation2!M15=\"NOT ELUTED\",calculation2!M16=\"NOT ELUTED\",calculation2!M17=\"NOT ELUTED\",calculation2!M18=\"NOT ELUTED\",calculation2!M19=\"NOT ELUTED\",calculation2!M20=\"NOT ELUTED\"),\"\",IF(MAX(calculation2!V14:V20)>100,E42/2))","v":false},{"$f":"IF(OR(calculation2!M14=\"NOT ELUTED\",calculation2!M15=\"NOT ELUTED\",calculation2!M16=\"NOT ELUTED\",calculation2!M17=\"NOT ELUTED\",calculation2!M18=\"NOT ELUTED\",calculation2!M19=\"NOT ELUTED\",calculation2!M20=\"NOT ELUTED\"),\"\",IF(MAX(calculation2!V14:V20)>500,0))","v":false},{"$f":"IF(OR(calculation2!M14=\"NOT ELUTED\",calculation2!M15=\"NOT ELUTED\",calculation2!M16=\"NOT ELUTED\",calculation2!M17=\"NOT ELUTED\",calculation2!M18=\"NOT ELUTED\",calculation2!M19=\"NOT ELUTED\",calculation2!M20=\"NOT ELUTED\"),\"\",IF(D42=0,E42,IF(MAX(calculation2!V14:V20)>100,E42/2,0)))","v":0.5},{"$f":"IF(OR(calculation2!M14=\"NOT ELUTED\",calculation2!M15=\"NOT ELUTED\",calculation2!M16=\"NOT ELUTED\",calculation2!M17=\"NOT ELUTED\",calculation2!M18=\"NOT ELUTED\",calculation2!M19=\"NOT ELUTED\",calculation2!M20=\"NOT ELUTED\"),\"\",IF(SUM(calculation2!V14:V20)<2,0.15))","v":false},{"$f":"MIN(F42:I42)","v":0.5},{"$f":"IF(E42=H42,\"\",\"Not eluted compounds\")","v":""}]
[null,"% composés entre 1<k<10",null,{"$f":"IF(H42=0,0,((D41)-((COUNTIFS(calculation2!V14:V20,\"<1\")+COUNTIFS(calculation2!V14:V20,\">10\"))))/(D41))","v":0.6},0.2,null,null,null,null,{"$f":"D43*E43","v":0.12},{"$f":"IF(E43=J43,\"\",\"retention outside 1<k<10\")","v":"retention outside 1<k<10"}]
[null,"nb Rs<1.5",null,{"$f":"IF(H42=0,0,COUNTIFS(calculation2!Y14:Y20,\">1.5\")/(D41-1))","v":0},0.2,null,null,null,null,{"$f":"D44*E44","v":0},{"$f":"IF(E44=J44,\"\",\"Resolution below 1.5\")","v":"Resolution below 1.5"}]
[null,"residual efficiency",null,{"$f":"IF(H42=0,0,'HPLC simulator'!AI40/Calculation!H1034)","v":0.49571861878104906},0.1,null,null,null,null,{"$f":"IF(D45>0.7,0.1,0)","v":0},{"$f":"IF(E45=J45,\"\",\"Loss in efficiency > 30%\")","v":"Loss in efficiency > 30%"}]
[]
[]
[]
[null,"Profil de gradient/isocratique sur chromato"]
[null,"graphique"]
[null,"gradient",null,"grad modif",null,"isocratique",null,"final"]
[null,{"$f":"Calculation!C27","v":0},{"$f":"Calculation!C29","v":5},0,5,0,{"$f":"'HPLC simulator'!G38","v":40},{"$f":"IF(calculation2!$E$65=\"gradient\",D52,F52)","v":0},{"$f":"IF(calculation2!$E$65=\"gradient\",E52,G52)","v":40}]
[null,{"$f":"Calculation!C28","v":30},{"$f":"Calculation!C30","v":50},{"$f":"MAX('HPLC simulator'!AB28:AD34)*1.2","v":13.923761417057795},{"$f":"D53*B56","v":20.885642125586692},{"$f":"MAX('HPLC simulator'!AB28:AD34)*1.2","v":13.923761417057795},{"$f":"'HPLC simulator'!G38","v":40},{"$f":"IF(calculation2!$E$65=\"gradient\",D53,F53)","v":13.923761417057795},{"$f":"IF(calculation2!$E$65=\"gradient\",E53,G53)","v":40}]
[]
[null,"pente du gradient"]
[null,{"$f":"(C53-C52)/B53","v":1.5},"%/min"]
[]
[]
[]
[]
[null,null,null,"Flow rate",{"$f":"'HPLC simulator'!O37","v":1},null,null,null,null,"Acetonitrile"]
[null,null,null,"pH",{"$f":"'HPLC simulator'!I7","v":7},null,null,null,null,"Methanol"]
[null,null,null,"Organic solvent",{"$f":"'HPLC simulator'!Q7","v":"Acetonitrile"}]
[null,null,null,"Dwell volume",{"$f":"'HPLC simulator'!P40","v":1500},null,null,null,null,"Isocratic"]
[null,null,null,"Isocratic/gradient",{"$f":"'HPLC simulator'!F37","v":"Isocratic"},null,null,null,null,"Gradient"]
[null,null,null,"UV cell volume",{"$f":"'HPLC simulator'!I13","v":13}]
[null,null,null,"Wavelength",{"$f":"'HPLC simulator'!I14","v":220},null,null,null,null,"C18"]
[null,null,null,"Time constant",{"$f":"'HPLC simulator'!I15","v":1000},null,null,null,null,"Phenyl"]
[null,null,null,"Acquisition rate",{"$f":"'HPLC simulator'!I16","v":2},null,null,null,null,"C4"]
[null,null,null,"Lcol",{"$f":"'HPLC simulator'!H20","v":150}]
[null,null,null,"dc col",{"$f":"'HPLC simulator'!H21","v":4.5999999999999996},null,null,null,null,"Mix 1 - parabens",null,null,null,null,null,null,null,{"$f":"IF($E$80=\"Mix 1 - parabens\",1,0)","v":1}]
[null,null,null,"dp col",{"$f":"'HPLC simulator'!H22","v":5},null,null,null,null,"Mix 2 - acids (NAIS)",null,null,null,null,null,null,null,{"$f":"IF($E$80=\"Mix 2 - acids (NAIS)\",2,0)","v":0}]
[null,null,null,"Chemistry",{"$f":"'HPLC simulator'!H23","v":"C18"},null,null,null,null,"Mix 3 - lidocaine formulation",null,null,null,null,null,null,null,{"$f":"IF($E$80=\"Mix 3 - lidocaine formulation\",3,0)","v":0}]
[null,null,null,"Temperature",{"$f":"'HPLC simulator'!O20","v":30},null,null,null,null,"Mix 4 - cannabinoïds",null,null,null,null,null,null,null,{"$f":"IF($E$80=\"Mix 4 - cannabinoïds\",4,0)","v":0}]
[null,null,null,"Ltube column inlet",{"$f":"'HPLC simulator'!V32","v":50},null,null,null,null,"Mix 5 - salbutamol and impurities",null,null,null,null,null,null,null,{"$f":"IF($E$80=\"Mix 5 - salbutamol and impurities\",5,0)","v":0}]
[null,null,null,"dtube column inlet",{"$f":"'HPLC simulator'!V33","v":250},null,null,null,null,"Mix 6 - Liposoluble vitamins",null,null,null,null,null,null,null,{"$f":"IF($E$80=\"Mix 6 - liposoluble vitamins\",6,0)","v":0}]
[null,null,null,"Ltube column outlet",{"$f":"'HPLC simulator'!V28","v":50},null,null,null,null,"Mix 7 - doping agents",null,null,null,null,null,null,null,{"$f":"IF($E$80=\"Mix 7 - doping agents\",7,0)","v":0}]
[null,null,null,"dtube column outlet",{"$f":"'HPLC simulator'!V29","v":250},null,null,null,null,null,null,null,null,null,"N° MIX",null,null,{"$f":"MAX(R71:R77)","v":1}]
[null,null,null,"Vinj",{"$f":"'HPLC simulator'!E33","v":20},null,null,null,null,200]
[null,null,null,"Melange",{"$f":"'HPLC simulator'!K29","v":"Mix 1 - parabens"},null,null,null,null,210]
[null,null,null,"%solvant",{"$f":"'HPLC simulator'!G38","v":40},null,null,null,null,220]
[null,null,null,"gradient time",{"$f":"'HPLC simulator'!F41","v":30},null,null,null,null,230]
[null,null,null,"%Bini",{"$f":"'HPLC simulator'!J40","v":5},null,null,null,null,240]
[null,null,null,"%Bfin",{"$f":"'HPLC simulator'!J41","v":50},null,null,null,null,250]
[null,null,null,"concentration",{"$f":"'HPLC simulator'!E34","v":0.1},null,null,null,null,260]
[null,null,null,null,{"$f":"'HPLC simulator'!BC6","v":"Uracil"},null,null,null,null,270]
[null,null,null,null,null,null,null,null,null,280]
[null,null,null,null,null,null,null,null,null,290]
[null,null,null,null,null,null,null,null,null,300]
[null,null,null,null,null,null,null,null,null,310]
[null,null,null,null,null,null,null,null,null,320]
[null,null,null,null,null,null,null,null,null,330]
[null,null,null,null,null,null,null,null,null,340]
[null,null,null,null,null,null,null,null,null,350]
[]
[null,null,null,null,null,null,null,null,null,65]
[null,null,null,null,null,null,null,null,null,100]
[null,null,null,null,null,null,null,null,null,125]
[null,null,null,null,null,null,null,null,null,250]
[null,null,null,null,null,null,null,null,null,500]
[]
[null,null,null,null,null,null,null,null,null,2.7]
[null,null,null,null,null,null,null,null,null,4.5]
[null,null,null,null,null,null,null,null,null,7]
[null,null,null,null,null,null,null,null,null,9]

{"sheet":"1","index":5,"n_rows":165,"n_cols":99,"rows_kept":165,"cut":false,"hidden":false,"merged":[[4,3,4,27],[101,0,104,0],[105,0,108,0],[109,0,112,0],[113,0,116,0],[105,1,106,1],[107,1,108,1],[109,1,110,1],[111,1,112,1],[113,1,114,1],[115,1,116,1],[99,1,99,18],[5,27,5,50],[6,27,6,38],[6,39,6,50],[7,27,7,28],[7,29,7,30],[7,31,7,32],[7,33,7,34],[7,35,7,36],[7,43,7,44],[7,45,7,46],[7,47,7,48],[7,49,7,50],[5,75,5,98],[6,75,6,86],[6,87,6,98],[7,75,7,76],[7,77,7,78],[7,79,7,80],[7,81,7,82],[7,83,7,84],[7,85,7,86],[7,87,7,88],[7,89,7,90],[7,91,7,92],[7,93,7,94],[7,95,7,96],[7,97,7,98],[5,51,5,74],[6,51,6,62],[6,63,6,74],[7,51,7,52],[7,53,7,54],[7,55,7,56],[7,57,7,58],[7,59,7,60],[7,61,7,62],[7,63,7,64],[7,65,7,66],[7,67,7,68],[7,69,7,70],[7,71,7,72],[7,73,7,74],[5,3,5,26],[6,3,6,14],[6,15,6,26],[7,3,7,4],[7,5,7,6],[7,7,7,8],[7,9,7,10],[7,11,7,12],[7,13,7,14],[7,15,7,16],[7,17,7,18],[7,19,7,20],[7,21,7,22],[7,23,7,24],[7,25,7,26],[15,1,20,1],[21,1,24,1],[25,1,30,1],[31,1,38,1],[39,1,43,1],[44,1,50,1],[7,37,7,38],[7,39,7,40],[7,41,7,42],[10,1,14,1],[153,1,157,1],[158,1,164,1],[53,1,53,18],[120,3,120,5],[124,1,128,1],[129,1,134,1],[135,1,138,1],[139,1,144,1],[145,1,152,1],[85,1,89,1],[90,1,96,1],[101,1,102,1],[103,1,104,1],[54,3,54,18],[56,1,60,1],[61,1,66,1],[67,1,70,1],[71,1,76,1],[77,1,84,1],[120,6,120,8],[120,9,120,11],[120,12,120,14],[119,3,119,14]]}
[]
[null,"pH 2.7 - 0.1% formic acid"]
[null,"pH 4.5 - 20 mM acetate buffer"]
[null,"pH 7.0 - 20 mM phosphate buffer"]
[null,"pH 9.0 - 20 mM ammonia buffer",null,"Retention data"]
[null,null,null,"pH 2.7 - 0.1% formic acid",null,null,null,null,null,null,null,null,null,null,null,null,null,null,null,null,null,null,null,null,null,null,null,"pH 4.5 - 20 mM  acetate buffer",null,null,null,null,null,null,null,null,null,null,null,null,null,null,null,null,null,null,null,null,null,null,null,"pH 7.0 - 20 mM phosphate buffer",null,null,null,null,null,null,null,null,null,null,null,null,null,null,null,null,null,null,null,null,null,null,null,"pH 9.0 - 20 mM ammonia buffer"]
[null,null,null,"Methanol/eau pH 7.0",null,null,null,null,null,null,null,null,null,null,null,"ACN/eau pH 7.0",null,null,null,null,null,null,null,null,null,null,null,"Methanol/eau pH 7.0",null,null,null,null,null,null,null,null,null,null,null,"ACN/eau pH 7.0",null,null,null,null,null,null,null,null,null,null,null,"Methanol/eau pH 7.0",null,null,null,null,null,null,null,null,null,null,null,"ACN/eau pH 7.0",null,null,null,null,null,null,null,null,null,null,null,"Methanol/eau pH 7.0",null,null,null,null,null,null,null,null,null,null,null,"ACN/eau pH 7.0"]
[null,null,null,"C18",null,"C18",null,"Phenyl",null,"Phenyl",null,"C4",null,"C4",null,"C18",null,"C18",null,"Phenyl",null,"Phenyl",null,"C4",null,"C4",null,"C18",null,"C18",null,"Phenyl",null,"Phenyl",null,"C4",null,"C4",null,"C18",null,"C18",null,"Phenyl",null,"Phenyl",null,"C4",null,"C4",null,"C18",null,"C18",null,"Phenyl",null,"Phenyl",null,"C4",null,"C4",null,"C18",null,"C18",null,"Phenyl",null,"Phenyl",null,"C4",null,"C4",null,"C18",null,"C18",null,"Phenyl",null,"Phenyl",null,"C4",null,"C4",null,"C18",null,"C18",null,"Phenyl",null,"Phenyl",null,"C4",null,"C4"]
[null,null,null,"30°C","60°C","30°C","60°C","30°C","60°C","30°C","60°C","30°C","60°C","30°C","60°C","30°C","60°C","30°C","60°C","30°C","60°C","30°C","60°C","30°C","60°C","30°C","60°C","30°C","60°C","30°C","60°C","30°C","60°C","30°C","60°C","30°C","60°C","30°C","60°C","30°C","60°C","30°C","60°C","30°C","60°C","30°C","60°C","30°C","60°C","30°C","60°C","30°C","60°C","30°C","60°C","30°C","60°C","30°C","60°C","30°C","60°C","30°C","60°C","30°C","60°C","30°C","60°C","30°C","60°C","30°C","60°C","30°C","60°C","30°C","60°C","30°C","60°C","30°C","60°C","30°C","60°C","30°C","60°C","30°C","60°C","30°C","60°C","30°C","60°C","30°C","60°C","30°C","60°C","30°C","60°C","30°C","60°C","30°C","60°C"]
[null,null,null,"log kw","log kw","S","S","log kw","log kw","S","S","log kw","log kw","S","S","log kw","log kw","S","S","log kw","log kw","S","S","log kw","log kw","S","S","log kw","log kw","S","S","log kw","log kw","S","S","log kw","log kw","S","S","log kw","log kw","S","S","log kw","log kw","S","S","log kw","log kw","S","S","log kw","log kw","S","S","log kw","log kw","S","S","log kw","log kw","S","S","log kw","log kw","S","S","log kw","log kw","S","S","log kw","log kw","S","S","log kw","log kw","S","S","log kw","log kw","S","S","log kw","log kw","S","S","log kw","log kw","S","S","log kw","log kw","S","S","log kw","log kw","S","S"]
[null,"Mix 1","Uracil",0.192,4.8099999999999997E-2,9.2200000000000006,9.17,0.13600000000000001,-9.2899999999999996E-3,6.96,5.81,0.19500000000000001,-5.1000000000000004E-3,7.88,5.27,-0.36,0.47399999999999998,5.26,5.26,0.222,0.14399999999999999,11.8,12,0.31,0.20100000000000001,13.2,12.2,9.5600000000000004E-2,-7.4399999999999994E-2,7.28,6.72,4.4999999999999997E-3,-5.28E-2,4.33,4.9400000000000004,0.13900000000000001,9.1999999999999998E-2,6.5,7.21,-0.36,0.23400000000000001,5.26,5.26,0.24199999999999999,8.4900000000000003E-2,12.6,9.49,0.29499999999999998,0.23200000000000001,13.3,12.9,2.93E-2,-2.4E-2,5.96,7.73,3.73E-2,-0.11,4.9800000000000004,3.8,7.8100000000000003E-2,6.3299999999999995E-2,5.54,6.64,-0.36,0.28799999999999998,5.26,5.26,6.5299999999999997E-2,-7.7899999999999997E-2,8.7100000000000009,7.53,0.39700000000000002,0.26600000000000001,15,13.5,6.8900000000000005E-4,-8.6800000000000002E-2,6.69,7.35,-0.1,-5.3400000000000003E-2,3.37,5.61,3.27E-2,6.43E-3,5.44,6.13,7.4399999999999994E-2,4.8000000000000001E-2,12.7,13.4,-0.184,-0.113,4.5199999999999996,6.82,7.8899999999999998E-2,2.6800000000000001E-3,9.7899999999999991,8.69]
[null,null,"Methylparaben",2.06,1.92,4.25,4.84,1.91,1.67,3.91,4.16,2.02,1.81,4.2300000000000004,4.4800000000000004,1.76,1.9,5.4,7.5,1.66,1.6,5.59,6.48,1.7,1.71,5.24,6.36,2.0699999999999998,1.85,4.25,4.38,1.88,1.63,3.74,3.78,2,1.79,4.0599999999999996,4.1500000000000004,1.76,1.75,5.4,6.41,1.59,1.53,5.09,5.83,1.76,1.66,5.5,5.8,2.06,1.92,4.25,4.84,1.91,1.67,3.91,4.16,2.02,1.81,4.2300000000000004,4.4800000000000004,1.76,1.9,5.4,7.5,1.66,1.6,5.59,6.48,1.7,1.71,5.24,6.36,1.52,1.51,3.32,3.72,1.33,1.31,2.7,3.08,1.52,1.48,3.27,3.59,1.44,1.46,5.54,5.94,1.23,1.26,4.88,5.29,1.39,1.41,5.03,5.37]
[null,null,"Ethylparaben",2.67,2.4500000000000002,4.7699999999999996,4.96,2.42,2.15,4.3600000000000003,4.47,2.56,2.33,4.6900000000000004,4.79,2.1,2.2799999999999998,5.17,6.77,2,1.96,5.48,6.21,2.0499999999999998,2.0299999999999998,5.15,5.8,2.61,2.37,4.57,4.59,2.4,2.14,4.24,4.28,2.4900000000000002,2.27,4.43,4.4400000000000004,2.1,2.17,5.17,6.21,1.98,1.91,5.38,5.83,2.13,2.02,5.45,5.59,2.67,2.4500000000000002,4.7699999999999996,4.96,2.42,2.15,4.3600000000000003,4.47,2.56,2.33,4.6900000000000004,4.79,2.1,2.2799999999999998,5.17,6.77,2,1.96,5.48,6.21,2.0499999999999998,2.0299999999999998,5.15,5.8,2.15,2.1,3.87,4.21,1.9,1.86,3.37,3.73,2.11,2.0499999999999998,3.85,4.13,1.85,1.89,5.1100000000000003,5.61,1.62,1.67,4.72,5.3,1.79,1.85,4.82,5.38]
[null,null,"Propylparaben",3.16,3.26,4.95,5.82,2.94,2.66,4.8,4.84,3.1,2.86,5.0999999999999996,5.16,2.4900000000000002,2.64,5.2,6.33,2.33,2.31,5.43,6.02,2.4300000000000002,2.37,5.27,5.62,3.22,2.9,5.03,4.8600000000000003,2.91,2.61,4.66,4.57,3,2.8,4.8,4.8600000000000003,2.4900000000000002,2.58,5.2,6.08,2.31,2.2200000000000002,5.33,5.58,2.4700000000000002,2.37,5.37,5.53,3.16,3.26,4.95,5.82,2.94,2.66,4.8,4.84,3.1,2.86,5.0999999999999996,5.16,2.4900000000000002,2.64,5.2,6.33,2.33,2.31,5.43,6.02,2.4300000000000002,2.37,5.27,5.62,2.79,2.7,4.4000000000000004,4.6399999999999997,2.4900000000000002,2.15,3.99,3.44,2.68,2.59,4.33,4.57,2.31,2.31,5.16,5.51,9.3699999999999992,2.0699999999999998,27.1,5.33,2.2000000000000002,2.2599999999999998,4.9000000000000004,5.41]
[null,null,"Butylparaben",3.73,3.58,5.36,5.63,3.45,3.17,5.19,5.26,3.59,3.33,5.45,5.44,2.72,3.02,4.92,6.24,2.72,2.67,5.68,6.1,2.73,2.76,5.23,5.79,3.76,3.43,5.36,5.19,3.36,3.09,4.96,4.95,3.54,3.24,5.27,5.0999999999999996,2.72,2.84,4.92,5.69,2.6,2.56,5.3,5.66,2.8,2.65,5.41,5.4,3.73,3.58,5.36,5.63,3.45,3.17,5.19,5.26,3.59,3.33,5.45,5.44,2.72,3.02,4.92,6.24,2.72,2.67,5.68,6.1,2.73,2.76,5.23,5.79,3.37,3.26,4.8099999999999996,5.03,3.51,2.94,5.53,4.7300000000000004,3.23,3.13,4.8099999999999996,5.0199999999999996,2.68,2.75,5.15,5.69,2.44,2.4700000000000002,5.1100000000000003,5.55,2.56,2.57,4.9800000000000004,5.3]
[null,"Mix 2","Aspirin",2,1.87,4.53,4.96,1.81,1.59,3.94,3.95,1.96,1.84,4.4400000000000004,4.78,1.78,1.72,6.31,6.95,1.62,1.57,5.86,6.57,1.76,1.62,6.04,6.1,1.37,1.24,4.6900000000000004,5.23,1.07,0.93799999999999994,3.4,3.78,1.31,1.17,4.3899999999999997,4.58,1.41,1.24,9.31,9.49,1.05,0.93400000000000005,6.83,7.27,1.25,1.1499999999999999,7.42,7.85,0.92500000000000004,0.90700000000000003,5.4,7.27,0.66100000000000003,0.51500000000000001,3.91,3.56,0.89200000000000002,0.91700000000000004,4.59,6.88,0.94299999999999995,1.46,11.8,23.6,0.505,0.14599999999999999,5.43,0.223,0.89900000000000002,1.0900000000000001,9.99,15,0.874,0.72,5.88,5.71,0.495,0.64800000000000002,2.59,7.29,0.86899999999999999,0.77900000000000003,5.14,5.55,1.1299999999999999,1.08,16.8,18.100000000000001,0.14599999999999999,9.9400000000000002E-2,0.223,0.57299999999999995,0.94299999999999995,0.80800000000000005,11.8,11]
[null,null,"Salicylic acid",1.86,1.64,3.28,3.41,1.67,1.42,3.03,3.01,1.8,1.54,3.24,3.13,1.68,1.59,4.79,5.49,1.52,1.41,4.6500000000000004,5.27,1.68,1.52,4.87,5.07,1.05,0.84599999999999997,4.0599999999999996,4.51,0.85899999999999999,0.68200000000000005,2.89,3.43,1.02,0.84299999999999997,3.55,3.76,0.72699999999999998,0.97599999999999998,2.75,9.44,0.92600000000000005,0.79900000000000004,6.52,7.71,1.1299999999999999,0.95299999999999996,7.51,7.7,0.95499999999999996,0.79800000000000004,3.78,4.54,0.82599999999999996,0.65500000000000003,3.16,3.7,0.95699999999999996,0.83899999999999997,3.37,4.33,1.1100000000000001,0.90700000000000003,9.26,9.36,0.97499999999999998,0.80100000000000005,8.17,8.67,1.07,1,7.61,9.36,0.89,0.65500000000000003,3.98,3.7,0.69799999999999995,0.64100000000000001,2.59,4.54,0.91200000000000003,0.755,3.54,4.01,1.1399999999999999,0.84,11,9.56,0.73499999999999999,0.93300000000000005,6.13,12.6,1.08,0.84699999999999998,8.76,8]
[null,null,"mefenamic acid",4.79,4.47,5.73,5.63,4.62,4.0199999999999996,5.83,5.28,4.62,4.1399999999999997,5.93,5.54,3.27,3.28,4.8099999999999996,5.18,3.28,3.24,5.44,5.72,3.3,3.18,5.19,5.26,4.93,4.3499999999999996,6.27,5.83,4.29,3.92,5.63,5.54,4.4400000000000004,4.05,5.93,5.73,3.51,3.41,5.82,6.14,3.27,3.22,5.92,6.37,3.32,3.39,5.72,6.38,3.97,3.73,5.83,6.04,3.67,3.32,5.54,5.53,3.84,3.45,5.83,5.63,3.75,3.55,10,10,3.4,3.21,9.44,9.44,3.5,3.27,9.19,8.93,4,3.51,6.15,5.82,3.7,3.32,5.83,5.72,3.77,3.34,5.83,5.53,4.05,3.56,11.8,10.7,3.58,3.15,10.7,9.7100000000000009,3.54,3.33,9.7200000000000006,9.44]
[null,null,"Paracetamol",0.99299999999999999,0.94899999999999995,5.55,8.2100000000000009,0.84599999999999997,0.69399999999999995,4.51,4.99,0.99299999999999999,0.80300000000000005,5.55,5.41,0.875,0.86299999999999999,8.64,11.1,0.69599999999999995,0.64800000000000002,6.11,7.29,0.97599999999999998,0.69099999999999995,9.44,7.09,1.02,0.88900000000000001,5.72,6.86,0.83899999999999997,0.68400000000000005,4.33,4.68,0.97499999999999998,0.84599999999999997,5.14,5.81,1.05,0.80700000000000005,11,9.81,0.77500000000000002,0.64800000000000002,7.12,7.29,0.94599999999999995,0.76800000000000002,8.7899999999999991,7.89,1.06,0.95299999999999996,5.81,7.7,0.86299999999999999,0.66700000000000004,4.38,4.1500000000000004,1.01,0.84599999999999997,5.51,5.81,1.1599999999999999,1.01,12.5,13.3,0.875,0.64800000000000002,8.64,7.29,0.94599999999999995,0.998,8.7899999999999991,12.1,1.04,0.876,6.54,7.22,0.86,0.69399999999999995,4.91,4.99,0.97499999999999998,0.81399999999999995,5.59,5.71,0.94399999999999995,0.93300000000000005,10.199999999999999,12.6,0.74,0.64800000000000002,7.22,7.29,0.91300000000000003,0.69099999999999995,8.76,7.09]
[null,null,"Ibuprofen",4.45,4.16,5.63,5.54,4.08,3.74,5.45,5.27,4.18,3.94,5.54,5.45,3.16,3.13,5.0199999999999996,5.26,3.14,3.08,5.71,5.91,3.16,3.12,5.26,5.43,4.57,4.03,6.04,5.54,3.94,3.63,5.45,5.36,4.18,3.77,5.73,5.36,3.25,3.21,5.53,5.82,3.02,2.96,5.71,6.01,3.08,2.98,5.34,5.43,3.56,3.37,5.27,5.44,3.17,2.91,5.0999999999999996,5.17,3.33,3.12,5.03,5.0999999999999996,3.34,3.14,10.3,10,3.36,2.81,11.4,9.67,3.08,2.8,9.17,8.44,3.51,3.1,5.44,5.0999999999999996,2.99,2.79,4.9400000000000004,5.08,3.25,2.99,5.03,4.9400000000000004,3.61,3.13,12.2,10.6,3.06,2.79,11,10.3,3.14,2.86,10,9.15]
[null,null,"Ketoprofen",3.77,3.47,5.73,5.63,4.79,3.29,7.37,5.18,3.66,3.34,5.73,5.53,2.93,2.84,6.01,6.23,2.82,2.77,6,6.34,2.89,2.78,6.01,6.11,3.74,3.33,6.15,5.82,3.4,3.1,5.35,5.34,3.55,3.09,5.93,5.43,3.05,2.85,7.19,7.17,2.71,2.58,6.46,6.7,2.79,2.66,6.47,6.58,3.1,2.99,5.71,6.24,2.85,2.62,5.25,5.48,2.92,2.71,5.42,5.59,3.3,1.6,13.2,5.62,2.91,2.63,11.7,11.3,2.88,2.58,11,10.199999999999999,1.63,2.82,2.2000000000000002,6.11,2.68,2.52,5.07,5.47,2.91,2.68,5.6,5.68,3.65,2.96,15.6,13.1,2.74,2.56,11.7,11.7,2.84,2.69,11.3,11.3]
[null,"Mix 3","Lidocaine",1.58,1.59,4.74,5.82,1.63,1.5,4.43,4.71,1.55,1.51,4.6900000000000004,5.35,1.1399999999999999,1.68,4.03,9.76,1.53,1.48,7.31,7.6,1.69,1.53,8.4499999999999993,7.9,1.76,1.73,4.6399999999999997,4.84,1.63,1.56,4,4.2,1.7,1.66,4.59,4.76,1.85,1.7,8.68,7.82,1.62,1.46,7.31,6.5,1.71,1.62,7.64,7.31,3.4,3.45,4.68,4.96,3.05,3.02,4.2,4.3600000000000003,3.11,3.23,4.42,4.8099999999999996,2.4500000000000002,2.63,4.4800000000000004,4.84,2.1,2.3199999999999998,4.2699999999999996,4.71,2.2599999999999998,2.48,4.21,4.6100000000000003,3.65,3.45,5.1100000000000003,5.03,3.43,3.21,4.8099999999999996,4.74,3.47,3.33,5.03,5.03,2.82,2.8,5.08,5.24,2.63,2.56,5.22,5.21,2.75,2.66,5.08,4.99]
[null,null,"2,6-dimethylaniline",1.25,1.25,3.42,3.59,1.1100000000000001,1.1200000000000001,2.91,3.32,1.24,1.17,3.91,3.51,1.01,1.1499999999999999,3.46,4.51,1.06,1.02,5.34,4.53,1.1599999999999999,1.1200000000000001,5.43,4.68,1.95,1.84,3.36,3.45,1.82,1.68,3.15,3.21,1.85,1.75,3.31,3.39,1.87,1.79,4.1500000000000004,4.33,1.68,1.58,3.99,4.12,1.77,1.67,3.96,3.98,2.04,1.9,3.48,3.58,2.16,1.74,4.2300000000000004,3.34,1.95,1.81,3.44,3.52,2.12,1.8,4.9400000000000004,4.28,1.78,1.62,4.3899999999999997,4.16,1.84,1.72,4.13,4.1500000000000004,2.04,1.87,3.6,3.6,1.88,1.71,3.26,3.24,1.96,1.82,3.53,3.57,1.9,1.79,4.22,4.33,1.73,1.62,4.16,4.2300000000000004,1.85,1.73,4.1900000000000004,4.22]
[null,null,"Methylparaben",2.06,1.92,4.25,4.84,1.91,1.67,3.91,4.16,2.02,1.81,4.2300000000000004,4.4800000000000004,1.76,1.9,5.4,7.5,1.66,1.6,5.59,6.48,1.7,1.71,5.24,6.36,2.0699999999999998,1.85,4.25,4.38,1.88,1.63,3.74,3.78,2,1.79,4.0599999999999996,4.1500000000000004,1.76,1.75,5.4,6.41,1.59,1.53,5.09,5.83,1.76,1.66,5.5,5.8,2.06,1.92,4.25,4.84,1.91,1.67,3.91,4.16,2.02,1.81,4.2300000000000004,4.4800000000000004,1.76,1.9,5.4,7.5,1.66,1.6,5.59,6.48,1.7,1.71,5.24,6.36,1.52,1.51,3.32,3.72,1.33,1.31,2.7,3.08,1.52,1.48,3.27,3.59,1.44,1.46,5.54,5.94,1.23,1.26,4.88,5.29,1.39,1.41,5.03,5.37]
[null,null,"Propylparaben",3.16,3.26,4.95,5.82,2.94,2.66,4.8,4.84,3.1,2.86,5.0999999999999996,5.16,2.4900000000000002,2.64,5.2,6.33,2.33,2.31,5.43,6.02,2.4300000000000002,2.37,5.27,5.62,3.22,2.9,5.03,4.8600000000000003,2.91,2.61,4.66,4.57,3,2.8,4.8,4.8600000000000003,2.4900000000000002,2.58,5.2,6.08,2.31,2.2200000000000002,5.33,5.58,2.4700000000000002,2.37,5.37,5.53,3.16,3.26,4.95,5.82,2.94,2.66,4.8,4.84,3.1,2.86,5.0999999999999996,5.16,2.4900000000000002,2.64,5.2,6.33,2.33,2.31,5.43,6.02,2.4300000000000002,2.37,5.27,5.62,2.79,2.7,4.4000000000000004,4.6399999999999997,2.4900000000000002,2.15,3.99,3.44,2.68,2.59,4.33,4.57,2.31,2.31,5.16,5.51,9.3699999999999992,2.0699999999999998,27.1,5.33,2.2000000000000002,2.2599999999999998,4.9000000000000004,5.41]
[null,"Mix 4","THC",6.48,5.92,7.06,6.64,5.87,5.35,6.78,6.39,5.86,5.55,6.78,6.64,3.94,3.91,4.2699999999999996,4.5,3.86,3.9,5.04,5.36,3.79,3.8,4.49,4.75,6.62,6.14,7.22,6.92,5.87,5.35,6.78,6.39,6.3,5.75,7.37,6.92,3.98,3.91,4.32,4.5,3.81,3.84,4.96,5.28,3.83,3.8,4.5599999999999996,4.75,6.29,6.16,6.78,6.92,6,5.44,6.92,6.51,6.08,5.76,7.06,6.92,3.94,3.91,4.2699999999999996,4.5,3.9,3.79,5.1100000000000003,5.19,3.86,3.8,4.62,4.75,6.48,6.01,7.06,6.78,5.98,5.36,6.92,6.39,6.19,5.55,7.22,6.64,3.92,3.97,4.2699999999999996,4.62,3.81,3.8,4.96,5.19,3.83,3.84,4.5599999999999996,4.82]
[null,null,"CBD",6.49,5.7,7.71,6.92,5.83,5.49,7.22,7.06,5.73,5.34,7.06,6.78,3.95,3.93,4.8899999999999997,5.1100000000000003,3.88,3.81,5.54,5.63,3.93,3.85,5.19,5.28,6.37,5.92,7.54,7.22,5.62,5.3,6.92,6.78,5.94,5.73,7.37,7.37,3.98,3.98,4.96,5.19,3.88,3.85,5.54,5.73,3.88,3.8,5.1100000000000003,5.19,6.28,5.93,7.37,7.22,5.74,5.22,7.06,6.64,5.74,5.54,7.06,7.06,3.98,3.98,4.96,5.19,3.98,3.91,5.73,5.83,3.92,3.9,5.19,5.36,6.22,5.78,7.37,7.06,5.73,5.14,7.06,6.51,5.84,5.34,7.22,6.78,4.01,3.96,5.04,5.19,3.98,3.81,5.73,5.63,3.88,3.9,5.1100000000000003,5.36]
[null,null,"CBN",6.6,5.69,7.37,6.51,5.87,5.34,6.92,6.51,6.59,5.73,7.9,7.06,3.93,3.94,4.4400000000000004,4.75,3.88,3.83,5.19,5.36,4.1500000000000004,4.0599999999999996,5.63,5.73,6.36,5.91,7.06,6.78,5.76,5.25,6.78,6.39,6.28,5.52,7.54,6.78,3.92,3.73,4.4400000000000004,4.43,3.88,3.87,5.19,5.45,3.84,3.86,4.75,5.04,6.39,6.14,7.06,7.06,5.88,5.34,6.92,6.51,6.06,5.43,7.22,6.64,3.92,3.99,4.4400000000000004,4.82,3.88,3.87,5.19,5.45,3.88,3.82,4.82,4.96,6.46,5.98,7.22,6.92,5.87,5.26,6.92,6.39,6.17,5.52,7.37,6.78,3.9,3.92,4.4400000000000004,4.75,3.88,3.83,5.19,5.36,3.84,3.86,4.75,5.04]
[null,null,"THC-A",6.64,6.4,6.78,6.78,6.36,5.9,7.06,6.78,6.6,6.24,7.37,7.22,4,4,4.0599999999999996,4.38,3.9,3.89,4.96,5.19,3.89,3.94,4.5,4.82,7.43,6.76,8.5,8.09,6.59,5.75,8.09,7.37,5.55,5.67,6.64,7.22,4.72,4.7,6.39,6.92,4.34,4.32,6.92,7.37,4.38,4.29,6.51,6.78,7.32,6.49,8.9499999999999993,8.2899999999999991,6.13,5.54,7.9,7.54,6.23,5.59,7.9,7.37,4.18,4.26,6.91,7.37,7.23,4.2300000000000004,14.3,8.2899999999999991,4.04,3.84,6.91,6.64,7,4.93,8.7200000000000006,6.15,6.02,5.58,7.9,7.71,6.03,5.43,7.71,7.22,4.2,4.21,7.37,7.54,4.37,4.13,8.7200000000000006,8.2899999999999991,4.1500000000000004,3.96,7.37,7.06]
[null,null,"CBD-A",6.61,6,7.71,7.22,4.55,5.85,5.28,7.37,6.16,5.7,7.54,7.22,4.05,3.98,5.2,5.36,4.18,4.09,6.15,6.27,3.92,3.94,5.36,5.63,6.78,6.15,8.5,8.09,6.26,5.32,8.2899999999999991,7.37,5.28,5.48,6.78,7.54,4.7,4.5999999999999996,7.37,7.71,4.24,4.24,7.37,7.89,4.3,4.2300000000000004,7.06,7.37,6.11,5.67,8.2899999999999991,8.09,5.43,5.21,7.71,7.9,5.33,5.17,7.37,7.54,4.3600000000000003,4.4400000000000004,8.5,8.9499999999999993,4.21,4.0999999999999996,8.9499999999999993,8.9499999999999993,4.16,3.85,8.09,7.54,5.96,5.54,8.2899999999999991,8.09,5.42,4.93,7.9,7.54,5.47,4.92,7.71,7.21,4.7,4.4000000000000004,9.73,9.1999999999999993,4.37,3.81,9.73,8.49,4.22,4.16,8.5,8.5]
[null,null,"CBG-A",7.23,6.37,8.2899999999999991,7.54,10,5.43,12.7,6.92,5.95,5.83,7.06,7.22,4.07,4.2,5.12,5.63,3.99,3.91,5.93,6.04,3.88,3.91,4.82,5.1100000000000003,7.26,6.41,8.9499999999999993,8.2899999999999991,5.97,5.73,7.71,7.9,5.59,5.82,7.06,7.9,4.9000000000000004,4.7,7.54,7.71,4.51,4.42,7.71,8.09,4.58,4.16,7.37,7.06,6.25,6.03,8.2899999999999991,8.5,5.29,5.5,7.37,8.2899999999999991,5.89,5.46,8.09,7.9,4.5,4.46,8.5,8.7200000000000006,4.34,4.1100000000000003,8.9499999999999993,8.7200000000000006,4.26,4,8.09,7.71,6.53,5.77,8.9499999999999993,8.2899999999999991,5.75,5.21,8.2899999999999991,7.9,5.82,5.29,8.09,7.71,4.7300000000000004,4.53,9.4600000000000009,9.1999999999999993,4.6100000000000003,4.29,10,9.4600000000000009,4.33,4.08,8.5,8.08]
[null,"Mix 5","Salbutamol",1.35,1.29,9.3699999999999992,11.7,1.35,0.82399999999999995,9.3699999999999992,5.25,1.26,0.69699999999999995,8.6999999999999993,4,1.46,1.69,19.8,27.2,1.1000000000000001,0.93300000000000005,13.4,12.6,1.17,0.93300000000000005,14.9,12.6,1.51,1.37,9.06,10.1,1.1100000000000001,1,5.77,6.71,1.36,1.23,8.1,8.5500000000000007,1.57,1.46,19,19.8,1.27,1.06,14.8,13.5,1.28,1.19,14.2,14.5,1.46,1.3,8.66,8.59,1.1599999999999999,0.94599999999999995,6.66,5.9,1.36,1.19,8.33,7.84,1.8,1.35,23.1,17.7,1.07,1.1399999999999999,12.1,15.1,1.5,1.1000000000000001,18.399999999999999,13.4,1.76,1.68,6.7,7.59,1.37,1.25,5.08,5.38,1.6,1.53,6.21,6.97,1.93,1.76,17,16.5,1.3,1.21,10.9,10.7,1.56,1.41,13.1,12.4]
[null,null,"Impurity B",1.31,1.27,7.92,9.98,1.29,0.93600000000000005,7.01,5.18,1.29,1.1599999999999999,7.82,8.42,1.55,1.55,17.899999999999999,20.9,1.06,0.875,9.86,8.64,1.28,0.94399999999999995,13.6,10.199999999999999,1.46,1.33,7.75,8.4700000000000006,1.21,1.07,5.49,6.03,1.42,1.26,7.63,7.71,1.54,1.55,15.5,17.899999999999999,1.25,1.07,11.4,10.8,1.29,1.18,11.7,11.8,1.53,1.32,8.1199999999999992,7.53,1.18,0.98399999999999999,5.51,4.93,1.36,1.21,7.24,6.89,1.61,1.4,16.600000000000001,15.2,1.24,1.1100000000000001,11.8,11.6,1.43,1.23,14.2,12.7,1.81,1.65,6.1,6.28,1.46,1.3,4.54,4.62,1.66,1.57,5.59,6.16,1.82,1.67,12.8,12.4,1.41,1.37,9.31,10.1,1.64,1.49,11,10.6]
[null,null,"Impurity D",1.74,1.68,6.68,8,1.78,1.38,5.61,4.55,1.65,1.6,6.28,7.46,1.88,1.72,12.9,13.1,1.63,1.52,9.66,9.99,1.72,1.49,11.2,10.6,1.87,1.77,6.53,7.36,1.65,1.51,4.5999999999999996,5.16,1.79,1.66,6.32,6.73,1.95,1.85,12.1,12.9,1.67,1.51,9.4499999999999993,9.35,2.08,1.66,13.2,10.7,1.82,1.65,6.35,6.02,1.62,1.39,5.24,4.91,1.71,1.54,6.36,5.98,1.92,1.7,12.5,11.6,1.62,1.43,10.3,10,1.66,1.55,10.7,10.8,1.62,1.58,5.86,5.47,1.28,1.27,4.47,4.37,1.52,1.49,5.58,5.33,1.67,1.62,13.5,11.4,1.19,1.19,9.83,8.61,1.44,1.46,11.2,10.1]
[null,null,"Impurity G",2.2200000000000002,2.17,7.19,8.27,2.4500000000000002,1.92,6.54,5.33,2.1,2.02,6.83,7.59,2.29,2.0299999999999998,11.5,11,2.04,1.85,8.6300000000000008,8.23,1.98,1.82,9.6,9.41,2.31,2.14,6.78,6.85,2.29,2.0699999999999998,5.7,5.72,2.2000000000000002,2.0699999999999998,6.6,6.82,2.25,2.1,10.1,10,2.0099999999999998,1.9,7.96,8.06,1.99,1.86,8.58,8.4600000000000009,2.77,2.98,3.88,4.3600000000000003,2.38,2.4900000000000002,3.39,3.72,2.39,2.57,3.66,4,2.2599999999999998,2.38,5.23,5.0199999999999996,1.99,2.08,5.29,4.92,2.0699999999999998,2.16,5.16,4.8099999999999996,3.04,3.01,4.3600000000000003,4.4800000000000004,2.72,2.64,3.97,4.01,2.79,2.74,4.3499999999999996,4.4000000000000004,2.44,2.4900000000000002,5.36,5.29,2.2000000000000002,2.2000000000000002,5.3,5.05,2.2999999999999998,2.36,5.24,5.17]
[null,null,"Impurity F",3.25,3.31,12.7,15.6,3.6,2.2799999999999998,11.8,8.11,3.03,2.99,12.2,14.3,4.16,3.46,32.299999999999997,29.3,2.81,2.16,19.100000000000001,15.1,3.25,3.22,24.9,26.9,3.43,3.3,11.8,13.2,2.79,2.54,8.0299999999999994,8.6199999999999992,3.03,2.93,10.6,11.7,3.71,3.43,25,25,3.03,2.66,19.2,18,2.36,2.74,14.6,19.100000000000001,2.8,2.6,7.02,6.44,2.67,2.2400000000000002,7,5.68,2.72,2.44,8.43,7.26,2.74,2.5299999999999998,13.6,12.1,2.65,2.31,16.2,14,3.26,2.65,21.7,17.100000000000001,3.8,3.7,8.08,8.7100000000000009,3.22,3.06,6.25,6.62,3.6,2.64,8.08,5.88,3.38,3.18,14.3,13.7,2.52,2.33,9.6199999999999992,9.02,2.95,2.99,12.6,13.1]
[]
[null,null,{"$f":"\"\"","v":""}]
[null,null,{"$f":"\"\"","v":""}]
[null,"Mix 6","Retinyl acetate( all trans)",5.89,6,5.72,6.05,6.15,5.73,6.55,6.29,6.23,5.94,6.69,6.55,4.18,4.22,3.89,4.2,3.81,3.84,4.38,4.63,3.92,3.97,4.09,4.38,5.89,6,5.72,6.05,6.15,5.73,6.55,6.29,6.23,5.94,6.69,6.55,4.18,4.22,3.89,4.2,3.81,3.84,4.38,4.63,3.92,3.97,4.09,4.38,5.89,6,5.72,6.05,6.15,5.73,6.55,6.29,6.23,5.94,6.69,6.55,4.18,4.22,3.89,4.2,3.81,3.84,4.38,4.63,3.92,3.97,4.09,4.38,5.89,6,5.72,6.05,6.15,5.73,6.55,6.29,6.23,5.94,6.69,6.55,4.18,4.22,3.89,4.2,3.81,3.84,4.38,4.63,3.92,3.97,4.09,4.38]
[null,null,"Alpha tocopherol",9.6300000000000008,8.5,9.14,8.16,6.93,6.49,6.99,6.69,6.8,7.02,6.84,7.31,8.2100000000000009,6.43,7.37,5.86,4.58,6.05,4.6399999999999997,6.69,5.58,4.58,5.43,4.5,9.6300000000000008,8.5,9.14,8.16,6.93,6.49,6.99,6.69,6.8,7.02,6.84,7.31,8.2100000000000009,6.43,7.37,5.86,4.58,6.05,4.6399999999999997,6.69,5.58,4.58,5.43,4.5,9.6300000000000008,8.5,9.14,8.16,6.93,6.49,6.99,6.69,6.8,7.02,6.84,7.31,8.2100000000000009,6.43,7.37,5.86,4.58,6.05,4.6399999999999997,6.69,5.58,4.58,5.43,4.5,9.6300000000000008,8.5,9.14,8.16,6.93,6.49,6.99,6.69,6.8,7.02,6.84,7.31,8.2100000000000009,6.43,7.37,5.86,4.58,6.05,4.6399999999999997,6.69,5.58,4.58,5.43,4.5]
[null,null,"cholecalciferol (D3)",8.31,6.93,7.88,6.59,6.68,6.24,6.84,6.55,6.42,6.47,6.42,6.69,5.92,4.9000000000000004,5.19,4.3499999999999996,4.03,4.05,4.26,4.5,4.09,4.18,3.8,4.1500000000000004,8.31,6.93,7.88,6.59,6.68,6.24,6.84,6.55,6.42,6.47,6.42,6.69,5.92,4.9000000000000004,5.19,4.3499999999999996,4.03,4.05,4.26,4.5,4.09,4.18,3.8,4.1500000000000004,8.31,6.93,7.88,6.59,6.68,6.24,6.84,6.55,6.42,6.47,6.42,6.69,5.92,4.9000000000000004,5.19,4.3499999999999996,4.03,4.05,4.26,4.5,4.09,4.18,3.8,4.1500000000000004,8.31,6.93,7.88,6.59,6.68,6.24,6.84,6.55,6.42,6.47,6.42,6.69,5.92,4.9000000000000004,5.19,4.3499999999999996,4.03,4.05,4.26,4.5,4.09,4.18,3.8,4.1500000000000004]
[null,null,"Vitamin K1",9.85,10.4,9.14,9.94,6.96,6.16,6.71,6.05,6.94,6.61,6.72,6.55,9.42,7.38,8.4700000000000006,6.72,4.8600000000000003,4.71,4.7699999999999996,4.8499999999999996,6.04,5.03,5.51,4.7300000000000004,9.85,10.4,9.14,9.94,6.96,6.16,6.71,6.05,6.94,6.61,6.72,6.55,9.42,7.38,8.4700000000000006,6.72,4.8600000000000003,4.71,4.7699999999999996,4.8499999999999996,6.04,5.03,5.51,4.7300000000000004,9.85,10.4,9.14,9.94,6.96,6.16,6.71,6.05,6.94,6.61,6.72,6.55,9.42,7.38,8.4700000000000006,6.72,4.8600000000000003,4.71,4.7699999999999996,4.8499999999999996,6.04,5.03,5.51,4.7300000000000004,9.85,10.4,9.14,9.94,6.96,6.16,6.71,6.05,6.94,6.61,6.72,6.55,9.42,7.38,8.4700000000000006,6.72,4.8600000000000003,4.71,4.7699999999999996,4.8499999999999996,6.04,5.03,5.51,4.7300000000000004]
[]
[null,"Mix 7","Acebutolol",2.5099999999999998,2.4300000000000002,6.97,7.78,2.2799999999999998,2.23,5.32,6.11,2.38,2.33,6.8,7.57,2.62,2.33,13.6,12.4,2.17,2.02,10.4,9.93,2.34,2.17,12,11.5,2.67,2.4900000000000002,7,7.28,2.41,2.25,5.63,6.01,2.4500000000000002,2.31,6.54,6.78,2.62,2.36,12.6,11.6,2.25,2.0499999999999998,10.4,9.66,2.25,2.1,10.4,10,2.5,2.33,6.07,5.71,2.41,2.13,5.54,5.0199999999999996,2.37,2.23,6.04,5.79,2.6,2.42,12.5,11.6,2.23,2.0699999999999998,10.4,9.68,2.2799999999999998,2.19,10.8,10.4,3.18,3,6.76,7.03,2.82,2.58,5.6,5.67,2.96,2.75,6.48,6.59,2.95,2.69,11.7,10.9,2.34,2.2000000000000002,8.7899999999999991,8.5,2.5499999999999998,2.46,9.91,9.8800000000000008]
[null,null,"Propranolol",2.88,2.71,5.51,5.88,2.76,2.59,4.5199999999999996,4.83,2.85,2.54,5.8,5.66,3.03,2.72,9.99,9.39,2.64,2.41,7.82,7.42,2.83,2.5,9.14,8.39,3.07,2.79,5.61,5.59,2.9,2.65,4.79,4.91,2.79,2.58,5.24,5.3,2.96,2.67,8.91,8.42,2.68,2.35,7.65,6.93,2.67,2.52,7.83,7.8,2.7,2.5499999999999998,4.0199999999999996,3.73,2.74,2.42,4.18,3.67,2.6,2.37,4.33,3.83,2.73,2.54,7.84,7.13,2.7,2.34,7.83,6.65,2.75,2.36,8.23,6.79,7.76,3.46,13.7,5.82,3.33,3.01,4.95,4.87,3.44,3.17,5.63,5.62,3.1,2.92,7.69,7.5,2.66,2.57,6.21,6.44,2.83,2.65,7.02,6.85]
[null,null,"Atenolol",1.56,1.46,11.2,13.2,1.28,1.1100000000000001,6.63,7.2,1.35,1.37,9.3699999999999992,12.2,1.86,1.8,25.1,27.5,1.4,1.26,16,16,1.27,1.23,15.4,17,1.73,1.54,10.9,11.6,1.39,1.21,6.97,7.48,1.51,1.37,9.35,9.81,2.0699999999999998,1.64,24.8,21.8,1.51,1.27,16,14.8,1.52,1.34,16.899999999999999,16.2,1.63,1.46,9.36,8.92,1.39,1.2,6.97,6.64,1.48,1.31,8.99,8.1300000000000008,1.88,1.87,22.3,23.6,1.39,1.42,14.5,16.8,1.47,1.27,16.5,14.8,2.12,2.06,7.47,8.64,1.81,1.62,5.75,6.1,1.98,1.84,7.22,7.8,2.44,2.36,18.8,19.899999999999999,1.65,1.62,11.5,12.8,1.9,1.8,14.1,14.4]
[null,null,"Hydrochlorothiazide",1.1299999999999999,0.86199999999999999,7.06,7.6,1.26,0.93300000000000005,4.9800000000000004,4.6100000000000003,1.0900000000000001,0.84199999999999997,6.26,6.4,1.26,0.94899999999999995,7.91,8.2100000000000009,1.28,1,6.63,6.71,1.1499999999999999,0.84599999999999997,6.42,5.81,1.1299999999999999,0.94599999999999995,7.06,8.7899999999999991,1.22,0.94,4.63,4.79,1.0900000000000001,0.90700000000000003,6.26,7.27,1.28,0.999,8.0299999999999994,8.68,1.32,1,6.93,6.71,1.1399999999999999,0.88700000000000001,6.19,6.18,1.1299999999999999,0.92,6.66,8.2200000000000006,1.25,0.98399999999999999,4.74,5.34,1.1000000000000001,0.876,6.51,7.22,1.28,0.999,8.0299999999999994,8.68,1.3,1.02,6.71,7.03,1.17,0.91700000000000004,6.53,6.88,0.97699999999999998,0.86,7.64,9.1300000000000008,1.03,0.86899999999999999,4.49,5.14,0.86299999999999999,0.77500000000000002,5.59,7.12,1.04,1.05,7.37,11,1.1299999999999999,0.90100000000000002,6.66,6.52,1.01,0.752,6.34,5.66]
[null,null,"Furosemide",3.07,2.71,6.13,5.99,3.03,2.62,5.43,5.14,2.89,2.56,5.9,5.76,2.79,2.5499999999999998,7.49,7.62,2.58,2.35,6.57,6.65,2.58,2.34,6.7,6.65,2.74,2.37,6.46,6.4,2.64,2.29,5.48,5.51,2.48,2.23,5.75,5.89,2.91,2.59,10.6,10.9,2.58,2.27,8.86,9,2.54,2.29,8.6199999999999992,8.77,2.54,2.2799999999999998,6.19,6.5,2.52,2.23,5.47,5.68,2.42,2.11,5.84,5.73,2.85,2.69,11.7,12.6,2.74,2.4,10.9,10.8,2.66,2.2999999999999998,10.199999999999999,9.82,2.4700000000000002,2.31,6.3,6.92,2.4300000000000002,2.1,5.54,5.53,2.37,2.08,5.93,5.94,2.99,2.74,13.1,13.6,2.57,2.2799999999999998,10.9,10.8,2.62,2.27,10.6,10.1]
[null,null,"Chlorthalidone",2.72,2.39,7.01,6.94,2.57,2.0499999999999998,5.66,4.91,2.5299999999999998,2.31,6.31,6.51,2.4900000000000002,2.27,9.89,10.1,1.95,2.1,6.88,8.66,2.3199999999999998,2.1,8.7799999999999994,8.66,2.72,2.42,6.86,6.95,2.5499999999999998,2.27,5.56,5.7,2.58,2.2999999999999998,6.44,6.37,2.64,2.06,10.6,8.64,2.36,2.1,8.7899999999999991,8.66,2.34,2.11,8.7899999999999991,8.67,2.69,2.4300000000000002,6.72,6.95,2.63,2.2999999999999998,5.77,5.81,2.58,2.35,6.44,6.65,2.69,2.29,10.9,10.1,2.36,2.15,8.7899999999999991,8.93,2.34,2.1,8.7899999999999991,8.66,2.89,2.48,7.67,7.27,2.4900000000000002,2.21,5.46,5.48,2.59,2.2599999999999998,6.57,6.36,2.44,2.38,9.8800000000000008,10.8,2.14,2.0299999999999998,7.85,8.39,2.2000000000000002,2.11,8.2799999999999994,8.91]
[null,null,"Dexamethasone",3.99,3.48,6.39,5.93,3.58,3.22,5.44,5.26,3.69,3.39,5.93,5.82,3.19,3.38,8.48,9.44,2.92,2.76,7.86,7.66,3.01,2.86,7.86,7.67,3.9,3.61,6.15,6.15,3.5,3.22,5.27,5.26,3.7,3.41,5.93,5.82,3.19,3.13,8.48,8.69,2.98,2.72,8.0500000000000007,7.48,2.96,2.82,7.68,7.49,3.86,3.67,6.04,6.26,3.6,3.23,5.45,5.27,3.75,3.44,6.04,5.93,3.25,3.13,8.6999999999999993,8.69,2.98,2.82,8.0500000000000007,7.85,3.01,2.81,7.86,7.49,4.57,3.56,7.54,6.03,3.55,3.27,5.36,5.35,3.7,3.39,5.93,5.82,3.25,3.06,8.6999999999999993,8.4700000000000006,2.98,2.72,8.0500000000000007,7.48,3.01,2.86,7.86,7.67]
[]
[]
[null,"UV signal"]
[null,null,null,"Peak height"]
[null,null,"Wavelength",200,210,220,230,240,250,260,270,280,290,300,310,320,330,340,350]
[null,"Mix 1","Uracil",8.8720350379015794E-2,4.8196819220748699E-2,0,7.6579447051938797E-3,7.9637421775601805E-2,0.15513697682111299,0.18952752315180499,0.12502273839546099,3.3322504423330797E-2,1.3510676656862601E-3,-2.41269328855411E-5,-4.7095990269047998E-5,-4.6066759473940303E-5,-8.0763321464476294E-5,-6.29455548321201E-6,-1.2747849531985899E-5,{"$f":"MAX(D57:S57)","v":0.18952752315180499},260,null,{"$f":"Calculation!DQ8","v":"Uracil"},{"$f":"U57","v":260}]
[null,null,"Methylparaben",0.32609776507771798,0.30096215171035601,0.162500542262737,0.12940623110898999,0.18358011281407799,0.29024274182016302,0.30029246677389598,0.18929719611979301,7.2176089753596698E-2,5.9216544360093997E-3,-3.98411107903488E-4,-3.98411107903488E-4,-3.98411107903488E-4,-3.98411107903488E-4,-3.98411107903488E-4,-3.98411107903488E-4,{"$f":"MAX(D58:S58)","v":0.32609776507771798},200,null,{"$f":"Calculation!DQ9","v":"Methylparaben"},{"$f":"U58","v":200}]
[null,null,"Ethylparaben",0.30150040806983902,0.28924268401257303,0.17877301778069399,0.14737540188810799,0.18831770779700399,0.284558938884449,0.29248415324215998,0.183489098913415,6.9046273361206903E-2,5.2409345986250402E-3,0,0,0,0,0,0,0.30150040806983902,200,null,{"$f":"Calculation!DQ10","v":"Ethylparaben"},200]
[null,null,"Propylparaben",0.25254499793489699,0.264780803237323,0.18921711508623701,0.160471564190724,0.183431277725359,0.26273087906591602,0.267150782395152,0.16601727943806299,6.1276155288128499E-2,4.1875478154825303E-3,0,0,0,0,0,0,0.267150782395152,260,null,{"$f":"Calculation!DQ11","v":"Propylparaben"},260]
[null,null,"Butylparaben",0.157209193687463,0.21149212737221601,0.189121478342587,0.16391823202880601,0.15950709135078101,0.207182971300826,0.205845076279596,0.1264241644895,4.55894923587001E-2,2.6276199596316501E-3,0,0,0,0,0,0,0.21149212737221601,210,null,{"$f":"Calculation!DQ12","v":"Butylparaben"},210]
[null,"Mix 2","Aspirin",0.385439000803735,0.16334239866532199,0.22285090167237301,0.21602568608461101,9.75489430191189E-2,2.27749474871753E-2,1.28006673543347E-2,1.86562243938037E-2,1.9572249384503599E-2,7.58109587782505E-3,0,0,0,0,0,0,0.385439000803735,200,null,{"$f":"Calculation!DQ13","v":"Aspirin"},200]
[null,null,"Salicylic acid",0.42699999999999999,0.18,0.246,0.23899999999999999,0.107,2.5000000000000001E-2,1.2999999999999999E-2,0.02,0.03,0,0,0,0,0,0,0,0.42699999999999999,200,null,{"$f":"Calculation!DQ14","v":"Salicylic acid"},200]
[null,null,"mefenamic acid",5.7014044900821001E-2,0.24251288632597201,0.41051672892291702,0.268512493529386,0.13690447363602101,5.84895553259785E-2,4.9974696118951001E-2,6.0562829086760299E-2,6.73157579246038E-2,5.5147713075206502E-2,2.7918526805713901E-2,1.5428400415314E-2,2.0752403045089601E-2,3.3530622291782997E-2,4.6739291159667497E-2,5.4755796939693499E-2,0.41051672892291702,220,null,{"$f":"Calculation!DQ15","v":"mefenamic acid"},220]
[null,null,"Paracetamol",0.63907077367469001,0.241133504618116,0.20030040547209599,0.26275357875044097,0.32457620743140703,0.316825782073278,0.17997848111713299,8.5671946415177294E-2,5.6923164457213203E-2,3.6728352845453401E-2,8.1707484622774301E-3,2.51317589302668E-5,-3.6755478869237001E-4,-3.67225027618609E-4,-3.7278654811968598E-4,-4.2307989973991802E-4,0.63907077367469001,200,null,{"$f":"Calculation!DQ16","v":"Paracetamol"},200]
[null,null,"Ibuprofen",3.51714456797593E-2,0.14151798693043999,0.27168857871605601,0.18911870156039701,6.7535547088271794E-2,1.41712036629456E-2,3.0750145449088598E-3,1.66783029508327E-3,3.31000010191929E-5,3.31000010191929E-5,3.31000010191929E-5,3.31000010191929E-5,3.31000010191929E-5,3.31000010191929E-5,3.31000010191929E-5,3.31000010191929E-5,0.27168857871605601,220,null,{"$f":"Calculation!DQ17","v":"Ibuprofen"},220]
[null,null,"Ketoprofen",0.24411311904072699,0.30490231708795801,0.268271452989915,0.194507428726133,0.16699378669206499,0.21113489790839499,0.20984944495924601,0.13152731467238199,7.0440423421751205E-2,3.8790426134496701E-2,1.30540405206166E-2,3.2803562131894699E-3,1.4884389680586199E-3,1.37033132442908E-3,9.9130710389401609E-4,9.5207748376963995E-5,0.30490231708795801,210,null,{"$f":"Calculation!DQ18","v":"Ketoprofen"},210]
[null,"Mix 3","Lidocaine",0.29243531862588301,0.219606718261003,0.14667288958498101,8.1319881412938902E-2,3.0278199500812598E-2,7.7771390314863601E-3,4.6107130987039996E-3,3.46494207076215E-3,-3.98411107903488E-4,-3.98411107903488E-4,-3.98411107903488E-4,-3.98411107903488E-4,-3.98411107903488E-4,-3.98411107903488E-4,-3.98411107903488E-4,-3.98411107903488E-4,0.29243531862588301,200,null,{"$f":"Calculation!DQ19","v":"Lidocaine"},200]
[null,null,"2,6-dimethylaniline",0.35394599998849002,0.28526925562203997,0.113046438512085,6.4104892530854204E-2,3.12343435540678E-2,1.1615682606571601E-2,1.20348910026931E-2,1.1020106842045701E-2,5.8038659645107899E-3,3.09453388015317E-3,-2.5412827297517399E-4,-2.5412827297517399E-4,-2.5412827297517399E-4,-2.5412827297517399E-4,-2.5412827297517399E-4,-2.5412827297517399E-4,0.35394599998849002,200,null,{"$f":"Calculation!DQ20","v":"2,6-dimethylaniline"},200]
[null,null,"Methylparaben",0.32609776507771798,0.30096215171035601,0.162500542262737,0.12940623110898999,0.18358011281407799,0.29024274182016302,0.30029246677389598,0.18929719611979301,7.2176089753596698E-2,5.9216544360093997E-3,-3.98411107903488E-4,-3.98411107903488E-4,-3.98411107903488E-4,-3.98411107903488E-4,-3.98411107903488E-4,-3.98411107903488E-4,0.32609776507771798,200,null,{"$f":"Calculation!DQ21","v":"Methylparaben"},200]
[null,null,"Propylparaben",0.25254499793489699,0.264780803237323,0.18921711508623701,0.160471564190724,0.183431277725359,0.26273087906591602,0.267150782395152,0.16601727943806299,6.1276155288128499E-2,4.1875478154825303E-3,0,0,0,0,0,0,0.267150782395152,267,null,{"$f":"Calculation!DQ22","v":"Propylparaben"},267]
[null,"Mix 4","THC",0,0.174516404375404,0.26565602345823702,0.23640395832356101,0.10934171854751,2.2053330156544999E-2,2.2460058269711701E-3,2.99063899176357E-3,3.3323691719054798E-3,-4.0062701467791098E-4,-4.0062701467791098E-4,-4.0062701467791098E-4,-4.0062701467791098E-4,-4.0062701467791098E-4,-4.0062701467791098E-4,-4.0062701467791098E-4,0.26565602345823702,220,null,{"$f":"Calculation!DQ23","v":"THC"},220]
[null,null,"CBD",0,0.210843845180164,0.27751820842667102,0.234196851515968,9.9494846201649903E-2,1.89632017753729E-2,2.3607259925508099E-3,3.4779967313286501E-3,3.3229093560350198E-3,0,0,0,0,0,0,0,0.27751820842667102,220,null,{"$f":"Calculation!DQ24","v":"CBD"},220]
[null,null,"CBN",0,0.20722369919434899,0.41861121002812501,0.34644904092978501,0.16905785965273901,3.8600194092758999E-2,4.8415737067851197E-2,8.8661096969732803E-2,0.11687475289785999,0.114013065382991,7.7995441404511506E-2,2.90029113736875E-2,5.0412696556973403E-3,0,0,0,0.41861121002812501,220,null,{"$f":"Calculation!DQ25","v":"CBN"},220]
[null,null,"THC-A",0,0.115183760510304,0.35087404827859597,0.32559277294195499,0.13574245946765101,4.5275369459798799E-2,5.7749226880726999E-2,7.8809091994090599E-2,5.31404376851543E-2,2.44595187079867E-2,2.9033185165465401E-2,2.8720297829634998E-2,1.6458639968626398E-2,3.9625922133254997E-3,0,0,0.35087404827859597,220,null,{"$f":"Calculation!DQ26","v":"THC-A"},220]
[null,null,"CBD-A",0,0.14304071853836201,0.36255196151990399,0.32668667582934102,0.121118594282624,4.8258847659245999E-2,6.6644624356476403E-2,7.8842313130249503E-2,4.39155518921268E-2,2.1633057147199701E-2,2.8034760794644099E-2,2.88122531784216E-2,1.85297738996325E-2,5.9485943670751096E-3,2.2002535399731499E-4,0,0.36255196151990399,220,null,{"$f":"Calculation!DQ27","v":"CBD-A"},220]
[null,null,"CBG-A",0,0.14315816638238699,0.35168150429183598,0.31411245080781802,0.1176747471514,4.7974833139792103E-2,6.4052416430853104E-2,7.1696703798686104E-2,3.6235231615891303E-2,1.86384965266795E-2,2.38551596079291E-2,2.28420716116262E-2,1.3104249541454199E-2,3.4218321088016002E-3,-3.3519788429644501E-4,0,0.35168150429183598,220,null,{"$f":"Calculation!DQ28","v":"CBG-A"},220]
[null,"Mix 5",{"$f":"C32","v":"Salbutamol"},0.61029209613269197,0.19023226648458899,0.204803909663341,0.150852193313431,1.80050680890253E-2,4.74268501514305E-3,1.4268579583617399E-2,3.0057562284259199E-2,3.41425089727782E-2,8.1067307545713198E-3,-4.46088162857302E-4,-4.8964409567384105E-4,-3.8060324448900199E-4,-3.5030644091129097E-4,-3.0256452276042199E-4,-2.8870861664493801E-4,0.61029209613269197,200,null,{"$f":"Calculation!DQ29","v":"Salbutamol"},200]
[null,null,{"$f":"C33","v":"Impurity B"},0.15063135577231801,0.13148522771023999,0.17034607327051501,9.3487907376759299E-2,1.0536548512453701E-2,3.6863169550559799E-3,9.3528137319273293E-3,1.7054826980126E-2,1.4458849954807699E-2,3.8103963219008198E-4,3.31000010191929E-5,3.31000010191929E-5,-4.3260175662333599E-4,-3.7346724846538899E-4,-3.6410614365455201E-4,-3.75785875543156E-4,0.17034607327051501,220,null,{"$f":"Calculation!DQ30","v":"Impurity B"},220]
[null,null,"Impurity D",0.23434926436471001,0.429357696906015,0.48154774293427299,0.123116639258417,9.0662982541456993E-2,0.16616327254976401,0.163156403941007,2.9714990374770999E-2,5.4294389070846001E-3,1.0227341969203101E-2,2.5275972686943801E-2,4.1668223116392199E-2,5.5565541578269297E-2,5.9147642849548897E-2,4.9293158598478201E-2,2.6648214681056499E-2,0.48154774293427299,220,null,{"$f":"Calculation!DQ31","v":"Impurity D"},220]
[null,null,"Impurity G",0.218119631134505,0.18486560368783,0.15691613963572701,0.14504157865859299,5.4502225947534302E-2,2.0807698995648299E-2,4.46162458899119E-2,8.0705596475334193E-2,0.1163611995126,0.14437681280020701,0.13823890362994501,8.9699108325817595E-2,3.6570068020187398E-2,8.0254849580317592E-3,5.0323561691416102E-4,-3.98411107903488E-4,0.218119631134505,200,null,{"$f":"Calculation!DQ32","v":"Impurity G"},200]
[null,null,"Impurity F",0.53070123873799502,0.187852638398323,0.184379013011123,0.12709514427600799,1.9415734461386901E-2,4.1409764669675603E-3,1.06442696312207E-2,2.4063229221489499E-2,3.1261057715818601E-2,1.1378939609150601E-2,-3.98411107903488E-4,-3.98411107903488E-4,-3.98411107903488E-4,-3.98411107903488E-4,-3.98411107903488E-4,-3.98411107903488E-4,0.53070123873799502,200,null,{"$f":"Calculation!DQ33","v":"Impurity F"},200]
[null,null,null,null,null,null,null,null,null,null,null,null,null,null,null,null,null,null,null,0,null,null,{"$f":"Calculation!DQ34","v":""},0]
[null,null,"",null,null,null,null,null,null,null,null,null,null,null,null,null,null,null,null,0,null,null,{"$f":"Calculation!DQ35","v":""},0]
[null,null,"",null,null,null,null,null,null,null,null,null,null,null,null,null,null,null,null,0,null,null,{"$f":"Calculation!DQ36","v":""},0]
[null,"Mix 6","Retinyl acetate( all trans)",0,4.4133542425748302E-2,0.26115723286126802,0.27198729653383202,0.15864742597012299,7.7577862561152205E-2,5.0589460735748097E-2,6.06033781051687E-2,9.3901588728054194E-2,0.14963538507940599,0.255548337607858,0.359441759454666,0.42338390428384998,0.44461092611625702,0.38390827967521401,0.250138638062953,0.44461092611625702,330,null,{"$f":"Calculation!DQ37","v":"Retinyl acetate"},330]
[null,null,"Alpha tocopherol",0,9.3057200095957596E-2,0.301576937054298,0.32890299256092498,0.16943712509393399,4.2622546208610598E-2,3.6060716629260901E-3,4.5624259847434397E-3,1.2418132525277899E-2,2.5334058973540699E-2,3.1362377997696603E-2,1.1226797000536E-2,0,0,0,0,0.32890299256092498,230,null,{"$f":"Calculation!DQ38","v":"Alpha tocopherol"},230]
[null,null,"cholecalciferol (D3)",0,0.19118502574594201,0.43237224147113201,0.41516245627197701,0.31412798985496798,0.24359466336980701,0.25099530842015799,0.248779404467839,0.191855276408051,0.111925071099016,3.73052028657972E-2,1.0224398160789299E-2,0,0,0,0,0.43237224147113201,220,null,{"$f":"Calculation!DQ39","v":"cholecalciferol"},220]
[null,null,"Vitamin K1",-3.98411107903488E-4,5.2002449014015698E-2,0.33200437952539702,0.37301204014282302,0.27249530906072,0.15524733460669701,0.102711953701667,0.105125538082121,2.4062164662813499E-2,7.4189925792483898E-3,1.02754038153197E-2,1.40580644276193E-2,1.8158515438036898E-2,1.9595292318198999E-2,1.68666178823265E-2,1.00626581639868E-2,0.37301204014282302,230,null,{"$f":"Calculation!DQ40","v":"Vitamin K1"},230]
[null,null,null,null,null,null,null,null,null,null,null,null,null,null,null,null,null,null,null,0,null,null,{"$f":"Calculation!DQ41","v":0},0]
[null,"Mix 7","Acebutolol",0.11665321383119399,0.163046407290834,0.245943895321873,0.29315243543395397,0.26211622216373098,0.18783412027925001,0.12024074700929099,4.0739731300526501E-2,8.2366566472004306E-3,9.1094374336457094E-3,1.7215392897453E-2,2.4077498219575801E-2,2.8262857153750601E-2,2.7707752449080799E-2,2.2663565263522801E-2,1.3421623934252299E-2,0.29315243543395397,230,null,{"$f":"Calculation!DQ42","v":"Acebutolol"},230]
[null,null,"Propranolol",0.20042547589082699,0.50538014809556198,0.514269099464992,0.43417615943483601,0.11875568334816899,1.44909230036955E-2,2.2636373753923099E-2,4.0644405121832601E-2,6.0415201920555099E-2,6.7736199474438402E-2,4.67386622476876E-2,2.9200597154340001E-2,1.8040465333651098E-2,-3.67225027618609E-4,-3.67225027618609E-4,-3.67225027618609E-4,0.514269099464992,220,null,{"$f":"Calculation!DQ43","v":"Propranolol"},220]
[null,null,"Atenolol",0.307971097242145,0.173854486950556,0.20714968703539399,0.15688428160307,3.26046356394682E-2,5.8471718615405802E-3,1.1642371719438599E-2,2.1218189529194201E-2,1.9156281591199E-2,7.2967384734469898E-4,-4.7765174206196602E-4,-4.1583978203056199E-4,-3.4705748217788302E-4,-2.59063838314714E-4,-2.1240363145521299E-4,-2.5358442566629502E-4,0.307971097242145,200,null,{"$f":"Calculation!DQ44","v":"Atenolol"},200]
[null,null,"Hydrochlorothiazide",0.137881535787204,0.31245967098411498,0.52729270868655997,0.32289183301209801,3.7469468196032897E-2,4.2622936340384297E-2,0.16381474283431399,0.27452596762980902,0.16646676363958901,4.2031663881842103E-2,3.3651432861357397E-2,4.0979333367476299E-2,4.24010814636476E-2,3.10216754840647E-2,1.00121844266612E-2,3.31000010191929E-5,0.52729270868655997,220,null,{"$f":"Calculation!DQ45","v":"Hydrochlorothiazide"},220]
[null,null,"Furosemide",5.4589519832177302E-2,0.20674224774446301,0.36769617840868002,0.48905295885191402,0.25575696376746698,6.1061975008739999E-2,0.103563499070466,0.19180438373674799,0.15070844270330799,2.25446875331838E-2,8.8598282201666195E-3,1.6192971658824301E-2,2.8350934758695299E-2,4.2568363679043097E-2,5.3194114037363002E-2,5.0311534740633497E-2,0.48905295885191402,230,null,{"$f":"Calculation!DQ46","v":"Furosemide"},230]
[null,null,"Chlorthalidone",0.68300146136656403,0.65666145311079804,0.45819535429576203,0.34472184181861398,0.17421223207764999,6.5418903282776705E-2,3.3224637107588703E-2,2.59149495441858E-2,2.38749402818864E-2,8.7606090552587099E-3,0,0,0,0,0,0,0.68300146136656403,200,null,{"$f":"Calculation!DQ47","v":"Chlorthalidone"},200]
[null,null,"Dexamethasone",0,0.106234378250859,0.20260634956146301,0.223398556973124,0.19794857008313199,0.14867872246809599,9.1995954815879799E-2,6.0485635260762401E-2,2.5635102163783501E-2,5.0857306487242697E-3,5.6609354534010504E-4,7.90478174044027E-5,-1.9874433448502401E-4,-4.3650925481024698E-4,0,0,0.223398556973124,230,null,{"$f":"Calculation!DQ48","v":"Dexamethasone"},230]
[]
[]
[null,"Noise and drift"]
[null,null,"Wavelength",200,210,220,230,240,250,260,270,280,290,300,310,320,330,340,350]
["pH 2.7","Methanol","Noise between 2 and 3 minutes",2.52,1.5049999999999999,0.49,0.26500000000000001,0.04,2.5000000000000001E-2,0.01,0.01,0.01,0.01,0.01,0.01,0.01,0.01,0.01,0.01]
[null,null,"Baseline drift from 2 to 5 minutes",0.67600000000000005,0.50050000000000006,0.32500000000000001,0.19700000000000001,6.9000000000000006E-2,3.4500000000000003E-2,0,0,0,0,0,0,0,0,0,0]
[null,"Acetonitrile","Noise between 2 and 3 minutes",2.8,1.67,0.55000000000000004,0.28999999999999998,0.04,0.03,0.01,0.01,0.01,0.01,0.01,0.01,0.01,0.01,0.01,0.01]
[null,null,"Baseline drift from 2 to 5 minutes",0.13520000000000001,0.10010000000000001,6.5000000000000002E-2,3.9400000000000004E-2,1.3800000000000002E-2,6.9000000000000008E-3,0,0,0,0,0,0,0,0,0,0]
["pH 4.5","Methanol","Noise between 2 and 3 minutes",4.3099999999999996,2.2549999999999999,0.2,0.11,0.02,1.4999999999999999E-2,0.01,0.01,0.01,0.01,0.01,0.01,0.01,0.01,0.01,0.01]
[null,null,"Baseline drift from 2 to 5 minutes",-0.61,-0.39249999999999996,-0.17499999999999999,-9.2999999999999999E-2,-1.0999999999999999E-2,-5.4999999999999997E-3,0,0,0,0,0,0,0,0,0,0]
[null,"Acetonitrile","Noise between 2 and 3 minutes",2.2999999999999998,1.2999999999999998,0.3,0.16,0.02,1.4999999999999999E-2,0.01,0.01,0.01,0.01,0.01,0.01,0.01,0.01,0.01,0.01]
[null,null,"Baseline drift from 2 to 5 minutes",-0.19800000000000001,-4.4500000000000005E-2,0.109,0.53949999999999998,0.97,0.48499999999999999,0,0,0,0,0,0,0,0,0,0]
["pH 7.0","Methanol","Noise between 2 and 3 minutes",0.6,0.32999999999999996,0.06,0.13,0.2,0.10500000000000001,0.01,0.01,0.01,0.01,0.01,0.01,0.01,0.01,0.01,0.01]
[null,null,"Baseline drift from 2 to 5 minutes",0.59,0.3,0.01,5.0000000000000001E-3,0,0,0,0,0,0,0,0,0,0,0,0]
[null,"Acetonitrile","Noise between 2 and 3 minutes",0.52,0.29000000000000004,0.06,0.04,0.02,0.02,0.02,1.4999999999999999E-2,0.01,0.01,0.01,0.01,0.01,0.01,0.01,0.01]
[null,null,"Baseline drift from 2 to 5 minutes",-3.7999999999999999E-2,-1.8499999999999999E-2,1E-3,5.0000000000000001E-4,0,0,0,0,0,0,0,0,0,0,0,0]
["pH 9.0","Methanol","Noise between 2 and 3 minutes",0.12,0.1,0.08,5.5E-2,0.03,2.5000000000000001E-2,0.02,0.02,0.01,0.01,0.01,0.01,0.01,0.01,0.01,0.01]
[null,null,"Baseline drift from 2 to 5 minutes",0.67600000000000005,0.34800000000000003,0.02,1.55E-2,1.0999999999999999E-2,1.0499999999999999E-2,0.01,0,0,0,0,0,0,0,0,0]
[null,"Acetonitrile","Noise between 2 and 3 minutes",0.46,0.26,0.06,4.4999999999999998E-2,0.03,0.02,0.01,0.01,0.01,0.01,0.01,0.01,0.01,0.01,0.01,0.01]
[null,null,"Baseline drift from 2 to 5 minutes",2.8000000000000001E-2,2.4E-2,0.02,0.01,0,0,0,0,0,0,0,0,0,0,0,0]
[]
[]
[null,null,null,"Asymmetry values"]
[null,null,null,"Methanol + pH 2.7",null,null,"Methanol + pH 4.5",null,null,"Methanol + pH 7.0",null,null,"Methanol + pH 9.0"]
[null,null,null,"C18","C4","Phenyl","C18","C4","Phenyl","C18","C4","Phenyl","C18","C4","Phenyl"]
[null,null,null,"30°C","30°C","30°C","30°C","30°C","30°C","30°C","30°C","30°C","30°C","30°C","30°C"]
[null,null,null,"Asymmetry","Asymmetry","Asymmetry","Asymmetry","Asymmetry","Asymmetry","Asymmetry","Asymmetry","Asymmetry","Asymmetry","Asymmetry","Asymmetry"]
[null,"Mix 1","Uracil",1.35,1.33,1.35,1.34,1.34,1.42,1.38,1.26,1.35,1.4,1.32,1.32]
[null,null,"Methylparaben",1.07,1.0900000000000001,1.07,1.1000000000000001,1.1000000000000001,1.18,1.07,1.04,1.03,1.06,1.1100000000000001,1.07]
[null,null,"Ethylparaben",1.05,1.0900000000000001,1.07,1.0900000000000001,1.1100000000000001,1.1599999999999999,1.08,1.04,1.05,1.0900000000000001,1.08,1.07]
[null,null,"Propylparaben",1.1100000000000001,1.06,1.1299999999999999,1.1100000000000001,1.0900000000000001,1.1200000000000001,1.05,1.02,1.02,1.1200000000000001,1.05,1.08]
[null,null,"Butylparaben",1.04,1.1599999999999999,1.08,1.0900000000000001,1.07,1.1000000000000001,1.03,1.06,1.1100000000000001,1.07,1.1000000000000001,1.1399999999999999]
[null,"Mix 2","Aspirin",1.0900000000000001,1.1100000000000001,1.07,1.1000000000000001,1.1599999999999999,1.1100000000000001,1.2,1.1599999999999999,1.17,1.17,1.1299999999999999,1.1399999999999999]
[null,null,"Salicylic acid",1.28,1.3,1.36,1.57,1.5,1.57,1.42,1.46,1.51,1.32,1.2,1.18]
[null,null,"mefenamic acid",1.07,1.1000000000000001,1.1000000000000001,1.1499999999999999,1.21,1.2,1.02,1,1.08,1.1000000000000001,1.08,1.1100000000000001]
[null,null,"Paracetamol",1.0900000000000001,1.1100000000000001,1.1599999999999999,1.17,1.1299999999999999,1.1599999999999999,1.07,1.0900000000000001,1.01,1.04,1.03,1.06]
[null,null,"Ibuprofen",1.07,1.1000000000000001,1.03,1.18,1.1599999999999999,1.24,1.02,1.02,1.1200000000000001,1.03,1.08,1.02]
[null,null,"Ketoprofen",1.05,1.1000000000000001,1.0900000000000001,1.1299999999999999,1.0900000000000001,1.1499999999999999,1.08,1.1100000000000001,1.0900000000000001,1.2,1.1399999999999999,1.18]
[null,"Mix 3","Lidocaine",1.85,1.84,1.83,1.21,1.27,1.33,1.05,1.01,0.98,1.1299999999999999,1.04,1.1599999999999999]
[null,null,"2,6-dimethylaniline",1.82,1.83,1.81,1.1000000000000001,1.05,1.02,1,1.01,0.96,1.1299999999999999,1.08,1.18]
[null,null,"Methylparaben",1.07,1.0900000000000001,1.07,1.1000000000000001,1.1000000000000001,1.18,1.07,1.04,1.03,1.06,1.1100000000000001,1.07]
[null,null,"Propylparaben",1.1100000000000001,1.06,1.1299999999999999,1.1100000000000001,1.0900000000000001,1.1200000000000001,1.05,1.02,1.02,1.1200000000000001,1.05,1.08]
[null,"Mix 4","THC",1.08,1.1000000000000001,1.06,1.06,1.1299999999999999,1.04,1.07,1.1000000000000001,1.03,1.0900000000000001,1.1100000000000001,1.1599999999999999]
[null,null,"CBD",1.05,0.98,1.04,1.03,1.1000000000000001,1.06,1.06,1.1299999999999999,1.04,1.1100000000000001,1.1299999999999999,1.04]
[null,null,"CBN",1.03,1.08,1.06,1.05,1.0900000000000001,1.1100000000000001,1.1299999999999999,1.1100000000000001,1.0900000000000001,1.1200000000000001,1.0900000000000001,1.05]
[null,null,"THC-A",1.07,1.1100000000000001,1.1000000000000001,1.1499999999999999,1.1399999999999999,1.1100000000000001,1.1100000000000001,1.07,1.1000000000000001,1.1299999999999999,1.1100000000000001,1.08]
[null,null,"CBD-A",1.05,1.05,1.0900000000000001,1.21,1.22,1.08,1.07,1.04,1.03,1.1299999999999999,1.0900000000000001,0.99]
[null,null,"CBG-A",1.1000000000000001,1.03,1.05,1.1100000000000001,1.21,1.1299999999999999,1.03,1.08,1.06,1.08,1.1200000000000001,1.03]
[null,"Mix 5",{"$f":"C78","v":"Salbutamol"},1.75,1.68,1.9,1.21,1.36,1.31,1.1399999999999999,1.1200000000000001,1.21,1.25,1.28,1.48]
[null,null,{"$f":"C79","v":"Impurity B"},1.66,1.52,1.46,1.24,1.28,1.35,1.05,0.91,1.19,1.22,1.18,1.37]
[null,null,"Impurity D",1.19,1.3,1.1499999999999999,1.1100000000000001,1.23,1.1000000000000001,1.0900000000000001,1.17,1.24,1.24,1.26,1.37]
[null,null,"Impurity G",1.53,1.28,1.39,1.19,1.35,1.35,1.06,1.04,0.98,1.1399999999999999,1.06,1.1499999999999999]
[null,null,"Impurity F",1.46,1.68,1.66,1.75,1.47,1.69,1.85,1.0900000000000001,1.89,1.88,1.87,1.83]
[]
[null,null,""]
[null,null,""]
[null,"Mix 6","Retinyl acetate( all trans)",1.1599999999999999,1.08,1.1100000000000001,1.1399999999999999,1.08,1.1499999999999999,1.08,1.1100000000000001,1.0900000000000001,1.1200000000000001,1.05,1.08]
[null,null,"Alpha tocopherol",1.1299999999999999,1.1100000000000001,1.03,1.07,1.0900000000000001,1.1100000000000001,1.1599999999999999,1.0900000000000001,1.1599999999999999,1.1000000000000001,1.1000000000000001,1.1499999999999999]
[null,null,"cholecalciferol (D3)",1.05,1.08,1.05,1.05,1.02,1.02,1.06,1.06,1.1200000000000001,1.05,1.03,0.99]
[null,null,"Vitamin K1",1.1000000000000001,1.1399999999999999,1.02,1.1100000000000001,1.07,1.1000000000000001,1.1100000000000001,1.1599999999999999,1.1000000000000001,1.1100000000000001,1.06,1.1299999999999999]
[]
[null,"Mix 7","Acebutolol",1.72,1.65,1.84,1.22,1.1499999999999999,1.19,1.1200000000000001,1.06,1.21,1.1000000000000001,1.06,1.02]
[null,null,"Propranolol",1.85,1.84,1.83,1.45,1.38,1.23,1.21,1.19,1.27,1.1299999999999999,1.1100000000000001,1.1399999999999999]
[null,null,"Atenolol",1.83,1.67,1.92,1.23,1.55,1.42,1.3,1.23,1.26,1.45,1.39,1.62]
[null,null,"Hydrochlorothiazide",1.05,1.06,1.1299999999999999,1.1000000000000001,1.1599999999999999,1.1100000000000001,1.0900000000000001,1.07,1.0900000000000001,1.1599999999999999,1.17,1.1200000000000001]
[null,null,"Furosemide",1.06,1.1299999999999999,1.1100000000000001,1.1499999999999999,1.31,1.03,1,0.97,0.99,1.1200000000000001,1.06,1.0900000000000001]
[null,null,"Chlorthalidone",1.1000000000000001,1.1000000000000001,1.05,1.03,1,1.08,1,0.99,1.02,1.05,0.99,1.1299999999999999]
[null,null,"Dexamethasone",1.06,1.1299999999999999,1.1000000000000001,1.1599999999999999,1.1200000000000001,1.06,1.0900000000000001,0.92,1.02,1.06,1.08,1.03]